Workbook
Name jk: #REF!
Name jk: #REF!
Name years_contract: [1]Kerlink!$D$5

Sheet IRR (3)
B1: Assumption: | R1: AEON DELTAMAS
B2: General
C3: Tax Rate | G3: 0.02
C4: Interest Rate | G4: 0.1
C5: SG&A | G5: 0 | H5: from Revenues
C6: BHPUSO | G6: 0 | H6: from Revenues
C7: Deposito Rate | G7: 0.03
H9: Y1 | I9: Y2 | J9: Y3 | K9: Y4 | L9: Y5 | M9: Y6 | N9: Y7 | O9: Y8 | P9: Y9 | Q9: Y10
B10: CAPEX
B12: Total CAPEX | H12: 2100000000 | I12: 250000000 | J12: 0 | K12: 0
B15: IRR Calculation | H15: Year 1 | I15: Year 2 | J15: Year 3 | K15: Year 4 | L15: Year 5 | M15: Year 6 | N15: Year 7 | O15: Year 8 | P15: Year 9 | Q15: Year 10 | R15: Total
B16: Months of Service | H16: 12 | I16: 12 | J16: 12 | K16: 12 | L16: 12 | M16: 12 | N16: 12 | O16: 12 | P16: 12 | Q16: 12
N17: 0.15
B19: Revenues
C20: Telkomsel | I20: 500000000 | J20: 500000000 | K20: 500000000 | L20: 500000000 | M20: 500000000 | N20: =M20*(1-$N$17) -> 425000000 | O20: =N20 -> 425000000 | P20: =O20 -> 425000000 | Q20: =P20 -> 425000000 | R20: =SUM(H20:Q20) -> 4200000000
C21: XL | I21: 250000000 | J21: 250000000 | K21: 250000000 | L21: 250000000 | M21: 250000000 | N21: =M21*(1-$N$17) -> 212500000 | O21: =N21 -> 212500000 | P21: =O21 -> 212500000 | Q21: =P21 -> 212500000 | R21: =SUM(H21:Q21) -> 2100000000
C22: IOH | I22: 500000000 | J22: 500000000 | K22: 500000000 | L22: 500000000 | M22: 500000000 | N22: =M22*(1-$N$17) -> 425000000 | O22: =N22 -> 425000000 | P22: =O22 -> 425000000 | Q22: =P22 -> 425000000 | R22: =SUM(H22:Q22) -> 4200000000
C23: Smartfren | R23: =SUM(H23:Q23) -> 0
B24: Total Revenues | E24: =SUM(H24:Q24) -> 10500000000 | H24: =SUM(H20:H23) -> 0 | I24: =SUM(I20:I23) -> 1250000000 | J24: =SUM(J20:J23) -> 1250000000 | K24: =SUM(K20:K23) -> 1250000000 | L24: =SUM(L20:L23) -> 1250000000 | M24: =SUM(M20:M23) -> 1250000000 | N24: =SUM(N20:N23) -> 1062500000 | O24: =SUM(O20:O23) -> 1062500000 | ... R24: =SUM(R20:R23) -> 10500000000
B26: OPEX
C27: Lease to BM | I27: 400000000 | J27: 400000000 | K27: 400000000 | L27: 400000000 | M27: =400000000*(1-N17) -> 340000000 | N27: =M27 -> 340000000 | O27: =N27 -> 340000000 | P27: =O27 -> 340000000 | Q27: 0 | R27: =SUM(H27:Q27) -> 2960000000
C28: Electricity | I28: =96000000*0.5 -> 48000000 | J28: =96000000*0.5 -> 48000000 | K28: =200000000*0.5 -> 100000000 | L28: =200000000*0.5 -> 100000000 | M28: =200000000*0.5 -> 100000000 | N28: =200000000*0.5 -> 100000000 | O28: =200000000*0.5 -> 100000000 | P28: =200000000*0.5 -> 100000000 | Q28: =200000000*0.5 -> 100000000 | R28: =SUM(H28:Q28) -> 796000000
C29: Maintenance | I29: 21000000 | J29: 21000000 | K29: 21000000 | L29: 21000000 | M29: 21000000 | N29: 21000000 | O29: 21000000 | P29: 21000000 | Q29: 21000000 | R29: =SUM(H29:Q29) -> 189000000
C30: SG&A | H30: =$G$5*H24 -> 0 | I30: =$G$5*I24 -> 0 | J30: =$G$5*J24 -> 0 | K30: =$G$5*K24 -> 0 | L30: =$G$5*L24 -> 0 | M30: =$G$5*M24 -> 0 | N30: =$G$5*N24 -> 0 | O30: =$G$5*O24 -> 0 | ... Q30: =$G$5*Q24 -> 0 | R30: =SUM(H30:Q30) -> 0
B31: Total OPEX | H31: =SUM(H27:H30) -> 0 | I31: =SUM(I27:I30) -> 469000000 | J31: =SUM(J27:J30) -> 469000000 | K31: =SUM(K27:K30) -> 521000000 | L31: =SUM(L27:L30) -> 521000000 | M31: =SUM(M27:M30) -> 461000000 | N31: =SUM(N27:N30) -> 461000000 | O31: =SUM(O27:O30) -> 461000000 | ... R31: =SUM(R27:R30) -> 3945000000
B32: Total EBITDA | H32: =H24-H31 -> 0 | I32: =I24-I31 -> 781000000 | J32: =J24-J31 -> 781000000 | K32: =K24-K31 -> 729000000 | L32: =L24-L31 -> 729000000 | M32: =M24-M31 -> 789000000 | N32: =N24-N31 -> 601500000 | O32: =O24-O31 -> 601500000 | ... R32: =R24-R31 -> 6555000000
B33: Ebitda margin | H33: =H32/H24 -> #DIV/0! | I33: =I32/I24 -> 0.6248 | J33: =J32/J24 -> 0.6248 | K33: =K32/K24 -> 0.5832 | L33: =L32/L24 -> 0.5832 | M33: =M32/M24 -> 0.6312 | N33: =N32/N24 -> 0.56611765 | O33: =O32/O24 -> 0.56611765 | ... R33: =R32/R24 -> 0.62428571
B35: Depreciation Expense | H35: =H69 -> 210000000 | I35: =I69 -> 2.3777778e+08 | J35: =J69 -> 2.3777778e+08 | K35: =K69 -> 2.3777778e+08 | L35: =L69 -> 2.3777778e+08 | M35: =M69 -> 2.3777778e+08 | N35: =N69 -> 2.3777778e+08 | O35: =O69 -> 2.3777778e+08 | ... Q35: =Q69 -> 0 | R35: =SUM(H35:Q35) -> 2.1122222e+09
B36: Total EBIT | H36: =H32-H35 -> -210000000 | I36: =I32-I35 -> 5.4322222e+08 | J36: =J32-J35 -> 5.4322222e+08 | K36: =K32-K35 -> 4.9122222e+08 | L36: =L32-L35 -> 4.9122222e+08 | M36: =M32-M35 -> 5.5122222e+08 | N36: =N32-N35 -> 3.6372222e+08 | O36: =O32-O35 -> 3.6372222e+08 | ... R36: =R32-R35 -> 4.4427778e+09
R38: =SUM(H38:Q38) -> 0
B39: EBT | H39: =H36-H38 -> -210000000 | I39: =I36-I38 -> 5.4322222e+08 | J39: =J36-J38 -> 5.4322222e+08 | K39: =K36-K38 -> 4.9122222e+08 | L39: =L36-L38 -> 4.9122222e+08 | M39: =M36-M38 -> 5.5122222e+08 | N39: =N36-N38 -> 3.6372222e+08 | O39: =O36-O38 -> 3.6372222e+08 | ... Q39: =Q36-Q38 -> 941500000 | R39: =SUM(H39:Q39) -> 4.4427778e+09
B40: Tax Expense | H40: =IF(H39<0,0,H39*$G$3) -> 0 | I40: =IF(I39<0,0,I39*$G$3) -> 10864444 | J40: =IF(J39<0,0,J39*$G$3) -> 10864444 | K40: =IF(K39<0,0,K39*$G$3) -> 9824444.4 | L40: =IF(L39<0,0,L39*$G$3) -> 9824444.4 | M40: =IF(M39<0,0,M39*$G$3) -> 11024444 | N40: =IF(N39<0,0,N39*$G$3) -> 7274444.4 | O40: =IF(O39<0,0,O39*$G$3) -> 7274444.4 | ... Q40: =IF(Q39<0,0,Q39*$G$3) -> 18830000 | R40: =SUM(H40:Q40) -> 93055556
B41: Net Income | H41: =H39-H40 -> -210000000 | I41: =I39-I40 -> 5.3235778e+08 | J41: =J39-J40 -> 5.3235778e+08 | K41: =K39-K40 -> 4.8139778e+08 | L41: =L39-L40 -> 4.8139778e+08 | M41: =M39-M40 -> 5.4019778e+08 | N41: =N39-N40 -> 3.5644778e+08 | O41: =O39-O40 -> 3.5644778e+08 | ... Q41: =Q39-Q40 -> 922670000 | R41: =R36-R40 -> 4.3497222e+09
B43: Capex | G43: =-H12 -> -2100000000 | H43: =-I12 -> -250000000 | I43: =-J12 -> 0 | J43: =-K12 -> 0 | K43: =-L12 -> 0 | L43: =-M12 -> 0 | M43: =-N12 -> 0 | N43: =-O12 -> 0 | ... Q43: =-R12 -> 0
B44: FCFF | G44: =G43 -> -2100000000 | H44: =H43+H41+H35 -> -250000000 | I44: =I43+I41+I35 -> 7.7013556e+08 | J44: =J43+J41+J35 -> 7.7013556e+08 | K44: =K43+K41+K35 -> 7.1917556e+08 | L44: =L43+L41+L35 -> 7.1917556e+08 | M44: =M43+M41+M35 -> 7.7797556e+08 | N44: =N43+N41+N35 -> 5.9422556e+08 | O44: =O43+O41+O35 -> 5.9422556e+08 | ... Q44: =Q43+Q41+Q35 -> 922670000
B45: Accumulated FCF | G45: =G44 -> -2100000000 | H45: =G45+H44 -> -2350000000 | I45: =H45+I44 -> -1.5798644e+09 | J45: =I45+J44 -> -8.0972889e+08 | K45: =J45+K44 -> -90553333 | L45: =K45+L44 -> 6.2862222e+08 | M45: =L45+M44 -> 1.4065978e+09 | N45: =M45+N44 -> 2.0008233e+09 | O45: =N45+O44 -> 2.5950489e+09 | ... Q45: =P45+Q44 -> 4.1119444e+09
B46: Interest | G46: =IF(G45<0,G45*70%*$G$4,G45*$G$7) -> -147000000 | H46: =IF(H45<0,H45*70%*$G$4,H45*$G$7) -> -164500000 | I46: =IF(I45<0,I45*70%*$G$4,I45*$G$7) -> -1.1059051e+08 | J46: =IF(J45<0,J45*70%*$G$4,J45*$G$7) -> -56681022 | K46: =IF(K45<0,K45*70%*$G$4,K45*$G$7) -> -6338733.3 | L46: =IF(L45<0,L45*70%*$G$4,L45*$G$7) -> 18858667 | M46: =IF(M45<0,M45*70%*$G$4,M45*$G$7) -> 42197933 | N46: =IF(N45<0,N45*70%*$G$4,N45*$G$7) -> 60024700 | ... Q46: =IF(Q45<0,Q45*70%*$G$4,Q45*$G$7) -> 1.2335833e+08 | R46: =SUM(H46:Q46) -> 79859067
B47: FCFF after Interest | G47: =G44+G46 -> -2247000000 | H47: =H44+H46 -> -414500000 | I47: =I44+I46 -> 6.5954504e+08 | J47: =J44+J46 -> 7.1345453e+08 | K47: =K44+K46 -> 7.1283682e+08 | L47: =L44+L46 -> 7.3803422e+08 | M47: =M44+M46 -> 8.2017349e+08 | N47: =N44+N46 -> 6.5425026e+08 | ... Q47: =Q44+Q46 -> 1.0460283e+09
B48: Accumulated FCF after Interest | G48: =G47 -> -2247000000 | H48: =G48+H47 -> -2661500000 | I48: =H48+I47 -> -2.001955e+09 | J48: =I48+J47 -> -1.2885004e+09 | K48: =J48+K47 -> -5.756636e+08 | L48: =K48+L47 -> 1.6237062e+08 | M48: =L48+M47 -> 9.8254411e+08 | N48: =M48+N47 -> 1.6367944e+09 | O48: =N48+O47 -> 2.3088714e+09 | ... Q48: =P48+Q47 -> 4.0448035e+09
B49: PBP | H49: =IF(AND(G48<0,H48>0),H57-(H48/H44),0) -> 0 | I49: =IF(AND(H48<0,I48>0),I57-(I48/I44),0) -> 0 | J49: =IF(AND(I48<0,J48>0),J57-(J48/J47),0) -> 0 | K49: =IF(AND(J48<0,K48>0),K57-(K48/K47),0) -> 0 | L49: =IF(AND(K48<0,L48>0),L57-(L48/L47),0) -> 4.7799958 | M49: =IF(AND(L48<0,M48>0),M57-(M48/M47),0) -> 0 | N49: =IF(AND(M48<0,N48>0),N57-(N48/N47),0) -> 0 | O49: =IF(AND(N48<0,O48>0),O57-(O48/O47),0) -> 0 | P49: =IF(AND(O48<0,P48>0),P57-(P48/P47),0) -> 0 | Q49: =IF(AND(P48<0,Q48>0),Q57-(Q48/Q47),0) -> 0
...

Sheet IRR (2)
B1: Assumption: | R1: AEON DELTAMAS
B2: General
C3: Tax Rate | G3: 0.25
C4: Interest Rate | G4: 0.12
C5: SG&A | G5: 0 | H5: from Revenues
C6: BHPUSO | G6: 0 | H6: from Revenues
H9: Y1 | I9: Y2 | J9: Y3 | K9: Y4 | L9: Y5 | M9: Y6 | N9: Y7 | O9: Y8 | P9: Y9 | Q9: Y10
B10: CAPEX
B12: Total CAPEX | H12: 2100000000 | I12: 250000000 | J12: 0 | K12: 0
B15: IRR Calculation | H15: Year 1 | I15: Year 2 | J15: Year 3 | K15: Year 4 | L15: Year 5 | M15: Year 6 | N15: Year 7 | O15: Year 8 | P15: Year 9 | Q15: Year 10 | R15: Total
B16: Months of Service | H16: 12 | I16: 12 | J16: 12 | K16: 12 | L16: 12 | M16: 12 | N16: 12 | O16: 12 | P16: 12 | Q16: 12
N17: 0.15
B19: Revenues
C20: Telkomsel | I20: 500000000 | J20: 500000000 | K20: 500000000 | L20: 500000000 | M20: 500000000 | N20: =M20*(1-$N$17) -> 425000000 | O20: =N20 -> 425000000 | P20: =O20 -> 425000000 | Q20: =P20 -> 425000000 | R20: =SUM(H20:Q20) -> 4200000000
C21: XL | I21: 250000000 | J21: 250000000 | K21: 250000000 | L21: 250000000 | M21: 250000000 | N21: =M21*(1-$N$17) -> 212500000 | O21: =N21 -> 212500000 | P21: =O21 -> 212500000 | Q21: =P21 -> 212500000 | R21: =SUM(H21:Q21) -> 2100000000
C22: IOH | I22: 500000000 | J22: 500000000 | K22: 500000000 | L22: 500000000 | M22: 500000000 | N22: =M22*(1-$N$17) -> 425000000 | O22: =N22 -> 425000000 | P22: =O22 -> 425000000 | Q22: =P22 -> 425000000 | R22: =SUM(H22:Q22) -> 4200000000
C23: Smartfren | R23: =SUM(H23:Q23) -> 0
B24: Total Revenues | E24: =SUM(H24:Q24) -> 10500000000 | H24: =SUM(H20:H23) -> 0 | I24: =SUM(I20:I23) -> 1250000000 | J24: =SUM(J20:J23) -> 1250000000 | K24: =SUM(K20:K23) -> 1250000000 | L24: =SUM(L20:L23) -> 1250000000 | M24: =SUM(M20:M23) -> 1250000000 | N24: =SUM(N20:N23) -> 1062500000 | O24: =SUM(O20:O23) -> 1062500000 | ... R24: =SUM(R20:R23) -> 10500000000
B26: OPEX
C27: Lease to BM | I27: 400000000 | J27: 400000000 | K27: 400000000 | L27: 400000000 | M27: =400000000*(1-N17) -> 340000000 | N27: =M27 -> 340000000 | O27: =N27 -> 340000000 | P27: =O27 -> 340000000 | Q27: 0 | R27: =SUM(H27:Q27) -> 2960000000
C28: Electricity | I28: =96000000*0.5 -> 48000000 | J28: =96000000*0.5 -> 48000000 | K28: =200000000*0.5 -> 100000000 | L28: =200000000*0.5 -> 100000000 | M28: =200000000*0.5 -> 100000000 | N28: =200000000*0.5 -> 100000000 | O28: =200000000*0.5 -> 100000000 | P28: =200000000*0.5 -> 100000000 | Q28: =200000000*0.5 -> 100000000 | R28: =SUM(H28:Q28) -> 796000000
C29: Maintenance | I29: 21000000 | J29: 21000000 | K29: 21000000 | L29: 21000000 | M29: 21000000 | N29: 21000000 | O29: 21000000 | P29: 21000000 | Q29: 21000000 | R29: =SUM(H29:Q29) -> 189000000
C30: SG&A | H30: =$G$5*H24 -> 0 | I30: =$G$5*I24 -> 0 | J30: =$G$5*J24 -> 0 | K30: =$G$5*K24 -> 0 | L30: =$G$5*L24 -> 0 | M30: =$G$5*M24 -> 0 | N30: =$G$5*N24 -> 0 | O30: =$G$5*O24 -> 0 | ... Q30: =$G$5*Q24 -> 0 | R30: =SUM(H30:Q30) -> 0
B31: Total OPEX | H31: =SUM(H27:H30) -> 0 | I31: =SUM(I27:I30) -> 469000000 | J31: =SUM(J27:J30) -> 469000000 | K31: =SUM(K27:K30) -> 521000000 | L31: =SUM(L27:L30) -> 521000000 | M31: =SUM(M27:M30) -> 461000000 | N31: =SUM(N27:N30) -> 461000000 | O31: =SUM(O27:O30) -> 461000000 | ... R31: =SUM(R27:R30) -> 3945000000
B32: Total EBITDA | H32: =H24-H31 -> 0 | I32: =I24-I31 -> 781000000 | J32: =J24-J31 -> 781000000 | K32: =K24-K31 -> 729000000 | L32: =L24-L31 -> 729000000 | M32: =M24-M31 -> 789000000 | N32: =N24-N31 -> 601500000 | O32: =O24-O31 -> 601500000 | ... R32: =R24-R31 -> 6555000000
B33: Ebitda margin | H33: =H32/H24 -> #DIV/0! | I33: =I32/I24 -> 0.6248 | J33: =J32/J24 -> 0.6248 | K33: =K32/K24 -> 0.5832 | L33: =L32/L24 -> 0.5832 | M33: =M32/M24 -> 0.6312 | N33: =N32/N24 -> 0.56611765 | O33: =O32/O24 -> 0.56611765 | ... R33: =R32/R24 -> 0.62428571
B35: Depreciation Expense | H35: =H66 -> 210000000 | I35: =I66 -> 2.3777778e+08 | J35: =J66 -> 2.3777778e+08 | K35: =K66 -> 2.3777778e+08 | L35: =L66 -> 2.3777778e+08 | M35: =M66 -> 2.3777778e+08 | N35: =N66 -> 2.3777778e+08 | O35: =O66 -> 2.3777778e+08 | ... Q35: =Q66 -> 0 | R35: =SUM(H35:Q35) -> 2.1122222e+09
B36: Total EBIT | H36: =H32-H35 -> -210000000 | I36: =I32-I35 -> 5.4322222e+08 | J36: =J32-J35 -> 5.4322222e+08 | K36: =K32-K35 -> 4.9122222e+08 | L36: =L32-L35 -> 4.9122222e+08 | M36: =M32-M35 -> 5.5122222e+08 | N36: =N32-N35 -> 3.6372222e+08 | O36: =O32-O35 -> 3.6372222e+08 | ... R36: =R32-R35 -> 4.4427778e+09
B38: Interest Expense | H38: =H85 -> 126000000 | I38: =I85 -> 241800000 | J38: =J85 -> 203400000 | K38: =K85 -> 147000000 | L38: =L85 -> 90600000 | M38: =M85 -> 34200000 | N38: =N85 -> 3000000 | O38: =O85 -> 0 | ... Q38: =Q85 -> 0 | R38: =SUM(H38:Q38) -> 846000000
B39: EBT | H39: =H36-H38 -> -336000000 | I39: =I36-I38 -> 3.0142222e+08 | J39: =J36-J38 -> 3.3982222e+08 | K39: =K36-K38 -> 3.4422222e+08 | L39: =L36-L38 -> 4.0062222e+08 | M39: =M36-M38 -> 5.1702222e+08 | N39: =N36-N38 -> 3.6072222e+08 | O39: =O36-O38 -> 3.6372222e+08 | ... Q39: =Q36-Q38 -> 941500000 | R39: =SUM(H39:Q39) -> 3.5967778e+09
B40: Tax Expense | H40: =IF(H39<0,0,H39*$G$3) -> 0 | I40: =IF(I39<0,0,I39*$G$3) -> 75355556 | J40: =IF(J39<0,0,J39*$G$3) -> 84955556 | K40: =IF(K39<0,0,K39*$G$3) -> 86055556 | L40: =IF(L39<0,0,L39*$G$3) -> 1.0015556e+08 | M40: =IF(M39<0,0,M39*$G$3) -> 1.2925556e+08 | N40: =IF(N39<0,0,N39*$G$3) -> 90180556 | O40: =IF(O39<0,0,O39*$G$3) -> 90930556 | ... Q40: =IF(Q39<0,0,Q39*$G$3) -> 235375000 | R40: =SUM(H40:Q40) -> 9.8319444e+08
B41: Net Income | H41: =H39-H40 -> -336000000 | I41: =I39-I40 -> 2.2606667e+08 | J41: =J39-J40 -> 2.5486667e+08 | K41: =K39-K40 -> 2.5816667e+08 | L41: =L39-L40 -> 3.0046667e+08 | M41: =M39-M40 -> 3.8776667e+08 | N41: =N39-N40 -> 2.7054167e+08 | O41: =O39-O40 -> 2.7279167e+08 | ... Q41: =Q39-Q40 -> 706125000 | R41: =R36-R40 -> 3.4595833e+09
B43: Capex | G43: =-H12 -> -2100000000 | H43: =-I12 -> -250000000 | I43: =-J12 -> 0 | J43: =-K12 -> 0 | K43: =-L12 -> 0 | L43: =-M12 -> 0 | M43: =-N12 -> 0 | N43: =-O12 -> 0 | ... Q43: =-R12 -> 0
B44: FCFF | G44: =G43 -> -2100000000 | H44: =H43+H41+H35 -> -376000000 | I44: =I43+I41+I35 -> 4.6384444e+08 | J44: =J43+J41+J35 -> 4.9264444e+08 | K44: =K43+K41+K35 -> 4.9594444e+08 | L44: =L43+L41+L35 -> 5.3824444e+08 | M44: =M43+M41+M35 -> 6.2554444e+08 | N44: =N43+N41+N35 -> 5.0831944e+08 | O44: =O43+O41+O35 -> 5.1056944e+08 | ... Q44: =Q43+Q41+Q35 -> 706125000
B45: Accumulated FCF | G45: =G44 -> -2100000000 | H45: =G45+H44 -> -2476000000 | I45: =H45+I44 -> -2.0121556e+09 | J45: =I45+J44 -> -1.5195111e+09 | K45: =J45+K44 -> -1.0235667e+09 | L45: =K45+L44 -> -4.8532222e+08 | M45: =L45+M44 -> 1.4022222e+08 | N45: =M45+N44 -> 6.4854167e+08 | O45: =N45+O44 -> 1.1591111e+09 | ... Q45: =P45+Q44 -> 2.3758056e+09
B46: PBP | H46: =IF(AND(G45<0,H45>0),H54-(H45/H44),0) -> 0 | I46: =IF(AND(H45<0,I45>0),I54-(I45/I44),0) -> 0 | J46: =IF(AND(I45<0,J45>0),J54-(J45/J44),0) -> 0 | K46: =IF(AND(J45<0,K45>0),K54-(K45/K44),0) -> 0 | L46: =IF(AND(K45<0,L45>0),L54-(L45/L44),0) -> 0 | M46: =IF(AND(L45<0,M45>0),M54-(M45/M44),0) -> 5.7758397 | N46: =IF(AND(M45<0,N45>0),N54-(N45/N44),0) -> 0 | O46: =IF(AND(N45<0,O45>0),O54-(O45/O44),0) -> 0 | ... Q46: =IF(AND(P45<0,Q45>0),Q54-(Q45/Q44),0) -> 0
B49: IRR | G49: =IRR(G44:Q44) -> 0.1259892
B50: NPV | G50: =NPV(G4,H44:Q44)+G44 -> 69848696
B51: EBITDA margin | G51: =R33 -> 0.62428571
B52: Payback | G52: =SUM(G46:Q46) -> 5.7758397
...

Sheet Summary
C2: Product : | D2: IBC / DAS | J2: Tanggal P&L: | M2: 45056
D3: OPENET
C4: Status P&L | D4: Renewal
B6: Site Information | E6: Technical Information | J6: Financial Summary
B7: Site Name | D7: Revo Town Bekasi | E7: IBC | K7: Capex /antenna | M7: 0
B8: Address | D8: Jl. A Yani, | E8: Antena PKS BM | H8: 158 | K8: Contract Period (thn) | M8: 5
D9: RT.005/RW.002 | E9: Antena Asset | H9: 149 | K9: Interest rate /year | M9: =IRR!G5 -> 0.1
D10: Pekayon Jaya, Bekasi | E10: Jumlah Pole Makro | H10: 8 | K10: Kurs 1USD | M10: 0
B11: Area building | D11: Jawa Barat | E11: OPENET | K11: Total Capex | M11: =IRR!H11 -> 480913119
B12: Type of building | D12: Mall | E12: Cable FO (Core) | H12: 0 | K12: Total Opex | M12: =IRR!M28 -> 1883992920
B13: Status | D13: Renewal | E13: Cable FO (meter) | H13: 0 | K13: Total Revenue | M13: =IRR!M20 -> 3217358400
B14: Total floor | D14: 5 | E14: Drop Wire (meter) | H14: 0
B15: No of building tower | D15: 1 | E15: OTHERS | K15: IRR | M15: =IRR!G44 -> 0.27455849
K16: NPV | M16: =IRR!G45 -> 3.3856928e+08
K17: EBITDA margin | M17: =IRR!G46 -> 0.41442864
K18: Payback (year) | M18: =IRR!G47 -> 3.3684151
B20: Target To Achieve by Commercial: | L20: Prepared by
B21: Revenue | D21: Oprt Tsel meskipun extend 1 thn tetap dihitung 5 thn karena prospek LRT di Revo | L21: Alfredo
D22: Oprt XL tetap akan dipertahankan 150jt/thn dengan ekspektasi bisa dinaikan karena prospek LRT
D23: Oprt IOH ditargetkan tetap pada nilai sebelumnya mengingat prospek LRT
B27: Approved by

Sheet IRR
B1: NO : 0004/02/IRR/IBC/V/2023
B2: Assumption: | M2: Revo Town Squre
B3: General
C4: Tax Rate | G4: 0.02
C5: Interest Rate | G5: 0.1
C6: SG&A | G6: 0.05 | H6: from Revenues
C7: BHPUSO | G7: 0 | H7: from Revenues
C8: Erosion Price | G8: 0.15
H9: Y1 | I9: Y2 | J9: Y3 | K9: Y4 | L9: Y5
B10: CAPEX
B11: Total CAPEX | H11: 480913119 | I11: 0 | J11: 0 | K11: 0
B13: IRR Calculation | H13: Year 1 | I13: Year 2 | J13: Year 3 | K13: Year 4 | L13: Year 5 | M13: Total
B14: Months of Service | H14: 12 | I14: 12 | J14: 12 | K14: 12 | L14: 12
B15: Revenues
C16: Telkomsel | H16: =Sheet2!D2*(1-G8) -> 224400000 | I16: =H16*90% -> 201960000 | J16: =I16 -> 201960000 | K16: =J16 -> 201960000 | L16: =K16 -> 201960000 | M16: =SUM(H16:L16) -> 1032240000
C17: XL | H17: 150000000 | I17: 150000000 | J17: 150000000 | K17: 150000000 | L17: 150000000 | M17: =SUM(H17:L17) -> 750000000
C18: Broadband | H18: 45000000 | I18: 45000000 | J18: 45000000 | K18: 45000000 | L18: 45000000 | M18: =SUM(H18:L18) -> 225000000
C19: IOH-H3I | H19: 257472000 | I19: =H19 -> 257472000 | J19: =I19*90% -> 231724800 | K19: =J19 -> 231724800 | L19: =K19 -> 231724800 | M19: =SUM(H19:L19) -> 1210118400
B20: Total Revenues | H20: =SUM(H15:H19) -> 676872000 | I20: =SUM(I15:I19) -> 654432000 | J20: =SUM(J15:J19) -> 628684800 | K20: =SUM(K15:K19) -> 628684800 | L20: =SUM(L15:L19) -> 628684800 | M20: =SUM(M16:M19) -> 3217358400
B21: OPEX
C22: Lease to BM | H22: =760000000/2 -> 380000000 | I22: =H22 -> 380000000 | J22: 240000000 | K22: 0 | L22: 0 | M22: =SUM(H22:L22) -> 1000000000
C23: Rev Share to ISP (Moratel) 50% | H23: =H18*50% -> 22500000 | I23: =I18*50% -> 22500000 | J23: =J18*50% -> 22500000 | K23: =K18*50% -> 22500000 | L23: =L18*50% -> 22500000 | M23: =SUM(H23:L23) -> 112500000
C24: Rev Share to BM 5% from 50% IBS's | H24: =(H18-(H18*50%))*5% -> 1125000 | I24: =(I18-(I18*50%))*5% -> 1125000 | J24: =(J18-(J18*50%))*5% -> 1125000 | K24: =(K18-(K18*50%))*5% -> 1125000 | L24: =(L18-(L18*50%))*5% -> 1125000 | M24: =SUM(H24:L24) -> 5625000
C25: Electricity | H25: 100000000 | I25: 100000000 | J25: 100000000 | K25: 100000000 | L25: 100000000 | M25: =SUM(H25:L25) -> 500000000
C26: Maintenance | H26: =PARAMETER!$B$33*3 -> 21000000 | I26: =PARAMETER!$B$33*3 -> 21000000 | J26: =PARAMETER!$B$33*3 -> 21000000 | K26: =PARAMETER!$B$33*3 -> 21000000 | L26: =PARAMETER!$B$33*3 -> 21000000 | M26: =SUM(H26:L26) -> 105000000
C27: SG&A | H27: =$G$6*H20 -> 33843600 | I27: =$G$6*I20 -> 32721600 | J27: =$G$6*J20 -> 31434240 | K27: =$G$6*K20 -> 31434240 | L27: =$G$6*L20 -> 31434240 | M27: =SUM(H27:L27) -> 160867920
B28: Total OPEX | H28: =SUM(H22:H27) -> 558468600 | I28: =SUM(I22:I27) -> 557346600 | J28: =SUM(J22:J27) -> 416059240 | K28: =SUM(K22:K27) -> 176059240 | L28: =SUM(L22:L27) -> 176059240 | M28: =SUM(M22:M27) -> 1883992920
B29: Total EBITDA | H29: =H20-H28 -> 118403400 | I29: =I20-I28 -> 97085400 | J29: =J20-J28 -> 212625560 | K29: =K20-K28 -> 452625560 | L29: =L20-L28 -> 452625560 | M29: =M20-M28 -> 1333365480
B30: Ebitda margin | H30: =H29/H20 -> 0.17492731 | I30: =I29/I20 -> 0.14835063 | J30: =J29/J20 -> 0.33820694 | K30: =K29/K20 -> 0.71995626 | L30: =L29/L20 -> 0.71995626 | M30: =M29/M20 -> 0.41442864
B32: Depreciation Expense | H32: =H55 -> 96182624 | I32: =I55 -> 96182624 | J32: =J55 -> 96182624 | K32: =K55 -> 96182624 | L32: =L55 -> 96182624 | M32: =SUM(H32:L32) -> 480913119
B33: Total EBIT | H33: =H29-H32 -> 22220776 | I33: =I29-I32 -> 902776.2 | J33: =J29-J32 -> 1.1644294e+08 | K33: =K29-K32 -> 3.5644294e+08 | L33: =L29-L32 -> 3.5644294e+08 | M33: =M29-M32 -> 852452361
B34: Interest Expense | H34: =PARAMETER!B$5 -> 24045656 | I34: =PARAMETER!C$5 -> 43282181 | J34: =PARAMETER!D$5 -> 33663918 | K34: =PARAMETER!E$5 -> 24045656 | L34: =PARAMETER!F$5 -> 14427394 | M34: =SUM(H34:L34) -> 1.394648e+08
B35: EBT | H35: =H33-H34 -> -1824879.8 | I35: =I33-I34 -> -42379405 | J35: =J33-J34 -> 82779018 | K35: =K33-K34 -> 3.3239728e+08 | L35: =L33-L34 -> 3.4201554e+08 | M35: =SUM(H35:L35) -> 7.1298756e+08
B36: Tax Expense | H36: =IF(H35<0,0,H35*$G$4) -> 0 | I36: =IF(I35<0,0,I35*$G$4) -> 0 | J36: =IF(J35<0,0,J35*$G$4) -> 1655580.4 | K36: =IF(K35<0,0,K35*$G$4) -> 6647945.6 | L36: =IF(L35<0,0,L35*$G$4) -> 6840310.9 | M36: =SUM(H36:L36) -> 15143837
B37: Net Income | H37: =H35-H36 -> -1824879.8 | I37: =I35-I36 -> -42379405 | J37: =J35-J36 -> 81123438 | K37: =K35-K36 -> 3.2574933e+08 | L37: =L35-L36 -> 3.3517523e+08 | M37: =M33-M36 -> 8.3730852e+08
B39: Capex | G39: =-H11 -> -480913119 | H39: =-I11 -> 0 | I39: =-J11 -> 0 | J39: =-K11 -> 0 | K39: =-L11 -> 0 | L39: =-M11 -> 0 | M39: =SUM(G39:L39) -> -480913119
B40: FCFF | G40: =G39 -> -480913119 | H40: =H39+H37+H32 -> 94357744 | I40: =I39+I37+I32 -> 53803219 | J40: =J39+J37+J32 -> 1.7730606e+08 | K40: =K39+K37+K32 -> 4.2193196e+08 | L40: =L39+L37+L32 -> 4.3135786e+08 | M40: =SUM(G40:L40) -> 6.9784372e+08
B41: Accumulated FCF | G41: =G40 -> -480913119 | H41: =G41+H40 -> -3.8655537e+08 | I41: =H41+I40 -> -3.3275216e+08 | J41: =I41+J40 -> -1.5544609e+08 | K41: =J41+K40 -> 2.6648586e+08 | L41: =K41+L40 -> 6.9784372e+08
B42: PBP | H42: =IF(AND(G41<0,H41>0),H48-(H41/H40),0) -> 0 | I42: =IF(AND(H41<0,I41>0),I48-(I41/I40),0) -> 0 | J42: =IF(AND(I41<0,J41>0),J48-(J41/J40),0) -> 0 | K42: =IF(AND(J41<0,K41>0),K48-(K41/K40),0) -> 3.3684151 | L42: =IF(AND(K41<0,L41>0),L48-(L41/L40),0) -> 0
B44: IRR | G44: =IRR(G40:L40) -> 0.27455849
...

Sheet Sheet2
A2: Tsel (06 Mei 2020 - 05 Mei 2023) Rp.792.000.000/3th | B2: 792000000 | C2: 3 | D2: =B2/C2 -> 264000000
A3: XL (17 Nov 2019 - 16 Nov 2024) Rp.1.405.815.000/5th | B3: 1405815000 | C3: 5 | D3: =B3/C3 -> 281163000
A4: H3i (18 Jan 2018 - 17 Jan 2023)Rp.1.287.360.000/5th | B4: 1287360000 | C4: 5 | D4: =B4/C4 -> 257472000

Sheet PARAMETER
B1: Year 1 | C1: Year 2 | D1: Year 3 | E1: Year 4 | F1: Year 5 | G1: Year 6 | H1: Year 7 | I1: Year 8 | J1: Year 9 | K1: Year 10
A2: loan | B2: =IRR!$H$11+IRR!$I$11 -> 480913119 | C2: =B2-$B$4 -> 3.847305e+08 | D2: =C2-$B$4 -> 2.8854787e+08 | E2: =D2-$B$4 -> 1.9236525e+08 | F2: =E2-$B$4 -> 96182624 | G2: =F2-$B$4 -> 0 | H2: =$G$2-$B$4 -> -96182624 | I2: =$H$2-$B$4 -> -1.9236525e+08 | J2: =$I$2-$B$4 -> -2.8854787e+08 | K2: =$J$2-$B$4 -> -3.847305e+08
A3: Period (thn) | B3: 5
A4: Installment/thn | B4: =$B$2/$B$3 -> 96182624
A5: Interest | B5: =(($B$2*IRR!$G$5)*6)/12 -> 24045656 | C5: =AVERAGE($B$2:$C$2)*IRR!$G$5 -> 43282181 | D5: =AVERAGE($C$2:$D$2)*IRR!$G$5 -> 33663918 | E5: =AVERAGE($D$2:$E$2)*IRR!$G$5 -> 24045656 | F5: =AVERAGE($E$2:$F$2)*IRR!$G$5 -> 14427394 | G5: =AVERAGE($F$2:$G$2)*IRR!$G$5 -> 4809131.2 | H5: =AVERAGE($G$2:$H$2)*IRR!$G$5 -> -4809131.2 | I5: =AVERAGE($H$2:$I$2)*IRR!$G$5 -> -14427394 | J5: =AVERAGE($I$2:$J$2)*IRR!$G$5 -> -24045656 | K5: =AVERAGE($J$2:$K$2)*IRR!$G$5 -> -33663918
F9: person | G9: trip | H9: kamar | I9: Days by Omni | J9: Biaya walktest inhouse/visit | K9: Biaya walktest inhouse/thn
E10: Diisikan | F10: 1 | G10: 1 | H10: 1 | I10: =Summary!H9 -> 149
B11: Transport | C11: Pesawat | D11: =C22 -> 3000000 | E11: person | F11: =F10 -> 1 | J11: =F11*D11 -> 3000000
C12: Bandara | D12: 600000 | E12: person | F12: =F10 -> 1 | I12: =IF($I$10<=120,2,IF($I$10>220,4,3)) -> 3 | J12: =D12*F12 -> 600000
C13: Transport | D13: 200000 | E13: Trip | G13: =G10 -> 1 | J13: =G13*D13 -> 200000
B14: Hotel | C14: Hotel | D14: 450000 | E14: kamar | F14: =F10 -> 1 | H14: =H10 -> 1 | I14: =IF($I$10<=120,2,IF($I$10>220,4,3)) -> 3 | J14: =H14*D14*I14 -> 1350000
B15: Uang Saku | C15: Uang Saku | D15: 120000 | E15: person | F15: =F10 -> 1 | I15: =IF($I$10<=120,2,IF($I$10>220,4,3)) -> 3 | J15: =I15*D15*F15 -> 360000
J16: =SUM(J11:J15) -> 5510000 | K16: =J16*4 -> 22040000
B20: PM/Year/Site | C20: Pesawat | E20: Asumsi:
A21: Sulut | B21: 16800000 | C21: 4000000 | E21: Walktest 4x dalam setahun semua operator sekaligus
A22: Makasar | C22: 3000000 | E22: Walktest pertama oleh vendor | I22: 10000000
A23: Bali | B23: 15600000 | C23: 2500000 | E23: Walktest pertama oleh vendor | H23: Pekanbaru | I23: 12000000
A24: Jatim | B24: 15000000 | C24: 2000000 | E24: Walktest pertama oleh vendor | H24: Sumut | I24: 14000000
A25: Jateng | B25: 15000000 | C25: 1850000 | E25: Walktest pertama oleh vendor | H25: Sulsel | I25: 14000000
A26: Jabar | B26: 12000000 | C26: 1200000 | E26: Walktest pertama oleh vendor | H26: Sulut | I26: 17000000
A27: Kalimantan | B27: 16800000 | C27: 2000000 | E27: Walktest pertama oleh vendor | H27: Kalimantan | I27: 14000000
A28: Sumatera | B28: 15720000 | C28: 3500000
A29: Palembang | C29: 2800000
A30: Jabodetabek | B30: 0 | C30: 0 | D30: Inhouse
B32: CM /Year/Oprt
B33: 7000000
A35: LISTRIK
A36: Listrik/Oprt/year DAS+1Pole 3sektor
A37: 0-100 | B37: 36000000
A38: 101-200 | B38: 42000000
A39: 201- | B39: 48000000
A41: Listrik/Oprt/year DAS+2Pole 6sektor
A42: 0-200 | B42: 75000000
A43: 201- | B43: 95000000

Sheet BoQ Renovasi Revo Town Square 
B1: BOQ - RENOVASI - REVO TOWN SQUARE BEKASI
B3: PT. Infrastruktur Bisnis Sejahtera
B5: NO. | C5: ITEM WORK | D5: UoM | E5: Volume | F5: UNIT PRICE MATERIAL | G5: UNIT PRICE JASA | H5: UNIT PRICE MATERIAL+JASA | I5: TOTAL PRICE | J5: REMARKS
B6: * | C6: BOQ KABEL YANG HILANG (PART 2)
B7: I. | C7: RF
B8: D | C8: CONNECTORS (LOW PIM)
B9: 2 | C9: N-male connector for 7/8" feeder cable 800-3000 MHz | D9: PCS | E9: 24 | F9: 180500 | G9: 20000 | H9: =F9+G9 -> 200500 | I9: =E9*H9 -> 4812000
B10: 3 | C10: N-male connector for 1 1/4" feeder cable 800-5000 MHz | D10: PCS | E10: 64 | F10: 356250 | G10: 20000 | H10: =F10+G10 -> 376250 | I10: =E10*H10 -> 24080000
B11: E | C11: JUMPER CABLES (LOW PIM)
B12: 2 | C12: 1m 1/2" superflexible jumper cable with N-male and N-female connector 800-3000 MHz (NM-NM) | D12: PCS | E12: 44 | F12: 170750 | G12: 20000 | H12: =F12+G12 -> 190750 | I12: =E12*H12 -> 8393000
B13: H | C13: FEEDER
B14: 2 | C14: 7/8" Feeder Cable | D14: M | E14: 80 | F14: 120500 | G14: 18000 | H14: =F14+G14 -> 138500 | I14: =E14*H14 -> 11080000
B15: 3 | C15: 1 1/4" Feeder Cable | D15: M | E15: 495 | F15: 150500 | G15: 18000 | H15: =F15+G15 -> 168500 | I15: =E15*H15 -> 83407500
B16: II. | C16: CME
B17: B | C17: FEEDER HANGER & CLAMP
B18: 2 | C18: Clamp for Feeder Cable 7/8" feeder for Indoor (Stainless Steel) | D18: PCS | E18: =E14/3 -> 26.666667 | F18: 25000 | G18: 20000 | H18: =F18+G18 -> 45000 | I18: =E18*H18 -> 1200000
B19: 3 | C19: Clamp for Feeder Cable 1 1/4" Indoor (Steinless Steel) | D19: PCS | E19: =E15/3 -> 165 | F19: 25000 | G19: 20000 | H19: =F19+G19 -> 45000 | I19: =E19*H19 -> 7425000
B20: III. | C20: IMPLEMENTATION SERVICES
B21: 3 | C21: Delivery Material Inbuilding (Loading & Unloading) | D21: Ls | E21: 1 | G21: 10000000 | H21: =F21+G21 -> 10000000 | I21: =E21*H21 -> 10000000
I22: =SUM(I8:I21) -> 150397500

Sheet Summary BR
A1: SUMMARY REVIEW
A3: Nama Site | C3: : Revo Town
A4: Nama Pemilik | C4: : PT. Kilap Propertindo
A5: Alamat Pemilik | C5: : Jln. Ahmad Yani Bekasi Selatan
A6: Telp | C6: : (021) 82432212
A7: Obyek Sewa | C7: : 158 titik antenna, unit pole, RBS room 40 m2
A9: No. | B9: Keterangan | C9: Existing | D9: Renewal
A11: 1. | B11: Scope Of Lease | C11: IBC | D11: IBC
A12: 2. | B12: Obyek Sewa | C12: =C7 -> : 158 titik antenna, unit pole, RBS room 40 m2 | D12: =C7 -> : 158 titik antenna, unit pole, RBS room 40 m2
A13: 3. | B13: Periode Sewa | C13: 12 Sep 2018 s/d 11 Sep 2023 ( 5 th) | D13: 12 Sep 2023 s/d 11 Sep 2028 ( 5 th)
A14: 4. | B14: Harga Sewa / Masa sewa | C14: 760000000 | D14: 760000000
B15: Harga Sewa / tahun | C15: =C14/5 -> 152000000 | D15: =D14/5 -> 152000000
A16: 5. | B16: Operator Joint | C16: Indosat ( 31 Aug 16 - 30 Aug 21) | D16: DROP
C17: Tsel (6 Mei 20 - 5 Mei 23) | D17: Tsel (6 Mei 23 - 5 Mei 24)
C18: XL (17 Nov 19 - 16 Nov 24) | D18: XL (17 Nov 19 - 16 Nov 24)
C19: H3I (18 Jan 18 - 17 Jan 23) | D19: IOH (18 Jan 23 - 17 Jan 28)
A20: 6. | B20: Kenaikan/ Penurunan Harga | C20: Tidak mengalami perubahan
B22: Note :
C23: Tsel (06 Mei 2015 - 05 Mei 2020) | D23: Tsel (06 Mei 2020 - 05 Mei 2023) Rp.792.000.000/3th | F23: =792000000/3 -> 264000000
C24: XL (17 Nov 2014 - 16 Nov 2019) | D24: XL (17 Nov 2019 - 16 Nov 2024) Rp.1.405.815.000/5th | F24: =1405815000/5 -> 281163000
C25: H3i (20 Jan 2018 - 19 Jan 2023) | D25: H3i (18 Jan 2018 - 17 Jan 2023)Rp.1.287.360.000/5th | F25: =1287360000/5 -> 257472000
C26: Isat (31 Agt 2016- 30 Agt 2021) | D26: Drop | F26: =F25*85% -> 218851200
F28: =F23*85% -> 224400000
