Workbook
Name jk: #REF!
Name years_contract: [1]Kerlink!$D$5

Sheet Summary
C2: Product : | D2: IBS / DAS | J2: Tanggal P&L:
C3: Status P&L | D3: New Building
B5: Site Information | E5: Technical Information | J5: Financial Summary
B6: Site Name | D6: Mall Taman Palem | E6: IBC | K6: Capex /antenna | M6: =M11/H7 -> 1236490.7 | O6: =M6-'IRR Approved'!F8 -> 1236490.7
B7: Address | E7: Antena PKS BM | H7: ='IRR Approved'!$F$13 -> 136 | K7: Contract Period (thn) | M7: 10
B8: Area building | D8: Jakarta | E8: Antena Asset | H8: 0 | K8: Interest rate /year | M8: ='IRR Approved'!$F$4 -> 0.1
B9: Type of building | E9: Jumlah Pole Makro | H9: 0 | K9: Kurs 1USD | M9: 0
B10: Status | D10: Renewal | E10: OPENET | K10: Total Revenue | M10: ='IRR Approved'!$R$26 -> 1109760000
B11: Total floor | E11: Cable FO (Core) | H11: 0 | K11: Total Capex DAS | M11: ='IRR Approved'!$R$13 -> 168162732
B12: No of building tower | D12: 1 | E12: Cable FO (meter) | H12: 0 | K12: Total Capex CME | M12: ='IRR Approved'!$R$14 -> 0
K13: Total COGS Rent | M13: ='IRR Approved'!$R$29 -> 400000000
E14: Drop Wire (meter) | H14: 0 | K14: Total COGS Other | M14: ='IRR Approved'!$R$30+'IRR Approved'!$R$31+'IRR Approved'!$R$32 -> 300488000
E15: OTHERS | K15: IRR | M15: ='IRR Approved'!$F$50 -> 0.31309754
K16: NPV | M16: ='IRR Approved'!$F$51 -> 1.0136019e+08
K17: EBITDA margin | M17: ='IRR Approved'!$F$52 -> 0.36879325
K18: Payback (year) | M18: ='IRR Approved'!$F$53 -> 3.4247013
B20: Target to Achieve by Commercial: | L20: Prepared by
B21: Revenue | L21: Citra K.
B26: Approved by

Sheet IRR Approved
B1: NO : 0001/01/IRR/IBC/V/2023 | C1: 0026/03/IRR/IBC/XI/2023 | R1: =Summary!$D$6 -> Mall Taman Palem
B2: General Asumption | I2: Join year | L2: % inc (dec)
C3: Tax Rate | F3: 0.02 | I3: 2 | J3: Rev/month - TSEL | L3: 0.1
C4: Interest Rate | F4: 0.1 | I4: 3 | J4: Rev/month - XL | L4: 0.15
C5: SG&A | F5: 0.05 | G5: from Revenues | I5: 4 | J5: Rev/month - IOH | K5: 221952000 | L5: 0.15
C6: BHPUSO | F6: 0 | G6: from Revenues | J6: Rev/month - SF
C7: Price Adjustment after 5 year | F7: 0.15
C8: Capex per antenna
C9: Migrasi per operator
G11: Y0 | H11: Y1 | I11: Y2 | J11: Y3 | K11: Y4 | L11: Y5 | M11: Y6 | N11: Y7 | O11: Y8 | P11: Y9 | Q11: Y10 | R11: Total
B12: CAPEX
B13: Total CAPEX | E13: DAS | F13: 136 | G13: =SUM('Book Value'!B8:I9) -> 168162732 | H13: 0 | I13: 0 | J13: 0 | R13: =SUM(G13:Q13) -> 168162732
E14: BTS migrasi | I14: =$F$9*0 -> 0 | J14: =$F$9*0 -> 0 | K14: =$F$9*0 -> 0 | R14: =SUM(G14:Q14) -> 0
B17: IRR Calculation | G17: Year 0 | H17: 2024 | I17: =H17+1 -> 2025 | J17: =I17+1 -> 2026 | K17: =J17+1 -> 2027 | L17: =K17+1 -> 2028 | M17: =L17+1 -> 2029 | N17: =M17+1 -> 2030 | O17: =N17+1 -> 2031 | P17: =O17+1 -> 2032 | Q17: =P17+1 -> 2033 | R17: Total
B18: Months of Service | G18: 12 | H18: 12 | I18: 12 | J18: 12 | K18: 12 | L18: 12 | M18: 12 | N18: 12 | O18: 12 | P18: 12 | Q18: 12
B19: % increase (decrease) | M19: 0.1
B21: Revenues
C22: Telkomsel | I22: =$K$3 -> 0 | J22: =$K$3 -> 0 | K22: =$K$3 -> 0 | L22: =$K$3 -> 0 | M22: =$K$3 -> 0 | N22: =$K$3*(1-$L$3) -> 0 | O22: =$K$3*(1-$L$3) -> 0 | P22: =$K$3*(1-$L$3) -> 0 | Q22: =$K$3*(1-$L$3) -> 0 | R22: =SUM($G22:Q22) -> 0
C23: XL | K23: =$K$4 -> 0 | L23: =$K$4 -> 0 | M23: =$K$4 -> 0 | N23: =$K$4 -> 0 | O23: =$K$4 -> 0 | P23: =$K$4*(1-$L$4) -> 0 | Q23: =$K$4*(1-$L$4) -> 0 | R23: =SUM($G23:Q23) -> 0
C24: IOH | H24: 221952000 | I24: =$K$5 -> 221952000 | J24: =$K$5 -> 221952000 | K24: =$K$5 -> 221952000 | L24: =$K$5 -> 221952000 | M24: =$K$5*0 -> 0 | N24: =$K$5*0 -> 0 | O24: =$K$5*(1-$L$5)*0 -> 0 | P24: =$K$5*(1-$L$5)*0 -> 0 | Q24: =$K$5*(1-$L$5)*0 -> 0 | R24: =SUM($G24:Q24) -> 1109760000
C25: Smartfren | R25: =SUM($G25:Q25) -> 0
B26: Total Revenues | G26: =SUM(G22:G25) -> 0 | H26: =SUM(H22:H25) -> 221952000 | I26: =SUM(I22:I25) -> 221952000 | J26: =SUM(J22:J25) -> 221952000 | K26: =SUM(K22:K25) -> 221952000 | L26: =SUM(L22:L25) -> 221952000 | M26: =SUM(M22:M25) -> 0 | N26: =SUM(N22:N25) -> 0 | ... R26: =SUM(R22:R25) -> 1109760000 | S26: =SUM(G26:Q26)-R26 -> 0
B28: OPEX
C29: Lease to BM | H29: 80000000 | I29: =H29 -> 80000000 | J29: =I29 -> 80000000 | K29: =J29 -> 80000000 | L29: =K29 -> 80000000 | M29: =800000000*10%*0 -> 0 | N29: =800000000*30%*0 -> 0 | O29: =800000000*20%*0 -> 0 | P29: =O29 -> 0 | Q29: =P29 -> 0 | R29: =SUM($G29:Q29) -> 400000000
C30: Electricity | H30: =PARAMETER!B49 -> 42000000 | I30: =H30 -> 42000000 | J30: =I30 -> 42000000 | K30: =J30 -> 42000000 | L30: =K30 -> 42000000 | M30: =200000000*0.5*0 -> 0 | N30: =200000000*0.5*0 -> 0 | O30: =200000000*0.5*0 -> 0 | P30: =200000000*0.5*0 -> 0 | Q30: =200000000*0.5*0 -> 0 | R30: =SUM($G30:Q30) -> 210000000
C31: Maintenance (RPM) | G31: =IF(G22>0,COUNTIF(G22:G25,">0")*7000000, IF(G23>0,COUNTIF(G22:G25,">0")*7000000, IF(G24>0,COUNTIF(G22:G25,">0")*7000000, IF(G25>0,COUNTIF(G22:G25,">0")*7000000,0)))) -> 0 | H31: =PARAMETER!B41 -> 7000000 | I31: =IF(I22>0,COUNTIF(I22:I25,">0")*7000000, IF(I23>0,COUNTIF(I22:I25,">0")*7000000, IF(I24>0,COUNTIF(I22:I25,">0")*7000000, IF(I25>0,COUNTIF(I22:I25,">0")*7000000,0)))) -> 7000000 | J31: =IF(J22>0,COUNTIF(J22:J25,">0")*7000000, IF(J23>0,COUNTIF(J22:J25,">0")*7000000, IF(J24>0,COUNTIF(J22:J25,">0")*7000000, IF(J25>0,COUNTIF(J22:J25,">0")*7000000,0)))) -> 7000000 | K31: =IF(K22>0,COUNTIF(K22:K25,">0")*7000000, IF(K23>0,COUNTIF(K22:K25,">0")*7000000, IF(K24>0,COUNTIF(K22:K25,">0")*7000000, IF(K25>0,COUNTIF(K22:K25,">0")*7000000,0)))) -> 7000000 | L31: =IF(L22>0,COUNTIF(L22:L25,">0")*7000000, IF(L23>0,COUNTIF(L22:L25,">0")*7000000, IF(L24>0,COUNTIF(L22:L25,">0")*7000000, IF(L25>0,COUNTIF(L22:L25,">0")*7000000,0)))) -> 7000000 | M31: =IF(M22>0,COUNTIF(M22:M25,">0")*7000000, IF(M23>0,COUNTIF(M22:M25,">0")*7000000, IF(M24>0,COUNTIF(M22:M25,">0")*7000000, IF(M25>0,COUNTIF(M22:M25,">0")*7000000,0)))) -> 0 | N31: =IF(N22>0,COUNTIF(N22:N25,">0")*7000000, IF(N23>0,COUNTIF(N22:N25,">0")*7000000, IF(N24>0,COUNTIF(N22:N25,">0")*7000000, IF(N25>0,COUNTIF(N22:N25,">0")*7000000,0)))) -> 0 | O31: =IF(O22>0,COUNTIF(O22:O25,">0")*7000000, IF(O23>0,COUNTIF(O22:O25,">0")*7000000, IF(O24>0,COUNTIF(O22:O25,">0")*7000000, IF(O25>0,COUNTIF(O22:O25,">0")*7000000,0)))) -> 0 | P31: =IF(P22>0,COUNTIF(P22:P25,">0")*7000000, IF(P23>0,COUNTIF(P22:P25,">0")*7000000, IF(P24>0,COUNTIF(P22:P25,">0")*7000000, IF(P25>0,COUNTIF(P22:P25,">0")*7000000,0)))) -> 0 | Q31: =IF(Q22>0,COUNTIF(Q22:Q25,">0")*7000000, IF(Q23>0,COUNTIF(Q22:Q25,">0")*7000000, IF(Q24>0,COUNTIF(Q22:Q25,">0")*7000000, IF(Q25>0,COUNTIF(Q22:Q25,">0")*7000000,0)))) -> 0 | R31: =SUM($G31:Q31) -> 35000000
C32: SG&A (inhouse resources) | F32: =H32/K26 -> 0.05 | G32: =$F$5*G26 -> 0 | H32: =H26*$F$5 -> 11097600 | I32: =I26*$F$5 -> 11097600 | J32: =J26*$F$5 -> 11097600 | K32: =K26*$F$5 -> 11097600 | L32: =L26*$F$5 -> 11097600 | M32: =M26*$F$5 -> 0 | N32: =N26*$F$5 -> 0 | O32: =O26*$F$5 -> 0 | ... Q32: =Q26*$F$5 -> 0 | R32: =SUM($G32:Q32) -> 55488000
B33: Total OPEX | G33: =SUM(G29:G32) -> 0 | H33: =SUM(H29:H32) -> 140097600 | I33: =SUM(I29:I32) -> 140097600 | J33: =SUM(J29:J32) -> 140097600 | K33: =SUM(K29:K32) -> 140097600 | L33: =SUM(L29:L32) -> 140097600 | M33: =SUM(M29:M32) -> 0 | N33: =SUM(N29:N32) -> 0 | ... R33: =SUM(R29:R32) -> 700488000 | S33: =SUM(G33:Q33)-R33 -> 0
B34: Total EBITDA | G34: =G26-G33 -> 0 | H34: =H26-H33 -> 81854400 | I34: =I26-I33 -> 81854400 | J34: =J26-J33 -> 81854400 | K34: =K26-K33 -> 81854400 | L34: =L26-L33 -> 81854400 | M34: =M26-M33 -> 0 | N34: =N26-N33 -> 0 | ... R34: =R26-R33 -> 409272000 | S34: =SUM(G34:Q34)-R34 -> 0
B35: Ebitda margin | H35: =H34/H26 -> 0.36879325 | I35: =I34/I26 -> 0.36879325 | J35: =J34/J26 -> 0.36879325 | K35: =K34/K26 -> 0.36879325 | L35: =L34/L26 -> 0.36879325 | M35: =M34/M26 -> #DIV/0! | N35: =N34/N26 -> #DIV/0! | O35: =O34/O26 -> #DIV/0! | ... R35: =R34/R26 -> 0.36879325
B37: Depreciation Expense | H37: =H67 -> 33632546 | I37: =I67 -> 33632546 | J37: =J67 -> 33632546 | K37: =K67 -> 33632546 | L37: =L67 -> 33632546 | M37: =M67 -> 0 | N37: =N67 -> 0 | O37: =O67 -> 0 | ... Q37: =Q67 -> 0 | R37: =SUM($G37:Q37) -> 168162732
B38: Total EBIT | G38: =G34-G37 -> 0 | H38: =H34-H37 -> 48221854 | I38: =I34-I37 -> 48221854 | J38: =J34-J37 -> 48221854 | K38: =K34-K37 -> 48221854 | L38: =L34-L37 -> 48221854 | M38: =M34-M37 -> 0 | N38: =N34-N37 -> 0 | ... R38: =R34-R37 -> 241109268 | S38: =SUM(G38:Q38)-R38 -> 0
B39: Interest Expense | H39: =PARAMETER!B$5 -> 8408136.6 | I39: =PARAMETER!C$5 -> 15134646 | J39: =PARAMETER!D$5 -> 11771391 | K39: =PARAMETER!E$5 -> 8408136.6 | L39: =PARAMETER!F$5 -> 5044882 | M39: =PARAMETER!G$580 -> 0 | R39: =SUM($G39:Q39) -> 48767192
B40: EBT | G40: =G38-G39 -> 0 | H40: =H38-H39 -> 39813717 | I40: =I38-I39 -> 33087208 | J40: =J38-J39 -> 36450462 | K40: =K38-K39 -> 39813717 | L40: =L38-L39 -> 43176972 | M40: =M38-M39 -> 0 | N40: =N38-N39 -> 0 | ... Q40: =Q38-Q39 -> 0 | R40: =SUM($G40:Q40) -> 1.9234208e+08 | S40: =SUM(G40:Q40)-R40 -> 0
B41: Tax Expense | G41: =IF(G40<0,0,G40*$F$3) -> 0 | H41: =IF(H40<0,0,H40*$F$3) -> 796274.34 | I41: =IF(I40<0,0,I40*$F$3) -> 661744.15 | J41: =IF(J40<0,0,J40*$F$3) -> 729009.25 | K41: =IF(K40<0,0,K40*$F$3) -> 796274.34 | L41: =IF(L40<0,0,L40*$F$3) -> 863539.43 | M41: =IF(M40<0,0,M40*$F$3) -> 0 | N41: =IF(N40<0,0,N40*$F$3) -> 0 | ... Q41: =IF(Q40<0,0,Q40*$F$3) -> 0 | R41: =SUM($G41:Q41) -> 3846841.5
B42: Net Income | G42: =G40-G41 -> 0 | H42: =H40-H41 -> 39017443 | I42: =I40-I41 -> 32425464 | J42: =J40-J41 -> 35721453 | K42: =K40-K41 -> 39017443 | L42: =L40-L41 -> 42313432 | M42: =M40-M41 -> 0 | N42: =N40-N41 -> 0 | ... R42: =R40-R41 -> 1.8849523e+08 | S42: =SUM(G42:Q42)-R42 -> 0
B44: Capex | G44: =-G13+-G14 -> -168162732 | H44: =-H14 -> 0 | I44: =-I14 -> 0 | J44: =-J14 -> 0 | K44: =-K14 -> 0 | L44: =-L14 -> 0 | M44: =-M14 -> 0 | N44: =-N14 -> 0 | O44: =-O14 -> 0 | ... Q44: =-Q14 -> 0 | R44: =SUM($G$44:Q44) -> -168162732
B45: FCFF | G45: =G44+G42+G37 -> -168162732 | H45: =H44+H42+H37 -> 72649989 | I45: =I44+I42+I37 -> 66058010 | J45: =J44+J42+J37 -> 69354000 | K45: =K44+K42+K37 -> 72649989 | L45: =L44+L42+L37 -> 75945979 | M45: =M44+M42+M37 -> 0 | N45: =N44+N42+N37 -> 0 | ... Q45: =Q44+Q42+Q37 -> 0 | R45: =SUM($G$45:Q45) -> 1.8849523e+08
B46: Accumulated FCF | G46: =F46+G45 -> -168162732 | H46: =G46+H45 -> -95512743 | I46: =H46+I45 -> -29454733 | J46: =I46+J45 -> 39899267 | K46: =J46+K45 -> 1.1254926e+08 | L46: =K46+L45 -> 1.8849523e+08 | M46: =L46+M45 -> 1.8849523e+08 | N46: =M46+N45 -> 1.8849523e+08 | ... Q46: =P46+Q45 -> 1.8849523e+08
B47: PBP | G47: =IF(AND(F46<0,G46>0),H55-(G46/G45),0) -> 0 | H47: =IF(AND(G46<0,H46>0),I55-(H46/H45),0) -> 0 | I47: =IF(AND(H46<0,I46>0),J55-(I46/I45),0) -> 0 | J47: =IF(AND(I46<0,J46>0),K55-(J46/J45),0) -> 3.4247013 | K47: =IF(AND(J46<0,K46>0),L55-(K46/K45),0) -> 0 | L47: =IF(AND(K46<0,L46>0),M55-(L46/L45),0) -> 0 | M47: =IF(AND(L46<0,M46>0),N55-(M46/M45),0) -> 0 | N47: =IF(AND(M46<0,N46>0),O55-(N46/N45),0) -> 0 | O47: =IF(AND(N46<0,O46>0),P55-(O46/O45),0) -> 0 | Q47: =IF(AND(O46<0,Q46>0),R55-(Q46/Q45),0) -> 0
...

Sheet PARAMETER
B1: Year 1 | C1: Year 2 | D1: Year 3 | E1: Year 4 | F1: Year 5 | G1: Year 6 | H1: Year 7 | I1: Year 8 | J1: Year 9 | K1: Year 10
A2: loan | B2: =SUM('IRR Approved'!G13:K14) -> 168162732 | C2: =$B$2-$B$4 -> 1.3453019e+08 | D2: =$C$2-$B$4 -> 1.0089764e+08 | E2: =$D$2-$B$4 -> 67265093 | F2: =$E$2-$B$4 -> 33632546 | G2: =$F$2-$B$4 -> 0 | H2: =$G$2-$B$4 -> -33632546 | I2: =$H$2-$B$4 -> -67265093 | J2: =$I$2-$B$4 -> -1.0089764e+08 | K2: =$J$2-$B$4 -> -1.3453019e+08
A3: Period (thn) | B3: 5
A4: Installment/thn | B4: =$B$2/$B$3 -> 33632546
A5: Interest | B5: =(($B$2*'IRR Approved'!$F$4)*6)/12 -> 8408136.6 | C5: =AVERAGE($B$2:$C$2)*'IRR Approved'!$F$4 -> 15134646 | D5: =AVERAGE($C$2:$D$2)*'IRR Approved'!$F$4 -> 11771391 | E5: =AVERAGE($D$2:$E$2)*'IRR Approved'!$F$4 -> 8408136.6 | F5: =AVERAGE($E$2:$F$2)*'IRR Approved'!$F$4 -> 5044882 | G5: =AVERAGE($F$2:$G$2)*'IRR Approved'!$F$4 -> 1681627.3 | H5: =AVERAGE($G$2:$H$2)*'IRR Approved'!$F$4 -> -1681627.3 | I5: =AVERAGE($H$2:$I$2)*'IRR Approved'!$F$4 -> -5044882 | J5: =AVERAGE($I$2:$J$2)*'IRR Approved'!$F$4 -> -8408136.6 | K5: =AVERAGE($J$2:$K$2)*'IRR Approved'!$F$4 -> -11771391
A10: SG&A | B10: 50000000 | C10: =B10+C11 -> 51000000 | D10: =C10+D12 -> 52020000 | E10: =D10+E12 -> 53060400 | F10: =E10+F12 -> 54121608 | G10: =F10+G12 -> 55204040 | H10: =G10+H12 -> 56308121 | I10: =H10+I12 -> 57434283 | J10: =I10+J12 -> 58582969 | K10: =J10+K12 -> 59754628
A11: 0.02 | C11: =C12 -> 1000000 | D11: =C11+D12 -> 2020000 | E11: =D11+E12 -> 3060400 | F11: =E11+F12 -> 4121608 | G11: =F11+G12 -> 5204040.2 | H11: =G11+H12 -> 6308121 | I11: =H11+I12 -> 7434283.4 | J11: =I11+J12 -> 8582969.1 | K11: =J11+K12 -> 9754628.4
C12: =B10*$A$11 -> 1000000 | D12: =C10*$A$11 -> 1020000 | E12: =D10*$A$11 -> 1040400 | F12: =E10*$A$11 -> 1061208 | G12: =F10*$A$11 -> 1082432.2 | H12: =G10*$A$11 -> 1104080.8 | I12: =H10*$A$11 -> 1126162.4 | J12: =I10*$A$11 -> 1148685.7 | K12: =J10*$A$11 -> 1171659.4
F17: person | G17: trip | H17: kamar | I17: Days by Omni | J17: Biaya walktest inhouse/visit | K17: Biaya walktest inhouse/thn
E18: Diisikan | F18: 1 | G18: 1 | H18: 1 | I18: ='IRR Approved'!F13 -> 136
B19: Transport | C19: Pesawat | D19: =C30 -> 3000000 | E19: person | F19: =F18 -> 1 | J19: =F19*D19 -> 3000000
C20: Bandara | D20: 600000 | E20: person | F20: =F18 -> 1 | I20: =IF($I$10<=120,2,IF($I$10>220,4,3)) -> 4 | J20: =D20*F20 -> 600000
C21: Transport | D21: 200000 | E21: Trip | G21: =G18 -> 1 | J21: =G21*D21 -> 200000
B22: Hotel | C22: Hotel | D22: 450000 | E22: kamar | F22: =F18 -> 1 | H22: =H18 -> 1 | I22: =IF($I$10<=120,2,IF($I$10>220,4,3)) -> 4 | J22: =H22*D22*I22 -> 1800000
B23: Uang Saku | C23: Uang Saku | D23: 120000 | E23: person | F23: =F18 -> 1 | I23: =IF($I$10<=120,2,IF($I$10>220,4,3)) -> 4 | J23: =I23*D23*F23 -> 480000
J24: =SUM(J19:J23) -> 6080000 | K24: =J24*2 -> 12160000
B28: PM/Year/Site | C28: Pesawat | E28: Asumsi:
A29: Sulut | B29: 16800000 | C29: 4000000 | E29: Walktest 4x dalam setahun semua operator sekaligus
A30: Makasar | C30: 3000000 | E30: Walktest pertama oleh vendor | I30: 10000000
A31: Bali | B31: 15600000 | C31: 2500000 | E31: Walktest pertama oleh vendor | H31: Pekanbaru | I31: 12000000
A32: Jatim | B32: 15000000 | C32: 2000000 | E32: Walktest pertama oleh vendor | H32: Sumut | I32: 14000000
A33: Jateng | B33: 15000000 | C33: 1850000 | E33: Walktest pertama oleh vendor | H33: Sulsel | I33: 14000000
A34: Jabar | B34: 12000000 | C34: 1200000 | E34: Walktest pertama oleh vendor | H34: Sulut | I34: 17000000
A35: Kalimantan | B35: 16800000 | C35: 2000000 | E35: Walktest pertama oleh vendor | H35: Kalimantan | I35: 14000000
A36: Sumatera | B36: 15720000 | C36: 3500000
A37: Palembang | C37: 2800000
A38: Jabodetabek | B38: 0 | C38: 0 | D38: Inhouse
B40: CM /Year/Oprt
B41: 7000000 | D41: =B41/12 -> 583333.33
A46: LISTRIK
A47: Listrik/Oprt/year DAS+1Pole 3sektor
A48: 0-100 | B48: 36000000
A49: 101-200 | B49: 42000000
A50: 201- | B50: 48000000 | C50: =B50/12 -> 4000000
A52: Listrik/Oprt/year DAS+2Pole 6sektor
A53: 0-200 | B53: 75000000
A54: 201- | B54: 95000000

Sheet Book Value
B1: 2013 | C1: 2014 | D1: 2015 | E1: 2016 | F1: 2017 | G1: 2018 | H1: 2019 | I1: 2020 | J1: 2021 | K1: 2022
A2: DAS | B2: 1233497722 | D2: 27467916 | G2: 29800000 | I2: 246699544
A3: BTS | D3: 54762140
A5: DAS | B5: =(B2/10)*(2023-B1) -> 1233497722 | C5: =(C2/10)*(2023-C1) -> 0 | D5: =(D2/10)*(2024-D1) -> 24721124 | E5: =(E2/10)*(2023-E1) -> 0 | F5: =(F2/10)*(2023-F1) -> 0 | G5: =(G2/10)*(2024-G1) -> 17880000 | H5: =(H2/10)*(2023-H1) -> 0 | I5: =(I2/10)*(2024-I1) -> 98679818
A6: BTS | D6: =(D3/10)*(2024-D1) -> 49285926
A8: DAS | B8: =B2-B5 -> 0 | C8: =C2-C5 -> 0 | D8: =D2-D5 -> 2746791.6 | E8: =E2-E5 -> 0 | F8: =F2-F5 -> 0 | G8: =G2-G5 -> 11920000 | H8: =H2-H5 -> 0 | I8: =I2-I5 -> 1.4801973e+08
A9: BTS | B9: =B3-B6 -> 0 | C9: =C3-C6 -> 0 | D9: =D3-D6 -> 5476214 | E9: =E3-E6 -> 0 | F9: =F3-F6 -> 0 | G9: =G3-G6 -> 0 | H9: =H3-H6 -> 0 | I9: =I3-I6 -> 0
