Workbook
Name jk: #REF!
Name years_contract: [1]Kerlink!$D$5

Sheet Summary
C2: Product : | D2: IBS / DAS | J2: Tanggal P&L: | M2: 45120
C3: Status P&L | D3: New
B5: Site Information | E5: Technical Information | J5: Financial Summary
B6: Site Name | D6: Hotel Lombok Plaza | E6: IBC | K6: Capex /antenna | M6: 0
B7: Address | D7: Jl. Pejangik NO.8 CakraNegara NTB | E7: Antena PKS BM | H7: 83 | K7: Contract Period (thn) | M7: 5
E8: Antena Asset | H8: 0 | K8: Interest rate /year | M8: =[2]IRR!F3 -> 0.1
B9: Area building | D9: Lombok | E9: Jumlah Pole Makro | H9: 0 | K9: Kurs 1USD | M9: 0
B10: Type of building | D10: Hotel | E10: OPENET | K10: Total Capex | M10: =SUM(IRR!G8:K9) -> 10000000
B11: Status | D11: Renewal | E11: Cable FO (Core) | H11: 0 | K11: Total Opex | M11: =IRR!L25 -> 445613331
B12: Total floor | D12: 4 | E12: Cable FO (meter) | H12: 0 | K12: Total Revenue | M12: =IRR!L18 -> 461700000
B13: No of building tower | D13: 1 | E13: Drop Wire (meter) | H13: 0
E14: OTHERS | K14: IRR | M14: =IRR!F39 -> 0.0051756296
K15: NPV | M15: =IRR!F40 -> -17256131
K16: EBITDA margin | M16: =IRR!F41 -> 0.034842255
K17: Payback (year) | M17: =IRR!F42 -> 2.9838794
B19: Target Achieved by Commercial: | L19: Prepared by
B20: Revenue | D20: : | L20: Alfredo
D21: :
D22: :
B26: Approved by

Sheet IRR
B1: General
C2: Tax Rate | F2: 0.02
C3: Interest Rate | F3: 0.1
C4: SG&A | F4: 0 | G4: from Revenues
C5: BHPUSO | F5: 0 | G5: from Revenues
C6: Erosion | F6: 0.15
G7: Y1 | H7: Y2 | I7: Y3 | J7: Y4 | K7: Y5
B8: Total CAPEX | E8: DAS | G8: 10000000 | H8: 0 | I8: 0 | J8: 0
E9: BTS
G10: 2024 | H10: 2025 | I10: 2026 | J10: 2027 | K10: 2028
B11: IRR Calculation | G11: Year 1 | H11: Year 2 | I11: Year 3 | J11: Year 4 | K11: Year 5 | L11: Total
B12: Months of Service | G12: 12 | H12: 12 | I12: 12 | J12: 12 | K12: 12
B14: Revenues
C15: TSEL | G15: 171000000 | H15: =171000000*(1-$F$6) -> 145350000 | I15: =171000000*(1-$F$6) -> 145350000 | J15: =(171000000*(1-$F$6))*0 -> 0 | K15: =171000000*(1-$F$6)*0 -> 0
B18: Total Revenues (SF) | G18: =SUM(G15:G17) -> 171000000 | H18: =SUM(H15:H17) -> 145350000 | I18: =SUM(I15:I17) -> 145350000 | J18: =SUM(J15:J17) -> 0 | K18: =SUM(K15:K17) -> 0 | L18: =SUM(G18:K18) -> 461700000
B20: OPEX
C21: Lease to BM | G21: =77777777*3 -> 233333331 | J21: =77777777*0 -> 0 | K21: =77777777*0 -> 0 | L21: =SUM(G21:K21) -> 233333331
C22: Electricity | G22: 36000000 | H22: 36000000 | I22: 36000000 | J22: =36000000*0 -> 0 | K22: =36000000*0 -> 0 | L22: =SUM(G22:K22) -> 108000000
C23: Maintenance | G23: =7000000+PARAMETER!$B$24+PARAMETER!$K$17 -> 34760000 | H23: =7000000+PARAMETER!$B$24+PARAMETER!$K$17 -> 34760000 | I23: =7000000+PARAMETER!$B$24+PARAMETER!$K$17 -> 34760000 | J23: =(7000000+PARAMETER!$B$24+PARAMETER!$K$17)*(0) -> 0 | K23: =(7000000+PARAMETER!$B$24+PARAMETER!$K$17)*(0) -> 0 | L23: =SUM(G23:K23) -> 104280000
C24: SG&A | G24: =G18*$F$4 -> 0 | H24: =H18*$F$4 -> 0 | I24: =I18*$F$4 -> 0 | J24: =J18*$F$4 -> 0 | K24: =K18*$F$4 -> 0 | L24: =SUM(G24:K24) -> 0
B25: Total OPEX | G25: =SUM(G21:G24) -> 304093331 | H25: =SUM(H21:H24) -> 70760000 | I25: =SUM(I21:I24) -> 70760000 | J25: =SUM(J21:J24) -> 0 | K25: =SUM(K21:K24) -> 0 | L25: =SUM(L21:L24) -> 445613331
B26: Total EBITDA | G26: =G18-G25 -> -133093331 | H26: =H18-H25 -> 74590000 | I26: =I18-I25 -> 74590000 | J26: =J18-J25 -> 0 | K26: =K18-K25 -> 0 | L26: =L18-L25 -> 16086669
B27: Ebitda margin | G27: 0 | H27: =H26/H18 -> 0.51317509 | I27: =I26/I18 -> 0.51317509 | J27: =J26/J18 -> #DIV/0! | K27: =K26/K18 -> #DIV/0! | L27: =L26/L18 -> 0.034842255
B28: Depreciation Expense | G28: =G50 -> 3333333.3 | H28: =H50 -> 3333333.3 | I28: =I50 -> 3333333.3 | L28: =SUM(G28:K28) -> 10000000
B29: Total EBIT | G29: =G26-G28 -> -1.3642666e+08 | H29: =H26-H28 -> 71256667 | I29: =I26-I28 -> 71256667 | J29: =J26-J28 -> 0 | K29: =K26-K28 -> 0 | L29: =L26-L28 -> 6086669
B30: Interest Expense | G30: =PARAMETER!B5 -> 500000 | H30: =PARAMETER!C5 -> 900000 | I30: =PARAMETER!D5 -> 700000 | L30: =SUM(G30:K30) -> 2100000
B31: EBT | G31: =G29-G30 -> -1.3692666e+08 | H31: =H29-H30 -> 70356667 | I31: =I29-I30 -> 70556667 | J31: =J29-J30 -> 0 | K31: =K29-K30 -> 0 | L31: =SUM(G31:K31) -> 3986669
B32: Tax Expense | G32: =IF(G31<0,0,G31*$F$2) -> 0 | H32: =IF(H31<0,0,H31*$F$2) -> 1407133.3 | I32: =IF(I31<0,0,I31*$F$2) -> 1411133.3 | J32: =IF(J31<0,0,J31*$F$2) -> 0 | K32: =IF(K31<0,0,K31*$F$2) -> 0 | L32: =SUM(G32:K32) -> 2818266.7
B33: Net Income | G33: =G31-G32 -> -1.3692666e+08 | H33: =H31-H32 -> 68949533 | I33: =I31-I32 -> 69145533 | J33: =J31-J32 -> 0 | K33: =K31-K32 -> 0 | L33: =L29-L32 -> 3268402.3
B35: Capex | F35: =-G8+-G9 -> -10000000 | G35: =-H8+-H9 -> 0 | H35: =-I8+-I9 -> 0 | I35: =-J8+-J9 -> 0 | J35: =-K8+-K9 -> 0 | K35: =-L8+-L9 -> 0
B36: FCFF | F36: =F35 -> -10000000 | G36: =G35+G33+G28 -> -1.3359333e+08 | H36: =H35+H33+H28 -> 72282867 | I36: =I35+I33+I28 -> 72478867 | J36: =J35+J33+J28 -> 0 | K36: =K35+K33+K28 -> 0
B37: Accumulated FCF | F37: =F36 -> -10000000 | G37: =F37+G36 -> -143593331 | H37: =G37+H36 -> -71310464 | I37: =H37+I36 -> 1168402.3 | J37: =(I37+J36)*0 -> 0 | K37: =J37+K36 -> 0
B38: PBP | G38: =IF(AND(F37<0,G37>0),G43-(G37/G36),0) -> 0 | H38: =IF(AND(G37<0,H37>0),H43-(H37/H36),0) -> 0 | I38: =IF(AND(H37<0,I37>0),I43-(I37/I36),0) -> 2.9838794 | J38: =IF(AND(I37<0,J37>0),J43-(J37/J36),0) -> 0 | K38: =IF(AND(J37<0,K37>0),K43-(K37/K36),0) -> 0
B39: IRR | F39: =IRR(F36:K36) -> 0.0051756296
B40: NPV | F40: =NPV(F3,G36:K36)+F36 -> -17256131
B41: EBITDA margin | F41: =L27 -> 0.034842255
B42: Payback | F42: =SUM(F38:K38) -> 2.9838794
G43: 1 | H43: 2 | I43: 3 | J43: 4 | K43: 5
B44: Depreciation Calculation | E44: no of Year depreciated | G44: =G11 -> Year 1 | H44: =H11 -> Year 2 | I44: =I11 -> Year 3 | J44: =J11 -> Year 4 | K44: =K11 -> Year 5
D45: Year 1 | E45: 3 | G45: =SUM(G8:G9)/$E45 -> 3333333.3 | H45: =G45 -> 3333333.3 | I45: =H45 -> 3333333.3 | J45: 0 | K45: =J45 -> 0
...

Sheet PARAMETER
B1: Year 1 | C1: Year 2 | D1: Year 3 | E1: Year 4 | F1: Year 5 | G1: Year 6 | H1: Year 7 | I1: Year 8 | J1: Year 9 | K1: Year 10
A2: loan | B2: =IRR!G8 -> 10000000 | C2: =$B$2-$B$4 -> 8000000 | D2: =$C$2-$B$4 -> 6000000 | E2: =$D$2-$B$4 -> 4000000 | F2: =$E$2-$B$4 -> 2000000 | G2: =$F$2-$B$4 -> 0 | H2: =$G$2-$B$4 -> -2000000 | I2: =$H$2-$B$4 -> -4000000 | J2: =$I$2-$B$4 -> -6000000 | K2: =$J$2-$B$4 -> -8000000
A3: Period (thn) | B3: 5
A4: Installment/thn | B4: =$B$2/$B$3 -> 2000000
A5: Interest | B5: =(($B$2*IRR!$F$3)*6)/12 -> 500000 | C5: =AVERAGE(B2:C2)*IRR!$F$3 -> 900000 | D5: =AVERAGE(C2:D2)*IRR!$F$3 -> 700000 | E5: =AVERAGE(D2:E2)*IRR!$F$3 -> 500000 | F5: =AVERAGE(E2:F2)*IRR!$F$3 -> 300000 | G5: =AVERAGE(F2:G2)*IRR!$F$3 -> 100000 | H5: =AVERAGE($G$2:$H$2)*[3]IRR!$G$4 -> -100000 | I5: =AVERAGE($H$2:$I$2)*[3]IRR!$G$4 -> -300000 | J5: =AVERAGE($I$2:$J$2)*[3]IRR!$G$4 -> -500000 | K5: =AVERAGE($J$2:$K$2)*[3]IRR!$G$4 -> -700000
F10: person | G10: trip | H10: kamar | I10: Days by Omni | J10: Biaya walktest inhouse/visit | K10: Biaya walktest inhouse/thn
E11: Diisikan | F11: 1 | G11: 1 | H11: 1 | I11: =Summary!H7 -> 83
B12: Transport | C12: Pesawat | D12: =C23 -> 3000000 | E12: person | F12: =F11 -> 1 | J12: =F12*D12 -> 3000000
C13: Bandara | D13: 600000 | E13: person | F13: =F11 -> 1 | I13: =IF($I$10<=120,2,IF($I$10>220,4,3)) -> 4 | J13: =D13*F13 -> 600000
C14: Transport | D14: 200000 | E14: Trip | G14: =G11 -> 1 | J14: =G14*D14 -> 200000
B15: Hotel | C15: Hotel | D15: 450000 | E15: kamar | F15: =F11 -> 1 | H15: =H11 -> 1 | I15: =IF($I$10<=120,2,IF($I$10>220,4,3)) -> 4 | J15: =H15*D15*I15 -> 1800000
B16: Uang Saku | C16: Uang Saku | D16: 120000 | E16: person | F16: =F11 -> 1 | I16: =IF($I$10<=120,2,IF($I$10>220,4,3)) -> 4 | J16: =I16*D16*F16 -> 480000
J17: =SUM(J12:J16) -> 6080000 | K17: =J17*2 -> 12160000
B21: PM/Year/Site | C21: Pesawat | E21: Asumsi:
A22: Sulut | B22: 16800000 | C22: 4000000 | E22: Walktest 4x dalam setahun semua operator sekaligus
A23: Makasar | C23: 3000000 | E23: Walktest pertama oleh vendor | I23: 10000000
A24: Bali | B24: 15600000 | C24: 2500000 | E24: Walktest pertama oleh vendor | H24: Pekanbaru | I24: 12000000
A25: Jatim | B25: 15000000 | C25: 2000000 | E25: Walktest pertama oleh vendor | H25: Sumut | I25: 14000000
A26: Jateng | B26: 15000000 | C26: 1850000 | E26: Walktest pertama oleh vendor | H26: Sulsel | I26: 14000000
A27: Jabar | B27: 12000000 | C27: 1200000 | E27: Walktest pertama oleh vendor | H27: Sulut | I27: 17000000
A28: Kalimantan | B28: 16800000 | C28: 2000000 | E28: Walktest pertama oleh vendor | H28: Kalimantan | I28: 14000000
A29: Sumatera | B29: 15720000 | C29: 3500000
A30: Palembang | C30: 2800000
A31: Jabodetabek | B31: 0 | C31: 0 | D31: Inhouse
B33: CM /Year/Oprt
B34: 7000000
A36: LISTRIK
A37: Listrik/Oprt/year DAS+1Pole 3sektor
A38: 0-100 | B38: 36000000
A39: 101-200 | B39: 42000000
A40: 201- | B40: 48000000
A42: Listrik/Oprt/year DAS+2Pole 6sektor
A43: 0-200 | B43: 75000000
A44: 201- | B44: 95000000
