Workbook
Name _AAL2: '[3]AAL2 Site List - All'!$A$2:$B$134
Name _ISP2: [4]install!$I$6
Name _ISP3: [4]install!$I$7
Name _OSP1: [4]install!$I$8
Name _OSP2: [4]install!$I$9
Name _Regression_Int: 1
Name _sek1: 1.108
Name _sek2: 1.1
Name _sek3: 1.1
Name _sm10: [5]Input!$BA$90
Name _sm11: [5]Input!$BF$90
Name _sm12: [5]Input!$BK$90
Name _sm13: [5]Input!$BP$90
Name _sm14: [5]Input!$BU$90
Name _sm15: [5]Input!$BZ$90
Name _sm16: [5]Input!$CE$90
Name _sm17: [5]Input!$CJ$90
Name _sm18: [5]Input!$CO$90
Name _sm19: [5]Input!$CT$90
Name _sm2: [5]Input!$M$90
Name _sm20: [5]Input!$CY$90
Name _sm3: [5]Input!$R$90
Name _sm4: [5]Input!$W$90
Name _sm5: [5]Input!$AB$90
Name _sm6: [5]Input!$AG$90
Name _sm7: [5]Input!$AL$90
Name _sm8: [5]Input!$AQ$90
Name _sm9: [5]Input!$AV$90
Name _SUB1: [4]para!$G$65
Name _SUB10: [4]para!$G$74
Name _SUB12: [4]para!$G$76
Name _SUB13: [4]para!$G$77
Name _SUB15: [4]para!$G$79
Name _SUB2: [4]para!$G$66
Name _SUB3: [4]para!$G$67
Name _SUB4: [4]para!$G$68
Name _SUB5: [4]para!$G$69
Name _SUB6: [4]para!$G$70
Name _SUB8: [4]para!$G$72
Name _SUB9: [4]para!$G$73
Name _Syn1: [5]Input!$H$91
Name _Syn10: [5]Input!$BA$91
Name _Syn11: [5]Input!$BF$91
Name _Syn12: [5]Input!$BK$91
Name _Syn13: [5]Input!$BP$91
Name _Syn14: [5]Input!$BU$91
Name _Syn15: [5]Input!$BZ$91
Name _Syn16: [5]Input!$CE$91
Name _Syn17: [5]Input!$CJ$91
Name _Syn18: [5]Input!$CO$91
Name _Syn19: [5]Input!$CT$91
Name _Syn2: [5]Input!$M$91
Name _Syn20: [5]Input!$CY$91
Name _Syn3: [5]Input!$R$91
Name _Syn4: [5]Input!$W$91
Name _Syn5: [5]Input!$AB$91
Name _Syn6: [5]Input!$AG$91
Name _Syn7: [5]Input!$AL$91
Name _Syn8: [5]Input!$AQ$91
Name _Syn9: [5]Input!$AV$91

Sheet Summary
C1: No. | D1: 0031/03/IRR/IBC/XII/2023
C2: Product : | D2: IBS / DAS | J2: Tanggal P&L: | M2: 45286
C3: Status P&L | D3: New Building
B5: Site Information | E5: Technical Information | J5: Financial Summary
B6: Site Name | D6: Sun City Madiun | E6: IBC | K6: Capex /antenna | M6: =(M11/H7)*0 -> 0 | O6: =M6-'IRR Approved'!F8 -> -7000000
B7: Address | D7: Jl. Raya Candi No.67 Sidoarjo | E7: Antena PKS BM | H7: 196 | K7: Contract Period (thn) | M7: 5
B8: Area building | D8: Sidoarjo | E8: Antena Asset | H8: ='IRR Approved'!F13 -> 209 | K8: Interest rate /year | M8: ='IRR Approved'!$F$4 -> 0.1
B9: Type of building | D9: Mall | E9: Jumlah Pole Makro | H9: 1 (@6m) | K9: Kurs 1USD | M9: 0
B10: Status | D10: renewal | K10: Total Revenue | M10: ='IRR Approved'!$R$27 -> 1092000000
B11: Total floor | D11: 4 | K11: Total Capex DAS | M11: ='IRR Approved'!$R$13 -> 2.7202104e+08
B12: No of building tower | D12: 1 | E12: OPENET | K12: Total Capex CME | M12: ='IRR Approved'!$R$14 -> 0
E13: Cable FO (Core) | H13: 0 | K13: Total COGS Rent | M13: ='IRR Approved'!$R$30 -> 260000000
E14: Cable FO (meter) | H14: 0 | K14: Total COGS Other | M14: ='IRR Approved'!$R$31+'IRR Approved'!$R$32+'IRR Approved'!$R$33 -> 364480000
K15: IRR | M15: ='IRR Approved'!$F$51 -> 0.1086787
E16: Drop Wire (meter) | H16: 0 | K16: NPV | M16: ='IRR Approved'!$F$52 -> 7684721
E17: OTHERS | K17: EBITDA margin | M17: ='IRR Approved'!$F$53 -> 0.42813187
K18: Payback (year) | M18: ='IRR Approved'!$F$54 -> 3.2838094
B20: Target to Achieve by Commercial: | L20: Prepared by
B21: Revenue | L21: Citra K.
B22: Cost
B24: Note
B26: Approved by

Sheet IRR Approved
B1: No | C1: =Summary!D1 -> 0031/03/IRR/IBC/XII/2023 | R1: =Summary!$D$6 -> Sun City Madiun
B2: General Asumption | I2: Join year | L2: % inc (dec)
C3: Tax Rate | F3: 0.02 | J3: Rev/month - TSEL | K3: =H22/12 -> 22750000 | L3: 0.15
C4: Interest Rate | F4: 0.1 | J4: Rev/month - XL | K4: =H23/12 -> 0 | L4: 0.15
C5: SG&A | F5: 0.05 | G5: Increase every year | J5: Rev/month - IOH | K5: =(H25+H24)/12 -> 0 | L5: 0.15
C6: BHPUSO | F6: 0 | G6: from Revenues | J6: Rev/month - SF
C7: Price Adjustment after 5 year | F7: 0.15
C8: Capex per antenna | F8: 7000000
C9: Migrasi per operator | F9: 150000000
G11: Y0 | H11: Y1 | I11: Y2 | J11: Y3 | K11: Y4 | L11: Y5 | M11: Y6 | N11: Y7 | O11: Y8 | P11: Y9 | Q11: Y10 | R11: Total
B12: CAPEX
B13: Total CAPEX | E13: DAS | F13: 209 | G13: 2.7202104e+08 | H13: 0 | I13: 0 | J13: 0 | R13: =SUM(G13:Q13) -> 2.7202104e+08
E14: BTS migrasi | F14: =3*0 -> 0 | I14: =$F$9*0 -> 0 | J14: =$F$9*0 -> 0 | K14: =$F$9*0 -> 0 | R14: =SUM(G14:Q14) -> 0
B17: IRR Calculation | G17: Year 0 | H17: 2024 | I17: =H17+1 -> 2025 | J17: =I17+1 -> 2026 | K17: =J17+1 -> 2027 | L17: =K17+1 -> 2028 | M17: =L17+1 -> 2029 | N17: =M17+1 -> 2030 | O17: =N17+1 -> 2031 | P17: =O17+1 -> 2032 | Q17: =P17+1 -> 2033 | R17: Total
B18: Months of Service | G18: 12 | H18: 12 | I18: 12 | J18: 12 | K18: 12 | L18: 12 | M18: 12 | N18: 12 | O18: 12 | P18: 12 | Q18: 12
B19: % increase (decrease) | M19: 0.1
B21: Revenues
C22: Telkomsel | H22: 273000000 | I22: =H22 -> 273000000 | J22: =I22 -> 273000000 | K22: =J22 -> 273000000 | L22: =K22*0 -> 0 | M22: =$K$3*0 -> 0 | N22: =$K$3*(1-$L$3)*0 -> 0 | O22: =$K$3*(1-$L$3)*0 -> 0 | P22: =$K$3*(1-$L$3)*0 -> 0 | Q22: =$K$3*(1-$L$3)*0 -> 0 | R22: =SUM($G22:Q22) -> 1092000000
C23: XL | I23: =H23 -> 0 | J23: =I23 -> 0 | K23: =J23 -> 0 | L23: =K23 -> 0 | M23: =$K$4*0 -> 0 | N23: =$K$4*0 -> 0 | O23: =$K$4*0 -> 0 | P23: =$K$4*(1-$L$4)*0 -> 0 | Q23: =$K$4*(1-$L$4)*0 -> 0 | R23: =SUM($G23:Q23) -> 0
C24: IOH-Makro | R24: =SUM($G24:Q24) -> 0
C25: IOH | M25: =$K$5*0 -> 0 | N25: =$K$5*0 -> 0 | O25: =$K$5*(1-$L$5)*0 -> 0 | P25: =$K$5*(1-$L$5)*0 -> 0 | Q25: =$K$5*(1-$L$5)*0 -> 0 | R25: =SUM($G25:Q25) -> 0
C26: Smartfren | R26: =SUM($G26:Q26) -> 0
B27: Total Revenues | G27: =SUM(G22:G26) -> 0 | H27: =SUM(H22:H26) -> 273000000 | I27: =SUM(I22:I26) -> 273000000 | J27: =SUM(J22:J26) -> 273000000 | K27: =SUM(K22:K26) -> 273000000 | L27: =SUM(L22:L26) -> 0 | M27: =SUM(M22:M26) -> 0 | N27: =SUM(N22:N26) -> 0 | ... R27: =SUM(R22:R26) -> 1092000000 | S27: =SUM(G27:Q27)-R27 -> 0
B29: OPEX
C30: Lease to BM | H30: 260000000 | M30: =800000000*10%*0 -> 0 | N30: =800000000*30%*0 -> 0 | O30: =800000000*20%*0 -> 0 | P30: =O30 -> 0 | Q30: =P30 -> 0 | R30: =SUM($G30:Q30) -> 260000000
C31: Electricity | H31: =PARAMETER!B50 -> 48000000 | I31: =H31 -> 48000000 | J31: =I31 -> 48000000 | K31: =J31 -> 48000000 | L31: =K31*0 -> 0 | M31: =200000000*0.5*0 -> 0 | N31: =200000000*0.5*0 -> 0 | O31: =200000000*0.5*0 -> 0 | P31: =200000000*0.5*0 -> 0 | Q31: =200000000*0.5*0 -> 0 | R31: =SUM($G31:Q31) -> 192000000
C32: Maintenance | G32: =IF(G22>0,COUNTIF(G22:G26,">0")*7000000, IF(G23>0,COUNTIF(G22:G26,">0")*7000000, IF(G25>0,COUNTIF(G22:G26,">0")*7000000, IF(G26>0,COUNTIF(G22:G26,">0")*7000000,0)))) -> 0 | H32: =PARAMETER!K24+PARAMETER!B33+PARAMETER!B41 -> 29470000 | I32: =H32 -> 29470000 | J32: =I32 -> 29470000 | K32: =J32 -> 29470000 | L32: =K32*0 -> 0 | M32: =IF(N22>0,COUNTIF(M22:M26,">0")*7000000, IF(M23>0,COUNTIF(M22:M26,">0")*7000000, IF(O25>0,COUNTIF(M22:M26,">0")*7000000, IF(M26>0,COUNTIF(M22:M26,">0")*7000000,0)))) -> 0 | N32: =IF(O22>0,COUNTIF(N22:N26,">0")*7000000, IF(N23>0,COUNTIF(N22:N26,">0")*7000000, IF(P25>0,COUNTIF(N22:N26,">0")*7000000, IF(N26>0,COUNTIF(N22:N26,">0")*7000000,0)))) -> 0 | O32: =IF(P22>0,COUNTIF(O22:O26,">0")*7000000, IF(O23>0,COUNTIF(O22:O26,">0")*7000000, IF(Q25>0,COUNTIF(O22:O26,">0")*7000000, IF(O26>0,COUNTIF(O22:O26,">0")*7000000,0)))) -> 0 | P32: =IF(P22>0,COUNTIF(P22:P26,">0")*7000000, IF(P23>0,COUNTIF(P22:P26,">0")*7000000, IF(P25>0,COUNTIF(P22:P26,">0")*7000000, IF(P26>0,COUNTIF(P22:P26,">0")*7000000,0)))) -> 0 | Q32: =IF(Q22>0,COUNTIF(Q22:Q26,">0")*7000000, IF(Q23>0,COUNTIF(Q22:Q26,">0")*7000000, IF(Q25>0,COUNTIF(Q22:Q26,">0")*7000000, IF(Q26>0,COUNTIF(Q22:Q26,">0")*7000000,0)))) -> 0 | R32: =SUM($G32:Q32) -> 117880000
C33: SG&A (inhouse resources) | F33: =H33/K27 -> 0.05 | G33: =$F$5*G27 -> 0 | H33: =H27*$F$5 -> 13650000 | I33: =I27*$F$5 -> 13650000 | J33: =J27*$F$5 -> 13650000 | K33: =K27*$F$5 -> 13650000 | L33: =L27*$F$5 -> 0 | M33: =PARAMETER!G10*0 -> 0 | N33: =PARAMETER!H10*0 -> 0 | O33: =PARAMETER!I10*0 -> 0 | P33: =PARAMETER!J10*0 -> 0 | Q33: =PARAMETER!K10*0 -> 0 | R33: =SUM($G33:Q33) -> 54600000
B34: Total OPEX | G34: =SUM(G30:G33) -> 0 | H34: =SUM(H30:H33) -> 351120000 | I34: =SUM(I30:I33) -> 91120000 | J34: =SUM(J30:J33) -> 91120000 | K34: =SUM(K30:K33) -> 91120000 | L34: =SUM(L30:L33) -> 0 | M34: =SUM(M30:M33) -> 0 | N34: =SUM(N30:N33) -> 0 | ... R34: =SUM(R30:R33) -> 624480000 | S34: =SUM(G34:Q34)-R34 -> 0
B35: Total EBITDA | G35: =G27-G34 -> 0 | H35: =H27-H34 -> -78120000 | I35: =I27-I34 -> 181880000 | J35: =J27-J34 -> 181880000 | K35: =K27-K34 -> 181880000 | L35: =L27-L34 -> 0 | M35: =M27-M34 -> 0 | N35: =N27-N34 -> 0 | ... R35: =R27-R34 -> 467520000 | S35: =SUM(G35:Q35)-R35 -> 0
B36: Ebitda margin | H36: =H35/H27 -> -0.28615385 | I36: =I35/I27 -> 0.66622711 | J36: =J35/J27 -> 0.66622711 | K36: =K35/K27 -> 0.66622711 | L36: =L35/L27 -> #DIV/0! | M36: =M35/M27 -> #DIV/0! | N36: =N35/N27 -> #DIV/0! | O36: =O35/O27 -> #DIV/0! | ... R36: =R35/R27 -> 0.42813187
B38: Depreciation Expense | H38: =H68 -> 68005260 | I38: =I68 -> 68005260 | J38: =J68 -> 68005260 | K38: =K68 -> 68005260 | L38: =L68*0 -> 0 | M38: =M68*0 -> 0 | N38: =N68*0 -> 0 | O38: =O68*0 -> 0 | P38: =P68*0 -> 0 | Q38: =Q68*0 -> 0 | R38: =SUM($G38:Q38) -> 2.7202104e+08
B39: Total EBIT | G39: =G35-G38 -> 0 | H39: =H35-H38 -> -1.4612526e+08 | I39: =I35-I38 -> 1.1387474e+08 | J39: =J35-J38 -> 1.1387474e+08 | K39: =K35-K38 -> 1.1387474e+08 | L39: =L35-L38 -> 0 | M39: =M35-M38 -> 0 | N39: =N35-N38 -> 0 | ... R39: =R35-R38 -> 1.9549896e+08 | S39: =SUM(G39:Q39)-R39 -> 0
B40: Interest Expense | H40: =PARAMETER!B$5 -> 13601052 | I40: =PARAMETER!C$5 -> 24481894 | J40: =PARAMETER!D$5 -> 19041473 | K40: =PARAMETER!E$5 -> 13601052 | L40: =PARAMETER!F$5*0 -> 0 | M40: =PARAMETER!G$5*0 -> 0 | R40: =SUM($G40:Q40) -> 70725470
B41: EBT | G41: =G39-G40 -> 0 | H41: =H39-H40 -> -1.5972631e+08 | I41: =I39-I40 -> 89392847 | J41: =J39-J40 -> 94833267 | K41: =K39-K40 -> 1.0027369e+08 | L41: =L39-L40 -> 0 | M41: =M39-M40 -> 0 | N41: =N39-N40 -> 0 | ... Q41: =Q39-Q40 -> 0 | R41: =SUM($G41:Q41) -> 1.2477349e+08 | S41: =SUM(G41:Q41)-R41 -> 0
B42: Tax Expense | G42: =IF(G41<0,0,G41*$F$3) -> 0 | H42: =IF(H41<0,0,H41*$F$3) -> 0 | I42: =IF(I41<0,0,I41*$F$3) -> 1787856.9 | J42: =IF(J41<0,0,J41*$F$3) -> 1896665.3 | K42: =IF(K41<0,0,K41*$F$3) -> 2005473.8 | L42: =IF(L41<0,0,L41*$F$3) -> 0 | M42: =IF(M41<0,0,M41*$F$3) -> 0 | N42: =IF(N41<0,0,N41*$F$3) -> 0 | ... Q42: =IF(Q41<0,0,Q41*$F$3) -> 0 | R42: =SUM($G42:Q42) -> 5689996
B43: Net Income | G43: =G41-G42 -> 0 | H43: =H41-H42 -> -1.5972631e+08 | I43: =I41-I42 -> 87604990 | J43: =J41-J42 -> 92936602 | K43: =K41-K42 -> 98268214 | L43: =L41-L42 -> 0 | M43: =M41-M42 -> 0 | N43: =N41-N42 -> 0 | ... R43: =R41-R42 -> 1.1908349e+08 | S43: =SUM(G43:Q43)-R43 -> 0
B45: Capex | G45: =-G13+-G14 -> -2.7202104e+08 | H45: =-H14 -> 0 | I45: =-I14 -> 0 | J45: =-J14 -> 0 | K45: =-K14 -> 0 | L45: =-L14 -> 0 | M45: =-M14 -> 0 | N45: =-N14 -> 0 | O45: =-O14 -> 0 | ... Q45: =-Q14 -> 0 | R45: =SUM($G$45:Q45) -> -2.7202104e+08
B46: FCFF | G46: =G45+G43+G38 -> -2.7202104e+08 | H46: =H45+H43+H38 -> -91721052 | I46: =I45+I43+I38 -> 1.5561025e+08 | J46: =J45+J43+J38 -> 1.6094186e+08 | K46: =K45+K43+K38 -> 1.6627347e+08 | L46: =L45+L43+L38 -> 0 | M46: =M45+M43+M38 -> 0 | N46: =N45+N43+N38 -> 0 | ... Q46: =Q45+Q43+Q38 -> 0 | R46: =SUM($G$46:Q46) -> 1.1908349e+08
B47: Accumulated FCF | G47: =F47+G46 -> -2.7202104e+08 | H47: =G47+H46 -> -3.6374209e+08 | I47: =H47+I46 -> -2.0813184e+08 | J47: =I47+J46 -> -47189980 | K47: =J47+K46 -> 1.1908349e+08 | L47: =(K47+L46)*0 -> 0 | M47: =(L47+M46)*0 -> 0 | N47: =M47+N46 -> 0 | O47: =N47+O46 -> 0 | P47: =O47+P46 -> 0 | Q47: =P47+Q46 -> 0
...

Sheet PARAMETER
B1: Year 1 | C1: Year 2 | D1: Year 3 | E1: Year 4 | F1: Year 5 | G1: Year 6 | H1: Year 7 | I1: Year 8 | J1: Year 9 | K1: Year 10
A2: loan | B2: =SUM('IRR Approved'!G13:K14) -> 2.7202104e+08 | C2: =$B$2-$B$4 -> 2.1761683e+08 | D2: =$C$2-$B$4 -> 1.6321262e+08 | E2: =$D$2-$B$4 -> 1.0880842e+08 | F2: =$E$2-$B$4 -> 54404208 | G2: =$F$2-$B$4 -> 0 | H2: =$G$2-$B$4 -> -54404208 | I2: =$H$2-$B$4 -> -1.0880842e+08 | J2: =$I$2-$B$4 -> -1.6321262e+08 | K2: =$J$2-$B$4 -> -2.1761683e+08
A3: Period (thn) | B3: 5
A4: Installment/thn | B4: =$B$2/$B$3 -> 54404208
A5: Interest | B5: =(($B$2*'IRR Approved'!$F$4)*6)/12 -> 13601052 | C5: =AVERAGE($B$2:$C$2)*'IRR Approved'!$F$4 -> 24481894 | D5: =AVERAGE($C$2:$D$2)*'IRR Approved'!$F$4 -> 19041473 | E5: =AVERAGE($D$2:$E$2)*'IRR Approved'!$F$4 -> 13601052 | F5: =AVERAGE($E$2:$F$2)*'IRR Approved'!$F$4 -> 8160631.2 | G5: =AVERAGE($F$2:$G$2)*'IRR Approved'!$F$4 -> 2720210.4 | H5: =AVERAGE($G$2:$H$2)*'IRR Approved'!$F$4 -> -2720210.4 | I5: =AVERAGE($H$2:$I$2)*'IRR Approved'!$F$4 -> -8160631.2 | J5: =AVERAGE($I$2:$J$2)*'IRR Approved'!$F$4 -> -13601052 | K5: =AVERAGE($J$2:$K$2)*'IRR Approved'!$F$4 -> -19041473
A10: SG&A | B10: 50000000 | C10: =B10+C11 -> 51000000 | D10: =C10+D12 -> 52020000 | E10: =D10+E12 -> 53060400 | F10: =E10+F12 -> 54121608 | G10: =F10+G12 -> 55204040 | H10: =G10+H12 -> 56308121 | I10: =H10+I12 -> 57434283 | J10: =I10+J12 -> 58582969 | K10: =J10+K12 -> 59754628
A11: 0.02 | C11: =C12 -> 1000000 | D11: =C11+D12 -> 2020000 | E11: =D11+E12 -> 3060400 | F11: =E11+F12 -> 4121608 | G11: =F11+G12 -> 5204040.2 | H11: =G11+H12 -> 6308121 | I11: =H11+I12 -> 7434283.4 | J11: =I11+J12 -> 8582969.1 | K11: =J11+K12 -> 9754628.4
C12: =B10*$A$11 -> 1000000 | D12: =C10*$A$11 -> 1020000 | E12: =D10*$A$11 -> 1040400 | F12: =E10*$A$11 -> 1061208 | G12: =F10*$A$11 -> 1082432.2 | H12: =G10*$A$11 -> 1104080.8 | I12: =H10*$A$11 -> 1126162.4 | J12: =I10*$A$11 -> 1148685.7 | K12: =J10*$A$11 -> 1171659.4
F17: person | G17: trip | H17: kamar | I17: Days by Omni | J17: Biaya walktest inhouse/visit | K17: Biaya walktest inhouse/thn
E18: Diisikan | F18: 2 | G18: 1 | H18: 1 | I18: ='IRR Approved'!F13 -> 209
B19: Transport | C19: Pesawat | D19: 2000000 | E19: person | F19: =F18 -> 2 | J19: =F19*D19 -> 4000000
C20: Bandara | D20: 600000 | E20: person | F20: =F18 -> 2 | I20: =IF($I$18<=120,2,IF($I$18>220,4,3)) -> 3 | J20: =D20*F20 -> 1200000
C21: Transport | D21: 200000 | E21: Trip | G21: =G18 -> 1 | J21: =G21*D21 -> 200000
B22: Hotel | C22: Hotel | D22: 450000 | E22: kamar | F22: =F18 -> 2 | H22: =H18 -> 1 | I22: =IF($I$18<=120,2,IF($I$18>220,4,3)) -> 3 | J22: =H22*D22*I22 -> 1350000
B23: Uang Saku | C23: Uang Saku | D23: 120000 | E23: person | F23: =F18 -> 2 | I23: =IF($I$18<=120,2,IF($I$18>220,4,3)) -> 3 | J23: =I23*D23*F23 -> 720000
J24: =SUM(J19:J23) -> 7470000 | K24: =J24 -> 7470000
B28: PM/Year/Site | C28: Pesawat | E28: Asumsi:
A29: Sulut | B29: 16800000 | C29: 4000000 | E29: Walktest 4x dalam setahun semua operator sekaligus
A30: Makasar | C30: 3000000 | E30: Walktest pertama oleh vendor | I30: 10000000
A31: Bali | B31: 15600000 | C31: 2500000 | E31: Walktest pertama oleh vendor | H31: Pekanbaru | I31: 12000000
A32: Jatim | B32: 15000000 | C32: 2000000 | E32: Walktest pertama oleh vendor | H32: Sumut | I32: 14000000
A33: Jateng | B33: 15000000 | C33: 1850000 | E33: Walktest pertama oleh vendor | H33: Sulsel | I33: 14000000
A34: Jabar | B34: 12000000 | C34: 1200000 | E34: Walktest pertama oleh vendor | H34: Sulut | I34: 17000000
A35: Kalimantan | B35: 16800000 | C35: 2000000 | E35: Walktest pertama oleh vendor | H35: Kalimantan | I35: 14000000
A36: Sumatera | B36: 15720000 | C36: 3500000
A37: Palembang | C37: 2800000
A38: Jabodetabek | B38: 0 | C38: 0 | D38: Inhouse
B40: CM /Year/Oprt
B41: 7000000 | D41: =B41/12 -> 583333.33
A46: LISTRIK
A47: Listrik/Oprt/year DAS+1Pole 3sektor
A48: 0-100 | B48: 36000000
A49: 101-200 | B49: 42000000
A50: 201- | B50: 48000000 | C50: =B50/12 -> 4000000
A52: Listrik/Oprt/year DAS+2Pole 6sektor
A53: 0-200 | B53: 75000000
A54: 201- | B54: 95000000

Sheet SummaryBR
D1: SUMMARY REVIEW
A3: Nama Site | D3: : Sun City Madiun
A4: Nama Pemilik | D4: : PT. Indraco
A5: Alamat Pemilik | D5: : Jl. Raya Candi No.67 Sidoarjo
A6: Telp | D6: : 031-8921982
A7: Obyek Sewa | D7: : 196 Omni + Unit Pole Antenna + RBS m²
A9: No. | B9: Keterangan | D9: Existing | E9: Renewal
A11: 1 | B11: Scope Of Lease | C11: IBC | D11: IBC | E11: IBC
A12: 2 | B12: Obyek Sewa | C12: =D7 -> : 196 Omni + Unit Pole Antenna + RBS m² | D12: =D7 -> : 196 Omni + Unit Pole Antenna + RBS m² | E12: =D7 -> : 196 Omni + Unit Pole Antenna + RBS m²
A13: 3 | B13: Periode Sewa | C13: 19 Juli 2021 s/d 18 Juli 2022 (1 tahun ) | D13: 19 Juli 2022 sampai gedung mulai renovasi(kontrak terakhir s/d 31 Desember 2023) | E13: 01 Januari 2024 s/d 31 Desember 2027
A14: 4 | B14: Harga Sewa | C14: Rp.50.000.000/Tahun | D14: Rp. 5.000.000/bulan, Rp.60.000.000/tahun | E14: Rp. 60.000.000/tahun (untuk tahun ke 1&2) Rp.70.000.000/tahun (untuk tahun ke 3&4)
A15: 6 | B15: Operator Join | C15: Telkomsel (19 Juli 2016 s/d 18 Juli 2021) | D15: Telkomsel (19 Juli 2021 s/d gedung mulai renovasi) | E15: Telkomsel (19 Juli 2022 s/d 18 Juli 2027)on process renewal Rp.273.000.000/th
A16: 7 | B16: Kenaikan/ Penurunan Harga | C16: kenaikan 8,3%

Sheet Book Value
B2: 2015 | C2: 2016 | D2: 2017 | E2: 2018 | F2: 2019 | G2: 2020 | H2: 2021 | I2: 2022 | J2: 2023 | K2: 2024 | L2: 2025 | M2: 2026
A3: DAS | B3: =314452190 -> 314452190 | C3: 1270616000 | D3: 82740431 | I3: 0 | J3: 0 | K3: 0 | L3: =294097543*0 -> 0 | M3: 0
A4: BTS | C4: 220663120 | I4: 0 | J4: 0 | K4: 0 | L4: 0 | M4: 0
A6: DAS | B6: =(B3/10)*(2023-B2) -> 251561752 | C6: =(C3/10)*(2023-C2) -> 889431200 | D6: =(D3/10)*(2023-D2) -> 49644259 | E6: =(E3/10)*(2023-E2) -> 0 | F6: =(F3/10)*(2023-F2) -> 0 | G6: =(G3/10)*(2023-G2) -> 0 | H6: =(H3/10)*(2023-H2) -> 0 | I6: =(I3/10)*(2023-I2) -> 0 | ... M6: =(M3/10)*(2023-M2) -> 0
A7: BTS | B7: =(B4/10)*(2023-B2) -> 0 | C7: =(C4/10)*(2023-C2) -> 154464184 | D7: =(D4/10)*(2023-D2) -> 0 | E7: =(E4/10)*(2023-E2) -> 0 | F7: =(F4/10)*(2023-F2) -> 0 | G7: =(G4/10)*(2023-G2) -> 0 | H7: =(H4/10)*(2023-H2) -> 0 | I7: =(I4/10)*(2023-I2) -> 0 | ... M7: =(M4/10)*(2023-M2) -> 0
A9: DAS | B9: =B3-B6 -> 62890438 | C9: =C3-C6 -> 381184800 | D9: =D3-D6 -> 33096172 | E9: =E3-E6 -> 0 | F9: =F3-F6 -> 0 | G9: =G3-G6 -> 0 | H9: =H3-H6 -> 0 | I9: =I3-I6 -> 0 | ... K9: =K3-K6 -> 0 | L9: =(L3-L6) -> 0 | M9: =M3-M6 -> 0
A10: BTS | B10: =B4-B7 -> 0 | C10: =C4-C7 -> 66198936 | D10: =D4-D7 -> 0 | E10: =E4-E7 -> 0 | F10: =F4-F7 -> 0 | G10: =G4-G7 -> 0 | H10: =H4-H7 -> 0 | I10: =I4-I7 -> 0 | ... M10: =M4-M7 -> 0
B13: 2.7202104e+08 | C13: Real Book Value 31Des2023

Sheet Analisa (2)
A2: Site Sun City Madiun
A3: Periode | B3: Start | C3: End
A4: Rev Tsel | B4: 44761 | C4: 46586
A5: Sewa BM | B5: 45292 | C5: 46752
B7: Start | C7: End | D7: Days
A8: Worse >> Jika Sewa BM diperpanjang dan Tsel sesuai periode eksisting operator
A9: Rev Tsel | B9: =B5 -> 45292 | C9: 46586 | D9: =C9-B9 -> 1294 | E9: 273000000 | F9: =E9/365*D9 -> 9.678411e+08
A10: Sewa BM | B10: =B5 -> 45292 | C10: 46752 | D10: =C10-B10 -> 1460 | E10: 65000000 | F10: =-E10/365*D10 -> -260000000
A11: Listrik | B11: =B5 -> 45292 | C11: 46586 | D11: =C11-B11 -> 1294 | E11: 48000000 | F11: =-E11/365*D11 -> -1.7016986e+08
A12: OM | B12: =B5 -> 45292 | C12: 46586 | D12: =C12-B12 -> 1294 | E12: 29470000 | F12: =-E12/365*D12 -> -1.0447721e+08
A13: Antisipasi Add Capex and Pole | E13: 100000000
A14: Profit | F14: =SUM(F9:F13) -> 4.3319403e+08
