Workbook
Name _AAL2: '[2]AAL2 Site List - All'!$A$2:$B$134
Name _ISP2: [3]install!$I$6
Name _ISP3: [3]install!$I$7
Name _OSP1: [3]install!$I$8
Name _OSP2: [3]install!$I$9
Name _Regression_Int: 1
Name _sek1: 1.108
Name _sek2: 1.1
Name _sek3: 1.1
Name _sm10: [4]Input!$BA$90
Name _sm11: [4]Input!$BF$90
Name _sm12: [4]Input!$BK$90
Name _sm13: [4]Input!$BP$90
Name _sm14: [4]Input!$BU$90
Name _sm15: [4]Input!$BZ$90
Name _sm16: [4]Input!$CE$90
Name _sm17: [4]Input!$CJ$90
Name _sm18: [4]Input!$CO$90
Name _sm19: [4]Input!$CT$90
Name _sm2: [4]Input!$M$90
Name _sm20: [4]Input!$CY$90
Name _sm3: [4]Input!$R$90
Name _sm4: [4]Input!$W$90
Name _sm5: [4]Input!$AB$90
Name _sm6: [4]Input!$AG$90
Name _sm7: [4]Input!$AL$90
Name _sm8: [4]Input!$AQ$90
Name _sm9: [4]Input!$AV$90
Name _SUB1: [3]para!$G$65
Name _SUB10: [3]para!$G$74
Name _SUB12: [3]para!$G$76
Name _SUB13: [3]para!$G$77
Name _SUB15: [3]para!$G$79
Name _SUB2: [3]para!$G$66
Name _SUB3: [3]para!$G$67
Name _SUB4: [3]para!$G$68
Name _SUB5: [3]para!$G$69
Name _SUB6: [3]para!$G$70
Name _SUB8: [3]para!$G$72
Name _SUB9: [3]para!$G$73
Name _Syn1: [4]Input!$H$91
Name _Syn10: [4]Input!$BA$91
Name _Syn11: [4]Input!$BF$91
Name _Syn12: [4]Input!$BK$91
Name _Syn13: [4]Input!$BP$91
Name _Syn14: [4]Input!$BU$91
Name _Syn15: [4]Input!$BZ$91
Name _Syn16: [4]Input!$CE$91
Name _Syn17: [4]Input!$CJ$91
Name _Syn18: [4]Input!$CO$91
Name _Syn19: [4]Input!$CT$91
Name _Syn2: [4]Input!$M$91
Name _Syn20: [4]Input!$CY$91
Name _Syn3: [4]Input!$R$91
Name _Syn4: [4]Input!$W$91
Name _Syn5: [4]Input!$AB$91
Name _Syn6: [4]Input!$AG$91
Name _Syn7: [4]Input!$AL$91
Name _Syn8: [4]Input!$AQ$91
Name _Syn9: [4]Input!$AV$91

Sheet Harga Jual
B1: Asumsi Harga Jual
B2: Tahun | C2: 2014
C3: Harga Jual/antenna/bulan
A4: No | B4: Operator | C4: =C2 -> 2014 | D4: =C4+1 -> 2015 | E4: =D4+1 -> 2016 | F4: =E4+1 -> 2017 | G4: =F4+1 -> 2018
A5: 1 | B5: TSEL
A6: 2 | B6: ISAT
A7: 3 | B7: XL
A8: 4 | B8: HCPT
A9: 5 | B9: FM
A10: 6 | B10: SMARTFREN
A11: 7 | B11: AXIS
A12: 8 | B12: FLEXI
A13: 9 | B13: ESIA

Sheet COST 
B1: Komponen Biaya
B2: Nama Gedung
B3: Alamat
B4: Jenis Gedung
B5: Region
B6: Tanggal diterbitkan IRR
B7: Masa Sewa
B10: CAPEX | C10: 2014
A11: 1 | B11: SITAC
B12: Sewa Lahan
B13: Biaya koordinasi/Operation
B14: Biaya Agensi
A16: 2 | B16: ASSET
B17: NON OPERATOR
B18: DAS & CME
A19: 0.1 | B19: Lain-lain | C19: =A19*C18 -> 0
B21: OPERATOR JOIN/MIGRASI
B22: BTS INDOOR
A23: 1 | B23: TSEL
A24: 2 | B24: ISAT
A25: 3 | B25: XL
A26: 4 | B26: HCPT
A27: 5 | B27: FM
A28: 6 | B28: SMARTFREN
A29: 7 | B29: AXIS
A30: 8 | B30: FLEXI
A31: 9 | B31: ESIA
B33: BTS OUTDOOR
A34: 1 | B34: TSEL
A35: 2 | B35: ISAT
A36: 3 | B36: XL
A37: 4 | B37: HCPT
A38: 5 | B38: FM
A39: 6 | B39: SMARTFREN
A40: 7 | B40: AXIS
A41: 8 | B41: FLEXI
A42: 9 | B42: ESIA
B45: OPEX
A46: I | B46: Listrik
A47: 1 | B47: TSEL
...

Sheet contoh IRR existing
C1: BUILDING INFORMATION SUMMARY
C2: BUILDING NAME | E2: MEDAN CENTER POINT (REVISI)
C3: TYPE BUILDING | E3: OFFICE
C4: AREA | E4: MEDAN CENTER POINT (REVISI)
C5: STATUS | E5: NEW BUILDING
E6: 41632 | G6: (REVISI)
C7: EXIST. OPERATOR
C8: EXP. DATE
C10: INDEX PARAMETER | J10: TECHNICAL SUMMARY
C11: ITEM | E11: AMOUNT | G11: REMARKS | J11: ITEM | L11: QTY | N11: REMARKS
C12: ELECTRICITY | E12: 2500000 | G12: per month | J12: DAS MOS | L12: =L13+L14 -> 198 | N12: antenna
C13: MAINTENANCE | E13: 0.025 | G13: per year | J13: EXISTING DAS | L13: 0 | N13: antenna
C14: INFLATION | E14: 0.1 | G14: per year | J14: ADD ANTENNA | L14: 198 | N14: antenna
C15: INTEREST | E15: 0.12 | G15: per year | J15: COMBINER | L15: 3 | N15: unit
C17: INDEX PARAMETER OPEX | J17: INDEX PARAMETER CAPEX
C18: ITEM | E18: DESCRIPTION | J18: ITEM | L18: DESCRIPTION | N18: DESCRIPTION
C19: RENT TO BM | E19: 1500000000 | G19: lumpsum 5 Year | J19: DAS | L19: 8000000 | N19: per antenna
C20: RENT TO BM PER OPR | G20: 4 | H20: Opr | J20: COMBINER | L20: =[75]SUM2!$C$54 -> 35000000 | N20: per unit
C21: TOP Yearly (Lumpsum) | G21: per year | J21: COMBINER ROOM | L21: 170000000 | N21: Combiner Room
C22: TOP Termin (Lumpsum) | E22: =E19 -> 1500000000 | G22: Lumpsump | J22: ME Outdoor XL | L22: 50000000 | N22: per unit
C23: Y1 | D23: 0.15 | E23: =E22*D23 -> 225000000 | G23: Y1 | J23: ME Outdoor INTERNUX | L23: 60000000 | N23: per unit
C24: Y2 | D24: 0.85 | E24: =D24*E22 -> 1275000000 | G24: Y2 | J24: ME Outdoor HCPT | L24: 60000000 | N24: per unit
E25: =D25*E22 -> 0 | J25: ME Outdoor TSEL | L25: 67500000 | N25: per unit
C26: BM FEE | E26: 50000000 | G26: lumpsum | J26: ME Outdoor ISAT | L26: =L25 -> 67500000 | N26: per unit
C27: SITAC OUTSOURCE | J27: ME Indoor Flexi | L27: 135000000 | N27: per unit
A29: FALSE | B29: FALSE | C29: OPERATOR JOIN
A30: FALSE | B30: FALSE | C30: OPERATOR | E30: 2013 | F30: 2014
A32: FALSE | B32: FALSE | C32: SMARTFREN | E32: 0 | F32: 0
A33: FALSE | B33: FALSE | C33: TELKOMSEL | E33: 0 | F33: 1
C34: INDOSAT | E34: 0 | F34: 1
C35: XL | E35: 0 | F35: 1
C36: INTERNUX | E36: 0 | F36: 0
C37: HCPT | E37: 0 | F37: 1 | G37: =IF(F37=1,0,1) -> 0
C38: FLEXI | E38: 0 | F38: 0 | G38: =IF(F38=1,0,1) -> 1
C39: ESIA | E39: 0 | F39: 0 | G39: =IF(F39=1,0,1) -> 1
C40: TOTAL OPR JOINT | E40: =E32+E33+E34+E35+E36+E37+E38+E39 -> 0 | F40: =F32+F33+F34+F35+F36+F37+F38+F39 -> 4
C41: ME OUTDOOR | E41: =E33+E35+E36+E37+E39 -> 0 | F41: =F33+F35+F36+F37+F39 -> 3
C42: ME INDOOR | E42: =E32+E34+E38 -> 0 | F42: =F32+F34+F38 -> 1
C44: SELLING PRICE
C45: OPERATOR | E45: per Antenna | G45: per Month | L45: IRR (5Thn) | N45: NFC
...

Sheet Commercial
A1: MASTER DATA
A2: HARGA JUAL
A3: 2014
B5: No | C5: Operator | D5: Jumlah Antena Min | E5: Jumlah Antena Max | F5: Size | G5: S/M/L | H5: 2014 | I5: =H5+1 -> 2015 | J5: =I5+1 -> 2016 | K5: =J5+1 -> 2017 | L5: =K5+1 -> 2018 | M5: =L5+1 -> 2019
B6: 1 | C6: TSEL | D6: 50 | E6: 100 | F6: Small | G6: S
B7: 2 | C7: ISAT | D7: 50 | E7: 100 | F7: Small | G7: S
B8: 3 | C8: XL | D8: 50 | E8: 100 | F8: Small | G8: S
B9: 4 | C9: HCPT | D9: 50 | E9: 100 | F9: Small | G9: S
B10: 5 | C10: FM | D10: 50 | E10: 100 | F10: Small | G10: S
B11: 6 | C11: SMARTFREN | D11: 50 | E11: 100 | F11: Small | G11: S
B12: 7 | C12: AXIS | D12: 50 | E12: 100 | F12: Small | G12: S
B13: 8 | C13: FLEXI | D13: 50 | E13: 100 | F13: Small | G13: S
B14: 9 | C14: ESIA | D14: 50 | E14: 100 | F14: Small | G14: S
B15: 1 | C15: TSEL | D15: 101 | E15: 200 | F15: Medium | G15: M
B16: 2 | C16: ISAT | D16: 101 | E16: 200 | F16: Medium | G16: M
B17: 3 | C17: XL | D17: 101 | E17: 200 | F17: Medium | G17: M
... B23: 9 | C23: ESIA | D23: 101 | E23: 200 | F23: Medium | G23: M
B24: 1 | C24: TSEL | D24: >200 | F24: Large | G24: L
B25: 2 | C25: ISAT | D25: >200 | F25: Large | G25: L
B26: 3 | C26: XL | D26: >200 | F26: Large | G26: L
B27: 4 | C27: HCPT | D27: >200 | F27: Large | G27: L
B28: 5 | C28: FM | D28: >200 | F28: Large | G28: L
B29: 6 | C29: SMARTFREN | D29: >200 | F29: Large | G29: L
B30: 7 | C30: AXIS | D30: >200 | F30: Large | G30: L
B31: 8 | C31: FLEXI | D31: >200 | F31: Large | G31: L
B32: 9 | C32: ESIA | D32: >200 | F32: Large | G32: L

Sheet  price scheme antena
A1: No | B1: Operator | C1: Jumlah Antena | D1: Price Scheme /Month/Titik antenna | E1: Price Scheme/Jumlah antenna | F1: Remarks
A2: 1 | B2: TSEL | C2: < 39 | E2: NA
A3: 2 | C3: 40-60 | E3: 13000000 | F3: 50 | G3: =E3/F3 -> 260000
A4: 3 | C4: 61-80 | E4: 14500000 | F4: 70 | G4: =E4/F4 -> 207142.86 | H4: 210000
A5: 4 | C5: 81-100 | E5: 16000000 | F5: 90 | G5: =E5/F5 -> 177777.78 | H5: 180000
A6: 5 | C6: 101-120 | E6: 18000000 | F6: 110 | G6: =E6/F6 -> 163636.36 | H6: 165000
A7: 6 | C7: 121-140 | E7: 20000000 | F7: 130 | G7: =E7/F7 -> 153846.15 | H7: 155000
A8: 7 | C8: 141-160 | E8: 22000000 | F8: 150 | G8: =E8/F8 -> 146666.67 | H8: 150000
A9: 8 | C9: 161-180 | E9: 24000000 | F9: 170 | G9: =E9/F9 -> 141176.47 | H9: 145000
A10: 9 | C10: 181-200 | E10: 26000000 | F10: 190 | G10: =E10/F10 -> 136842.11 | H10: 140000
A11: 10 | C11: > 200 | E11: 28000000 | F11: 210 | G11: =E11/F11 -> 133333.33 | H11: 135000
A13: 1 | B13: XL | C13: < 39 | D13: 300000
A14: 2 | C14: 40-69 | D14: 240000
A15: 3 | C15: 70-99 | D15: 200000
A16: 4 | C16: 100-149 | D16: 185000
A17: 5 | C17: 150-199 | D17: 150000
A18: 6 | C18: 200 - 249 | D18: 140000
A19: 7 | C19: 250 - 299 | D19: 130000
A20: 8 | C20: 300 - 349 | D20: 125000
A21: 9 | C21: 350-399 | D21: 120000
A22: 10 | C22: > 400 | D22: 110000
A24: 1 | B24: INDOSAT | C24: < 39 | D24: =300000*0.9 -> 270000 | F24: Price scheme ISAT based on 10% from XL RAN (Radio Access Network) Sharing
A25: 2 | C25: 40-69 | D25: =240000*0.9 -> 216000 | H25: =D25*50 -> 10800000 | I25: =H25*12 -> 129600000
A26: 3 | C26: 70-99 | D26: =200000*0.9 -> 180000 | I26: =I25/2 -> 64800000
A27: 4 | C27: 100-149 | D27: =185000*0.9 -> 166500
A28: 5 | C28: 150-199 | D28: =150000*0.9 -> 135000
A29: 6 | C29: 200 - 249 | D29: =140000*0.9 -> 126000
A30: 7 | C30: 250 - 299 | D30: =130000*0.9 -> 117000
A31: 8 | C31: 300 - 349 | D31: =125000*0.9 -> 112500
A32: 9 | C32: 350-399 | D32: =120000*0.9 -> 108000
A33: 10 | C33: > 400 | D33: =110000*0.9 -> 99000
A35: 1 | B35: HCPT | C35: < 100 | D35: 150000
A36: 2 | C36: > 100 | D36: 150000
A37: 3 | C37: > 200 | D37: 130000
A38: 4 | C38: > 300 | D38: 85000
A39: 5 | C39: bulk price | D39: 150000 | F39: * Berlaku untuk skema harga bundling gedung * Pada kondisi tertentu,syarat dan ketentuan berlaku
A41: 1 | B41: INTERNUX | C41: < 39 | D41: =300000*0.9 -> 270000
A42: 2 | C42: 40-69 | D42: =240000*0.9 -> 216000
A43: 3 | C43: 70-99 | D43: =200000*0.9 -> 180000
A44: 4 | C44: 100-149 | D44: =185000*0.9 -> 166500
...

Sheet IRR 5th
G1: FOR TRIAL ONLY
B2: INTERNAL RATE OF RETURN (IRR) | P2: No IRR :
B5: Nama Bangunan | E5: : | F5: Green Lake View Ciputat | N5: Jumlah Lantai : | O5: 4
B6: Alamat | E6: : | F6: Jl. R.A. Kartini No.26, Kejaksaan – Cirebon, Jawa Barat | BB6: TSEL | BC6: ISAT | BD6: XL | BE6: HCPT | BF6: FM | BG6: SMARTFREN | BH6: AXIS | BI6: FLEXI | BJ6: ESIA
B7: Lokasi Bangunan | E7: : | F7: Jawa Barat | AC7: Lokasi Bangunan | AD7: Type Bangunan | AE7: Status | AF7: Tanggal | AG7: Bulan | AH7: Tahun | AI7: Status IRR | AJ7: Operator Join | AK7: Masa Sewa | AL7: persentase | AM7: persentase pembayran | AQ7: No | AR7: Operator | AS7: =I10 -> 2019 | AT7: =AS7+1 -> 2020 | AU7: =AT7+1 -> 2021 | AV7: =AU7+1 -> 2022 | AW7: =AV7+1 -> 2023 | AX7: =AW7+1 -> 2024
B8: Type Bangunan | E8: : | F8: Mall | J8: =VLOOKUP(Q16,BA8:BK758,11,FALSE) -> L | K8: Masa Sewa : | M8: 5 | N8: Tahun | AC8: Jabodetabek | AD8: Mall | AE8: Bangunan Baru | AF8: 1 | AG8: Januari | AH8: 2008 | AI8: Baru | AQ8: 1 | AR8: TSEL | AS8: =E21*$Q$16*E33*60 -> 3442800000 | AT8: =F21*$Q$16*F33*60 -> 0 | AU8: =G21*$Q$16*G33*60 -> 0 | AV8: =H21*$Q$16*H33*60 -> 0 | AW8: =I21*$Q$16*I33*60 -> 0 | AX8: =J21*$Q$16*J33*60 -> 0 | BA8: 1 | BB8: N/A | BC8: 270000 | BD8: 300000 | BE8: 150000 | BF8: 270000 | BK8: S
B9: Status | E9: : | F9: Bangunan Lama | AC9: Jawa Tengah | AD9: Superblok | AE9: Bangunan Lama | AF9: 2 | AG9: Februari | AH9: 2009 | AI9: Revisi I | AJ9: 1 | AK9: 1 | AL9: 0.05 | AM9: 0.05 | AQ9: 2 | AR9: ISAT | AS9: =E22*$Q$16*E34*60 -> 0 | AT9: =F22*$Q$16*F34*60 -> 2718000000 | AU9: =G22*$Q$16*G34*60 -> 0 | AV9: =H22*$Q$16*H34*60 -> 0 | AW9: =I22*$Q$16*I34*60 -> 0 | AX9: =J22*$Q$16*J34*60 -> 0 | BA9: 2 | BB9: N/A | BC9: 270000 | BD9: 300000 | BE9: 150000 | BF9: 270000 | BK9: S
B10: Tanggal | E10: : | G10: Juni | I10: 2019 | AC10: Jawa Timur | AD10: Rumah Sakit | AF10: 3 | AG10: Maret | AH10: 2010 | AI10: Revisi II | AK10: 3 | AL10: 0.1 | AM10: 0.1 | AQ10: 3 | AR10: XL | AS10: =E23*$Q$16*E35*60 -> 2.1571429e+09 | AT10: =F23*$Q$16*F35*60 -> 0 | AU10: =G23*$Q$16*G35*60 -> 0 | AV10: =H23*$Q$16*H35*60 -> 0 | AW10: =I23*$Q$16*I35*60 -> 0 | AX10: =J23*$Q$16*J35*60 -> 0 | BA10: 3 | BB10: N/A | BC10: 270000 | BD10: 300000 | BE10: 150000 | BF10: 270000 | BK10: S
B11: Status IRR | E11: : | F11: Baru | AC11: Jawa Barat | AD11: Rusunami | AF11: 4 | AG11: April | AH11: 2011 | AI11: Revisi III | AK11: 5 | AM11: 0.15 | AQ11: 4 | AR11: HCPT | AS11: =E24*$Q$16*E36*60 -> 0 | AT11: =F24*$Q$16*F36*60 -> 0 | AU11: =G24*$Q$16*G36*60 -> 0 | AV11: =H24*$Q$16*H36*60 -> 0 | AW11: =I24*$Q$16*I36*60 -> 0 | AX11: =J24*$Q$16*J36*60 -> 0 | BA11: 4 | BB11: N/A | BC11: 270000 | BD11: 300000 | BE11: 150000 | BF11: 270000 | BK11: S
L12: SUMMARY | AC12: Kalimantan | AD12: Office | AF12: 5 | AG12: Mei | AH12: 2012 | AK12: 10 | AM12: 0.2 | AQ12: 5 | AR12: FM | AS12: =E25*$Q$16*E37*60 -> 0 | AT12: =F25*$Q$16*F37*60 -> 0 | AU12: =G25*$Q$16*G37*60 -> 0 | AV12: =H25*$Q$16*H37*60 -> 0 | AW12: =I25*$Q$16*I37*60 -> 0 | AX12: =J25*$Q$16*J37*60 -> 0 | BA12: 5 | BB12: N/A | BC12: 270000 | BD12: 300000 | BE12: 150000 | BF12: 270000 | BK12: S
B13: Parameter umum | AC13: Sumatra | AD13: Universitas | AF13: 6 | AG13: Juni | AH13: 2013 | AM13: 0.25 | AQ13: 6 | AR13: SMARTFREN | AS13: =E26*$Q$16*E38*60 -> 0 | AT13: =F26*$Q$16*F38*60 -> 0 | AU13: =G26*$Q$16*G38*60 -> 0 | AV13: =H26*$Q$16*H38*60 -> 0 | AW13: =I26*$Q$16*I38*60 -> 0 | AX13: =J26*$Q$16*J38*60 -> 0 | BA13: 6 | BB13: N/A | BC13: 270000 | BD13: 300000 | BE13: 150000 | BF13: 270000 | BK13: S
B14: Tingkat bunga Deposito | E14: : | F14: 0.075 | G14: /tahun | AC14: Sulawesi | AD14: Hotel | AF14: 7 | AG14: Juli | AH14: 2014 | AM14: 0.3 | AQ14: 7 | AR14: AXIS | AS14: =E27*$Q$16*E39*60 -> 0 | AT14: =F27*$Q$16*F39*60 -> 0 | AU14: =G27*$Q$16*G39*60 -> 0 | AV14: =H27*$Q$16*H39*60 -> 0 | AW14: =I27*$Q$16*I39*60 -> 0 | AX14: =J27*$Q$16*J39*60 -> 0 | BA14: 7 | BB14: N/A | BC14: 270000 | BD14: 300000 | BE14: 150000 | BF14: 270000 | BK14: S
B15: Discount Rate | E15: : | F15: 0.15 | M15: Perkiraan Umum | AC15: Bali/Lombok | AD15: Traditional Market | AF15: 8 | AG15: Agustus | AH15: 2015 | AM15: 0.35 | AQ15: 8 | AR15: FLEXI | AS15: =E28*$Q$16*E40*60 -> 0 | AT15: =F28*$Q$16*F40*60 -> 0 | AU15: =G28*$Q$16*G40*60 -> 0 | AV15: =H28*$Q$16*H40*60 -> 0 | AW15: =I28*$Q$16*I40*60 -> 0 | AX15: =J28*$Q$16*J40*60 -> 0 | BA15: 8 | BB15: N/A | BC15: 270000 | BD15: 300000 | BE15: 150000 | BF15: 270000 | BK15: S
B16: Tingkat bunga Pinjaman | E16: : | F16: 0.125 | G16: /tahun | M16: Jumlah Antena | P16: : | Q16: 302 | R16: Unit | AC16: Ind Bg Tim | AD16: Apartement | AF16: 9 | AG16: September | AH16: 2016 | AM16: 0.4 | AQ16: 9 | AR16: ESIA | AS16: =E29*$Q$16*E41*60 -> 0 | AT16: =F29*$Q$16*F41*60 -> 0 | AU16: =G29*$Q$16*G41*60 -> 0 | AV16: =H29*$Q$16*H41*60 -> 0 | AW16: =I29*$Q$16*I41*60 -> 0 | AX16: =J29*$Q$16*J41*60 -> 0 | BA16: 9 | BB16: N/A | BC16: 270000 | BD16: 300000 | BE16: 150000 | BF16: 270000 | BK16: S
B17: Kurs | E17: : | F17: 15000 | G17: / USD 1 | M17: Nilai DAS per Antenna | P17: : | Q17: 8500000 | R17: Per Ant. | AD17: Entertaint Area | AF17: 10 | AG17: Oktober | AH17: 2017 | AM17: 0.45 | BA17: 10 | BB17: N/A | BC17: 270000 | BD17: 300000 | BE17: 150000 | BF17: 270000 | BK17: S
M18: Jumlah Pole Makro | P18: : | R18: Unit | AF18: 11 | AG18: November | AH18: 2018 | AM18: 0.5 | AQ18: No | AR18: Operator | AS18: =AS7 -> 2019 | AT18: =AS18+1 -> 2020 | AU18: =AT18+1 -> 2021 | AV18: =AU18+1 -> 2022 | AW18: =AV18+1 -> 2023 | AX18: =AW18+1 -> 2024 | BA18: 11 | BB18: N/A | BC18: 270000 | BD18: 300000 | BE18: 150000 | BF18: 270000 | BK18: S
B19: Parameter Harga Jual/antena/bulan | M19: Pendapatan dari operator | P19: : | Q19: =K55 -> 7.7743429e+09 | AF19: 12 | AG19: Desember | AH19: 2019 | AM19: 0.55 | AQ19: 1 | AR19: TSEL | AS19: =IF(AS8>1,AS8/5,0) -> 688560000 | AT19: =IF(AS19>1,AS19,AT8/5) -> 688560000 | AU19: =IF(AT19>1,AT19,AU8/5) -> 688560000 | AV19: =IF(AU19>1,AU19,AV8/5) -> 688560000 | AW19: =IF(AV19>1,AV19,AW8/5) -> 688560000 | AX19: =IF(AW19>1,AW19,AX8/5) -> 688560000 | BA19: 12 | BB19: N/A | BC19: 270000 | BD19: 300000 | BE19: 150000 | BF19: 270000 | BK19: S
C20: No | D20: Operator | E20: =I10 -> 2019 | F20: =E20+1 -> 2020 | G20: =F20+1 -> 2021 | H20: =G20+1 -> 2022 | I20: =H20+1 -> 2023 | J20: =I20+1 -> 2024 | M20: Pembelian Aset Tetap | P20: : | Q20: =-K61-K62 -> -3017000000 | AF20: 13 | AH20: 2020 | AM20: 0.6 | AQ20: 2 | AR20: ISAT | AS20: =IF(AS9>1,AS9/5,0) -> 0 | AT20: =IF(AS20>1,AS20,AT9/5) -> 543600000 | AU20: =IF(AT20>1,AT20,AU9/5) -> 543600000 | AV20: =IF(AU20>1,AU20,AV9/5) -> 543600000 | AW20: =IF(AV20>1,AV20,AW9/5) -> 543600000 | AX20: =IF(AW20>1,AW20,AX9/5) -> 543600000 | BA20: 13 | BB20: N/A | BC20: 270000 | BD20: 300000 | BE20: 150000 | BF20: 270000 | BK20: S
C21: 1 | D21: TSEL | E21: 190000 | F21: =E21 -> 190000 | G21: =F21 -> 190000 | H21: =G21 -> 190000 | I21: =H21 -> 190000 | J21: =I21 -> 190000 | M21: Biaya Sewa | P21: : | Q21: =-K58-K59-K60 -> -250000000 | AF21: 14 | AH21: 2021 | AM21: 0.65 | AQ21: 3 | AR21: XL | AS21: =IF(AS10>1,AS10/5,0) -> 4.3142857e+08 | AT21: =IF(AS21>1,AS21,AT10/5) -> 4.3142857e+08 | AU21: =IF(AT21>1,AT21,AU10/5) -> 4.3142857e+08 | AV21: =IF(AU21>1,AU21,AV10/5) -> 4.3142857e+08 | AW21: =IF(AV21>1,AV21,AW10/5) -> 4.3142857e+08 | AX21: =IF(AW21>1,AW21,AX10/5) -> 4.3142857e+08 | BA21: 14 | BB21: N/A | BC21: 270000 | BD21: 300000 | BE21: 150000 | BF21: 270000 | BK21: S
C22: 2 | D22: ISAT | E22: 150000 | F22: =E22 -> 150000 | G22: =F22 -> 150000 | H22: =G22 -> 150000 | I22: =H22 -> 150000 | J22: =I22 -> 150000 | M22: Biaya Operasional | P22: : | Q22: =-K63-K64-K65 -> -770845000 | AF22: 15 | AH22: 2022 | AM22: 0.7 | AQ22: 4 | AR22: HCPT | AS22: =IF(AS11>1,AS11/5,0) -> 0 | AT22: =IF(AS22>1,AS22,AT11/5) -> 0 | AU22: =IF(AT22>1,AT22,AU11/5) -> 0 | AV22: =IF(AU22>1,AU22,AV11/5) -> 0 | AW22: =IF(AV22>1,AV22,AW11/5) -> 0 | AX22: =IF(AW22>1,AW22,AX11/5) -> 0 | BA22: 15 | BB22: N/A | BC22: 270000 | BD22: 300000 | BE22: 150000 | BF22: 270000 | BK22: S
C23: 3 | D23: XL | E23: 119047.62 | F23: =E23 -> 119047.62 | G23: =F23 -> 119047.62 | H23: =G23 -> 119047.62 | I23: =H23 -> 119047.62 | J23: =I23 -> 119047.62 | M23: Pendapatan Bunga (Biaya Bunga) | P23: : | Q23: =K72 -> 15778589 | AF23: 16 | AH23: 2023 | AM23: 0.75 | AQ23: 5 | AR23: FM | AS23: =IF(AS12>1,AS12/5,0) -> 0 | AT23: =IF(AS23>1,AS23,AT12/5) -> 0 | AU23: =IF(AT23>1,AT23,AU12/5) -> 0 | AV23: =IF(AU23>1,AU23,AV12/5) -> 0 | AW23: =IF(AV23>1,AV23,AW12/5) -> 0 | AX23: =IF(AW23>1,AW23,AX12/5) -> 0 | BA23: 16 | BB23: N/A | BC23: 270000 | BD23: 300000 | BE23: 150000 | BF23: 270000 | BK23: S
C24: 4 | D24: HCPT | E24: 130000 | F24: =E24 -> 130000 | G24: =F24 -> 130000 | H24: =G24 -> 130000 | I24: =H24 -> 130000 | J24: =I24 -> 130000 | N24: Arus Kas Bersih (dalam 6 tahun) | Q24: =SUM(Q19:Q23) -> 3.7522764e+09 | AF24: 17 | AH24: 2024 | AM24: 0.8 | AQ24: 6 | AR24: SMARTFREN | AS24: =IF(AS13>1,AS13/5,0) -> 0 | AT24: =IF(AS24>1,AS24,AT13/5) -> 0 | AU24: =IF(AT24>1,AT24,AU13/5) -> 0 | AV24: =IF(AU24>1,AU24,AV13/5) -> 0 | AW24: =IF(AV24>1,AV24,AW13/5) -> 0 | AX24: =IF(AW24>1,AW24,AX13/5) -> 0 | BA24: 17 | BB24: N/A | BC24: 270000 | BD24: 300000 | BE24: 150000 | BF24: 270000 | BK24: S
C25: Rev. | D25: Makro | AF25: 18 | AH25: 2025 | AM25: 0.85 | AQ25: 7 | AR25: AXIS | AS25: =IF(AS14>1,AS14/5,0) -> 0 | AT25: =IF(AS25>1,AS25,AT14/5) -> 0 | AU25: =IF(AT25>1,AT25,AU14/5) -> 0 | AV25: =IF(AU25>1,AU25,AV14/5) -> 0 | AW25: =IF(AV25>1,AV25,AW14/5) -> 0 | AX25: =IF(AW25>1,AW25,AX14/5) -> 0 | BA25: 18 | BB25: N/A | BC25: 270000 | BD25: 300000 | BE25: 150000 | BF25: 270000 | BK25: S
C26: 1 | D26: TSEL | M26: NPV | P26: : | Q26: =NPV(F14,E73:J73) -> 2.1298516e+09 | AF26: 19 | AM26: 0.9 | AQ26: 8 | AR26: FLEXI | AS26: =IF(AS15>1,AS15/5,0) -> 0 | AT26: =IF(AS26>1,AS26,AT15/5) -> 0 | AU26: =IF(AT26>1,AT26,AU15/5) -> 0 | AV26: =IF(AU26>1,AU26,AV15/5) -> 0 | AW26: =IF(AV26>1,AV26,AW15/5) -> 0 | AX26: =IF(AW26>1,AW26,AX15/5) -> 0 | BA26: 19 | BB26: N/A | BC26: 270000 | BD26: 300000 | BE26: 150000 | BF26: 270000 | BK26: S
C27: 2 | D27: ISAT | M27: IRR | P27: : | Q27: =N68 -> 0.28628752 | AF27: 20 | AM27: 0.95 | AQ27: 9 | AR27: ESIA | AS27: =IF(AS16>1,AS16/5,0) -> 0 | AT27: =IF(AS27>1,AS27,AT16/5) -> 0 | AU27: =IF(AT27>1,AT27,AU16/5) -> 0 | AV27: =IF(AU27>1,AU27,AV16/5) -> 0 | AW27: =IF(AV27>1,AV27,AW16/5) -> 0 | AX27: =IF(AW27>1,AW27,AX16/5) -> 0 | BA27: 20 | BB27: N/A | BC27: 270000 | BD27: 300000 | BE27: 150000 | BF27: 270000 | BK27: S
C28: 3 | D28: XL | L28: =MATCH(TRUE,E75:J75,0) -> 4 | M28: Payback periode | P28: : | Q28: =(L28-1+OFFSET(E73,0,L28)/OFFSET(E67,0,L28))*12 -> 46.165216 | R28: Bulan atau | AF28: 21 | AM28: 1 | BA28: 21 | BB28: N/A | BC28: 270000 | BD28: 300000 | BE28: 150000 | BF28: 270000 | BK28: S
C29: 4 | D29: HCPT | Q29: =Q28/12 -> 3.8471014 | R29: Tahun | AF29: 22 | BA29: 22 | BB29: N/A | BC29: 270000 | BD29: 300000 | BE29: 150000 | BF29: 270000 | BK29: S
AF30: 23 | BA30: 23 | BB30: N/A | BC30: 270000 | BD30: 300000 | BE30: 150000 | BF30: 270000 | BK30: S
B31: Operator Join | AF31: 24 | BA31: 24 | BB31: N/A | BC31: 270000 | BD31: 300000 | BE31: 150000 | BF31: 270000 | BK31: S
C32: No | D32: Operator | E32: =E20 -> 2019 | F32: =E32+1 -> 2020 | G32: =F32+1 -> 2021 | H32: =G32+1 -> 2022 | I32: =H32+1 -> 2023 | J32: =I32+1 -> 2024 | M32: Parameter Harga untuk OPEX | Q32: Parameter Harga untuk CAPEX | AF32: 25 | BA32: 25 | BB32: N/A | BC32: 270000 | BD32: 300000 | BE32: 150000 | BF32: 270000 | BK32: S
B33: =SUM(E33:J33) -> 1 | C33: 1 | D33: TSEL | E33: 1 | K33: =IF(B33>1,"Salah","Benar") -> Benar | M33: 1 | N33: Listrik | O33: Jumlah | Q33: No | R33: Keterangan | S33: =E20 -> 2019 | T33: Keterangan | AF33: 26 | BA33: 26 | BB33: N/A | BC33: 270000 | BD33: 300000 | BE33: 150000 | BF33: 270000 | BK33: S
B34: =SUM(E34:J34) -> 1 | C34: 2 | D34: ISAT | F34: 1 | K34: =IF(B34>1,"Salah","Benar") -> Benar | N34: - TSEL | O34: =IF($Q$16<100,36000000,IF($Q$16>200,48000000,42000000)) -> 48000000 | P34: per Tahun | Q34: 1 | R34: SITAC | AF34: 27 | BA34: 27 | BB34: N/A | BC34: 270000 | BD34: 300000 | BE34: 150000 | BF34: 270000 | BK34: S
B35: =SUM(E35:J35) -> 1 | C35: 3 | D35: XL | E35: 1 | K35: =IF(B35>1,"Salah","Benar") -> Benar | N35: - ISAT | O35: =IF($Q$16<100,36000000,IF($Q$16>200,48000000,42000000)) -> 48000000 | P35: per Tahun | Q35: =J8&F8&F7 -> LMallJawa Barat | R35: - Sewa Lahan | S35: 45000000 | T35: per tahun | AF35: 28 | BA35: 28 | BB35: N/A | BC35: 270000 | BD35: 300000 | BE35: 150000 | BF35: 270000 | BK35: S
B36: =SUM(E36:J36) -> 0 | C36: 4 | D36: HCPT | K36: =IF(B36>1,"Salah","Benar") -> Benar | N36: - XL | P36: per Tahun | R36: - Biaya Koordinasi | T36: per bangunan | AF36: 29 | BA36: 29 | BB36: N/A | BC36: 270000 | BD36: 300000 | BE36: 150000 | BF36: 270000 | BK36: S
B37: =SUM(E37:J37) -> 0 | C37: Rev. | D37: Makro | K37: =IF(B37>1,"Salah","Benar") -> Benar | N37: - HCPT | P37: per Tahun | R37: - Biaya Agensi | T37: per bangunan | AF37: 30 | BA37: 30 | BB37: N/A | BC37: 270000 | BD37: 300000 | BE37: 150000 | BF37: 270000 | BK37: S
B38: =SUM(E38:J38) -> 0 | C38: 1 | D38: TSEL | K38: =IF(B38>1,"Salah","Benar") -> Benar | N38: - FM | P38: per Tahun | AF38: 31 | BA38: 31 | BB38: N/A | BC38: 270000 | BD38: 300000 | BE38: 150000 | BF38: 270000 | BK38: S
B39: =SUM(E39:J39) -> 0 | C39: 2 | D39: ISAT | K39: =IF(B39>1,"Salah","Benar") -> Benar | N39: - SMARTFREN | P39: per Tahun | Q39: 2 | R39: ASSET (non Op) | BA39: 32 | BB39: N/A | BC39: 270000 | BD39: 300000 | BE39: 150000 | BF39: 270000 | BK39: S
B40: =SUM(E40:J40) -> 0 | C40: 3 | D40: XL | K40: =IF(B40>1,"Salah","Benar") -> Benar | N40: - AXIS | P40: per Tahun | R40: - DAS (all in) | S40: =Q17*Q16 -> 2567000000 | T40: Sesuai BOQ | BA40: 33 | BB40: N/A | BC40: 270000 | BD40: 300000 | BE40: 150000 | BF40: 270000 | BK40: S
B41: =SUM(E41:J41) -> 0 | C41: 4 | D41: HCPT | K41: =IF(B41>1,"Salah","Benar") -> Benar | N41: - FLEXI | P41: per Tahun | BA41: 34 | BB41: N/A | BC41: 270000 | BD41: 300000 | BE41: 150000 | BF41: 270000 | BK41: S
E42: =SUM(E33:E41) -> 2 | F42: =E42+SUM(F33:F41) -> 3 | G42: =F42+SUM(G33:G41) -> 3 | H42: =G42+SUM(H33:H41) -> 3 | I42: =H42+SUM(I33:I41) -> 3 | J42: =I42+SUM(J33:J41) -> 3 | K42: =SUM(E42:J42) -> 17 | N42: - ESIA | P42: per Tahun | BA42: 35 | BB42: N/A | BC42: 270000 | BD42: 300000 | BE42: 150000 | BF42: 270000 | BK42: S
...

Sheet IRR 11th
B2: INTERNAL RATE OF RETURN (IRR) | M2: No IRR :
B5: Nama Bangunan | D5: : | E5: Green Lake View Ciputat | M5: Jumlah Lantai :
B6: Alamat | D6: : | BG6: TSEL | BH6: ISAT | BI6: XL | BJ6: HCPT | BK6: FM | BL6: SMARTFREN | BM6: AXIS | BN6: FLEXI | BO6: ESIA
B7: Lokasi Bangunan | D7: : | AC7: Lokasi Bangunan | AD7: Type Bangunan | AE7: Status | AF7: Tanggal | AG7: Bulan | AH7: Tahun | AI7: Status IRR | AJ7: Operator Join | AK7: Masa Sewa | AL7: persentase | AM7: persentase pembayaran | AQ7: No | AR7: Operator | AS7: =H10 -> 2016 | AT7: =AS7+1 -> 2017 | AU7: =AT7+1 -> 2018 | AV7: =AU7+1 -> 2019 | AW7: =AV7+1 -> 2020 | AX7: =AW7+1 -> 2021 | AY7: =AX7+1 -> 2022 | AZ7: =AY7+1 -> 2023 | BA7: =AZ7+1 -> 2024 | ... BC7: =BB7+1 -> 2026
B8: Type Bangunan | D8: : | I8: =VLOOKUP(P16,AZ8:BJ758,11,FALSE) -> #N/A | J8: Masa Sewa : | L8: 10 | M8: Tahun | AC8: Jabodetabek | AD8: Mall | AE8: Bangunan Baru | AF8: 1 | AG8: Januari | AH8: 2008 | AI8: Baru | AQ8: 1 | AR8: TSEL | AS8: =E43*$P$16*E55*120 -> 0 | AT8: =F43*$P$16*F55*120 -> 0 | AU8: =G43*$P$16*G55*120 -> 0 | AV8: =H43*$P$16*H55*120 -> 0 | AW8: =I43*$P$16*I55*120 -> 0 | AX8: =J43*$P$16*J55*120 -> 0 | AY8: =K43*$P$16*K55*120 -> 0 | AZ8: =L43*$P$16*L55*120 -> 0 | ... BC8: =O43*$P$16*O55*120 -> 0 | BF8: 1 | BG8: N/A | BH8: 270000 | BI8: 300000 | BJ8: 150000 | BK8: 270000 | BP8: S
B9: Status | D9: : | AC9: Jawa Tengah | AD9: Superblok | AE9: Bangunan Lama | AF9: 2 | AG9: Februari | AH9: 2009 | AI9: Revisi I | AJ9: 1 | AK9: 1 | AL9: 0.05 | AM9: 0.05 | AQ9: 2 | AR9: ISAT | AS9: =E44*$P$16*E56*120 -> 0 | AT9: =F44*$P$16*F56*120 -> 0 | AU9: =G44*$P$16*G56*120 -> 0 | AV9: =H44*$P$16*H56*120 -> 0 | AW9: =I44*$P$16*I56*120 -> 0 | AX9: =J44*$P$16*J56*120 -> 0 | AY9: =K44*$P$16*K56*120 -> 0 | AZ9: =L44*$P$16*L56*120 -> 0 | ... BC9: =O44*$P$16*O56*120 -> 0 | BF9: 2 | BG9: N/A | BH9: 270000 | BI9: 300000 | BJ9: 150000 | BK9: 270000 | BP9: S
B10: Tanggal | D10: : | F10: Februari | H10: 2016 | AC10: Jawa Timur | AD10: Rumah Sakit | AF10: 3 | AG10: Maret | AH10: 2010 | AI10: Revisi II | AK10: 3 | AL10: 0.1 | AM10: 0.1 | AQ10: 3 | AR10: XL | AS10: =E45*$P$16*E57*120 -> 0 | AT10: =F45*$P$16*F57*120 -> 0 | AU10: =G45*$P$16*G57*120 -> 0 | AV10: =H45*$P$16*H57*120 -> 0 | AW10: =I45*$P$16*I57*120 -> 0 | AX10: =J45*$P$16*J57*120 -> 0 | AY10: =K45*$P$16*K57*120 -> 0 | AZ10: =L45*$P$16*L57*120 -> 0 | ... BC10: =O45*$P$16*O57*120 -> 0 | BF10: 3 | BG10: N/A | BH10: 270000 | BI10: 300000 | BJ10: 150000 | BK10: 270000 | BP10: S
B11: Status IRR | D11: : | E11: Baru | AC11: Jawa Barat | AD11: Rusunami | AF11: 4 | AG11: April | AH11: 2011 | AI11: Revisi III | AK11: 5 | AM11: 0.15 | AQ11: 4 | AR11: HCPT | AS11: =E46*$P$16*E58*120 -> 0 | AT11: =F46*$P$16*F58*120 -> 0 | AU11: =G46*$P$16*G58*120 -> 0 | AV11: =H46*$P$16*H58*120 -> 0 | AW11: =I46*$P$16*I58*120 -> 0 | AX11: =J46*$P$16*J58*120 -> 0 | AY11: =K46*$P$16*K58*120 -> 0 | AZ11: =L46*$P$16*L58*120 -> 0 | ... BC11: =O46*$P$16*O58*120 -> 0 | BF11: 4 | BG11: N/A | BH11: 270000 | BI11: 300000 | BJ11: 150000 | BK11: 270000 | BP11: S
K12: SUMMARY | AC12: Kalimantan | AD12: Office | AF12: 5 | AG12: Mei | AH12: 2012 | AK12: 10 | AM12: 0.2 | AQ12: 5 | AR12: FM | AS12: =E47*$P$16*E59*120 -> 0 | AT12: =F47*$P$16*F59*120 -> 0 | AU12: =G47*$P$16*G59*120 -> 0 | AV12: =H47*$P$16*H59*120 -> 0 | AW12: =I47*$P$16*I59*120 -> 0 | AX12: =J47*$P$16*J59*120 -> 0 | AY12: =K47*$P$16*K59*120 -> 0 | AZ12: =L47*$P$16*L59*120 -> 0 | ... BC12: =O47*$P$16*O59*120 -> 0 | BF12: 5 | BG12: N/A | BH12: 270000 | BI12: 300000 | BJ12: 150000 | BK12: 270000 | BP12: S
B13: Parameter umum | AC13: Sumatra | AD13: Universitas | AF13: 6 | AG13: Juni | AH13: 2013 | AM13: 0.25 | AQ13: 6 | AR13: SMARTFREN | AS13: =E48*$P$16*E60*120 -> 0 | AT13: =F48*$P$16*F60*120 -> 0 | AU13: =G48*$P$16*G60*120 -> 0 | AV13: =H48*$P$16*H60*120 -> 0 | AW13: =I48*$P$16*I60*120 -> 0 | AX13: =J48*$P$16*J60*120 -> 0 | AY13: =K48*$P$16*K60*120 -> 0 | AZ13: =L48*$P$16*L60*120 -> 0 | ... BC13: =O48*$P$16*O60*120 -> 0 | BF13: 6 | BG13: N/A | BH13: 270000 | BI13: 300000 | BJ13: 150000 | BK13: 270000 | BP13: S
B14: Tingkat bunga Deposito | E14: : | F14: 0.06 | G14: /tahun | AC14: Sulawesi | AD14: Hotel | AF14: 7 | AG14: Juli | AH14: 2014 | AM14: 0.3 | AQ14: 7 | AR14: AXIS | AS14: =E49*$P$16*E61*120 -> 0 | AT14: =F49*$P$16*F61*120 -> 0 | AU14: =G49*$P$16*G61*120 -> 0 | AV14: =H49*$P$16*H61*120 -> 0 | AW14: =I49*$P$16*I61*120 -> 0 | AX14: =J49*$P$16*J61*120 -> 0 | AY14: =K49*$P$16*K61*120 -> 0 | AZ14: =L49*$P$16*L61*120 -> 0 | ... BC14: =O49*$P$16*O61*120 -> 0 | BF14: 7 | BG14: N/A | BH14: 270000 | BI14: 300000 | BJ14: 150000 | BK14: 270000 | BP14: S
B15: Discount Rate | E15: : | F15: 0.15 | L15: Perkiraan Umum | AC15: Bali/Lombok | AD15: Traditional Market | AF15: 8 | AG15: Agustus | AH15: 2015 | AM15: 0.35 | AQ15: 8 | AR15: FLEXI | AS15: =E50*$P$16*E62*120 -> 0 | AT15: =F50*$P$16*F62*120 -> 0 | AU15: =G50*$P$16*G62*120 -> 0 | AV15: =H50*$P$16*H62*120 -> 0 | AW15: =I50*$P$16*I62*120 -> 0 | AX15: =J50*$P$16*J62*120 -> 0 | AY15: =K50*$P$16*K62*120 -> 0 | AZ15: =L50*$P$16*L62*120 -> 0 | ... BC15: =O50*$P$16*O62*120 -> 0 | BF15: 8 | BG15: N/A | BH15: 270000 | BI15: 300000 | BJ15: 150000 | BK15: 270000 | BP15: S
B16: Tingkat bunga Pinjaman | E16: : | F16: 0.125 | G16: /tahun | L16: Jumlah Antena | O16: : | P16: 302 | Q16: Antena | AC16: Ind Bg Tim | AD16: Apartement | AF16: 9 | AG16: September | AH16: 2016 | AM16: 0.4 | AQ16: 9 | AR16: ESIA | AS16: =E51*$P$16*E63*120 -> 0 | AT16: =F51*$P$16*F63*120 -> 0 | AU16: =G51*$P$16*G63*120 -> 0 | AV16: =H51*$P$16*H63*120 -> 0 | AW16: =I51*$P$16*I63*120 -> 0 | AX16: =J51*$P$16*J63*120 -> 0 | AY16: =K51*$P$16*K63*120 -> 0 | AZ16: =L51*$P$16*L63*120 -> 0 | ... BC16: =O51*$P$16*O63*120 -> 0 | BF16: 9 | BG16: N/A | BH16: 270000 | BI16: 300000 | BJ16: 150000 | BK16: 270000 | BP16: S
B17: Kurs | E17: : | F17: 15000 | G17: / USD 1 | L17: Nilai DAS per Antenna | O17: : | P17: 8500000 | Q17: Per Antenna | AD17: Entertaint Area | AF17: 10 | AG17: Oktober | AH17: 2017 | AM17: 0.45 | BF17: 10 | BG17: N/A | BH17: 270000 | BI17: 300000 | BJ17: 150000 | BK17: 270000 | BP17: S
AF18: 11 | AG18: November | AH18: 2018 | AM18: 0.5 | AQ18: No | AR18: Operator | AS18: =AS7 -> 2016 | AT18: =AS18+1 -> 2017 | AU18: =AT18+1 -> 2018 | AV18: =AU18+1 -> 2019 | AW18: =AV18+1 -> 2020 | AX18: =AW18+1 -> 2021 | AY18: =AX18+1 -> 2022 | AZ18: =AY18+1 -> 2023 | BA18: =AZ18+1 -> 2024 | ... BC18: =BB18+1 -> 2026 | BF18: 11 | BG18: N/A | BH18: 270000 | BI18: 300000 | BJ18: 150000 | BK18: 270000 | BP18: S
B19: Parameter Harga untuk OPEX | F19: Parameter Harga untuk CAPEX | L19: Pendapatan dari operator | O19: : | P19: =P76 -> 1050000000 | AF19: 12 | AG19: Desember | AH19: 2019 | AM19: 0.55 | AQ19: 1 | AR19: TSEL | AS19: =IF(AS8>1,AS8/10,0) -> 0 | AT19: =IF(AS19>1,AS19,AT8/10) -> 0 | AU19: =IF(AT19>1,AT19,AU8/10) -> 0 | AV19: =IF(AU19>1,AU19,AV8/10) -> 0 | AW19: =IF(AV19>1,AV19,AW8/10) -> 0 | AX19: =IF(AW19>1,AW19,AX8/10) -> 0 | AY19: =IF(AX19>1,AX19,AY8/10) -> 0 | AZ19: =IF(AY19>1,AY19,AZ8/10) -> 0 | BA19: =IF(AZ19>1,AZ19,BA8/10) -> 0 | ... BC19: =IF(BB19>1,BB19,BC8/10) -> 0 | BF19: 12 | BG19: N/A | BH19: 270000 | BI19: 300000 | BJ19: 150000 | BK19: 270000 | BP19: S
B20: 1 | C20: Listrik | D20: Jumlah | F20: No | G20: Keterangan | H20: =H10 -> 2016 | I20: Keterangan | L20: Pembelian Aset Tetap | O20: : | P20: =-P94-P95 -> -1752705873 | AF20: 13 | AH20: 2020 | AM20: 0.6 | AQ20: 2 | AR20: ISAT | AS20: =IF(AS9>1,AS9/10,0) -> 0 | AT20: =IF(AS20>1,AS20,AT9/10) -> 0 | AU20: =IF(AT20>1,AT20,AU9/10) -> 0 | AV20: =IF(AU20>1,AU20,AV9/10) -> 0 | AW20: =IF(AV20>1,AV20,AW9/10) -> 0 | AX20: =IF(AW20>1,AW20,AX9/10) -> 0 | AY20: =IF(AX20>1,AX20,AY9/10) -> 0 | AZ20: =IF(AY20>1,AY20,AZ9/10) -> 0 | BA20: =IF(AZ20>1,AZ20,BA9/10) -> 0 | ... BC20: =IF(BB20>1,BB20,BC9/10) -> 0 | BF20: 13 | BG20: N/A | BH20: 270000 | BI20: 300000 | BJ20: 150000 | BK20: 270000 | BP20: S
C21: - TSEL | D21: =IF($P$16<100,36000000,IF($P$16>200,48000000,42000000)) -> 48000000 | E21: per Tahun | F21: 1 | G21: SITAC | L21: Biaya Sewa | O21: : | P21: =-P91-P92-P93 -> -900000000 | AF21: 14 | AH21: 2021 | AM21: 0.65 | AQ21: 3 | AR21: XL | AS21: =IF(AS10>1,AS10/10,0) -> 0 | AT21: =IF(AS21>1,AS21,AT10/10) -> 0 | AU21: =IF(AT21>1,AT21,AU10/10) -> 0 | AV21: =IF(AU21>1,AU21,AV10/10) -> 0 | AW21: =IF(AV21>1,AV21,AW10/10) -> 0 | AX21: =IF(AW21>1,AW21,AX10/10) -> 0 | AY21: =IF(AX21>1,AX21,AY10/10) -> 0 | AZ21: =IF(AY21>1,AY21,AZ10/10) -> 0 | BA21: =IF(AZ21>1,AZ21,BA10/10) -> 0 | ... BC21: =IF(BB21>1,BB21,BC10/10) -> 0 | BF21: 14 | BG21: N/A | BH21: 270000 | BI21: 300000 | BJ21: 150000 | BK21: 270000 | BP21: S
C22: - ISAT | D22: =IF($P$16<100,36000000,IF($P$16>200,48000000,42000000)) -> 48000000 | E22: per Tahun | F22: =I8&E8&E7 -> #N/A | G22: - Sewa Lahan | H22: 180000000 | I22: per tahun | L22: Biaya Operasional | O22: : | P22: =-P96-P97-P98 -> -59000000 | AF22: 15 | AH22: 2022 | AM22: 0.7 | AQ22: 4 | AR22: HCPT | AS22: =IF(AS11>1,AS11/10,0) -> 0 | AT22: =IF(AS22>1,AS22,AT11/10) -> 0 | AU22: =IF(AT22>1,AT22,AU11/10) -> 0 | AV22: =IF(AU22>1,AU22,AV11/10) -> 0 | AW22: =IF(AV22>1,AV22,AW11/10) -> 0 | AX22: =IF(AW22>1,AW22,AX11/10) -> 0 | AY22: =IF(AX22>1,AX22,AY11/10) -> 0 | AZ22: =IF(AY22>1,AY22,AZ11/10) -> 0 | BA22: =IF(AZ22>1,AZ22,BA11/10) -> 0 | ... BC22: =IF(BB22>1,BB22,BC11/10) -> 0 | BF22: 15 | BG22: N/A | BH22: 270000 | BI22: 300000 | BJ22: 150000 | BK22: 270000 | BP22: S
C23: - XL | E23: per Tahun | G23: - Biaya Koordinasi | I23: per bangunan | L23: Pendapatan Bunga (Biaya Bunga) | O23: : | P23: =P106 -> -1.8550365e+09 | AF23: 16 | AH23: 2023 | AM23: 0.75 | AQ23: 5 | AR23: FM | AS23: =IF(AS12>1,AS12/10,0) -> 0 | AT23: =IF(AS23>1,AS23,AT12/10) -> 0 | AU23: =IF(AT23>1,AT23,AU12/10) -> 0 | AV23: =IF(AU23>1,AU23,AV12/10) -> 0 | AW23: =IF(AV23>1,AV23,AW12/10) -> 0 | AX23: =IF(AW23>1,AW23,AX12/10) -> 0 | AY23: =IF(AX23>1,AX23,AY12/10) -> 0 | AZ23: =IF(AY23>1,AY23,AZ12/10) -> 0 | BA23: =IF(AZ23>1,AZ23,BA12/10) -> 0 | ... BC23: =IF(BB23>1,BB23,BC12/10) -> 0 | BF23: 16 | BG23: N/A | BH23: 270000 | BI23: 300000 | BJ23: 150000 | BK23: 270000 | BP23: S
C24: - HCPT | E24: per Tahun | G24: - Biaya Agensi | I24: per bangunan | M24: Arus Kas Bersih (dalam 11 tahun) | P24: =SUM(P19:P23) -> -3516742329 | AF24: 17 | AH24: 2024 | AM24: 0.8 | AQ24: 6 | AR24: SMARTFREN | AS24: =IF(AS13>1,AS13/10,0) -> 0 | AT24: =IF(AS24>1,AS24,AT13/10) -> 0 | AU24: =IF(AT24>1,AT24,AU13/10) -> 0 | AV24: =IF(AU24>1,AU24,AV13/10) -> 0 | AW24: =IF(AV24>1,AV24,AW13/10) -> 0 | AX24: =IF(AW24>1,AW24,AX13/10) -> 0 | AY24: =IF(AX24>1,AX24,AY13/10) -> 0 | AZ24: =IF(AY24>1,AY24,AZ13/10) -> 0 | BA24: =IF(AZ24>1,AZ24,BA13/10) -> 0 | ... BC24: =IF(BB24>1,BB24,BC13/10) -> 0 | BF24: 17 | BG24: N/A | BH24: 270000 | BI24: 300000 | BJ24: 150000 | BK24: 270000 | BP24: S
C25: - FM | E25: per Tahun | AF25: 18 | AH25: 2025 | AM25: 0.85 | AQ25: 7 | AR25: AXIS | AS25: =IF(AS14>1,AS14/10,0) -> 0 | AT25: =IF(AS25>1,AS25,AT14/10) -> 0 | AU25: =IF(AT25>1,AT25,AU14/10) -> 0 | AV25: =IF(AU25>1,AU25,AV14/10) -> 0 | AW25: =IF(AV25>1,AV25,AW14/10) -> 0 | AX25: =IF(AW25>1,AW25,AX14/10) -> 0 | AY25: =IF(AX25>1,AX25,AY14/10) -> 0 | AZ25: =IF(AY25>1,AY25,AZ14/10) -> 0 | BA25: =IF(AZ25>1,AZ25,BA14/10) -> 0 | ... BC25: =IF(BB25>1,BB25,BC14/10) -> 0 | BF25: 18 | BG25: N/A | BH25: 270000 | BI25: 300000 | BJ25: 150000 | BK25: 270000 | BP25: S
C26: - SMARTFREN | E26: per Tahun | F26: 2 | G26: ASSET (non Op) | L26: NPV | O26: : | P26: =NPV(F14,E107:O107) -> -2.9768517e+09 | AF26: 19 | AM26: 0.9 | AQ26: 8 | AR26: FLEXI | AS26: =IF(AS15>1,AS15/10,0) -> 0 | AT26: =IF(AS26>1,AS26,AT15/10) -> 0 | AU26: =IF(AT26>1,AT26,AU15/10) -> 0 | AV26: =IF(AU26>1,AU26,AV15/10) -> 0 | AW26: =IF(AV26>1,AV26,AW15/10) -> 0 | AX26: =IF(AW26>1,AW26,AX15/10) -> 0 | AY26: =IF(AX26>1,AX26,AY15/10) -> 0 | AZ26: =IF(AY26>1,AY26,AZ15/10) -> 0 | BA26: =IF(AZ26>1,AZ26,BA15/10) -> 0 | ... BC26: =IF(BB26>1,BB26,BC15/10) -> 0 | BF26: 19 | BG26: N/A | BH26: 270000 | BI26: 300000 | BJ26: 150000 | BK26: 270000 | BP26: S
C27: - AXIS | E27: per Tahun | G27: - DAS (all in) | H27: =P16*P17 -> 2567000000 | I27: Sesuai BOQ | L27: IRR | O27: : | P27: =L33 -> #NUM! | AF27: 20 | AM27: 0.95 | AQ27: 9 | AR27: ESIA | AS27: =IF(AS16>1,AS16/10,0) -> 0 | AT27: =IF(AS27>1,AS27,AT16/10) -> 0 | AU27: =IF(AT27>1,AT27,AU16/10) -> 0 | AV27: =IF(AU27>1,AU27,AV16/10) -> 0 | AW27: =IF(AV27>1,AV27,AW16/10) -> 0 | AX27: =IF(AW27>1,AW27,AX16/10) -> 0 | AY27: =IF(AX27>1,AX27,AY16/10) -> 0 | AZ27: =IF(AY27>1,AY27,AZ16/10) -> 0 | BA27: =IF(AZ27>1,AZ27,BA16/10) -> 0 | ... BC27: =IF(BB27>1,BB27,BC16/10) -> 0 | BF27: 20 | BG27: N/A | BH27: 270000 | BI27: 300000 | BJ27: 150000 | BK27: 270000 | BP27: S
C28: - FLEXI | E28: per Tahun | K28: =MATCH(TRUE,E109:O109,0) -> #N/A | L28: Payback periode | O28: : | P28: =(K28-1+OFFSET(E107,0,K28)/OFFSET(E101,0,K28))*12 -> #N/A | Q28: Bulan atau | AF28: 21 | AM28: 1 | BF28: 21 | BG28: N/A | BH28: 270000 | BI28: 300000 | BJ28: 150000 | BK28: 270000 | BP28: S
C29: - ESIA | E29: per Tahun | P29: =P28/12 -> #N/A | Q29: Tahun | AF29: 22 | BF29: 22 | BG29: N/A | BH29: 270000 | BI29: 300000 | BJ29: 150000 | BK29: 270000 | BP29: S
F30: 3 | G30: BTS Operator | H30: Indoor | I30: Outdoor | AF30: 23 | BF30: 23 | BG30: N/A | BH30: 270000 | BI30: 300000 | BJ30: 150000 | BK30: 270000 | BP30: S
B31: 2 | C31: Pemeliharaan | G31: - TSEL | AF31: 24 | BF31: 24 | BG31: N/A | BH31: 270000 | BI31: 300000 | BJ31: 150000 | BK31: 270000 | BP31: S
C32: - Rutin | E32: per Tahun/Site | G32: - ISAT | AF32: 25 | BF32: 25 | BG32: N/A | BH32: 270000 | BI32: 300000 | BJ32: 150000 | BK32: 270000 | BP32: S
C33: - Perbaikan | D33: 7000000 | E33: per Tahun/Op | G33: - XL | I33: 150000000 | K33: =IF(L33<20%,"IRR 6th.","IRR 6th:") -> #NUM! | L33: =IRR(E107:J107,F15) -> #NUM! | O33: NFC 11th | P33: =SUM(E107:O107) -> -3.5167423e+09 | AF33: 26 | BF33: 26 | BG33: N/A | BH33: 270000 | BI33: 300000 | BJ33: 150000 | BK33: 270000 | BP33: S
C34: - WT by Vendor | D34: =Pemeliharaan!J20 -> 10000000 | E34: at First/Op | G34: - HCPT | AF34: 27 | BF34: 27 | BG34: N/A | BH34: 270000 | BI34: 300000 | BJ34: 150000 | BK34: 270000 | BP34: S
C35: - WT Inhouse | E35: per Tahun/All Op | G35: - FM | S35: 250000000 | AF35: 28 | BF35: 28 | BG35: N/A | BH35: 270000 | BI35: 300000 | BJ35: 150000 | BK35: 270000 | BP35: S
C36: - Lain-lain | D36: =SUM(D33:D35)*B36 -> 0 | G36: - SMARTFREN | K36: =IF(L36<20%,"IRR 11th.","IRR 11th:") -> #NUM! | L36: =IRR(E107:O107,F15) -> #NUM! | AF36: 29 | BF36: 29 | BG36: N/A | BH36: 270000 | BI36: 300000 | BJ36: 150000 | BK36: 270000 | BP36: S
G37: - AXIS | AF37: 30 | BF37: 30 | BG37: N/A | BH37: 270000 | BI37: 300000 | BJ37: 150000 | BK37: 270000 | BP37: S
G38: - FLEXI | AF38: 31 | BF38: 31 | BG38: N/A | BH38: 270000 | BI38: 300000 | BJ38: 150000 | BK38: 270000 | BP38: S
G39: - ESIA | BF39: 32 | BG39: N/A | BH39: 270000 | BI39: 300000 | BJ39: 150000 | BK39: 270000 | BP39: S
BF40: 33 | BG40: N/A | BH40: 270000 | BI40: 300000 | BJ40: 150000 | BK40: 270000 | BP40: S
B41: Parameter Harga Jual/antena/bulan | BF41: 34 | BG41: N/A | BH41: 270000 | BI41: 300000 | BJ41: 150000 | BK41: 270000 | BP41: S
C42: No | D42: Operator | E42: =H10 -> 2016 | F42: =E42+1 -> 2017 | G42: =F42+1 -> 2018 | H42: =G42+1 -> 2019 | I42: =H42+1 -> 2020 | J42: =I42+1 -> 2021 | K42: =J42+1 -> 2022 | L42: =K42+1 -> 2023 | M42: =L42+1 -> 2024 | ... O42: =N42+1 -> 2026 | BF42: 35 | BG42: N/A | BH42: 270000 | BI42: 300000 | BJ42: 150000 | BK42: 270000 | BP42: S
C43: 1 | D43: TSEL | BF43: 36 | BG43: N/A | BH43: 270000 | BI43: 300000 | BJ43: 150000 | BK43: 270000 | BP43: S
...

Sheet IRR CutLoss-5th
G1: FOR TRIAL ONLY
B2: INTERNAL RATE OF RETURN (IRR) | P2: No IRR :
B5: Nama Bangunan | E5: : | F5: Ibis Gading Serpong | N5: Jumlah Lantai :
B6: Alamat | E6: : | BB6: TSEL | BC6: ISAT | BD6: XL | BE6: HCPT | BF6: FM | BG6: SMARTFREN | BH6: AXIS | BI6: FLEXI | BJ6: ESIA
B7: Lokasi Bangunan | E7: : | AC7: Lokasi Bangunan | AD7: Type Bangunan | AE7: Status | AF7: Tanggal | AG7: Bulan | AH7: Tahun | AI7: Status IRR | AJ7: Operator Join | AK7: Masa Sewa | AL7: persentase | AM7: persentase pembayran | AQ7: No | AR7: Operator | AS7: =I10 -> 0 | AT7: =AS7+1 -> 1 | AU7: =AT7+1 -> 2 | AV7: =AU7+1 -> 3 | AW7: =AV7+1 -> 4 | AX7: =AW7+1 -> 5
B8: Type Bangunan | E8: : | J8: =VLOOKUP(Q16,BA8:BK758,11,FALSE) -> S | K8: Masa Sewa : | M8: 5 | N8: Tahun | AC8: Jabodetabek | AD8: Mall | AE8: Bangunan Baru | AF8: 1 | AG8: Januari | AH8: 2008 | AI8: Baru | AQ8: 1 | AR8: TSEL | AS8: =E21*$Q$16*E33*60 -> 0 | AT8: =F21*$Q$16*F33*60 -> 0 | AU8: =G21*$Q$16*G33*60 -> 0 | AV8: =H21*$Q$16*H33*60 -> 0 | AW8: =I21*$Q$16*I33*60 -> 0 | AX8: =J21*$Q$16*J33*60 -> 0 | BA8: 1 | BB8: N/A | BC8: 270000 | BD8: 300000 | BE8: 150000 | BF8: 270000 | BK8: S
B9: Status | E9: : | AC9: Jawa Tengah | AD9: Superblok | AE9: Bangunan Lama | AF9: 2 | AG9: Februari | AH9: 2009 | AI9: Revisi I | AJ9: 1 | AK9: 1 | AL9: 0.05 | AM9: 0.05 | AQ9: 2 | AR9: ISAT | AS9: =E22*$Q$16*E34*60 -> 0 | AT9: =F22*$Q$16*F34*60 -> 0 | AU9: =G22*$Q$16*G34*60 -> 0 | AV9: =H22*$Q$16*H34*60 -> 0 | AW9: =I22*$Q$16*I34*60 -> 0 | AX9: =J22*$Q$16*J34*60 -> 0 | BA9: 2 | BB9: N/A | BC9: 270000 | BD9: 300000 | BE9: 150000 | BF9: 270000 | BK9: S
B10: Tanggal | E10: : | AC10: Jawa Timur | AD10: Rumah Sakit | AF10: 3 | AG10: Maret | AH10: 2010 | AI10: Revisi II | AK10: 3 | AL10: 0.1 | AM10: 0.1 | AQ10: 3 | AR10: XL | AS10: =E23*$Q$16*E35*60 -> 4.2857143e+08 | AT10: =F23*$Q$16*F35*60 -> 0 | AU10: =G23*$Q$16*G35*60 -> 0 | AV10: =H23*$Q$16*H35*60 -> 0 | AW10: =I23*$Q$16*I35*60 -> 0 | AX10: =J23*$Q$16*J35*60 -> 0 | BA10: 3 | BB10: N/A | BC10: 270000 | BD10: 300000 | BE10: 150000 | BF10: 270000 | BK10: S
B11: Status IRR | E11: : | AC11: Jawa Barat | AD11: Rusunami | AF11: 4 | AG11: April | AH11: 2011 | AI11: Revisi III | AK11: 5 | AM11: 0.15 | AQ11: 4 | AR11: HCPT | AS11: =E24*$Q$16*E36*60 -> 0 | AT11: =F24*$Q$16*F36*60 -> 0 | AU11: =G24*$Q$16*G36*60 -> 0 | AV11: =H24*$Q$16*H36*60 -> 0 | AW11: =I24*$Q$16*I36*60 -> 0 | AX11: =J24*$Q$16*J36*60 -> 0 | BA11: 4 | BB11: N/A | BC11: 270000 | BD11: 300000 | BE11: 150000 | BF11: 270000 | BK11: S
L12: SUMMARY | AC12: Kalimantan | AD12: Office | AF12: 5 | AG12: Mei | AH12: 2012 | AK12: 10 | AM12: 0.2 | AQ12: 5 | AR12: FM | AS12: =E25*$Q$16*E37*60 -> 0 | AT12: =F25*$Q$16*F37*60 -> 0 | AU12: =G25*$Q$16*G37*60 -> 0 | AV12: =H25*$Q$16*H37*60 -> 0 | AW12: =I25*$Q$16*I37*60 -> 0 | AX12: =J25*$Q$16*J37*60 -> 0 | BA12: 5 | BB12: N/A | BC12: 270000 | BD12: 300000 | BE12: 150000 | BF12: 270000 | BK12: S
B13: Parameter umum | AC13: Sumatra | AD13: Universitas | AF13: 6 | AG13: Juni | AH13: 2013 | AM13: 0.25 | AQ13: 6 | AR13: SMARTFREN | AS13: =E26*$Q$16*E38*60 -> 0 | AT13: =F26*$Q$16*F38*60 -> 0 | AU13: =G26*$Q$16*G38*60 -> 0 | AV13: =H26*$Q$16*H38*60 -> 0 | AW13: =I26*$Q$16*I38*60 -> 0 | AX13: =J26*$Q$16*J38*60 -> 0 | BA13: 6 | BB13: N/A | BC13: 270000 | BD13: 300000 | BE13: 150000 | BF13: 270000 | BK13: S
B14: Tingkat bunga Deposito | E14: : | F14: 0.06 | G14: /tahun | AC14: Sulawesi | AD14: Hotel | AF14: 7 | AG14: Juli | AH14: 2014 | AM14: 0.3 | AQ14: 7 | AR14: AXIS | AS14: =E27*$Q$16*E39*60 -> 0 | AT14: =F27*$Q$16*F39*60 -> 0 | AU14: =G27*$Q$16*G39*60 -> 0 | AV14: =H27*$Q$16*H39*60 -> 0 | AW14: =I27*$Q$16*I39*60 -> 0 | AX14: =J27*$Q$16*J39*60 -> 0 | BA14: 7 | BB14: N/A | BC14: 270000 | BD14: 300000 | BE14: 150000 | BF14: 270000 | BK14: S
B15: Discount Rate | E15: : | F15: 0.15 | M15: Perkiraan Umum | AC15: Bali/Lombok | AD15: Traditional Market | AF15: 8 | AG15: Agustus | AH15: 2015 | AM15: 0.35 | AQ15: 8 | AR15: FLEXI | AS15: =E28*$Q$16*E40*60 -> 0 | AT15: =F28*$Q$16*F40*60 -> 0 | AU15: =G28*$Q$16*G40*60 -> 0 | AV15: =H28*$Q$16*H40*60 -> 0 | AW15: =I28*$Q$16*I40*60 -> 0 | AX15: =J28*$Q$16*J40*60 -> 0 | BA15: 8 | BB15: N/A | BC15: 270000 | BD15: 300000 | BE15: 150000 | BF15: 270000 | BK15: S
B16: Tingkat bunga Pinjaman | E16: : | F16: 0.125 | G16: /tahun | M16: Jumlah Antena | P16: : | Q16: 60 | R16: Unit | AC16: Ind Bg Tim | AD16: Apartement | AF16: 9 | AG16: September | AH16: 2016 | AM16: 0.4 | AQ16: 9 | AR16: ESIA | AS16: =E29*$Q$16*E41*60 -> 0 | AT16: =F29*$Q$16*F41*60 -> 0 | AU16: =G29*$Q$16*G41*60 -> 0 | AV16: =H29*$Q$16*H41*60 -> 0 | AW16: =I29*$Q$16*I41*60 -> 0 | AX16: =J29*$Q$16*J41*60 -> 0 | BA16: 9 | BB16: N/A | BC16: 270000 | BD16: 300000 | BE16: 150000 | BF16: 270000 | BK16: S
B17: Kurs | E17: : | F17: 15000 | G17: / USD 1 | M17: Nilai DAS per Antenna | P17: : | Q17: =S40/Q16 -> 11129290 | R17: Per Ant. | AD17: Entertaint Area | AF17: 10 | AG17: Oktober | AH17: 2017 | AM17: 0.45 | BA17: 10 | BB17: N/A | BC17: 270000 | BD17: 300000 | BE17: 150000 | BF17: 270000 | BK17: S
M18: Jumlah Pole Makro | P18: : | R18: Unit | AF18: 11 | AG18: November | AH18: 2018 | AM18: 0.5 | AQ18: No | AR18: Operator | AS18: =AS7 -> 0 | AT18: =AS18+1 -> 1 | AU18: =AT18+1 -> 2 | AV18: =AU18+1 -> 3 | AW18: =AV18+1 -> 4 | AX18: =AW18+1 -> 5 | BA18: 11 | BB18: N/A | BC18: 270000 | BD18: 300000 | BE18: 150000 | BF18: 270000 | BK18: S
B19: Parameter Harga Jual/antena/bulan | M19: Pendapatan dari operator | P19: : | Q19: =K55 -> 750000000 | AF19: 12 | AG19: Desember | AH19: 2019 | AM19: 0.55 | AQ19: 1 | AR19: TSEL | AS19: =IF(AS8>1,AS8/5,0) -> 0 | AT19: =IF(AS19>1,AS19,AT8/5) -> 0 | AU19: =IF(AT19>1,AT19,AU8/5) -> 0 | AV19: =IF(AU19>1,AU19,AV8/5) -> 0 | AW19: =IF(AV19>1,AV19,AW8/5) -> 0 | AX19: =IF(AW19>1,AW19,AX8/5) -> 0 | BA19: 12 | BB19: N/A | BC19: 270000 | BD19: 300000 | BE19: 150000 | BF19: 270000 | BK19: S
C20: No | D20: Operator | E20: 2014-2019 | F20: 2020 | G20: =F20+1 -> 2021 | H20: =G20+1 -> 2022 | I20: =H20+1 -> 2023 | J20: =I20+1 -> 2024 | M20: Pembelian Aset Tetap | P20: : | Q20: =-K61-K62 -> -2.224534e+08 | AF20: 13 | AH20: 2020 | AM20: 0.6 | AQ20: 2 | AR20: ISAT | AS20: =IF(AS9>1,AS9/5,0) -> 0 | AT20: =IF(AS20>1,AS20,AT9/5) -> 0 | AU20: =IF(AT20>1,AT20,AU9/5) -> 0 | AV20: =IF(AU20>1,AU20,AV9/5) -> 0 | AW20: =IF(AV20>1,AV20,AW9/5) -> 0 | AX20: =IF(AW20>1,AW20,AX9/5) -> 0 | BA20: 13 | BB20: N/A | BC20: 270000 | BD20: 300000 | BE20: 150000 | BF20: 270000 | BK20: S
C21: 1 | D21: TSEL | E21: 190000 | F21: =E21 -> 190000 | G21: =F21 -> 190000 | H21: =G21 -> 190000 | I21: =H21 -> 190000 | J21: =I21 -> 190000 | M21: Biaya Sewa | P21: : | Q21: =-K58-K59-K60 -> -250000000 | AF21: 14 | AH21: 2021 | AM21: 0.65 | AQ21: 3 | AR21: XL | AS21: =IF(AS10>1,AS10/5,0) -> 85714286 | AT21: =IF(AS21>1,AS21,AT10/5) -> 85714286 | AU21: =IF(AT21>1,AT21,AU10/5) -> 85714286 | AV21: =IF(AU21>1,AU21,AV10/5) -> 85714286 | AW21: =IF(AV21>1,AV21,AW10/5) -> 85714286 | AX21: =IF(AW21>1,AW21,AX10/5) -> 85714286 | BA21: 14 | BB21: N/A | BC21: 270000 | BD21: 300000 | BE21: 150000 | BF21: 270000 | BK21: S
C22: 2 | D22: ISAT | E22: 150000 | F22: =E22 -> 150000 | G22: =F22 -> 150000 | H22: =G22 -> 150000 | I22: =H22 -> 150000 | J22: =I22 -> 150000 | M22: Biaya Operasional | P22: : | Q22: =-K63-K64-K65 -> -35000000 | AF22: 15 | AH22: 2022 | AM22: 0.7 | AQ22: 4 | AR22: HCPT | AS22: =IF(AS11>1,AS11/5,0) -> 0 | AT22: =IF(AS22>1,AS22,AT11/5) -> 0 | AU22: =IF(AT22>1,AT22,AU11/5) -> 0 | AV22: =IF(AU22>1,AU22,AV11/5) -> 0 | AW22: =IF(AV22>1,AV22,AW11/5) -> 0 | AX22: =IF(AW22>1,AW22,AX11/5) -> 0 | BA22: 15 | BB22: N/A | BC22: 270000 | BD22: 300000 | BE22: 150000 | BF22: 270000 | BK22: S
C23: 3 | D23: XL | E23: 119047.62 | F23: =E23 -> 119047.62 | G23: =F23 -> 119047.62 | H23: =G23 -> 119047.62 | I23: =H23 -> 119047.62 | J23: =I23 -> 119047.62 | M23: Pendapatan Bunga (Biaya Bunga) | P23: : | Q23: =K72 -> 38896146 | AF23: 16 | AH23: 2023 | AM23: 0.75 | AQ23: 5 | AR23: FM | AS23: =IF(AS12>1,AS12/5,0) -> 0 | AT23: =IF(AS23>1,AS23,AT12/5) -> 0 | AU23: =IF(AT23>1,AT23,AU12/5) -> 0 | AV23: =IF(AU23>1,AU23,AV12/5) -> 0 | AW23: =IF(AV23>1,AV23,AW12/5) -> 0 | AX23: =IF(AW23>1,AW23,AX12/5) -> 0 | BA23: 16 | BB23: N/A | BC23: 270000 | BD23: 300000 | BE23: 150000 | BF23: 270000 | BK23: S
C24: 4 | D24: HCPT | E24: 130000 | F24: =E24 -> 130000 | G24: =F24 -> 130000 | H24: =G24 -> 130000 | I24: =H24 -> 130000 | J24: =I24 -> 130000 | N24: Arus Kas Bersih (dalam 6 tahun) | Q24: =SUM(Q19:Q23) -> 2.8144275e+08 | AF24: 17 | AH24: 2024 | AM24: 0.8 | AQ24: 6 | AR24: SMARTFREN | AS24: =IF(AS13>1,AS13/5,0) -> 0 | AT24: =IF(AS24>1,AS24,AT13/5) -> 0 | AU24: =IF(AT24>1,AT24,AU13/5) -> 0 | AV24: =IF(AU24>1,AU24,AV13/5) -> 0 | AW24: =IF(AV24>1,AV24,AW13/5) -> 0 | AX24: =IF(AW24>1,AW24,AX13/5) -> 0 | BA24: 17 | BB24: N/A | BC24: 270000 | BD24: 300000 | BE24: 150000 | BF24: 270000 | BK24: S
C25: Rev. | D25: Makro | AF25: 18 | AH25: 2025 | AM25: 0.85 | AQ25: 7 | AR25: AXIS | AS25: =IF(AS14>1,AS14/5,0) -> 0 | AT25: =IF(AS25>1,AS25,AT14/5) -> 0 | AU25: =IF(AT25>1,AT25,AU14/5) -> 0 | AV25: =IF(AU25>1,AU25,AV14/5) -> 0 | AW25: =IF(AV25>1,AV25,AW14/5) -> 0 | AX25: =IF(AW25>1,AW25,AX14/5) -> 0 | BA25: 18 | BB25: N/A | BC25: 270000 | BD25: 300000 | BE25: 150000 | BF25: 270000 | BK25: S
C26: 1 | D26: TSEL | M26: NPV | P26: : | Q26: =NPV(F14,E73:J73) -> -1.290433e+09 | AF26: 19 | AM26: 0.9 | AQ26: 8 | AR26: FLEXI | AS26: =IF(AS15>1,AS15/5,0) -> 0 | AT26: =IF(AS26>1,AS26,AT15/5) -> 0 | AU26: =IF(AT26>1,AT26,AU15/5) -> 0 | AV26: =IF(AU26>1,AU26,AV15/5) -> 0 | AW26: =IF(AV26>1,AV26,AW15/5) -> 0 | AX26: =IF(AW26>1,AW26,AX15/5) -> 0 | BA26: 19 | BB26: N/A | BC26: 270000 | BD26: 300000 | BE26: 150000 | BF26: 270000 | BK26: S
C27: 2 | D27: ISAT | M27: IRR | P27: : | Q27: =N68 -> 13.657521 | AF27: 20 | AM27: 0.95 | AQ27: 9 | AR27: ESIA | AS27: =IF(AS16>1,AS16/5,0) -> 0 | AT27: =IF(AS27>1,AS27,AT16/5) -> 0 | AU27: =IF(AT27>1,AT27,AU16/5) -> 0 | AV27: =IF(AU27>1,AU27,AV16/5) -> 0 | AW27: =IF(AV27>1,AV27,AW16/5) -> 0 | AX27: =IF(AW27>1,AW27,AX16/5) -> 0 | BA27: 20 | BB27: N/A | BC27: 270000 | BD27: 300000 | BE27: 150000 | BF27: 270000 | BK27: S
C28: 3 | D28: XL | L28: =MATCH(TRUE,E75:J75,0) -> 1 | M28: Payback periode | P28: : | Q28: =(L28-1+OFFSET(E73,0,L28)/OFFSET(E67,0,L28))*12 -> #VALUE! | R28: Bulan atau | AF28: 21 | AM28: 1 | BA28: 21 | BB28: N/A | BC28: 270000 | BD28: 300000 | BE28: 150000 | BF28: 270000 | BK28: S
C29: 4 | D29: HCPT | Q29: =Q28/12 -> #VALUE! | R29: Tahun | AF29: 22 | BA29: 22 | BB29: N/A | BC29: 270000 | BD29: 300000 | BE29: 150000 | BF29: 270000 | BK29: S
AF30: 23 | BA30: 23 | BB30: N/A | BC30: 270000 | BD30: 300000 | BE30: 150000 | BF30: 270000 | BK30: S
B31: Operator Join | AF31: 24 | BA31: 24 | BB31: N/A | BC31: 270000 | BD31: 300000 | BE31: 150000 | BF31: 270000 | BK31: S
C32: No | D32: Operator | E32: =E20 -> 2014-2019 | F32: =F20 -> 2020 | G32: =F32+1 -> 2021 | H32: =G32+1 -> 2022 | I32: =H32+1 -> 2023 | J32: =I32+1 -> 2024 | M32: Parameter Harga untuk OPEX | Q32: Parameter Harga untuk CAPEX | AF32: 25 | BA32: 25 | BB32: N/A | BC32: 270000 | BD32: 300000 | BE32: 150000 | BF32: 270000 | BK32: S
B33: =SUM(E33:J33) -> 0 | C33: 1 | D33: TSEL | K33: =IF(B33>1,"Salah","Benar") -> Benar | M33: 1 | N33: Listrik | O33: Jumlah | Q33: No | R33: Keterangan | S33: =E20 -> 2014-2019 | T33: Keterangan | AF33: 26 | BA33: 26 | BB33: N/A | BC33: 270000 | BD33: 300000 | BE33: 150000 | BF33: 270000 | BK33: S
B34: =SUM(E34:J34) -> 0 | C34: 2 | D34: ISAT | K34: =IF(B34>1,"Salah","Benar") -> Benar | N34: - TSEL | O34: =IF($Q$16<100,36000000,IF($Q$16>200,48000000,42000000)) -> 36000000 | P34: per Tahun | Q34: 1 | R34: SITAC | AF34: 27 | BA34: 27 | BB34: N/A | BC34: 270000 | BD34: 300000 | BE34: 150000 | BF34: 270000 | BK34: S
B35: =SUM(E35:J35) -> 1 | C35: 3 | D35: XL | E35: 1 | K35: =IF(B35>1,"Salah","Benar") -> Benar | N35: - ISAT | O35: =IF($Q$16<100,36000000,IF($Q$16>200,48000000,42000000)) -> 36000000 | P35: per Tahun | Q35: =J8&F8&F7 -> S | R35: - Sewa Lahan | S35: 50000000 | T35: per tahun | AF35: 28 | BA35: 28 | BB35: N/A | BC35: 270000 | BD35: 300000 | BE35: 150000 | BF35: 270000 | BK35: S
B36: =SUM(E36:J36) -> 0 | C36: 4 | D36: HCPT | K36: =IF(B36>1,"Salah","Benar") -> Benar | N36: - XL | P36: per Tahun | R36: - Biaya Koordinasi | T36: per bangunan | AF36: 29 | BA36: 29 | BB36: N/A | BC36: 270000 | BD36: 300000 | BE36: 150000 | BF36: 270000 | BK36: S
B37: =SUM(E37:J37) -> 0 | C37: Rev. | D37: Makro | K37: =IF(B37>1,"Salah","Benar") -> Benar | N37: - HCPT | P37: per Tahun | R37: - Biaya Agensi | T37: per bangunan | AF37: 30 | BA37: 30 | BB37: N/A | BC37: 270000 | BD37: 300000 | BE37: 150000 | BF37: 270000 | BK37: S
B38: =SUM(E38:J38) -> 0 | C38: 1 | D38: TSEL | K38: =IF(B38>1,"Salah","Benar") -> Benar | N38: - FM | P38: per Tahun | AF38: 31 | BA38: 31 | BB38: N/A | BC38: 270000 | BD38: 300000 | BE38: 150000 | BF38: 270000 | BK38: S
B39: =SUM(E39:J39) -> 0 | C39: 2 | D39: ISAT | K39: =IF(B39>1,"Salah","Benar") -> Benar | N39: - SMARTFREN | P39: per Tahun | Q39: 2 | R39: ASSET (non Op) | BA39: 32 | BB39: N/A | BC39: 270000 | BD39: 300000 | BE39: 150000 | BF39: 270000 | BK39: S
B40: =SUM(E40:J40) -> 0 | C40: 3 | D40: XL | K40: =IF(B40>1,"Salah","Benar") -> Benar | N40: - AXIS | P40: per Tahun | R40: - DAS (all in) | S40: =E62+E61 -> 6.677574e+08 | T40: Sesuai BOQ | BA40: 33 | BB40: N/A | BC40: 270000 | BD40: 300000 | BE40: 150000 | BF40: 270000 | BK40: S
B41: =SUM(E41:J41) -> 0 | C41: 4 | D41: HCPT | K41: =IF(B41>1,"Salah","Benar") -> Benar | N41: - FLEXI | P41: per Tahun | BA41: 34 | BB41: N/A | BC41: 270000 | BD41: 300000 | BE41: 150000 | BF41: 270000 | BK41: S
E42: =SUM(E33:E41) -> 1 | F42: =E42+SUM(F33:F41) -> 1 | G42: =F42+SUM(G33:G41) -> 1 | H42: =G42+SUM(H33:H41) -> 1 | I42: =H42+SUM(I33:I41) -> 1 | J42: =I42+SUM(J33:J41) -> 1 | N42: - ESIA | P42: per Tahun | BA42: 35 | BB42: N/A | BC42: 270000 | BD42: 300000 | BE42: 150000 | BF42: 270000 | BK42: S
...

Sheet IRR 11th cutloss
J1: Parameter umum
B2: INTERNAL RATE OF RETURN (IRR) | J2: Tingkat bunga Deposito | K2: 0.0225 | L2: /tahun | M2: No IRR : | N2: /IRR/10/2019
J3: Discount Rate | K3: 0.15
B4: Nama Bangunan | D4: : | E4: Lindeteves TC | J4: Tingkat bunga Pinjaman | K4: 0.1 | L4: /tahun
B5: Alamat | D5: : | J5: Tingkat bunga Deposito | K5: 0.075 | L5: /tahun | M5: Jumlah Lantai : | BG5: TSEL | BH5: ISAT | BI5: XL | BJ5: HCPT | BK5: FM | BL5: SMARTFREN | BM5: AXIS | BN5: FLEXI | BO5: ESIA
B6: Lokasi Bangunan | D6: : | J6: Discount Rate | K6: 0.15 | M6: Masa Sewa : | N6: 5 | O6: Tahun | AC6: Lokasi Bangunan | AD6: Type Bangunan | AE6: Status | AF6: Tanggal | AG6: Bulan | AH6: Tahun | AI6: Status IRR | AJ6: Operator Join | AK6: Masa Sewa | AL6: persentase | AM6: persentase pembayaran | AQ6: No | AR6: Operator | AS6: =H9 -> 0 | AT6: =AS6+1 -> 1 | AU6: =AT6+1 -> 2 | AV6: =AU6+1 -> 3 | AW6: =AV6+1 -> 4 | AX6: =AW6+1 -> 5 | AY6: =AX6+1 -> 6 | AZ6: =AY6+1 -> 7 | BA6: =AZ6+1 -> 8 | ... BC6: =BB6+1 -> 10
B7: Type Bangunan | D7: : | I7: =VLOOKUP(N15,AZ7:BJ754,11,FALSE) -> #N/A | J7: Tingkat bunga Pinjaman | K7: 0.125 | L7: /tahun | AC7: Jabodetabek | AD7: Mall | AE7: Bangunan Baru | AF7: 1 | AG7: Januari | AH7: 2008 | AI7: Baru | AQ7: 1 | AR7: TSEL | AS7: =E37*$N$15*E48*120 -> 0 | AT7: =F37*$N$15*F48*120 -> 0 | AU7: =G37*$N$15*G48*120 -> 0 | AV7: =H37*$N$15*H48*120 -> 0 | AW7: =I37*$N$15*I48*120 -> 0 | AX7: =J37*$N$15*J48*120 -> 0 | AY7: =K37*$N$15*K48*120 -> 0 | AZ7: =L37*$N$15*L48*120 -> 0 | ... BC7: =O37*$N$15*O48*120 -> 0 | BF7: 1 | BG7: N/A | BH7: 270000 | BI7: 300000 | BJ7: 150000 | BK7: 270000 | BP7: S
B8: Status | D8: : | J8: Kurs | K8: 15000 | L8: / USD 1 | AC8: Jawa Tengah | AD8: Superblok | AE8: Bangunan Lama | AF8: 2 | AG8: Februari | AH8: 2009 | AI8: Revisi I | AJ8: 1 | AK8: 1 | AL8: 0.05 | AM8: 0.05 | AQ8: 2 | AR8: ISAT | AS8: =E38*$N$15*E49*120 -> 0 | AT8: =F38*$N$15*F49*120 -> 0 | AU8: =G38*$N$15*G49*120 -> 0 | AV8: =H38*$N$15*H49*120 -> 0 | AW8: =I38*$N$15*I49*120 -> 0 | AX8: =J38*$N$15*J49*120 -> 0 | AY8: =K38*$N$15*K49*120 -> 0 | AZ8: =L38*$N$15*L49*120 -> 0 | ... BC8: =O38*$N$15*O49*120 -> 0 | BF8: 2 | BG8: N/A | BH8: 270000 | BI8: 300000 | BJ8: 150000 | BK8: 270000 | BP8: S
B9: Tanggal | D9: : | AC9: Jawa Timur | AD9: Rumah Sakit | AF9: 3 | AG9: Maret | AH9: 2010 | AI9: Revisi II | AK9: 3 | AL9: 0.1 | AM9: 0.1 | AQ9: 3 | AR9: XL | AS9: =E39*$N$15*E50*120 -> 0 | AT9: =F39*$N$15*F50*120 -> 0 | AU9: =G39*$N$15*G50*120 -> 0 | AV9: =H39*$N$15*H50*120 -> 0 | AW9: =I39*$N$15*I50*120 -> 0 | AX9: =J39*$N$15*J50*120 -> 0 | AY9: =K39*$N$15*K50*120 -> 0 | AZ9: =L39*$N$15*L50*120 -> 0 | ... BC9: =O39*$N$15*O50*120 -> 0 | BF9: 3 | BG9: N/A | BH9: 270000 | BI9: 300000 | BJ9: 150000 | BK9: 270000 | BP9: S
B10: Status IRR | D10: : | AC10: Jawa Barat | AD10: Rusunami | AF10: 4 | AG10: April | AH10: 2011 | AI10: Revisi III | AK10: 5 | AM10: 0.15 | AQ10: 4 | AR10: HCPT | AS10: =E40*$N$15*E51*120 -> 0 | AT10: =F40*$N$15*F51*120 -> 0 | AU10: =G40*$N$15*G51*120 -> 0 | AV10: =H40*$N$15*H51*120 -> 0 | AW10: =I40*$N$15*I51*120 -> 0 | AX10: =J40*$N$15*J51*120 -> 0 | AY10: =K40*$N$15*K51*120 -> 0 | AZ10: =L40*$N$15*L51*120 -> 0 | ... BC10: =O40*$N$15*O51*120 -> 0 | BF10: 4 | BG10: N/A | BH10: 270000 | BI10: 300000 | BJ10: 150000 | BK10: 270000 | BP10: S
O11: From Renewal Rent | AC11: Kalimantan | AD11: Office | AF11: 5 | AG11: Mei | AH11: 2012 | AK11: 10 | AM11: 0.2 | AQ11: 5 | AR11: FM | AS11: =E41*$N$15*E52*120 -> 0 | AT11: =F41*$N$15*F52*120 -> 0 | AU11: =G41*$N$15*G52*120 -> 0 | AV11: =H41*$N$15*H52*120 -> 0 | AW11: =I41*$N$15*I52*120 -> 0 | AX11: =J41*$N$15*J52*120 -> 0 | AY11: =K41*$N$15*K52*120 -> 0 | AZ11: =L41*$N$15*L52*120 -> 0 | ... BC11: =O41*$N$15*O52*120 -> 0 | BF11: 5 | BG11: N/A | BH11: 270000 | BI11: 300000 | BJ11: 150000 | BK11: 270000 | BP11: S
K12: SUMMARY | M12: 6th | N12: 11th | O12: 5th | AC12: Sumatra | AD12: Universitas | AF12: 6 | AG12: Juni | AH12: 2013 | AM12: 0.25 | AQ12: 6 | AR12: SMARTFREN | AS12: =E42*$N$15*E53*120 -> 792000000 | AT12: =F42*$N$15*F53*120 -> 0 | AU12: =G42*$N$15*G53*120 -> 0 | AV12: =H42*$N$15*H53*120 -> 0 | AW12: =I42*$N$15*I53*120 -> 0 | AX12: =J42*$N$15*J53*120 -> 0 | AY12: =K42*$N$15*K53*120 -> 0 | AZ12: =L42*$N$15*L53*120 -> 0 | ... BC12: =O42*$N$15*O53*120 -> 0 | BF12: 6 | BG12: N/A | BH12: 270000 | BI12: 300000 | BJ12: 150000 | BK12: 270000 | BP12: S
B13: Parameter Harga untuk OPEX | F13: Parameter Harga untuk CAPEX | K13: Perkiraan Umum | AC13: Sulawesi | AD13: Hotel | AF13: 7 | AG13: Juli | AH13: 2014 | AM13: 0.3 | AQ13: 7 | AR13: AXIS | AS13: =E43*$N$15*E54*120 -> 0 | AT13: =F43*$N$15*F54*120 -> 0 | AU13: =G43*$N$15*G54*120 -> 0 | AV13: =H43*$N$15*H54*120 -> 0 | AW13: =I43*$N$15*I54*120 -> 0 | AX13: =J43*$N$15*J54*120 -> 0 | AY13: =K43*$N$15*K54*120 -> 0 | AZ13: =L43*$N$15*L54*120 -> 0 | ... BC13: =O43*$N$15*O54*120 -> 0 | BF13: 7 | BG13: N/A | BH13: 270000 | BI13: 300000 | BJ13: 150000 | BK13: 270000 | BP13: S
B14: 1 | C14: Listrik | D14: Jumlah | F14: No | G14: Keterangan | H14: =H9 -> 0 | I14: Keterangan | K14: Jumlah Antena Asset | AC14: Bali/Lombok | AD14: Traditional Market | AF14: 8 | AG14: Agustus | AH14: 2015 | AM14: 0.35 | AQ14: 8 | AR14: FLEXI | AS14: =E44*$N$15*E55*120 -> 0 | AT14: =F44*$N$15*F55*120 -> 0 | AU14: =G44*$N$15*G55*120 -> 0 | AV14: =H44*$N$15*H55*120 -> 0 | AW14: =I44*$N$15*I55*120 -> 0 | AX14: =J44*$N$15*J55*120 -> 0 | AY14: =K44*$N$15*K55*120 -> 0 | AZ14: =L44*$N$15*L55*120 -> 0 | ... BC14: =O44*$N$15*O55*120 -> 0 | BF14: 8 | BG14: N/A | BH14: 270000 | BI14: 300000 | BJ14: 150000 | BK14: 270000 | BP14: S
C15: - TSEL | D15: 36000000 | E15: per Tahun | F15: 1 | G15: SITAC | K15: Jumlah Antena PKS BM | M15: 22 | N15: =M15 -> 22 | O15: =N15 -> 22 | P15: Antena | AC15: Ind Bg Tim | AD15: Apartement | AF15: 9 | AG15: September | AH15: 2016 | AM15: 0.4 | AQ15: 9 | AR15: ESIA | AS15: =E45*$N$15*E56*120 -> 0 | AT15: =F45*$N$15*F56*120 -> 0 | AU15: =G45*$N$15*G56*120 -> 0 | AV15: =H45*$N$15*H56*120 -> 0 | AW15: =I45*$N$15*I56*120 -> 0 | AX15: =J45*$N$15*J56*120 -> 0 | AY15: =K45*$N$15*K56*120 -> 0 | AZ15: =L45*$N$15*L56*120 -> 0 | ... BC15: =O45*$N$15*O56*120 -> 0 | BF15: 9 | BG15: N/A | BH15: 270000 | BI15: 300000 | BJ15: 150000 | BK15: 270000 | BP15: S
C16: - ISAT | D16: 36000000 | E16: per Tahun | F16: =I7&E7&E6 -> #N/A | G16: - Sewa Lahan | H16: 20000000 | I16: per tahun | K16: DAS per Antenna | M16: =P84/M15 -> 16874615 | N16: =M16 -> 16874615 | O16: =N16 -> 16874615 | P16: /Antenna | AD16: Entertaint Area | AF16: 10 | AG16: Oktober | AH16: 2017 | AM16: 0.45 | BF16: 10 | BG16: N/A | BH16: 270000 | BI16: 300000 | BJ16: 150000 | BK16: 270000 | BP16: S
