Workbook
Name jk: #REF!
Name jk: #REF!
Name jk: #REF!
Name years_contract: [1]Kerlink!$D$5

Sheet Summary
C1: 0009/IRR/IBC/IV/2024
C2: Product : | D2: IBS / DAS | M2: GADING ICON APARTEMEN
C3: Status P&L | D3: Renewal IBC | J3: Tanggal P&L: | M3: 45318
B5: Site Information | E5: Technical Information | J5: Financial Summary
B6: Site Name | D6: Gading Icon | E6: IBC | K6: Capex DAS | M6: 1.6737335e+09 | O6: =M6-'IRR Approved'!#REF! -> #REF!
B7: Address | D7: Jl. Perintis Kemerdekaan No.Kav. 99, RT.1/RW.1 | E7: Antena PKS BM | K7: Capex /antenna | M7: =M6/H8 -> 4358681
B8: Area building | D8: Jakarta Timur | E8: Antena Asset | H8: 384 | K8: Contract Period (thn) | M8: 5
B9: Type of building | D9: Apartmen | E9: Jumlah Pole Makro | K9: Interest rate /year | M9: ='IRR Approved'!$F$4 -> 0.1
B10: Status | D10: Renewal | K10: Total Revenue | M10: ='IRR Approved'!$Q$20 -> 750000000
B11: Total floor | D11: 21 & 19 | E11: OPENET | K11: Total Capex BV31DEs2023 | M11: ='IRR Approved'!G11 -> 1.068487e+09
B12: No of tower | D12: 2 | E12: Cable FO (Core) | H12: 0 | K12: Total Capex CME
E13: Cable FO (meter) | H13: 0 | K13: Total COGS Rent | M13: ='IRR Approved'!$Q$23 -> 200000000
E14: Drop Wire (meter) | H14: 0 | K14: Total COGS Other | M14: ='IRR Approved'!$Q$24+'IRR Approved'!$Q$25+'IRR Approved'!$Q$26 -> 72500000
E16: OTHERS | K16: IRR 5 th | M16: ='IRR Approved'!$F$43 -> -0.23049293
K17: NPV 5th | M17: ='IRR Approved'!F44 -> -7.3904117e+08
K18: EBITDA margin | M18: ='IRR Approved'!$F$45 -> 0.63666667
K19: Payback (year) | M19: ='IRR Approved'!$F$46 -> 0
B21: Target to Achieve by Commercial: | L21: Prepared by
B22: Revenue | D22: IRR Negatif karena selama periode 5thn pertama hanya ada satu Operator (XL) | L22: Citra K.
D23: IRR Dilanjutkan karena EBITDA 64% setelah Sewa BM turun 51,96%
D24: Direncanakan akan implementasi Opennet di Q3/Q4 2024
D25: Sewa BM hanya 2 thn karena akan ada Pergantian PPPRS
B27: Approved by

Sheet IRR Approved
B1: NO : | C1: 0009/IRR/IBC/IV/2024 | Q1: =Summary!$D$6 -> Gading Icon
B2: General Asumption
C3: Tax Rate | F3: 0.02
C4: Interest Rate | F4: 0.1 | K4: Rev/month - XL
C5: SG&A | F5: 0.05 | G5: from Revenues
C6: BHPUSO | F6: 0 | G6: from Revenues
C7: Price Adjustment after 5 year | F7: 0.1
G9: Y1 | H9: Y2 | I9: Y3 | J9: Y4 | K9: Y5 | L9: Y6 | M9: Y7 | N9: Y8 | O9: Y9 | P9: Y10 | Q9: Total
B10: CAPEX
B11: Total CAPEX | E11: BV 31 Dec 23 | G11: 1.068487e+09 | Q11: =SUM(G11:K11) -> 1.068487e+09
B13: IRR Calculation | G13: 2024 | H13: =G13+1 -> 2025 | I13: =H13+1 -> 2026 | J13: =I13+1 -> 2027 | K13: =J13+1 -> 2028 | L13: =K13+1 -> 2029 | M13: =L13+1 -> 2030 | N13: =M13+1 -> 2031 | O13: =N13+1 -> 2032 | P13: =O13+1 -> 2033 | Q13: Total
B14: Months of Service | G14: 12 | H14: 12 | I14: 12 | J14: 12 | K14: 12 | L14: 12 | M14: 12 | N14: 12 | O14: 12 | P14: 12
B15: % increase (decrease)
B17: Revenues
C18: XL | G18: 150000000 | H18: =G18 -> 150000000 | I18: =H18 -> 150000000 | J18: =I18 -> 150000000 | K18: =J18 -> 150000000 | Q18: =SUM($G18:P18) -> 750000000
Q19: =SUM($G19:K19) -> 0
B20: Total Revenues | G20: =SUM(G18:G19) -> 150000000 | H20: =SUM(H18:H19) -> 150000000 | I20: =SUM(I18:I19) -> 150000000 | J20: =SUM(J18:J19) -> 150000000 | K20: =SUM(K18:K19) -> 150000000 | L20: =SUM(L18:L19) -> 0 | M20: =SUM(M18:M19) -> 0 | N20: =SUM(N18:N19) -> 0 | ... Q20: =SUM(Q18:Q19) -> 750000000 | R20: =SUM(G20:K20)-Q20 -> 0
B22: OPEX
C23: Lease to BM | G23: 40000000 | H23: =G23 -> 40000000 | I23: =H23 -> 40000000 | J23: =I23 -> 40000000 | K23: =J23 -> 40000000 | Q23: =SUM($G23:P23) -> 200000000
C24: Electricity | Q24: =SUM($G24:K24) -> 0
C25: Maintenance (RPM) | G25: 7000000 | H25: =G25 -> 7000000 | I25: =H25 -> 7000000 | J25: =I25 -> 7000000 | K25: =J25 -> 7000000 | Q25: =SUM($G25:P25) -> 35000000
C26: SG&A (inhouse resources) | G26: =$F$5*G20 -> 7500000 | H26: =$F$5*H20 -> 7500000 | I26: =$F$5*I20 -> 7500000 | J26: =$F$5*J20 -> 7500000 | K26: =$F$5*K20 -> 7500000 | L26: =$F$5*L20 -> 0 | M26: =$F$5*M20 -> 0 | N26: =$F$5*N20 -> 0 | ... P26: =$F$5*P20 -> 0 | Q26: =SUM($G26:P26) -> 37500000
B27: Total OPEX | G27: =SUM(G23:G26) -> 54500000 | H27: =SUM(H23:H26) -> 54500000 | I27: =SUM(I23:I26) -> 54500000 | J27: =SUM(J23:J26) -> 54500000 | K27: =SUM(K23:K26) -> 54500000 | L27: =SUM(L23:L26) -> 0 | M27: =SUM(M23:M26) -> 0 | N27: =SUM(N23:N26) -> 0 | ... Q27: =SUM(Q23:Q26) -> 272500000 | R27: =SUM(G27:K27)-Q27 -> 0
B28: Total EBITDA | G28: =G20-G27 -> 95500000 | H28: =H20-H27 -> 95500000 | I28: =I20-I27 -> 95500000 | J28: =J20-J27 -> 95500000 | K28: =K20-K27 -> 95500000 | L28: =L20-L27 -> 0 | M28: =M20-M27 -> 0 | N28: =N20-N27 -> 0 | ... Q28: =Q20-Q27 -> 477500000 | R28: =SUM(G28:K28)-Q28 -> 0
B29: Ebitda margin | H29: =H28/H20 -> 0.63666667 | I29: =I28/I20 -> 0.63666667 | J29: =J28/J20 -> 0.63666667 | K29: =K28/K20 -> 0.63666667 | L29: =L28/L20 -> #DIV/0! | M29: =M28/M20 -> #DIV/0! | N29: =N28/N20 -> #DIV/0! | O29: =O28/O20 -> #DIV/0! | ... Q29: =Q28/Q20 -> 0.63666667
B31: Depreciation Expense | G31: =G50 -> 2.136974e+08 | H31: =H60 -> 2.136974e+08 | I31: =I60 -> 2.136974e+08 | J31: =J60 -> 2.136974e+08 | K31: =K60 -> 2.136974e+08 | Q31: =SUM($G31:P31) -> 1.068487e+09
B32: Total EBIT | G32: =G28-G31 -> -1.181974e+08 | H32: =H28-H31 -> -1.181974e+08 | I32: =I28-I31 -> -1.181974e+08 | J32: =J28-J31 -> -1.181974e+08 | K32: =K28-K31 -> -1.181974e+08 | L32: =L28-L31 -> 0 | M32: =M28-M31 -> 0 | N32: =N28-N31 -> 0 | ... Q32: =Q28-Q31 -> -5.9098698e+08 | R32: =SUM(G32:K32)-Q32 -> 0
B33: Interest Expense | G33: =PARAMETER!H10 -> 28574748 | H33: =PARAMETER!I10 -> 4970372.9 | I33: =PARAMETER!J10 -> 3313582 | J33: =T71 -> 0 | K33: =U71 -> 0 | L33: =V71 -> 0 | M33: =W71 -> 0 | N33: =X71 -> 0 | O33: =Y71 -> 0 | P33: =Z71 -> 0 | Q33: =SUM($G33:K33) -> 36858703
B34: EBT | G34: =G32-G33 -> -1.4677214e+08 | H34: =H32-H33 -> -1.2316777e+08 | I34: =I32-I33 -> -1.2151098e+08 | J34: =J32-J33 -> -1.181974e+08 | K34: =K32-K33 -> -1.181974e+08 | L34: =L32-L33 -> 0 | M34: =M32-M33 -> 0 | N34: =N32-N33 -> 0 | ... P34: =P32-P33 -> 0 | Q34: =SUM($G34:P34) -> -6.2784568e+08 | R34: =SUM(G34:K34)-Q34 -> 0
B35: Tax Expense | G35: =IF(G34<0,0,G34*$F$3) -> 0 | H35: =IF(H34<0,0,H34*$F$3) -> 0 | I35: =IF(I34<0,0,I34*$F$3) -> 0 | J35: =IF(J34<0,0,J34*$F$3) -> 0 | K35: =IF(K34<0,0,K34*$F$3) -> 0 | Q35: =SUM($G35:K35) -> 0
B36: Net Income | G36: =G34-G35 -> -1.4677214e+08 | H36: =H34-H35 -> -1.2316777e+08 | I36: =I34-I35 -> -1.2151098e+08 | J36: =J34-J35 -> -1.181974e+08 | K36: =K34-K35 -> -1.181974e+08 | L36: =L34-L35 -> 0 | M36: =M34-M35 -> 0 | N36: =N34-N35 -> 0 | ... Q36: =Q34-Q35 -> -6.2784568e+08 | R36: =SUM(G36:K36)-Q36 -> 0
B38: Capex | F38: =-G11 -> -1.068487e+09 | G38: 0 | H38: 0 | I38: 0 | J38: 0 | K38: 0 | Q38: =SUM($G$38:K38) -> 0
B39: FCFF | F39: =F38 -> -1.068487e+09 | G39: =G38+G36+G31 -> 66925252 | H39: =H38+H36+H31 -> 90529627 | I39: =I38+I36+I31 -> 92186418 | J39: =J38+J36+J31 -> 95500000 | K39: =K38+K36+K31 -> 95500000 | L39: =L38+L36+L31 -> 0 | M39: =M38+M36+M31 -> 0 | N39: =N38+N36+N31 -> 0 | ... P39: =P38+P36+P31 -> 0 | Q39: =SUM($F$39:P39) -> -6.2784568e+08
B40: Accumulated FCF | F40: =E40+F39 -> -1.068487e+09 | G40: =F40+G39 -> -1.0015617e+09 | H40: =G40+H39 -> -9.110321e+08 | I40: =H40+I39 -> -8.1884568e+08 | J40: =I40+J39 -> -7.2334568e+08 | K40: =J40+K39 -> -6.2784568e+08
B41: PBP | G41: =IF(AND(F40<0,G40>0),H48-(G40/G39),0) -> 0 | H41: =IF(AND(G40<0,H40>0),I48-(H40/H39),0) -> 0 | I41: =IF(AND(H40<0,I40>0),J48-(I40/I39),0) -> 0 | J41: =IF(AND(I40<0,J40>0),K48-(J40/J39),0) -> 0 | K41: =IF(AND(J40<0,K40>0),#REF!-(K40/K39),0) -> 0
B43: IRR 5th | F43: =IRR(F39:P39) -> -0.23049293
B44: NPV 5th | F44: =NPV(F4,G39:P39)+F39 -> -7.3904117e+08
B45: EBITDA margin | F45: =Q29 -> 0.63666667
B46: Payback | F46: =SUM(G41:K41) -> 0
H48: 1 | I48: 2 | J48: 3 | K48: 4
...

Sheet PARAMETER
A1: PERHITUNGAN INTEREST EXPENSE based CAPEX
A2: Capex tahun | B2: 5 | C2: 2019 | D2: =C2+1 -> 2020 | E2: =D2+1 -> 2021 | F2: =E2+1 -> 2022 | G2: =F2+1 -> 2023 | H2: =G2+1 -> 2024 | I2: =H2+1 -> 2025 | J2: =I2+1 -> 2026 | K2: =J2+1 -> 2027 | ... M2: =L2+1 -> 2029
A3: 2019 | B3: loan | C3: 2.0290794e+09 | D3: =C3-$C$4 -> 1.6232635e+09 | E3: =D3-$C$4 -> 1.2174476e+09 | F3: =E3-$C$4 -> 8.1163174e+08 | G3: =F3-$C$4 -> 4.0581587e+08 | H3: =G3-$C$4 -> 0 | N3: 2013 | O3: 1.7266708e+09
B4: Installment/thn | C4: =C3/B2 -> 4.0581587e+08 | N4: 2014 | O4: 422342499
B5: Interest | C5: =(($C$3*'IRR Approved'!F4*6)/12) -> 1.0145397e+08 | D5: =AVERAGE(C3:D3)*'IRR Approved'!$F$4 -> 1.8261714e+08 | E5: =AVERAGE(D3:E3)*'IRR Approved'!$F$4 -> 1.4203555e+08 | F5: =AVERAGE(E3:F3)*'IRR Approved'!$F$4 -> 1.0145397e+08 | G5: =AVERAGE(F3:G3)*'IRR Approved'!$F$4 -> 60872381 | H5: =AVERAGE(G3:H3)*'IRR Approved'!$F$4 -> 20290794 | N5: 2016 | O5: 10773000
A6: 2021 | B6: loan | E6: 1.656791e+08 | F6: =E6-E7 -> 132543278 | G6: =F6-E7 -> 99407458 | H6: =G6-E7 -> 66271639 | I6: =H6-E7 -> 33135820 | N6: 2017 | O6: 102210600
B7: Installment/thn | E7: =E6/B2 -> 33135820
B8: Interest | E8: =((E6*'IRR Approved'!F4*6)/12) -> 8283954.9 | F8: =AVERAGE(E6:F6)*'IRR Approved'!$F$4 -> 14911119 | G8: =AVERAGE(F6:G6)*'IRR Approved'!$F$4 -> 11597537 | H8: =AVERAGE(G6:H6)*'IRR Approved'!$F$4 -> 8283954.9 | I8: =AVERAGE(H6:I6)*'IRR Approved'!$F$4 -> 4970372.9 | J8: =AVERAGE(I6:J6)*'IRR Approved'!$F$4 -> 3313582
B10: Interest Exp | C10: =C8+C5 -> 1.0145397e+08 | D10: =D8+D5 -> 1.8261714e+08 | E10: =E8+E5 -> 1.5031951e+08 | F10: =F8+F5 -> 1.1636509e+08 | G10: =G8+G5 -> 72469917 | H10: =H8+H5 -> 28574748 | I10: =I8+I5 -> 4970372.9 | J10: =J8+J5 -> 3313582 | ... M10: =M8+M5 -> 0
A16: SG&A | B16: 50000000 | C16: =B16+C17 -> 51000000 | D16: =C16+D18 -> 52020000 | E16: =D16+E18 -> 53060400 | F16: =E16+F18 -> 54121608 | G16: =F16+G18 -> 55204040 | H16: =G16+H18 -> 56308121 | I16: =H16+I18 -> 57434283 | J16: =I16+J18 -> 58582969 | K16: =J16+K18 -> 59754628
A17: 0.02 | C17: =C18 -> 1000000 | D17: =C17+D18 -> 2020000 | E17: =D17+E18 -> 3060400 | F17: =E17+F18 -> 4121608 | G17: =F17+G18 -> 5204040.2 | H17: =G17+H18 -> 6308121 | I17: =H17+I18 -> 7434283.4 | J17: =I17+J18 -> 8582969.1 | K17: =J17+K18 -> 9754628.4
C18: =B16*$A$17 -> 1000000 | D18: =C16*$A$17 -> 1020000 | E18: =D16*$A$17 -> 1040400 | F18: =E16*$A$17 -> 1061208 | G18: =F16*$A$17 -> 1082432.2 | H18: =G16*$A$17 -> 1104080.8 | I18: =H16*$A$17 -> 1126162.4 | J18: =I16*$A$17 -> 1148685.7 | K18: =J16*$A$17 -> 1171659.4
F23: person | G23: trip | H23: kamar | I23: Days by Omni | J23: Biaya walktest inhouse/visit | K23: Biaya walktest inhouse/thn
E24: Diisikan | F24: 1 | G24: 1 | H24: 1 | I24: 266
B25: Transport | C25: Pesawat | D25: =C36 -> 3000000 | E25: person | F25: =F24 -> 1 | J25: =F25*D25 -> 3000000
C26: Bandara | D26: 600000 | E26: person | F26: =F24 -> 1 | I26: =IF($I$16<=120,2,IF($I$16>220,4,3)) -> 4 | J26: =D26*F26 -> 600000
C27: Transport | D27: 200000 | E27: Trip | G27: =G24 -> 1 | J27: =G27*D27 -> 200000
B28: Hotel | C28: Hotel | D28: 450000 | E28: kamar | F28: =F24 -> 1 | H28: =H24 -> 1 | I28: =IF($I$16<=120,2,IF($I$16>220,4,3)) -> 4 | J28: =H28*D28*I28 -> 1800000
B29: Uang Saku | C29: Uang Saku | D29: 120000 | E29: person | F29: =F24 -> 1 | I29: =IF($I$16<=120,2,IF($I$16>220,4,3)) -> 4 | J29: =I29*D29*F29 -> 480000
J30: =SUM(J25:J29) -> 6080000 | K30: =J30*2 -> 12160000
B34: PM/Year/Site | C34: Pesawat | E34: Asumsi:
A35: Sulut | B35: 16800000 | C35: 4000000 | E35: Walktest 4x dalam setahun semua operator sekaligus
A36: Makasar | C36: 3000000 | E36: Walktest pertama oleh vendor | I36: 10000000
A37: Bali | B37: 15600000 | C37: 2500000 | E37: Walktest pertama oleh vendor | H37: Pekanbaru | I37: 12000000
A38: Jatim | B38: 15000000 | C38: 2000000 | E38: Walktest pertama oleh vendor | H38: Sumut | I38: 14000000
A39: Jateng | B39: 15000000 | C39: 1850000 | E39: Walktest pertama oleh vendor | H39: Sulsel | I39: 14000000
A40: Jabar | B40: 12000000 | C40: 1200000 | E40: Walktest pertama oleh vendor | H40: Sulut | I40: 17000000
A41: Kalimantan | B41: 16800000 | C41: 2000000 | E41: Walktest pertama oleh vendor | H41: Kalimantan | I41: 14000000
A42: Sumatera | B42: 15720000 | C42: 3500000
A43: Palembang | C43: 2800000
A44: Jabodetabek | B44: 0 | C44: 0 | D44: Inhouse
B46: CM /Year/Oprt
B47: 7000000 | D47: =B47/12 -> 583333.33
A52: LISTRIK
A53: Listrik/Oprt/year DAS+1Pole 3sektor
A54: 0-100 | B54: 36000000
A55: 101-200 | B55: 42000000
A56: 201- | B56: 48000000 | C56: =B56/12 -> 4000000
A58: Listrik/Oprt/year DAS+2Pole 6sektor
A59: 0-200 | B59: 75000000
...

Sheet SummaryBR
C1: SUMMARY REVIEW
A3: Nama Site | C3: : Gading Icon Apartemen
A4: Nama Pemilik | C4: : P3SRS
A5: Alamat Pemilik | C5: : Jl. Perinris Kemerdekaan Kav 99 Jak Tim
A6: Telp | C6: :
A7: Obyek Sewa | C7: : 384 Omni
A9: No. | B9: Keterangan | C9: Existing | D9: Renewal
A11: 1. | B11: Scope Of Lease | C11: IBC | D11: IBC
A12: 2. | B12: Obyek Sewa | C12: 384 Omni, BTS, Pole | D12: 384 Omni, BTS, Pole
A13: 3. | B13: Periode Sewa | C13: 24Okt2015 sd 23Feb2024
C14: 24Okt2020 sd 23Feb2024 (tidak ada biaya sewa) | D14: 24Feb2024 sd 23Feb2026
A15: 4 | B15: Harga Sewa | C15: 694444444 | D15: 80000000
B16: Harga Sewa/th | C16: =C15/3044*365 -> 83269455 | D16: 40000000
A17: 5 | B17: Operator Join | C17: XL 25Sep2019 sd 24Sep2024 | D17: XL 25Sep2019 sd 24Sep2024
A18: 6. | B18: Kenaikan/ Penurunan Harga | C18: Penurunan 51,96%

Sheet Analisa
A2: SITE GADING ICON APARTEMEN
A3: Periode | B3: Start | C3: End
A4: Rev XL | B4: 43733 | C4: 45559
A5: Sewa BM | B5: 45346 | C5: 46076
B7: Start | C7: End | D7: Days
A8: Worse >> Jika Sewa BM diperpanjang 5 tahun dan XL sesuai periodenya XL, maka:
A9: Rev XL | B9: 45346 | C9: 45559 | D9: =C9-B9 -> 213 | E9: 150000000 | F9: =E9*D9/365 -> 87534247
A10: Sewa BM | B10: 45346 | C10: 47172 | D10: =C10-B10 -> 1826 | E10: =275000000/5 -> 55000000 | F10: =-E10/365*D10 -> -2.7515068e+08
A11: OM | B11: 45346 | C11: 45559 | D11: =C11-B11 -> 213 | E11: 7000000 | F11: =-E11/365*D11 -> -4084931.5
A12: Antisipasi Add Capex and Pole | E12: 100000000
A13: Profit | F13: =SUM(F9:F12) -> -1.9170137e+08
A15: Worse >> Jika Sewa BM diperpanjang 2 tahun dan XL sesuai Eksisting, maka:
A16: Rev XL | B16: 45346 | C16: 45559 | D16: =C16-B16 -> 213 | E16: 150000000 | F16: =E16*D16/365 -> 87534247
A17: Sewa BM | B17: 45346 | C17: 46076 | D17: =C17-B17 -> 730 | E17: 40000000 | F17: =-E17/365*D17 -> -80000000
A18: OM | B18: 45346 | C18: 45559 | D18: =C18-B18 -> 213 | E18: 7000000 | F18: =-E18/365*D18 -> -4084931.5
A19: Antisipasi Add Capex and Pole | E19: 100000000
A20: Profit | F20: =SUM(F16:F19) -> 3449315.1
