Workbook
Name jk: #REF!
Name jk: #REF!
Name jk: #REF!
Name years_contract: [1]Kerlink!$D$5

Sheet Summary
C1: No: | D1: 0001/IRR/IBC/I/2024
C2: Product : | D2: IBS / DAS | M2: HOTEL HARRIS KELAPA GADING
C3: Status P&L | D3: Renewal | J3: Tanggal P&L: | M3: 45298
B5: Site Information | E5: Technical Information | J5: Financial Summary
B6: Site Name | D6: Hotel harris K Gading | E6: IBC | K6: Capex DAS | M6: 263456535
K7: Capex /antenna | M7: =M6/H8 -> 4318959.6
B8: Address | D8: Jl. Boulevard Kelapa Gading blok M | E8: Antena PKS BM | H8: 61 | K8: Contract Period (thn) | M8: 5
D9: DKI Jakarta | E9: Antena Asset | H9: 61 | K9: Interest rate /year | M9: 0.1
B10: Area building | D10: Jakarta Utara | E10: Jumlah Pole Makro | H10: 2 | K10: Kurs 1USD | M10: 0
B11: Type of building | D11: Hotel | E11: OPENET | K11: Total Revenue | M11: =IRR!L17 -> 750000000
B12: Status | D12: Renewal | E12: Cable FO (Core) | H12: 0 | K12: Total Capex BV 31Des23 | M12: =IRR!G10 -> 2.9763693e+08
B13: Total floor | D13: 18 | E13: Cable FO (meter) | H13: 0 | K13: Total CoGS Rent | M13: =IRR!L20 -> 135000000
B14: No of building tower | D14: 1 | E14: Drop Wire (meter) | H14: 0 | K14: Total CoGS Others | M14: =IRR!L21+IRR!L22+IRR!L23 -> 72500000
E15: OTHERS
K16: IRR | M16: =IRR!F40 -> 0.15516171
K17: NPV | M17: =IRR!F41 -> 55722717
K18: EBITDA margin | M18: =IRR!F42 -> 0.72333333
K19: Payback (year) | M19: =IRR!F43 -> 3.4929352
B21: Target Achieve by Commercial: | L21: Prepared by
D22: : Sewa BM diperpanjang hanya sampai Periode XL habis (5Nov24) | L22: Citra K.
D23: : IPnL dibuat sampai 5 thn karena nilai Capex (depresiasi) masih besar
D24: : Tanpa Depresiasi Site dalam kondisi Profit (Rev 150juta/th , Exp 41,5jt/th)
B28: Approved by

Sheet IRR
B1: No: | C1: 0001/IRR/IBC/I/2024 | L1: HARRIS KELAPA GADING
A2: Assumption:
B3: Tax Rate | F3: 0.02
B4: Interest Rate | F4: 0.1 | J4: Operator join | K4: Rev.Change
B5: SG&A | F5: 0.05 | G5: from Revenues | J5: 2024 XL
B6: BHPUSO | F6: 0 | G6: from Revenues
B7: Erosion Price | F7: 0.15 | K7: -
G8: Y1
A10: TOTAL CAPEX | F10: DAS | G10: ='Book Value'!E13 -> 2.9763693e+08
F11: BTS | G11: 0
A13: IRR Calculation | G13: 2024 | H13: 2025 | I13: 2026 | J13: 2027 | K13: 2028 | L13: Total
A14: Months of Service | G14: 12 | H14: 12 | I14: 12 | J14: 12 | K14: 12
A15: Revenues
B16: XL | G16: 150000000 | H16: 150000000 | I16: 150000000 | J16: 150000000 | K16: 150000000 | L16: =SUM(G16:K16) -> 750000000
A17: Total Revenues | G17: =SUM(G16:G16) -> 150000000 | H17: =SUM(H16:H16) -> 150000000 | I17: =SUM(I16:I16) -> 150000000 | J17: =SUM(J16:J16) -> 150000000 | K17: =SUM(K16:K16) -> 150000000 | L17: =SUM(L16:L16) -> 750000000
A19: OPEX
B20: Sewa BM | G20: 135000000 | L20: =SUM(G20:K20) -> 135000000
B21: Electricity | L21: =SUM(G21:K21) -> 0
B22: Maintenance | G22: ='Parameter Interest'!$B$53 -> 7000000 | H22: ='Parameter Interest'!$B$53 -> 7000000 | I22: ='Parameter Interest'!$B$53 -> 7000000 | J22: ='Parameter Interest'!$B$53 -> 7000000 | K22: ='Parameter Interest'!$B$53 -> 7000000 | L22: =SUM(G22:K22) -> 35000000
B23: SG&A | G23: =G17*$F$5 -> 7500000 | H23: =H17*$F$5 -> 7500000 | I23: =I17*$F$5 -> 7500000 | J23: =J17*$F$5 -> 7500000 | K23: =K17*$F$5 -> 7500000 | L23: =SUM(G23:K23) -> 37500000
A24: Total OPEX | G24: =SUM(G20:G23) -> 149500000 | H24: =SUM(H20:H23) -> 14500000 | I24: =SUM(I20:I23) -> 14500000 | J24: =SUM(J20:J23) -> 14500000 | K24: =SUM(K20:K23) -> 14500000 | L24: =SUM(L20:L23) -> 207500000
A25: Total EBITDA | G25: =G17-G24 -> 500000 | H25: =H17-H24 -> 135500000 | I25: =I17-I24 -> 135500000 | J25: =J17-J24 -> 135500000 | K25: =K17-K24 -> 135500000 | L25: =L17-L24 -> 542500000
A26: Ebitda margin | G26: =G25/G17 -> 0.0033333333 | H26: =H25/H17 -> 0.90333333 | I26: =I25/I17 -> 0.90333333 | J26: =J25/J17 -> 0.90333333 | K26: =K25/K17 -> 0.90333333 | L26: =L25/L17 -> 0.72333333
A28: Depreciation Expense | G28: =G51 -> 59527386 | H28: =H51 -> 59527386 | I28: =I51 -> 59527386 | J28: =J51 -> 59527386 | K28: =K51 -> 59527386 | L28: =SUM(G28:G28) -> 59527386
A29: Total EBIT | G29: =G25-G28 -> -59027386 | H29: =H25-H28 -> 75972614 | I29: =I25-I28 -> 75972614 | J29: =J25-J28 -> 75972614 | K29: =K25-K28 -> 75972614 | L29: =L25-L28 -> 4.8297261e+08
A30: Interest Expense | G30: ='Parameter Interest'!M16 -> 19878130 | H30: ='Parameter Interest'!N16 -> 10714467 | I30: ='Parameter Interest'!O16 -> 5110530 | J30: ='Parameter Interest'!P16 -> 3066318 | K30: ='Parameter Interest'!Q16 -> 1022106 | L30: =SUM(G30:G30) -> 19878130
A31: EBT | G31: =G29-G30 -> -78905516 | H31: =H29-H30 -> 65258147 | I31: =I29-I30 -> 70862084 | J31: =J29-J30 -> 72906296 | K31: =K29-K30 -> 74950508 | L31: =SUM(G31:K31) -> 2.0507152e+08
A32: Tax Expense | G32: =IF(G31<0,0,G31*$F$3) -> 0 | H32: =IF(H31<0,0,H31*$F$3) -> 1305162.9 | I32: =IF(I31<0,0,I31*$F$3) -> 1417241.7 | J32: =IF(J31<0,0,J31*$F$3) -> 1458125.9 | K32: =IF(K31<0,0,K31*$F$3) -> 1499010.2 | L32: =SUM(G32:K32) -> 5679540.7
A33: Net Income | G33: =G31-G32 -> -78905516 | H33: =H31-H32 -> 63952984 | I33: =I31-I32 -> 69444842 | J33: =J31-J32 -> 71448170 | K33: =K31-K32 -> 73451498 | L33: =L31-L32 -> 1.9939198e+08
A35: Capex | F35: =-G10 -> -2.9763693e+08 | G35: 0 | H35: 0 | I35: 0 | J35: 0 | K35: 0
A36: FCFF | F36: =F35 -> -2.9763693e+08 | G36: =G35+G33+G28 -> -19378130 | H36: =H35+H33+H28 -> 1.2348037e+08 | I36: =I35+I33+I28 -> 1.2897223e+08 | J36: =J35+J33+J28 -> 1.3097556e+08 | K36: =K35+K33+K28 -> 1.3297888e+08 | L36: =SUM(F36:K36) -> 1.9939198e+08
A37: Accumulated FCF | F37: =F36 -> -2.9763693e+08 | G37: =F37+G36 -> -3.1701506e+08 | H37: =G37+H36 -> -1.9353469e+08 | I37: =H37+I36 -> -64562462 | J37: =I37+J36 -> 66413094 | K37: =J37+K36 -> 1.9939198e+08
A38: PBP | G38: =IF(AND(F37<0,G37>0),G44-(G37/G36),0) -> 0 | H38: =IF(AND(G37<0,H37>0),H44-(H37/H36),0) -> 0 | I38: =IF(AND(H37<0,I37>0),I44-(I37/I36),0) -> 0 | J38: =IF(AND(I37<0,J37>0),J44-(J37/J36),0) -> 3.4929352 | K38: =IF(AND(J37<0,K37>0),K44-(K37/K36),0) -> 0
A40: IRR | F40: =IRR(F36:K36) -> 0.15516171
A41: NPV | F41: =NPV(F4,G36:K36)+F36 -> 55722717
A42: EBITDA margin | F42: =L26 -> 0.72333333
A43: Payback | F43: =SUM(F38:K38) -> 3.4929352
G44: 1 | H44: 2 | I44: 3 | J44: 4 | K44: 5
A45: Depreciation Calculation | D45: no of Year depreciated | G45: =G13 -> 2024 | H45: =H13 -> 2025 | I45: =I13 -> 2026 | J45: =J13 -> 2027 | K45: =K13 -> 2028
C46: Year 1 | D46: 5 | G46: =SUM(G10:G11)/$D46 -> 59527386 | H46: =G46 -> 59527386 | I46: =H46 -> 59527386 | J46: =I46 -> 59527386 | K46: =J46 -> 59527386
...

Sheet Parameter Interest
A1: PERHITUNGAN INTEREST EXPENSE based CAPEX
A2: Capex tahun | B2: 5 | C2: 2014 | D2: =C2+1 -> 2015 | E2: =D2+1 -> 2016 | F2: =E2+1 -> 2017 | G2: =F2+1 -> 2018 | H2: =G2+1 -> 2019 | I2: =H2+1 -> 2020 | J2: =I2+1 -> 2021 | K2: =J2+1 -> 2022 | ... Q2: =P2+1 -> 2028
A3: 2014 | B3: loan | C3: 45943546 | D3: =C3-C4 -> 36754837 | E3: =D3-C4 -> 27566128 | F3: =E3-C4 -> 18377418 | G3: =F3-C4 -> 9188709.2 | H3: =G3-C4 -> 0 | I3: =H3-$E$4 -> 0 | J3: =I3-$E$4 -> 0 | T3: 2013 | U3: 1.7266708e+09
B4: Installment/thn | C4: =C3/B2 -> 9188709.2 | T4: 2014 | U4: 422342499
B5: Interest | C5: =(($C$3*[3]IRR!$F$3)*6)/12 -> 2297177.3 | D5: =AVERAGE(C3:D3)*[3]IRR!$F$3 -> 4134919.1 | E5: =AVERAGE(D3:E3)*[3]IRR!$F$3 -> 3216048.2 | F5: =AVERAGE(E3:F3)*[3]IRR!$F$3 -> 2297177.3 | G5: =AVERAGE(F3:G3)*[3]IRR!$F$3 -> 1378306.4 | H5: =AVERAGE(G3:H3)*[3]IRR!$F$3 -> 459435.46 | I5: =AVERAGE($H$3:$I$3)*[2]IRR!$G$4 -> 0 | J5: =AVERAGE($I$3:$J$3)*[2]IRR!$G$4 -> 0 | T5: 2016 | U5: 10773000
A6: 2015 | B6: loan | D6: 47326022 | E6: =D6-D7 -> 37860817 | F6: =E6-D7 -> 28395613 | G6: =F6-D7 -> 18930409 | H6: =G6-D7 -> 9465204.3 | T6: 2017 | U6: 102210600
B7: Installment/thn | D7: =D6/B2 -> 9465204.3
B8: Interest | D8: =((D6*IRR!F4*6)/12) -> 2366301.1 | E8: =AVERAGE(D6:E6)*IRR!F4 -> 4259341.9 | F8: =AVERAGE(E6:F6)*IRR!$F$4 -> 3312821.5 | G8: =AVERAGE(F6:G6)*IRR!$F$4 -> 2366301.1 | H8: =AVERAGE(G6:H6)*IRR!$F$4 -> 1419780.6 | I8: =AVERAGE(H6:I6)*IRR!$F$4 -> 946520.43
A9: 2020 | B9: loan | I9: 355972539 | J9: =I9-I10 -> 2.8477803e+08 | K9: =J9-I10 -> 2.1358352e+08 | L9: =K9-I10 -> 1.4238902e+08 | M9: =L9-I10 -> 71194508 | N9: =M9-I10 -> 0
B10: Installment/thn | I10: =I9/B2 -> 71194508
B11: Interest | I11: =((I9*IRR!F4*6)/12) -> 17798627 | J11: =AVERAGE(I9:J9)*IRR!$F$4 -> 32037529 | K11: =AVERAGE(J9:K9)*IRR!$F$4 -> 24918078 | L11: =AVERAGE(K9:L9)*IRR!$F$4 -> 17798627 | M11: =AVERAGE(L9:M9)*IRR!$F$4 -> 10679176 | N11: =AVERAGE(M9:N9)*IRR!$F$4 -> 3559725.4
A12: 2023 | B12: loan | L12: 102210600 | M12: =L12-L13 -> 81768480 | N12: =M12-L13 -> 61326360 | O12: =N12-L13 -> 40884240 | P12: =O12-L13 -> 20442120 | Q12: =P12-L13 -> 0
B13: Installment/thn | L13: =L12/B2 -> 20442120
B14: Interest | L14: =((L12*IRR!F4*6)/12) -> 5110530 | M14: =AVERAGE(L12:M12)*IRR!$F$4 -> 9198954 | N14: =AVERAGE(M12:N12)*IRR!$F$4 -> 7154742 | O14: =AVERAGE(N12:O12)*IRR!$F$4 -> 5110530 | P14: =AVERAGE(O12:P12)*IRR!$F$4 -> 3066318 | Q14: =AVERAGE(P12:Q12)*IRR!$F$4 -> 1022106
B16: Interest Exp | C16: =C5+C8+C11+C14 -> 2297177.3 | D16: =D5+D8+D11+D14 -> 6501220.2 | E16: =E5+E8+E11+E14 -> 7475390.2 | F16: =F5+F8+F11+F14 -> 5609998.8 | G16: =G5+G8+G11+G14 -> 3744607.5 | H16: =H5+H8+H11+H14 -> 1879216.1 | I16: =I5+I8+I11+I14 -> 18745147 | J16: =J5+J8+J11+J14 -> 32037529 | ... Q16: =Q5+Q8+Q11+Q14 -> 1022106
B18: Year 1 | C18: Year 2 | D18: Year 3 | E18: Year 4 | F18: Year 5 | G18: Year 6 | H18: Year 7 | I18: Year 8 | J18: Year 9 | K18: Year 10
A19: loan | B19: =SUM(IRR!G10:G11) -> 2.9763693e+08 | C19: =$B$19-$B$21 -> 2.3810954e+08 | D19: =$C$19-$B$21 -> 1.7858216e+08 | E19: =$D$19-$B$21 -> 1.1905477e+08 | F19: =$E$19-$B$21 -> 59527386 | G19: =$F$19-$B$21 -> 0 | H19: =$G$19-$B$21 -> -59527386 | I19: =$H$19-$B$21 -> -1.1905477e+08 | J19: =$I$19-$B$21 -> -1.7858216e+08 | K19: =$J$19-$B$21 -> -2.3810954e+08
A20: Period (thn) | B20: 5
A21: Installment/thn | B21: =$B$19/$B$20 -> 59527386
A22: Interest | B22: =(($B$19*IRR!F4*6)/12) -> 14881846 | C22: =AVERAGE(B19:C19)*IRR!F4 -> 26787324 | D22: =AVERAGE(C19:D19)*IRR!F4 -> 20834585 | E22: =AVERAGE(D19:E19)*IRR!F4 -> 14881846 | F22: =AVERAGE(E19:F19)*IRR!F4 -> 8929107.9 | G22: =AVERAGE(F19:G19)*IRR!F4 -> 2976369.3 | H22: =AVERAGE($G$19:$H$19)*[2]IRR!$G$4 -> -2976369.3 | I22: =AVERAGE($H$19:$I$19)*[2]IRR!$G$4 -> -8929107.9 | J22: =AVERAGE($I$19:$J$19)*[2]IRR!$G$4 -> -14881846 | K22: =AVERAGE($J$19:$K$19)*[2]IRR!$G$4 -> -20834585
F29: person | G29: trip | H29: kamar | I29: Days by Omni | J29: Biaya walktest inhouse/visit | K29: Biaya walktest inhouse/thn
E30: Diisikan | F30: 1 | G30: 1 | H30: 1 | I30: =157+58 -> 215
B31: Transport | C31: Pesawat | D31: =C48 -> 3500000 | E31: person | F31: =F30 -> 1 | J31: =F31*D31 -> 3500000
C32: Bandara | D32: 600000 | E32: person | F32: =F30 -> 1 | I32: =IF($I$27<=120,2,IF($I$27>220,4,3)) -> 2 | J32: =D32*F32 -> 600000
C33: Transport | D33: 200000 | E33: Trip | G33: =G30 -> 1 | J33: =G33*D33 -> 200000
B34: Hotel | C34: Hotel | D34: 450000 | E34: kamar | F34: =F30 -> 1 | H34: =H30 -> 1 | I34: =IF($I$27<=120,2,IF($I$27>220,4,3)) -> 2 | J34: =H34*D34*I34 -> 900000
B35: Uang Saku | C35: Uang Saku | D35: 120000 | E35: person | F35: =F30 -> 1 | I35: =IF($I$27<=120,2,IF($I$27>220,4,3)) -> 2 | J35: =I35*D35*F35 -> 240000
J36: =SUM(J31:J35) -> 5440000 | K36: =J36*4 -> 21760000
B40: PM/Year/Site | C40: Pesawat | E40: Asumsi:
A41: Sulut | B41: 16800000 | C41: 4000000 | E41: Walktest 4x dalam setahun semua operator sekaligus
A42: Makasar | C42: 3000000 | E42: Walktest pertama oleh vendor | I42: 10000000
A43: Bali | B43: 15600000 | C43: 2500000 | E43: Walktest pertama oleh vendor | H43: Pekanbaru | I43: 12000000
A44: Jatim | B44: 15000000 | C44: 2000000 | E44: Walktest pertama oleh vendor | H44: Sumut | I44: 14000000
A45: Jateng | B45: 15000000 | C45: 1850000 | E45: Walktest pertama oleh vendor | H45: Sulsel | I45: 14000000
A46: Jabar | B46: 12000000 | C46: 1200000 | E46: Walktest pertama oleh vendor | H46: Sulut | I46: 17000000
A47: Kalimantan | B47: 16800000 | C47: 2000000 | E47: Walktest pertama oleh vendor | H47: Kalimantan | I47: 14000000
A48: Sumatera | B48: 15720000 | C48: 3500000
A49: Palembang | C49: 2800000
A50: Jabodetabek | B50: 0 | C50: 0 | D50: Inhouse
B52: CM /Year/Oprt
...

Sheet Book Value
B1: 2013 | C1: 2014 | D1: 2015 | E1: 2016 | F1: 2017 | G1: 2018 | H1: 2019 | I1: 2020 | J1: 2021
A2: DAS | B2: 196197644 | C2: 27220085 | D2: 34770395 | E2: 4683385 | F2: 220443942
A3: BTS | B3: 24000000 | C3: 21486000 | D3: 4220580
A5: DAS | B5: =(B2/10)*(2023-B1) -> 196197644 | C5: =(C2/10)*(2023-C1) -> 24498076 | D5: =(D2/10)*(2023-D1) -> 27816316 | E5: =(E2/10)*(2023-E1) -> 3278369.5 | F5: =(F2/10)*(2023-F1) -> 1.3226637e+08
A6: BTS | C6: =(C3/10)*(2023-C1) -> 19337400 | E6: =(E3/10)*(2023-E1) -> 0
A8: DAS | B8: =B2-B5 -> 0 | C8: =C2-C5 -> 2722008.5 | D8: =D2-D5 -> 6954079 | E8: =E2-E5 -> 1405015.5 | F8: =F2-F5 -> 88177577
A9: BTS | C9: =C3-C6 -> 2148600 | D9: =D3-D6 -> 4220580 | E9: =E3-E6 -> 0 | F9: =F3-F6 -> 0
B13: BV Harris Kelapa Gading 31Des23 | E13: 2.9763693e+08

Sheet Summary BR
C1: SUMMARY REVIEW
A3: Nama Site | C3: : H. Harris Kelapa Gading
A4: Nama Pemilik | C4: : PT. Jejaring Ultra Prima
A5: Alamat Pemilik | C5: : Jl. Boulevard Kelapa Gading, Blok M
A6: Telp | C6: :
A7: Obyek Sewa | C7: : Area roof top
A9: No. | B9: Keterangan | C9: Existing | D9: Renewal
A11: 1. | B11: Scope Of Lease | C11: IBC | D11: IBC
A12: 2. | B12: Obyek Sewa | C12: Omni 61, RBS 40 m2 | D12: Omni 61, RBS 40 m2
A13: 3. | B13: Periode Sewa | C13: 01 Jan 2019 s/d 31 Des 2023 (5 tahun) | D13: 01 Jan 2024 s/d 05 Nov 2024 (11bln 4 hari)
A14: 4 | B14: Harga Sewa / Masa Sewa | C14: Rp. 135.000.000 | D14: 25050000
B15: Harga Sewa / Tahun | C15: Rp. 27.000.000 | D15: 25050000
A16: 5 | B16: Operator Join | C16: XL (06/11/2019 s/d 05/11/2024) | D16: XL (06/11/2019 s/d 05/11/2024)
B17: Harga Sewa / Tahun | C17: Rp. 150.000.000 | D17: Rp. 150.000.000
A18: 6. | B18: Kenaikan/ Penurunan Harga | C18: Mengalami Penurunan (-7,22%)

Sheet Analisa
A2: SITE Harris Kelapa Gading
A3: Periode | B3: Start | C3: End
A4: Rev XL | B4: 43775 | C4: 45601
A5: Sewa BM | B5: 45292 | C5: 45601
B7: Start | C7: End | D7: Days
A8: Worse >> Jika Sewa BM diperpanjang sampai i periode XL berakhir, maka:
A9: Rev XL | B9: 45292 | C9: 45601 | D9: =C9-B9 -> 309 | E9: 150000000 | F9: =E9/365*D9 -> 1.269863e+08
A10: Sewa BM | B10: 45292 | C10: 45601 | D10: =C10-B10 -> 309 | E10: 27000000 | F10: =-E10/365*D10 -> -22857534
A11: OM | B11: 45292 | C11: 45601 | D11: =C11-B11 -> 309 | E11: 7000000 | F11: =-E11/365*D11 -> -5926027.4
A12: Antisipasi Add Capex and Pole | E12: 100000000
A13: Profit | F13: =SUM(F9:F12) -> 98202740
E24: =27000+14500 -> 41500
