Workbook
Name jk: #REF!
Name jk: #REF!
Name years_contract: [1]Kerlink!$D$5

Sheet Summary
C1: No. | D1: 0011/IRR/IBC/IV/2024 | M1: HOTEL LOMBOK PLAZA
C2: Product : | D2: IBS / DAS | J2: Tanggal P&L: | M2: 45357
C3: Status P&L | D3: Perpanjangan
B5: Site Information | E5: Technical Information | J5: Financial Summary
B6: Site Name | D6: Hotel Lombok Plaza | E6: IBC | K6: Capex DAS | M6: 6.6327251e+08
K7: Capex /antenna | M7: =M6/H9 -> 7991235.1
B8: Address | D8: Lombok | E8: Antena PKS BM | H8: 83 | K8: Contract Period (thn) | M8: 10
E9: Antena Asset | H9: 83 | K9: Interest rate /year | M9: =[2]IRR!F3 -> 0.1
B10: Area building | D10: Lombok | E10: Jumlah Pole Makro | H10: 0 | K10: Kurs 1USD | M10: 0
B11: Type of building | D11: Mall | E11: OPENET | K11: Total Revenue | M11: =IRR!Q18 -> 3078000000
B12: Status | D12: Renewal | E12: Cable FO (Core) | H12: 0 | K12: Total Capex CME IOH | M12: =SUM(IRR!G9:P10) -> 185000000
B13: Total floor | E13: Cable FO (meter) | H13: 0 | K13: Total Opex Sewa | M13: =IRR!Q21 -> 777777777
B14: No of building tower | D14: 1 | E14: Drop Wire (meter) | H14: 0 | K14: Total Opex Other | M14: =IRR!Q22+IRR!Q23+IRR!Q24 -> 1303500000
E15: OTHERS | K15: IRR | M15: =IRR!F39 -> 0.16537019
K16: NPV | M16: =IRR!F40 -> 1.8944399e+08
K17: EBITDA margin | M17: =IRR!F41 -> 0.32382138
K18: Payback (year) | M18: =IRR!F42 -> 6.0152542
B20: Target Achieved by Commercial: | L20: Prepared by
B21: Revenue | D21: : PKS BM sampai 10 tahun, TOP BM th pertama dan kedua | L21: Citra K
D22: : Tsel dan IOH diharapkan sampai akhir periode BM
D23: : Tsel & IOH dalam 10 thn sewa BM diperpanjang dengan harga eksisting
D24: : IOH Diharapkan Join On Air thn 2025, Rev di 2026
B27: Approved by
C36: DI HOLD SAMPAI ADA KEPASTIAN IOH MASUK di LOMBOK PLAZA, INFO DARI MARKETING BULAN DESEMBER 2023 ada INFO DARI ISAT

Sheet IRR
B1: No. | C1: 0024/03/IRR/IBC/XI/2023 | P1: HOTEL LOMBOK PLAZA
B2: General | M2: Operator join | N2: Rev.Change
C3: Tax Rate | F3: 0.02 | M3: 2025 Tsel
C4: Interest Rate | F4: 0.1 | M4: 2026 IOH
C5: SG&A | F5: 0.05 | G5: from Revenues | N5: -
C6: BHPUSO | F6: 0 | G6: from Revenues | N6: -
C7: Erosion | F7: 0.15
G8: Y1 | H8: Y2 | I8: Y3 | J8: Y4 | K8: Y5 | L8: Y6 | M8: Y7 | N8: Y8 | O8: Y9 | P8: Y10
B9: Total CAPEX | D9: CME IOH JOIN Awal 2025 | H9: 185000000 | I9: 0 | J9: 0
D10: BTS
G11: 2024 | H11: 2025 | I11: 2026 | J11: 2027 | K11: 2028 | L11: 2029 | M11: 2030 | N11: 2031 | O11: 2032 | P11: 2033
B12: IRR Calculation | G12: Year 1 | H12: Year 2 | I12: Year 3 | J12: Year 4 | K12: Year 5 | L12: Year 6 | M12: Year 7 | N12: Year 8 | O12: Year 9 | P12: Year 10 | Q12: Total
B13: Months of Service | G13: 12 | H13: 12 | I13: 12 | J13: 12 | K13: 12 | L13: 12 | M13: 12 | N13: 12 | O13: 12 | P13: 12
B14: Revenues
C15: TSEL | G15: 171000000 | H15: =G15 -> 171000000 | I15: =H15 -> 171000000 | J15: =I15 -> 171000000 | K15: =J15 -> 171000000 | L15: =K15 -> 171000000 | M15: =L15 -> 171000000 | N15: =M15 -> 171000000 | O15: =N15 -> 171000000 | P15: =O15 -> 171000000 | Q15: =SUM(G15:P15) -> 1710000000 | S15: Alternatif DPP nya BM
C16: Isat | I16: 171000000 | J16: =I16 -> 171000000 | K16: =J16 -> 171000000 | L16: =K16 -> 171000000 | M16: =L16 -> 171000000 | N16: =M16 -> 171000000 | O16: =N16 -> 171000000 | P16: =O16 -> 171000000 | Q16: =SUM(G16:P16) -> 1368000000
R17: DPP | S17: 864197530 | T17: 770077007 | U17: DPP
B18: Total Revenues (SF) | G18: =SUM(G15:G17) -> 171000000 | H18: =SUM(H15:H17) -> 171000000 | I18: =SUM(I15:I17) -> 342000000 | J18: =SUM(J15:J17) -> 342000000 | K18: =SUM(K15:K17) -> 342000000 | L18: =SUM(L15:L17) -> 342000000 | M18: =SUM(M15:M17) -> 342000000 | N18: =SUM(N15:N17) -> 342000000 | ... P18: =SUM(P15:P17) -> 342000000 | Q18: =SUM(G18:P18) -> 3078000000 | R18: PPN 11% | S18: =S17*11% -> 95061728 | T18: =T17*11% -> 84708471 | U18: PPN 11%
R19: PPh 10% | S19: =-S17*10% -> -86419753 | T19: =-T17*10% -> -77007701 | U19: PPh 10%
B20: OPEX | R20: Net | S20: =S17+S18+S19 -> 8.7283951e+08 | T20: =T17+T18+T19 -> 7.7777778e+08 | U20: Net
C21: Lease to BM | G21: =777777777/2 -> 3.8888889e+08 | H21: =G21 -> 3.8888889e+08 | Q21: =SUM(G21:P21) -> 777777777
C22: Electricity | G22: 42000000 | H22: =G22 -> 42000000 | I22: =H22*2 -> 84000000 | J22: =I22 -> 84000000 | K22: =J22 -> 84000000 | L22: =K22 -> 84000000 | M22: =L22 -> 84000000 | N22: =M22 -> 84000000 | O22: =N22 -> 84000000 | P22: =O22 -> 84000000 | Q22: =SUM(G22:P22) -> 756000000 | S22: =S20 -> 8.7283951e+08
C23: Maintenance | G23: =PARAMETER!$K$17+PARAMETER!$B$24+PARAMETER!$B$34 -> 33760000 | H23: =PARAMETER!$K$17+PARAMETER!$B$24+PARAMETER!$B$34*1 -> 33760000 | I23: =PARAMETER!$K$17+PARAMETER!$B$24+PARAMETER!$B$34*2 -> 40760000 | J23: =I23 -> 40760000 | K23: =J23 -> 40760000 | L23: =K23 -> 40760000 | M23: =L23 -> 40760000 | N23: =M23 -> 40760000 | O23: =N23 -> 40760000 | P23: =O23 -> 40760000 | Q23: =SUM(G23:P23) -> 393600000 | S23: =-S18 -> -95061728
C24: SG&A | G24: =G18*$F$5 -> 8550000 | H24: =H18*$F$5 -> 8550000 | I24: =I18*$F$5 -> 17100000 | J24: =J18*$F$5 -> 17100000 | K24: =K18*$F$5 -> 17100000 | L24: =L18*$F$5 -> 17100000 | M24: =M18*$F$5 -> 17100000 | N24: =N18*$F$5 -> 17100000 | ... P24: =P18*$F$5 -> 17100000 | Q24: =SUM(G24:P24) -> 153900000 | S24: =S22+S23 -> 777777777
B25: Total OPEX | G25: =SUM(G21:G24) -> 4.7319889e+08 | H25: =SUM(H21:H24) -> 4.7319889e+08 | I25: =SUM(I21:I24) -> 141860000 | J25: =SUM(J21:J24) -> 141860000 | K25: =SUM(K21:K24) -> 141860000 | L25: =SUM(L21:L24) -> 141860000 | M25: =SUM(M21:M24) -> 141860000 | N25: =SUM(N21:N24) -> 141860000 | ... Q25: =SUM(Q21:Q24) -> 2081277777 | V25: =Q18-Q21-Q22-Q23 -> 1150622223
B26: Total EBITDA | G26: =G18-G25 -> -3.0219889e+08 | H26: =H18-H25 -> -3.0219889e+08 | I26: =I18-I25 -> 200140000 | J26: =J18-J25 -> 200140000 | K26: =K18-K25 -> 200140000 | L26: =L18-L25 -> 200140000 | M26: =M18-M25 -> 200140000 | N26: =N18-N25 -> 200140000 | ... Q26: =Q18-Q25 -> 996722223
B27: Ebitda margin | G27: =G26/G18 -> -1.767245 | H27: =H26/H18 -> -1.767245 | I27: =I26/I18 -> 0.58520468 | J27: =J26/J18 -> 0.58520468 | K27: =K26/K18 -> 0.58520468 | L27: =L26/L18 -> 0.58520468 | M27: =M26/M18 -> 0.58520468 | N27: =N26/N18 -> 0.58520468 | ... Q27: =Q26/Q18 -> 0.32382138 | S27: =S22/10 -> 87283951
B28: Depreciation Expense | G28: =G55 -> 0 | H28: =H55 -> 0 | I28: =I55 -> 23125000 | J28: =J55 -> 23125000 | K28: =K55 -> 23125000 | L28: =L55 -> 23125000 | M28: =M55 -> 23125000 | N28: =N55 -> 23125000 | ... P28: =P55 -> 23125000 | Q28: =SUM(G28:P28) -> 185000000
B29: Total EBIT | G29: =G26-G28 -> -3.0219889e+08 | H29: =H26-H28 -> -3.0219889e+08 | I29: =I26-I28 -> 177015000 | J29: =J26-J28 -> 177015000 | K29: =K26-K28 -> 177015000 | L29: =L26-L28 -> 177015000 | M29: =M26-M28 -> 177015000 | N29: =N26-N28 -> 177015000 | ... Q29: =Q26-Q28 -> 811722223 | S29: =S24/2 -> 3.8888889e+08
B30: Interest Expense | G30: =PARAMETER!B5 -> 0 | H30: =PARAMETER!C5 -> 0 | I30: =PARAMETER!D5 -> 0 | J30: =PARAMETER!E5 -> 0 | K30: =PARAMETER!F5 -> 0 | Q30: =SUM(G30:P30) -> 0
B31: EBT | G31: =G29-G30 -> -3.0219889e+08 | H31: =H29-H30 -> -3.0219889e+08 | I31: =I29-I30 -> 177015000 | J31: =J29-J30 -> 177015000 | K31: =K29-K30 -> 177015000 | L31: =L29-L30 -> 177015000 | M31: =M29-M30 -> 177015000 | N31: =N29-N30 -> 177015000 | ... P31: =P29-P30 -> 177015000 | Q31: =SUM(G31:P31) -> 811722223
B32: Tax Expense | G32: =IF(G31<0,0,G31*$F$3) -> 0 | H32: =IF(H31<0,0,H31*$F$3) -> 0 | I32: =IF(I31<0,0,I31*$F$3) -> 3540300 | J32: =IF(J31<0,0,J31*$F$3) -> 3540300 | K32: =IF(K31<0,0,K31*$F$3) -> 3540300 | L32: =IF(L31<0,0,L31*$F$3) -> 3540300 | M32: =IF(M31<0,0,M31*$F$3) -> 3540300 | N32: =IF(N31<0,0,N31*$F$3) -> 3540300 | ... P32: =IF(P31<0,0,P31*$F$3) -> 3540300 | Q32: =SUM(G32:P32) -> 28322400
B33: Net Income | G33: =G31-G32 -> -3.0219889e+08 | H33: =H31-H32 -> -3.0219889e+08 | I33: =I31-I32 -> 173474700 | J33: =J31-J32 -> 173474700 | K33: =K31-K32 -> 173474700 | L33: =L31-L32 -> 173474700 | M33: =M31-M32 -> 173474700 | N33: =N31-N32 -> 173474700 | ... Q33: =Q31-Q32 -> 783399823
B35: Capex | G35: =-G9 -> 0 | H35: =-H9 -> -185000000 | I35: =-J9+-J10 -> 0 | J35: =-P9+-P10 -> 0 | K35: =-Q9+-Q10 -> 0 | L35: =-R9+-R10 -> 0 | M35: =-S9+-S10 -> 0 | N35: =-T9+-T10 -> 0 | O35: =-U9+-U10 -> 0 | P35: =-V9+-V10 -> 0 | Q35: =SUM(F35:P35) -> -185000000
B36: FCFF | F36: =F35 -> 0 | G36: =G35+G33+G28 -> -3.0219889e+08 | H36: =H35+H33+H28 -> -4.8719889e+08 | I36: =I35+I33+I28 -> 196599700 | J36: =J35+J33+J28 -> 196599700 | K36: =K35+K33+K28 -> 196599700 | L36: =L35+L33+L28 -> 196599700 | M36: =M35+M33+M28 -> 196599700 | N36: =N35+N33+N28 -> 196599700 | ... Q36: =Q35+Q33+Q28 -> 783399823
B37: Accumulated FCF | F37: =F36 -> 0 | G37: =F37+G36 -> -3.0219889e+08 | H37: =G37+H36 -> -789397777 | I37: =H37+I36 -> -592798077 | J37: =I37+J36 -> -396198377 | K37: =J37+K36 -> -199598677 | L37: =K37+L36 -> -2998977 | M37: =L37+M36 -> 193600723 | N37: =M37+N36 -> 390200423 | ... P37: =O37+P36 -> 783399823
B38: PBP | G38: =IF(AND(F37<0,G37>0),G43-(G37/G36),0) -> 0 | H38: =IF(AND(G37<0,H37>0),H43-(H37/H36),0) -> 0 | I38: =IF(AND(H37<0,I37>0),I43-(I37/I36),0) -> 0 | J38: =IF(AND(I37<0,J37>0),J43-(J37/J36),0) -> 0 | P38: =IF(AND(J37<0,P37>0),P43-(P37/P36),0) -> 6.0152542
B39: IRR | F39: =IRR(G36:P36) -> 0.16537019
B40: NPV | F40: =NPV(F4,G36:P36)+F36 -> 1.8944399e+08
B41: EBITDA margin | F41: =Q27 -> 0.32382138
...

Sheet Summary (2)
C1: No. | D1: 0011/IRR/IBC/IV/2024 | M1: HOTEL LOMBOK PLAZA
C2: Product : | D2: IBS / DAS | J2: Tanggal P&L: | M2: 45357
C3: Status P&L | D3: New
B5: Site Information | E5: Technical Information | J5: Financial Summary
B6: Site Name | D6: Hotel Lombok Plaza | E6: IBC | K6: Capex DAS | M6: 6.6327251e+08
K7: Capex /antenna | M7: =M6/H9 -> 7991235.1
B8: Address | D8: Lombok | E8: Antena PKS BM | H8: 83 | K8: Contract Period (thn) | M8: 5
E9: Antena Asset | H9: 83 | K9: Interest rate /year | M9: =[2]IRR!F3 -> 0.1
B10: Area building | D10: Lombok | E10: Jumlah Pole Makro | H10: 0 | K10: Kurs 1USD | M10: 0
B11: Type of building | D11: Mall | E11: OPENET | K11: Total Revenue | M11: ='IRR (2)'!Q18 -> 1776000000
B12: Status | D12: Renewal | E12: Cable FO (Core) | H12: 0 | K12: Total Capex CME IOH | M12: ='IRR (2)'!G9 -> 185000000
B13: Total floor | E13: Cable FO (meter) | H13: 0 | K13: Total Opex Sewa | M13: ='IRR (2)'!Q21 -> 5.237037e+08
B14: No of building tower | D14: 1 | E14: Drop Wire (meter) | H14: 0 | K14: Total Opex Other | M14: ='IRR (2)'!Q22+'IRR (2)'!Q23+'IRR (2)'!Q24 -> 788360000
E15: OTHERS | K15: IRR | M15: ='IRR (2)'!F39 -> 0.40386605
K16: NPV | M16: ='IRR (2)'!F40 -> 1.4759501e+08
K17: EBITDA margin | M17: ='IRR (2)'!F41 -> 0.26122539
K18: Payback (year) | M18: ='IRR (2)'!F42 -> 3.0219865
B20: Target Achieved by Commercial: | L20: Prepared by
B21: Revenue | D21: : PKS BM sampai End Period nya IOH | L21: Citra K
D22: : Tsel diharapkan sama dengan periode BM
D23: :
B27: Approved by
C36: DI HOLD SAMPAI ADA KEPASTIAN IOH MASUK di LOMBOK PLAZA, INFO DARI MARKETING BULAN DESEMBER 2023 ada INFO DARI ISAT

Sheet IRR (2)
B1: No. | C1: 0024/03/IRR/IBC/XI/2023 | P1: HOTEL LOMBOK PLAZA
B2: General | K2: Operator join | L2: Rev.Change
C3: Tax Rate | F3: 0.02 | K3: 2023 Tsel
C4: Interest Rate | F4: 0.1 | K4: 2025 IOH
C5: SG&A | F5: 0.05 | G5: from Revenues
C6: BHPUSO | F6: 0 | G6: from Revenues
C7: Erosion | F7: 0.15
G8: Y1 | H8: Y2 | I8: Y3 | J8: Y4 | K8: Y5 | L8: Y6 | M8: Y7 | N8: Y8 | O8: Y9 | P8: Y10
B9: Total CAPEX | D9: CME IOH JOIN Awal 2025 | G9: 185000000 | H9: 0 | I9: 0 | J9: 0
D10: BTS
G11: 2024 | H11: 2025 | I11: 2026 | J11: 2027 | K11: 2028 | L11: 2029 | M11: 2030 | N11: 2031 | O11: 2032 | P11: 2033
B12: IRR Calculation | G12: Year 1 | H12: Year 2 | I12: Year 3 | J12: Year 4 | K12: Year 5 | L12: Year 6 | M12: Year 7 | N12: Year 8 | O12: Year 9 | P12: Year 10 | Q12: Total
B13: Months of Service | G13: 12 | H13: 12 | I13: 12 | J13: 12 | K13: 12 | L13: 12 | M13: 12 | N13: 12 | O13: 12 | P13: 12
B14: Revenues
C15: TSEL | G15: 171000000 | H15: =G15 -> 171000000 | I15: =H15 -> 171000000 | J15: =I15 -> 171000000 | K15: =J15 -> 171000000 | L15: =K15 -> 171000000 | Q15: =SUM(G15:P15) -> 1026000000 | S15: Alternatif DPP nya BM
C16: Isat | H16: 150000000 | I16: 150000000 | J16: 150000000 | K16: 150000000 | L16: 150000000 | Q16: =SUM(G16:P16) -> 750000000
R17: DPP | S17: 864197530 | T17: 770077007 | U17: DPP
B18: Total Revenues (SF) | G18: =SUM(G15:G17) -> 171000000 | H18: =SUM(H15:H17) -> 321000000 | I18: =SUM(I15:I17) -> 321000000 | J18: =SUM(J15:J17) -> 321000000 | K18: =SUM(K15:K17) -> 321000000 | L18: =SUM(L15:L17) -> 321000000 | M18: =SUM(M15:M17) -> 0 | N18: =SUM(N15:N17) -> 0 | ... P18: =SUM(P15:P17) -> 0 | Q18: =SUM(G18:P18) -> 1776000000 | R18: PPN 11% | S18: =S17*11% -> 95061728 | T18: =T17*11% -> 84708471 | U18: PPN 11%
R19: PPh 10% | S19: =-S17*10% -> -86419753 | T19: =-T17*10% -> -77007701 | U19: PPh 10%
B20: OPEX | R20: Net | S20: =S17+S18+S19 -> 8.7283951e+08 | T20: =T17+T18+T19 -> 7.7777778e+08 | U20: Net
C21: Lease to BM | G21: 87283951 | H21: 87283951 | I21: 87283951 | J21: 87283951 | K21: 87283951 | L21: 87283951 | Q21: =SUM(G21:P21) -> 5.237037e+08
C22: Electricity | G22: 42000000 | H22: =42000000*2 -> 84000000 | I22: =H22 -> 84000000 | J22: =I22 -> 84000000 | K22: =J22 -> 84000000 | L22: =K22 -> 84000000 | Q22: =SUM(G22:P22) -> 462000000 | S22: =S20 -> 8.7283951e+08
C23: Maintenance | G23: =PARAMETER!$K$17+PARAMETER!$B$24+PARAMETER!$B$34 -> 33760000 | H23: =PARAMETER!$K$17+PARAMETER!$B$24+PARAMETER!$B$34*2 -> 40760000 | I23: =PARAMETER!$K$17+PARAMETER!$B$24+PARAMETER!$B$34*2 -> 40760000 | J23: =PARAMETER!$K$17+PARAMETER!$B$24+PARAMETER!$B$34*2 -> 40760000 | K23: =PARAMETER!$K$17+PARAMETER!$B$24+PARAMETER!$B$34*2 -> 40760000 | L23: =PARAMETER!$K$17+PARAMETER!$B$24+PARAMETER!$B$34*2 -> 40760000 | Q23: =SUM(G23:P23) -> 237560000 | S23: =-S18 -> -95061728
C24: SG&A | G24: =G18*$F$5 -> 8550000 | H24: =H18*$F$5 -> 16050000 | I24: =I18*$F$5 -> 16050000 | J24: =J18*$F$5 -> 16050000 | K24: =K18*$F$5 -> 16050000 | L24: =L18*$F$5 -> 16050000 | M24: =M18*$F$5 -> 0 | N24: =N18*$F$5 -> 0 | ... P24: =P18*$F$5 -> 0 | Q24: =SUM(G24:P24) -> 88800000 | S24: =S22+S23 -> 777777777
B25: Total OPEX | G25: =SUM(G21:G24) -> 1.7159395e+08 | H25: =SUM(H21:H24) -> 2.2809395e+08 | I25: =SUM(I21:I24) -> 2.2809395e+08 | J25: =SUM(J21:J24) -> 2.2809395e+08 | K25: =SUM(K21:K24) -> 2.2809395e+08 | L25: =SUM(L21:L24) -> 2.2809395e+08 | M25: =SUM(M21:M24) -> 0 | N25: =SUM(N21:N24) -> 0 | ... Q25: =SUM(Q21:Q24) -> 1.3120637e+09 | V25: =Q18-Q21-Q22-Q23 -> 5.527363e+08
B26: Total EBITDA | G26: =G18-G25 -> -593950.53 | H26: =H18-H25 -> 92906049 | I26: =I18-I25 -> 92906049 | J26: =J18-J25 -> 92906049 | K26: =K18-K25 -> 92906049 | L26: =L18-L25 -> 92906049 | M26: =M18-M25 -> 0 | N26: =N18-N25 -> 0 | ... Q26: =Q18-Q25 -> 4.639363e+08
B27: Ebitda margin | G27: 0 | H27: =H26/H18 -> 0.28942695 | I27: =I26/I18 -> 0.28942695 | J27: =J26/J18 -> 0.28942695 | K27: =K26/K18 -> 0.28942695 | L27: =L26/L18 -> 0.28942695 | M27: =M26/M18 -> #DIV/0! | N27: =N26/N18 -> #DIV/0! | O27: =O26/O18 -> #DIV/0! | ... Q27: =Q26/Q18 -> 0.26122539 | S27: =S22/10 -> 87283951
B28: Depreciation Expense | G28: =G55 -> 0 | H28: =H55 -> 37000000 | I28: =I55 -> 37000000 | J28: =J55 -> 37000000 | K28: =K55 -> 37000000 | L28: =L55 -> 37000000 | M28: =M55 -> 0 | N28: =N55 -> 0 | ... P28: =P55 -> 0 | Q28: =SUM(G28:P28) -> 185000000
B29: Total EBIT | G29: =G26-G28 -> -593950.53 | H29: =H26-H28 -> 55906049 | I29: =I26-I28 -> 55906049 | J29: =J26-J28 -> 55906049 | K29: =K26-K28 -> 55906049 | L29: =L26-L28 -> 55906049 | M29: =M26-M28 -> 0 | N29: =N26-N28 -> 0 | ... Q29: =Q26-Q28 -> 2.789363e+08
B30: Interest Expense | G30: =PARAMETER!B5 -> 0 | H30: =PARAMETER!C5 -> 0 | I30: =PARAMETER!D5 -> 0 | J30: =PARAMETER!E5 -> 0 | K30: =PARAMETER!F5 -> 0 | Q30: =SUM(G30:P30) -> 0
B31: EBT | G31: =G29-G30 -> -593950.53 | H31: =H29-H30 -> 55906049 | I31: =I29-I30 -> 55906049 | J31: =J29-J30 -> 55906049 | K31: =K29-K30 -> 55906049 | L31: =L29-L30 -> 55906049 | M31: =M29-M30 -> 0 | N31: =N29-N30 -> 0 | ... P31: =P29-P30 -> 0 | Q31: =SUM(G31:P31) -> 2.789363e+08
B32: Tax Expense | G32: =IF(G31<0,0,G31*$F$3) -> 0 | H32: =IF(H31<0,0,H31*$F$3) -> 1118121 | I32: =IF(I31<0,0,I31*$F$3) -> 1118121 | J32: =IF(J31<0,0,J31*$F$3) -> 1118121 | K32: =IF(K31<0,0,K31*$F$3) -> 1118121 | L32: =IF(L31<0,0,L31*$F$3) -> 1118121 | M32: =IF(M31<0,0,M31*$F$3) -> 0 | N32: =IF(N31<0,0,N31*$F$3) -> 0 | ... P32: =IF(P31<0,0,P31*$F$3) -> 0 | Q32: =SUM(G32:P32) -> 5590604.9
B33: Net Income | G33: =G31-G32 -> -593950.53 | H33: =H31-H32 -> 54787928 | I33: =I31-I32 -> 54787928 | J33: =J31-J32 -> 54787928 | K33: =K31-K32 -> 54787928 | L33: =L31-L32 -> 54787928 | M33: =M31-M32 -> 0 | N33: =N31-N32 -> 0 | ... Q33: =Q31-Q32 -> 2.7334569e+08
B35: Capex | G35: =-G9 -> -185000000 | H35: =-I9+-I10 -> 0 | I35: =-J9+-J10 -> 0 | J35: =-P9+-P10 -> 0 | K35: =-Q9+-Q10 -> 0 | L35: =-R9+-R10 -> 0 | M35: =-S9+-S10 -> 0 | N35: =-T9+-T10 -> 0 | O35: =-U9+-U10 -> 0 | P35: =-V9+-V10 -> 0 | Q35: =SUM(F35:P35) -> -185000000
B36: FCFF | F36: =F35 -> 0 | G36: =G35+G33+G28 -> -1.8559395e+08 | H36: =H35+H33+H28 -> 91787928 | I36: =I35+I33+I28 -> 91787928 | J36: =J35+J33+J28 -> 91787928 | K36: =K35+K33+K28 -> 91787928 | L36: =L35+L33+L28 -> 91787928 | M36: =M35+M33+M28 -> 0 | N36: =N35+N33+N28 -> 0 | ... Q36: =Q35+Q33+Q28 -> 2.7334569e+08
B37: Accumulated FCF | F37: =F36 -> 0 | G37: =F37+G36 -> -1.8559395e+08 | H37: =G37+H36 -> -93806022 | I37: =H37+I36 -> -2018093.6 | J37: =I37+J36 -> 89769835 | K37: =J37+K36 -> 1.8155776e+08 | L37: =K37+L36 -> 2.7334569e+08 | M37: =L37+M36 -> 2.7334569e+08 | N37: =M37+N36 -> 2.7334569e+08 | ... P37: =O37+P36 -> 2.7334569e+08
B38: PBP | G38: =IF(AND(F37<0,G37>0),G43-(G37/G36),0) -> 0 | H38: =IF(AND(G37<0,H37>0),H43-(H37/H36),0) -> 0 | I38: =IF(AND(H37<0,I37>0),I43-(I37/I36),0) -> 0 | J38: =IF(AND(I37<0,J37>0),J43-(J37/J36),0) -> 3.0219865 | P38: =IF(AND(J37<0,P37>0),P43-(P37/P36),0) -> 0
B39: IRR | F39: =IRR(F36:P36) -> 0.40386605
B40: NPV | F40: =NPV(F4,G36:P36)+F36 -> 1.4759501e+08
B41: EBITDA margin | F41: =Q27 -> 0.26122539
...

Sheet PARAMETER
B1: Year 1 | C1: Year 2 | D1: Year 3 | E1: Year 4 | F1: Year 5 | G1: Year 6 | H1: Year 7 | I1: Year 8 | J1: Year 9 | K1: Year 10
A2: loan | B2: =IRR!G9 -> 0 | C2: =$B$2-$B$4 -> 0 | D2: =$C$2-$B$4 -> 0 | E2: =$D$2-$B$4 -> 0 | F2: =$E$2-$B$4 -> 0 | G2: =$F$2-$B$4 -> 0 | H2: =$G$2-$B$4 -> 0 | I2: =$H$2-$B$4 -> 0 | J2: =$I$2-$B$4 -> 0 | K2: =$J$2-$B$4 -> 0
A3: Period (thn) | B3: 5
A4: Installment/thn | B4: =$B$2/$B$3 -> 0
A5: Interest | B5: =(($B$2*IRR!$F$4)*6)/12 -> 0 | C5: =AVERAGE(B2:C2)*IRR!$F$4 -> 0 | D5: =AVERAGE(C2:D2)*IRR!$F$4 -> 0 | E5: =AVERAGE(D2:E2)*IRR!$F$4 -> 0 | F5: =AVERAGE(E2:F2)*IRR!$F$4 -> 0 | G5: =AVERAGE(F2:G2)*IRR!$F$4 -> 0 | H5: =AVERAGE($G$2:$H$2)*[3]IRR!$G$4 -> 0 | I5: =AVERAGE($H$2:$I$2)*[3]IRR!$G$4 -> 0 | J5: =AVERAGE($I$2:$J$2)*[3]IRR!$G$4 -> 0 | K5: =AVERAGE($J$2:$K$2)*[3]IRR!$G$4 -> 0
F10: person | G10: trip | H10: kamar | I10: Days by Omni | J10: Biaya walktest inhouse/visit | K10: Biaya walktest inhouse/thn
E11: Diisikan | F11: 1 | G11: 1 | H11: 1 | I11: 83
B12: Transport | C12: Pesawat | D12: =C24 -> 2500000 | E12: person | F12: =F11 -> 1 | J12: =F12*D12 -> 2500000
C13: Bandara | D13: 600000 | E13: person | F13: =F11 -> 1 | I13: =IF($I$10<=120,2,IF($I$10>220,4,3)) -> 4 | J13: =D13*F13 -> 600000
C14: Transport | D14: 200000 | E14: Trip | G14: =G11 -> 1 | J14: =G14*D14 -> 200000
B15: Hotel | C15: Hotel | D15: 450000 | E15: kamar | F15: =F11 -> 1 | H15: =H11 -> 1 | I15: =IF($I$10<=120,2,IF($I$10>220,4,3)) -> 4 | J15: =H15*D15*I15 -> 1800000
B16: Uang Saku | C16: Uang Saku | D16: 120000 | E16: person | F16: =F11 -> 1 | I16: =IF($I$10<=120,2,IF($I$10>220,4,3)) -> 4 | J16: =I16*D16*F16 -> 480000
J17: =SUM(J12:J16) -> 5580000 | K17: =J17*2 -> 11160000
K20: =K17+B24+B34*2 -> 40760000
B21: PM/Year/Site | C21: Pesawat | E21: Asumsi:
A22: Sulut | B22: 16800000 | C22: 4000000 | E22: Walktest 4x dalam setahun semua operator sekaligus
A23: Makasar | C23: 3000000 | E23: Walktest pertama oleh vendor | I23: 10000000
A24: Bali | B24: 15600000 | C24: 2500000 | E24: Walktest pertama oleh vendor | H24: Pekanbaru | I24: 12000000
A25: Jatim | B25: 15000000 | C25: 2000000 | E25: Walktest pertama oleh vendor | H25: Sumut | I25: 14000000
A26: Jateng | B26: 15000000 | C26: 1850000 | E26: Walktest pertama oleh vendor | H26: Sulsel | I26: 14000000
A27: Jabar | B27: 12000000 | C27: 1200000 | E27: Walktest pertama oleh vendor | H27: Sulut | I27: 17000000
A28: Kalimantan | B28: 16800000 | C28: 2000000 | E28: Walktest pertama oleh vendor | H28: Kalimantan | I28: 14000000
A29: Sumatera | B29: 15720000 | C29: 3500000
A30: Palembang | C30: 2800000
A31: Jabodetabek | B31: 0 | C31: 0 | D31: Inhouse
B33: CM /Year/Oprt
B34: 7000000
A36: LISTRIK
A37: Listrik/Oprt/year DAS+1Pole 3sektor
A38: 0-100 | B38: 36000000
A39: 101-200 | B39: 42000000
A40: 201- | B40: 48000000
A42: Listrik/Oprt/year DAS+2Pole 6sektor
A43: 0-200 | B43: 75000000
A44: 201- | B44: 95000000

Sheet Summary BR
C1: SUMMARY REVIEW
A3: Nama Site | C3: : HOTEL LOMBOK PLAZA
A4: Nama Pemilik | C4: : PT> Pejanggik Cakra Buana
A5: Alamat Pemilik | C5: : Jl. KH. Ahmad Dahlan Semarang
A6: Telp | C6: :
A7: Obyek Sewa | C7: : 83 Omni + Pole Antenna + RBS
A9: No. | B9: Keterangan | C9: Existing | D9: Renewal
A11: 1. | B11: Scope Of Lease | C11: IBC | D11: IBC
A12: 2. | B12: Obyek Sewa | C12: 83 Omni + Pole Antenna + RBS | D12: 83 Omni + Pole Antenna + RBS
A13: 3. | B13: Periode Sewa | C13: 1Jun2013 s/d 30Nov23 | D13: 30NOV2023 s/d 29OKT33
A14: 4 | B14: Harga Sewa | C14: 777.777.777/10thn | D14: 777.777.777/10thn
C15: 77777777 | D15: 77777777
A16: 5 | B16: Operator Join | C16: Telkomsel 1Jun2013-31Mei2023 | D16: Telkomsel 14Mar2020 sd 13Mar2025
D17: IOH (Jan26- Des30)
A18: 6. | B18: Kenaikan/ Penurunan Harga | C18: Harga Tetap
D20: =777777777/5 -> 1.5555556e+08

Sheet Analisa
A2: SITE Hotel Lombok Plaza
A3: Periode | B3: Start | C3: End
A4: Rev Tsel | B4: 43904 | C4: 45729
A5: Rev IOH | B5: 46023 | C5: 47848
A6: Sewa BM | B6: 45260 | C6: 12356
B8: Start | C8: End | D8: Days
A9: Worse >> Jika Sewa BM diperpanjang 10 tahun dan Operator sesuai periiode masing2, maka
A10: Rev Tsel | B10: 45260 | C10: 45729 | D10: =C10-B10 -> 469 | E10: 171000000 | F10: =E10/365*D10 -> 2.1972329e+08
A11: Rev IOH | B11: 46023 | C11: 47848 | D11: =C11-B11 -> 1825 | E11: 171000000 | F11: =E11/365*D11 -> 855000000
A12: Sewa BM | B12: 45260 | C12: 48881 | D12: =C12-B12 -> 3621 | E12: 87283951 | F12: =-E12/365*D12 -> -8.6590462e+08
A13: Listrik Tsel | B13: 45260 | C13: 45729 | D13: =C13-B13 -> 469 | E13: 42000000 | F13: =-E13/365*D13 -> -53967123
A14: Listrik IOH | B14: 46023 | C14: 47848 | D14: =C14-B14 -> 1825 | E14: 42000000 | F14: =-E14/365*D14 -> -210000000
A15: OM Tsel | B15: 45260 | C15: 45729 | D15: =C15-B15 -> 469 | E15: =40760000/2 -> 20380000 | F15: =-E15/365*D15 -> -26186904
A16: OM IOH | B16: 46023 | C16: 47848 | D16: =C16-B16 -> 1825 | E16: =40760000/2 -> 20380000 | F16: =-E16/365*D16 -> -101900000
A17: Antisipasi Add Capex and Pole | E17: 100000000
A18: Profit | F18: =SUM(F10:F17) -> -1.8323536e+08
A20: Conservative >> Jika Sewa BM diperpanjang Sampai End IOH dan Operator sesuai periiode masing2, maka
A21: Rev Tsel | B21: 45260 | C21: 45729 | D21: =C21-B21 -> 469 | E21: 171000000 | F21: =E21/365*D21 -> 2.1972329e+08
A22: Rev IOH | B22: 46023 | C22: 47848 | D22: =C22-B22 -> 1825 | E22: 171000000 | F22: =E22/365*D22 -> 855000000
A23: Sewa BM | B23: 45260 | C23: 47848 | D23: =C23-B23 -> 2588 | E23: 87283951 | F23: =-E23/365*D23 -> -6.1887908e+08
A24: Listrik Tsel | B24: 45260 | C24: 45729 | D24: =C24-B24 -> 469 | E24: 42000000 | F24: =-E24/365*D24 -> -53967123
A25: Listrik IOH | B25: 46023 | C25: 47848 | D25: =C25-B25 -> 1825 | E25: 42000000 | F25: =-E25/365*D25 -> -210000000
A26: OM Tsel | B26: 45260 | C26: 45729 | D26: =C26-B26 -> 469 | E26: =40760000/2 -> 20380000 | F26: =-E26/365*D26 -> -26186904
A27: OM IOH | B27: 46023 | C27: 47848 | D27: =C27-B27 -> 1825 | E27: =40760000/2 -> 20380000 | F27: =-E27/365*D27 -> -101900000
A28: Antisipasi Add Capex and Pole | E28: 100000000
A29: Profit | F29: =SUM(F21:F28) -> 63790181
A31: Optimist >> Jika Sewa BM diperpanjang 10 tahun dan Operator mengikuti, maka
A32: Rev Tsel | B32: 45260 | C32: 48881 | D32: =C32-B32 -> 3621 | E32: 171000000 | F32: =E32/365*D32 -> 1.6964137e+09
A33: Rev IOH | B33: 46023 | C33: 48881 | D33: =C33-B33 -> 2858 | E33: 171000000 | F33: =E33/365*D33 -> 1.3389534e+09
A34: Sewa BM | B34: 45260 | C34: 48881 | D34: =C34-B34 -> 3621 | E34: 87283951 | F34: =-E34/365*D34 -> -8.6590462e+08
A35: Listrik Tsel | B35: 45260 | C35: 48881 | D35: =C35-B35 -> 3621 | E35: 42000000 | F35: =-E35/365*D35 -> -4.1666301e+08
A36: Listrik IOH | B36: 46023 | C36: 48881 | D36: =C36-B36 -> 2858 | E36: 42000000 | F36: =-E36/365*D36 -> -3.2886575e+08
A37: OM Tsel | B37: 45260 | C37: 48881 | D37: =C37-B37 -> 3621 | E37: =40760000/2 -> 20380000 | F37: =-E37/365*D37 -> -2.0218077e+08
A38: OM IOH | B38: 46023 | C38: 48881 | D38: =C38-B38 -> 2858 | E38: =40760000/2 -> 20380000 | F38: =-E38/365*D38 -> -1.5957819e+08
A39: Antisipasi Add Capex and Pole | E39: 100000000
A40: Profit | F40: =SUM(F32:F39) -> 1.0621748e+09
