Workbook
Name jk: #REF!
Name jk: #REF!
Name jk: #REF!
Name years_contract: [1]Kerlink!$D$5

Sheet Summary
C1: No.
C2: Product : | D2: IBS / DAS | J2: Tanggal P&L:
C3: Status P&L | D3: Renewal
B5: Site Information | E5: Technical Information | J5: Financial Summary
B6: Site Name | D6: Manado Town Square | E6: IBC | K6: Capex /antenna | M6: =PARAMETER!C2/'IRR Approved'!F13 -> 9549969.3 | O6: =M6-'IRR Approved'!F8 -> 2549969.3
B7: Address | D7: Jl. Piere Tendean, Kota Manado, Sulawesi Utara 95114 | E7: Antena PKS BM | H7: 157 | K7: Contract Period (thn) | M7: 5
B8: Area building | D8: Manado | E8: Antena Asset | K8: Interest rate /year | M8: ='IRR Approved'!$F$4 -> 0.1
B9: Type of building | D9: Mall | E9: Jumlah Pole Makro | K9: Kurs 1USD | M9: 0
B10: Status | D10: Renewal | K10: Total Revenue | M10: ='IRR Approved'!$R$27 -> 2217315000
B11: Total floor | D11: 3 | K11: Total BV 31 Jul 2024 | M11: ='IRR Approved'!$R$13 -> 138445903
B12: No of building tower | D12: 1 | E12: OPENET | K12: Total Capex CME | M12: ='IRR Approved'!$R$14 -> 0
E13: Cable FO (Core) | H13: 0 | K13: Total COGS Rent | M13: ='IRR Approved'!$R$30 -> 1100000000
E14: Cable FO (meter) | H14: 0 | K14: Total COGS Other | M14: ='IRR Approved'!$R$31+'IRR Approved'!$R$32+'IRR Approved'!$R$33 -> 689965750
K15: IRR | M15: ='IRR Approved'!$F$51 -> 0.14528549
E16: Drop Wire (meter) | H16: 0 | K16: NPV | M16: ='IRR Approved'!$F$52 -> 59600963
E17: OTHERS | K17: EBITDA margin | M17: ='IRR Approved'!$F$53 -> 0.19273276
K18: Payback (year) | M18: ='IRR Approved'!$F$54 -> 4.1123272
B20: Target to Achieve by Commercial: | L20: Prepared by
C21: Revenue: | D21: TSEL renewal 2026 disc 5% | L21: Citra K.
C22: Capex : | D22: TOP utk sewa 50% dibayarkan th 2024, 50% dibayarkan tahun 2025
B26: Approved by

Sheet IRR Approved
B1: No | C1: =Summary!D1 -> 0 | R1: Manado Town Square
B2: General Asumption | I2: Join year | L2: % inc (dec)
C3: Tax Rate | F3: 0.02 | J3: Rev/month - TSEL | K3: =H22/12 -> 22325000 | L3: 0.05
C4: Interest Rate | F4: 0.1 | J4: Rev/month - XL
C5: SG&A | F5: 0.05 | G5: Increase every year | J5: Rev/month - IOH | K5: =H23/12 -> 15300000 | L5: 0.1
C6: BHPUSO | F6: 0 | G6: from Revenues | J6: Rev/month - SF
C7: Price Adjustment after 5 year | F7: 0.15
C8: Capex per antenna | F8: 7000000
C9: Migrasi per operator | F9: 150000000
G11: Y0 | H11: Y1 | I11: Y2 | J11: Y3 | K11: Y4 | L11: Y5 | M11: Y6 | N11: Y7 | O11: Y8 | P11: Y9 | Q11: Y10 | R11: Total
B12: CAPEX
B13: Total CAPEX | E13: BV 31 Jul 24 | F13: =Summary!H7 -> 157 | H13: 138445903 | I13: 0 | J13: 0 | R13: =SUM(G13:Q13) -> 138445903
E14: BTS migrasi | F14: =3*0 -> 0 | I14: =$F$9*0 -> 0 | J14: =$F$9*0 -> 0 | K14: =$F$9*0 -> 0 | R14: =SUM(G14:Q14) -> 0
B17: IRR Calculation | G17: Year 0 | H17: 2024 | I17: =H17+1 -> 2025 | J17: =I17+1 -> 2026 | K17: =J17+1 -> 2027 | L17: =K17+1 -> 2028 | M17: =L17+1 -> 2029 | N17: =M17+1 -> 2030 | O17: =N17+1 -> 2031 | P17: =O17+1 -> 2032 | Q17: =P17+1 -> 2033 | R17: Total
B18: Months of Service | G18: 12 | H18: 12 | I18: 12 | J18: 12 | K18: 12 | L18: 12 | M18: 12 | N18: 12 | O18: 12 | P18: 12 | Q18: 12
B19: % increase (decrease) | M19: 0.1
B21: Revenues
C22: Telkomsel | H22: 267900000 | I22: =H22 -> 267900000 | J22: =I22-(I22*L3) -> 254505000 | K22: =J22 -> 254505000 | L22: =K22 -> 254505000 | M22: =$K$3*0 -> 0 | N22: =$K$3*(1-$L$3)*0 -> 0 | O22: =$K$3*(1-$L$3)*0 -> 0 | P22: =$K$3*(1-$L$3)*0 -> 0 | Q22: =$K$3*(1-$L$3)*0 -> 0 | R22: =SUM($G22:Q22) -> 1299315000
C23: IOH | H23: =204000000*90% -> 183600000 | I23: =H23 -> 183600000 | J23: =I23 -> 183600000 | K23: =J23 -> 183600000 | L23: =K23 -> 183600000 | M23: =$K$5*0 -> 0 | N23: =$K$5*0 -> 0 | O23: =$K$5*0 -> 0 | P23: =$K$5*(1-$L$4)*0 -> 0 | Q23: =$K$5*(1-$L$4)*0 -> 0 | R23: =SUM($G23:Q23) -> 918000000
I24: =H24 -> 0 | J24: =I24 -> 0 | K24: =J24 -> 0 | L24: =K24 -> 0 | R24: =SUM($G24:Q24) -> 0
R25: =SUM($G25:Q25) -> 0
R26: =SUM($G26:Q26) -> 0
B27: Total Revenues | H27: =SUM(H22:H26) -> 451500000 | I27: =SUM(I22:I26) -> 451500000 | J27: =SUM(J22:J26) -> 438105000 | K27: =SUM(K22:K26) -> 438105000 | L27: =SUM(L22:L26) -> 438105000 | M27: =SUM(M22:M26) -> 0 | N27: =SUM(N22:N26) -> 0 | O27: =SUM(O22:O26) -> 0 | ... R27: =SUM(R22:R26) -> 2217315000 | S27: =SUM(G27:Q27)-R27 -> 0
B29: OPEX
C30: Lease to BM | H30: 550000000 | I30: =H30 -> 550000000 | M30: =800000000*10%*0 -> 0 | N30: =800000000*30%*0 -> 0 | O30: =800000000*20%*0 -> 0 | P30: =O30 -> 0 | Q30: =P30 -> 0 | R30: =SUM($G30:Q30) -> 1100000000
C31: Electricity | H31: =PARAMETER!B74*2 -> 72000000 | I31: =H31 -> 72000000 | J31: =I31 -> 72000000 | K31: =J31 -> 72000000 | L31: =K31 -> 72000000 | M31: =200000000*0.5*0 -> 0 | N31: =200000000*0.5*0 -> 0 | O31: =200000000*0.5*0 -> 0 | P31: =200000000*0.5*0 -> 0 | Q31: =200000000*0.5*0 -> 0 | R31: =SUM($G31:Q31) -> 360000000
C32: Maintenance (RPM) | H32: =PARAMETER!K54 -> 43820000 | I32: =H32 -> 43820000 | J32: =I32 -> 43820000 | K32: =J32 -> 43820000 | L32: =K32 -> 43820000 | M32: =IF(N22>0,COUNTIF(M22:M26,">0")*7000000, IF(M23>0,COUNTIF(M22:M26,">0")*7000000, IF(O25>0,COUNTIF(M22:M26,">0")*7000000, IF(M26>0,COUNTIF(M22:M26,">0")*7000000,0)))) -> 0 | N32: =IF(O22>0,COUNTIF(N22:N26,">0")*7000000, IF(N23>0,COUNTIF(N22:N26,">0")*7000000, IF(P25>0,COUNTIF(N22:N26,">0")*7000000, IF(N26>0,COUNTIF(N22:N26,">0")*7000000,0)))) -> 0 | O32: =IF(P22>0,COUNTIF(O22:O26,">0")*7000000, IF(O23>0,COUNTIF(O22:O26,">0")*7000000, IF(Q25>0,COUNTIF(O22:O26,">0")*7000000, IF(O26>0,COUNTIF(O22:O26,">0")*7000000,0)))) -> 0 | P32: =IF(P22>0,COUNTIF(P22:P26,">0")*7000000, IF(P23>0,COUNTIF(P22:P26,">0")*7000000, IF(P25>0,COUNTIF(P22:P26,">0")*7000000, IF(P26>0,COUNTIF(P22:P26,">0")*7000000,0)))) -> 0 | Q32: =IF(Q22>0,COUNTIF(Q22:Q26,">0")*7000000, IF(Q23>0,COUNTIF(Q22:Q26,">0")*7000000, IF(Q25>0,COUNTIF(Q22:Q26,">0")*7000000, IF(Q26>0,COUNTIF(Q22:Q26,">0")*7000000,0)))) -> 0 | R32: =SUM($G32:Q32) -> 219100000
C33: SG&A (inhouse resources) | F33: =H33/H27 -> 0.05 | H33: =H27*$F$5 -> 22575000 | I33: =I27*$F$5 -> 22575000 | J33: =J27*$F$5 -> 21905250 | K33: =K27*$F$5 -> 21905250 | L33: =L27*$F$5 -> 21905250 | M33: =PARAMETER!G36*0 -> 0 | N33: =PARAMETER!H36*0 -> 0 | O33: =PARAMETER!I36*0 -> 0 | P33: =PARAMETER!J36*0 -> 0 | Q33: =PARAMETER!K36*0 -> 0 | R33: =SUM($G33:Q33) -> 110865750
B34: Total OPEX | H34: =SUM(H30:H33) -> 688395000 | I34: =SUM(I30:I33) -> 688395000 | J34: =SUM(J30:J33) -> 137725250 | K34: =SUM(K30:K33) -> 137725250 | L34: =SUM(L30:L33) -> 137725250 | M34: =SUM(M30:M33) -> 0 | N34: =SUM(N30:N33) -> 0 | O34: =SUM(O30:O33) -> 0 | ... R34: =SUM(R30:R33) -> 1789965750 | S34: =SUM(G34:Q34)-R34 -> 0
B35: Total EBITDA | H35: =H27-H34 -> -236895000 | I35: =I27-I34 -> -236895000 | J35: =J27-J34 -> 300379750 | K35: =K27-K34 -> 300379750 | L35: =L27-L34 -> 300379750 | M35: =M27-M34 -> 0 | N35: =N27-N34 -> 0 | O35: =O27-O34 -> 0 | ... R35: =R27-R34 -> 427349250 | S35: =SUM(G35:Q35)-R35 -> 0
B36: Ebitda margin | H36: =H35/H27 -> -0.52468439 | I36: =I35/I27 -> -0.52468439 | J36: =J35/J27 -> 0.68563415 | K36: =K35/K27 -> 0.68563415 | L36: =L35/L27 -> 0.68563415 | M36: =M35/M27 -> #DIV/0! | N36: =N35/N27 -> #DIV/0! | O36: =O35/O27 -> #DIV/0! | ... R36: =R35/R27 -> 0.19273276
B38: Depreciation Expense | H38: =H68 -> 27689181 | I38: =I68 -> 27689181 | J38: =J68 -> 27689181 | K38: =K68 -> 27689181 | L38: =L68 -> 27689181 | M38: =M68*0 -> 0 | N38: =N68*0 -> 0 | O38: =O68*0 -> 0 | P38: =P68*0 -> 0 | Q38: =Q68*0 -> 0 | R38: =SUM($G38:Q38) -> 138445903
B39: Total EBIT | H39: =H35-H38 -> -2.6458418e+08 | I39: =I35-I38 -> -2.6458418e+08 | J39: =J35-J38 -> 2.7269057e+08 | K39: =K35-K38 -> 2.7269057e+08 | L39: =L35-L38 -> 2.7269057e+08 | M39: =M35-M38 -> 0 | N39: =N35-N38 -> 0 | O39: =O35-O38 -> 0 | ... R39: =R35-R38 -> 288903347 | S39: =SUM(G39:Q39)-R39 -> 0
B40: Interest Expense | H40: =PARAMETER!J24 -> 8058139.1 | I40: =PARAMETER!K24 -> 2686046.4 | J40: =PARAMETER!L24 -> 0 | K40: =PARAMETER!M24 -> 0 | L40: =PARAMETER!Q24 -> 0 | M40: =PARAMETER!G$5*0 -> 0 | R40: =SUM($G40:Q40) -> 10744186
B41: EBT | H41: =H39-H40 -> -2.7264232e+08 | I41: =I39-I40 -> -2.6727023e+08 | J41: =J39-J40 -> 2.7269057e+08 | K41: =K39-K40 -> 2.7269057e+08 | L41: =L39-L40 -> 2.7269057e+08 | M41: =M39-M40 -> 0 | N41: =N39-N40 -> 0 | O41: =O39-O40 -> 0 | ... Q41: =Q39-Q40 -> 0 | R41: =SUM($G41:Q41) -> 2.7815916e+08 | S41: =SUM(G41:Q41)-R41 -> 0
B42: Tax Expense | H42: =IF(H41<0,0,H41*$F$3) -> 0 | I42: =IF(I41<0,0,I41*$F$3) -> 0 | J42: =IF(J41<0,0,J41*$F$3) -> 5453811.4 | K42: =IF(K41<0,0,K41*$F$3) -> 5453811.4 | L42: =IF(L41<0,0,L41*$F$3) -> 5453811.4 | M42: =IF(M41<0,0,M41*$F$3) -> 0 | N42: =IF(N41<0,0,N41*$F$3) -> 0 | O42: =IF(O41<0,0,O41*$F$3) -> 0 | ... Q42: =IF(Q41<0,0,Q41*$F$3) -> 0 | R42: =SUM($G42:Q42) -> 16361434
B43: Net Income | H43: =H41-H42 -> -2.7264232e+08 | I43: =I41-I42 -> -2.6727023e+08 | J43: =J41-J42 -> 2.6723676e+08 | K43: =K41-K42 -> 2.6723676e+08 | L43: =L41-L42 -> 2.6723676e+08 | M43: =M41-M42 -> 0 | N43: =N41-N42 -> 0 | O43: =O41-O42 -> 0 | ... R43: =R41-R42 -> 2.6179773e+08 | S43: =SUM(G43:Q43)-R43 -> 0
B45: Capex | H45: =-H14-H13 -> -138445903 | I45: =-I14 -> 0 | J45: =-J14 -> 0 | K45: =-K14 -> 0 | L45: =-L14 -> 0 | M45: =-M14 -> 0 | N45: =-N14 -> 0 | O45: =-O14 -> 0 | P45: =-P14 -> 0 | Q45: =-Q14 -> 0 | R45: =SUM($G$45:Q45) -> -138445903
B46: FCFF | H46: =H45+H43+H38 -> -3.8339904e+08 | I46: =I45+I43+I38 -> -2.3958105e+08 | J46: =J45+J43+J38 -> 2.9492594e+08 | K46: =K45+K43+K38 -> 2.9492594e+08 | L46: =L45+L43+L38 -> 2.9492594e+08 | M46: =M45+M43+M38 -> 0 | N46: =N45+N43+N38 -> 0 | O46: =O45+O43+O38 -> 0 | ... Q46: =Q45+Q43+Q38 -> 0 | R46: =SUM($G$46:Q46) -> 2.6179773e+08
B47: Accumulated FCF | H47: =+H46 -> -3.8339904e+08 | I47: =H47+I46 -> -6.2298009e+08 | J47: =I47+J46 -> -3.2805415e+08 | K47: =J47+K46 -> -33128211 | L47: =K47+L46 -> 2.6179773e+08 | M47: =(L47+M46)*0 -> 0 | N47: =M47+N46 -> 0 | O47: =N47+O46 -> 0 | P47: =O47+P46 -> 0 | Q47: =P47+Q46 -> 0
...

Sheet PARAMETER
B1: 5 | C1: 2017 | D1: =C1+1 -> 2018 | E1: =D1+1 -> 2019 | F1: =E1+1 -> 2020 | G1: =F1+1 -> 2021 | H1: =G1+1 -> 2022 | I1: =H1+1 -> 2023 | J1: =I1+1 -> 2024 | K1: =J1+1 -> 2025 | ... V1: =U1+1 -> 2036
A2: 2017 | B2: loan | C2: 1499345181 | D2: =C2-C3 -> 1.1994761e+09 | E2: =D2-C3 -> 8.9960711e+08 | F2: =E2-C3 -> 5.9973807e+08 | G2: =F2-C3 -> 2.9986904e+08 | H2: =G2-C3 -> 0
B3: Installment/thn | C3: =C2/B1 -> 2.9986904e+08
B4: Interest | C4: =(C2*'IRR Approved'!$F$4*6/12) -> 74967259 | D4: =AVERAGE(C2:D2)*'IRR Approved'!$F$4 -> 1.3494107e+08 | E4: =AVERAGE(D2:E2)*'IRR Approved'!$F$4 -> 1.0495416e+08 | F4: =AVERAGE(E2:F2)*'IRR Approved'!$F$4 -> 74967259 | G4: =AVERAGE(F2:G2)*'IRR Approved'!$F$4 -> 44980355 | H4: =AVERAGE(G2:H2)*'IRR Approved'!$F$4 -> 14993452 | I4: =AVERAGE(H2:I2)*'IRR Approved'!$F$4 -> 0
A5: 2018 | B5: loan | E5: =D5-D6 -> 0 | F5: =E5-D6 -> 0 | G5: =F5-D6 -> 0 | H5: =G5-D6 -> 0 | I5: =H5-D6 -> 0 | J5: =I5-$E$10 -> 0
B6: Installment/thn | D6: =D5/B1 -> 0
B7: Interest | D7: =(D5*[2]IRR!$E$4*6/12) -> 0 | E7: =AVERAGE(D5:E5)*[2]IRR!$E$4 -> 0 | F7: =AVERAGE(E5:F5)*[2]IRR!$E$4 -> 0 | G7: =AVERAGE(F5:G5)*[2]IRR!$E$4 -> 0 | H7: =AVERAGE(G5:H5)*[2]IRR!$E$4 -> 0 | I7: =AVERAGE(H5:I5)*[2]IRR!$E$4 -> 0
A8: 2019 | B8: loan | F8: =E8-E9 -> 0 | G8: =F8-E9 -> 0 | H8: =G8-E9 -> 0 | I8: =H8-E9 -> 0 | J8: =I8-E9 -> 0
B9: Installment/thn | E9: =E8/B1 -> 0
B10: Interest | E10: =(E8*[2]IRR!$E$4*6/12) -> 0 | F10: =AVERAGE(E8:F8)*[2]IRR!$E$4 -> 0 | G10: =AVERAGE(F8:G8)*[2]IRR!$E$4 -> 0 | H10: =AVERAGE(G8:H8)*[2]IRR!$E$4 -> 0 | I10: =AVERAGE(H8:I8)*[2]IRR!$E$4 -> 0 | J10: =AVERAGE(I8:J8)*[2]IRR!$E$4 -> 0
A11: 2020 | B11: loan | F11: 268604638 | G11: =F11-F12 -> 2.1488371e+08 | H11: =G11-F12 -> 1.6116278e+08 | I11: =H11-F12 -> 1.0744186e+08 | J11: =I11-F12 -> 53720928 | K11: =J11-F12 -> 0
B12: Installment/thn | F12: =F11/B1 -> 53720928
B13: Interest | F13: =(F11*'IRR Approved'!$F$4*6/12) -> 13430232 | G13: =AVERAGE(F11:G11)*'IRR Approved'!$F$4 -> 24174417 | H13: =AVERAGE(G11:H11)*'IRR Approved'!$F$4 -> 18802325 | I13: =AVERAGE(H11:I11)*'IRR Approved'!$F$4 -> 13430232 | J13: =AVERAGE(I11:J11)*'IRR Approved'!$F$4 -> 8058139.1 | K13: =AVERAGE(J11:K11)*'IRR Approved'!$F$4 -> 2686046.4 | L13: =AVERAGE(K11:L11)*'IRR Approved'!$F$4 -> 0
A14: 2021 | B14: loan | J14: =I14-I15 -> 0 | K14: =J14-I15 -> 0 | L14: =K14-I15 -> 0 | M14: =L14-I15 -> 0 | N14: =M14-I15 -> 0
B15: Installment/thn | I15: =I14/B1 -> 0
B16: Interest | I16: =(I14*[2]IRR!$E$4*6/12) -> 0 | J16: =AVERAGE(I14:J14)*[2]IRR!$E$4 -> 0 | K16: =AVERAGE(J14:K14)*[2]IRR!$E$4 -> 0 | L16: =AVERAGE(K14:L14)*[2]IRR!$E$4 -> 0 | M16: =AVERAGE(L14:M14)*[2]IRR!$E$4 -> 0 | N16: =AVERAGE(M14:N14)*[2]IRR!$E$4 -> 0
A17: 2022 | B17: loan | K17: =J17-J18 -> 0 | L17: =K17-J18 -> 0 | M17: =L17-J18 -> 0 | N17: =M17-J18 -> 0 | O17: =N17-J18 -> 0
B18: Installment/thn | J18: =J17/B1 -> 0
B19: Interest | J19: =(J17*[2]IRR!$E$4*6/12) -> 0 | K19: =AVERAGE(J17:K17)*[2]IRR!$E$4 -> 0 | L19: =AVERAGE(K17:L17)*[2]IRR!$E$4 -> 0 | M19: =AVERAGE(L17:M17)*[2]IRR!$E$4 -> 0 | N19: =AVERAGE(M17:N17)*[2]IRR!$E$4 -> 0 | O19: =AVERAGE(N17:O17)*[2]IRR!$E$4 -> 0
A20: 2023 | B20: loan | M20: =L20-L21 -> 0 | N20: =M20-L21 -> 0 | O20: =N20-L21 -> 0 | P20: =O20-L21 -> 0 | Q20: =P20-L21 -> 0
B21: Installment/thn | L21: =L20/B1 -> 0
B22: Interest | L22: =(L20*[2]IRR!$E$4*6/12) -> 0 | M22: =AVERAGE(L20:M20)*[2]IRR!$E$4 -> 0 | N22: =AVERAGE(M20:N20)*[2]IRR!$E$4 -> 0 | O22: =AVERAGE(N20:O20)*[2]IRR!$E$4 -> 0 | P22: =AVERAGE(O20:P20)*[2]IRR!$E$4 -> 0 | Q22: =AVERAGE(P20:Q20)*[2]IRR!$E$4 -> 0
C24: =C22+C19+C16+C13+C10+C7+C4 -> 74967259 | D24: =D22+D19+D16+D13+D10+D7+D4 -> 1.3494107e+08 | E24: =E22+E19+E16+E13+E10+E7+E4 -> 1.0495416e+08 | F24: =F22+F19+F16+F13+F10+F7+F4 -> 88397491 | G24: =G22+G19+G16+G13+G10+G7+G4 -> 69154773 | H24: =H22+H19+H16+H13+H10+H7+H4 -> 33795776 | I24: =I22+I19+I16+I13+I10+I7+I4 -> 13430232 | J24: =J22+J19+J16+J13+J10+J7+J4 -> 8058139.1 | ... T24: =T22+T19+T16+T13+T10+T7+T4 -> 0
A36: SG&A | B36: 50000000 | C36: =B36+C37 -> 51000000 | D36: =C36+D38 -> 52020000 | E36: =D36+E38 -> 53060400 | F36: =E36+F38 -> 54121608 | G36: =F36+G38 -> 55204040 | H36: =G36+H38 -> 56308121 | I36: =H36+I38 -> 57434283 | J36: =I36+J38 -> 58582969 | K36: =J36+K38 -> 59754628
A37: 0.02 | C37: =C38 -> 1000000 | D37: =C37+D38 -> 2020000 | E37: =D37+E38 -> 3060400 | F37: =E37+F38 -> 4121608 | G37: =F37+G38 -> 5204040.2 | H37: =G37+H38 -> 6308121 | I37: =H37+I38 -> 7434283.4 | J37: =I37+J38 -> 8582969.1 | K37: =J37+K38 -> 9754628.4
C38: =B36*$A$37 -> 1000000 | D38: =C36*$A$37 -> 1020000 | E38: =D36*$A$37 -> 1040400 | F38: =E36*$A$37 -> 1061208 | G38: =F36*$A$37 -> 1082432.2 | H38: =G36*$A$37 -> 1104080.8 | I38: =H36*$A$37 -> 1126162.4 | J38: =I36*$A$37 -> 1148685.7 | K38: =J36*$A$37 -> 1171659.4
F43: person | G43: trip | H43: kamar | I43: Days by Omni | J43: Biaya walktest inhouse/visit | K43: Biaya walktest inhouse/thn
E44: Diisikan | F44: 1 | G44: 1 | H44: 1 | I44: ='IRR Approved'!F13 -> 157
B45: Transport | C45: Pesawat | D45: =C55 -> 4000000 | E45: person | F45: =F44 -> 1 | J45: =F45*D45 -> 4000000
C46: Bandara | D46: 600000 | E46: person | F46: =F44 -> 1 | I46: =IF($I$36<=120,2,IF($I$45>220,4,3)) -> 3 | J46: =D46*F46 -> 600000
C47: Transport | D47: 200000 | E47: Trip | G47: =G44 -> 1 | J47: =G47*D47 -> 200000
B48: Hotel | C48: Hotel | D48: 450000 | E48: kamar | F48: =F44 -> 1 | H48: =H44 -> 1 | I48: =IF($I$36<=120,2,IF($I$45>220,4,3)) -> 3 | J48: =H48*D48*I48 -> 1350000
B49: Uang Saku | C49: Uang Saku | D49: 120000 | E49: person | F49: =F44 -> 1 | I49: =IF($I$36<=120,2,IF($I$45>220,4,3)) -> 3 | J49: =I49*D49*F49 -> 360000
J50: =SUM(J45:J49) -> 6510000 | K50: =J50*2 -> 13020000
K51: =B55 -> 16800000
K53: 14000000
B54: PM/Year/Site | C54: Pesawat | E54: Asumsi: | K54: =SUM(K50:K53) -> 43820000
A55: Sulut | B55: 16800000 | C55: 4000000 | E55: Walktest 4x dalam setahun semua operator sekaligus
A56: Makasar | C56: 3000000 | E56: Walktest pertama oleh vendor | I56: 10000000
A57: Bali | B57: 15600000 | C57: 2500000 | E57: Walktest pertama oleh vendor | H57: Pekanbaru | I57: 12000000
...

Sheet SummaryBR
C1: SUMMARY REVIEW
A3: Nama Site | C3: Manado Town Sq
A4: Nama Pemilik | C4: PT. Gerbang Nusa Perkasa
A5: Alamat Pemilik
A6: Telp
A7: Obyek Sewa | C7: 157 Omni + Pole Antenna + RBS m²
A9: No. | B9: Keterangan | C9: Existing | D9: Renewal
A11: 1. | B11: Scope Of Lease | C11: IBC | D11: IBC
A12: 2. | B12: Obyek Sewa | C12: 157 Omni + Pole Antenna + RBS m² | D12: 157 Omni + Pole Antenna + RBS m²
A13: 3. | B13: Periode Sewa | C13: 22Jan21 sd 30Jul24 | D13: 31Jul24 sd 30Jul29
A14: 4 | B14: Harga Sewa | C14: 352,688,172 | D14: 1.100,000,000/5thn
C15: 100.000.000/th | D15: 220.000.000/th
A16: 5 | B16: Operator Join | C16: Telkomsel (20Sep2021 - 25Sep2026) | D16: Telkomsel (20Sep2021 - 25Sep2026)
C17: IOH-Isat (1Aug20219 - 31Jul2024) | D17: IOH-Isat (1Aug2024 - 31Jul2029)
A18: 6. | B18: Kenaikan/ Penurunan Harga | C18: Kenaikan 120%

Sheet Book Value
B1: 2013 | C1: 2014 | D1: 2015 | E1: 2016 | F1: 2017 | G1: 2018 | H1: 2019 | I1: 2020 | J1: 2021
A2: DAS | B2: 1590676795
A3: BTS | D3: 482091041
A5: DAS | B5: =(B2/10)*(2023-B1) -> 1590676795 | C5: =(C2/10)*(2023-C1) -> 0 | D5: =(D2/10)*(2023-D1) -> 0 | E5: =(E2/10)*(2023-E1) -> 0 | F5: =(F2/10)*(2023-F1) -> 0
A6: BTS | C6: =(C3/10)*(2023-C1) -> 0 | D6: =(D3/10)*(2023-D1) -> 3.8567283e+08 | E6: =(E3/10)*(2023-E1) -> 0
A8: DAS | B8: =B2-B5 -> 0 | C8: =C2-C5 -> 0 | D8: =D2-D5 -> 0 | E8: =E2-E5 -> 0 | F8: =F2-F5 -> 0
A9: BTS | C9: =C3-C6 -> 0 | D9: =D3-D6 -> 96418208 | E9: =E3-E6 -> 0 | F9: =F3-F6 -> 0
