Workbook
Name jk: #REF!
Name jk: #REF!
Name jk: #REF!
Name years_contract: [1]Kerlink!$D$5

Sheet Summary
C1: 0009/IRR/IBC/IV/2024
C2: Product : | D2: IBS / DAS | M2: =IRR!Q1 -> Gudang Garam Office
C3: Status P&L | D3: Renewal IBC | J3: Tanggal P&L: | M3: 45318
B5: Site Information | E5: Technical Information | J5: Financial Summary
B6: Site Name | D6: =IRR!Q1 -> Gudang Garam Office | E6: IBC | K6: Capex DAS | M6: 1089664100 | O6: =M6-IRR!#REF! -> #REF!
B7: Address | D7: Jl. Jenderal Ahmad Yani No.79, Cemp. Putih Tim., Kec. Cemp. Putih | E7: Antena PKS BM | H7: 203 | K7: Capex /antenna | M7: =M6/H8 -> 5367803.4
B8: Area building | D8: Jakarta | E8: Antena Asset | H8: 203 | K8: Contract Period (thn) | M8: 5
B9: Type of building | D9: Office | E9: Jumlah Pole Makro | H9: 8 pole + 40m2 RBS room | K9: Interest rate /year | M9: =IRR!$F$4 -> 0.1
B10: Status | D10: Renewal | K10: Total Revenue | M10: =IRR!$Q$23 -> 1128600000
B11: Total floor | E11: OPENET | K11: Total Capex BV31DEs2023 | M11: =IRR!G11 -> 81740579
B12: No of tower | E12: Cable FO (Core) | H12: 0 | K12: Total Capex CME | M12: =IRR!G10 -> 0
E13: Cable FO (meter) | H13: 0 | K13: Total COGS Rent | M13: =IRR!$Q$26 -> 275000000
E14: Drop Wire (meter) | H14: 0 | K14: Total COGS Other | M14: =IRR!$Q$27+IRR!$Q$28+IRR!$Q$29 -> 216430000
E16: OTHERS | K16: IRR 5 th | M16: =IRR!$F$46 -> 0.89572891
K17: NPV 5th | M17: =IRR!F47 -> 3.7998775e+08
K18: EBITDA margin | M18: =IRR!$F$48 -> 0.56456672
K19: Payback (year) | M19: =IRR!$F$49 -> 2.0350613
B21: Target to Achieve by Commercial: | L21: Prepared by
B22: Revenue | L22: Citra K.
B27: Approved by

Sheet IRR
B1: NO : | C1: 0009/IRR/IBC/IV/2024 | Q1: Gudang Garam Office
B2: General Asumption
C3: Tax Rate | F3: 0.02
C4: Interest Rate | F4: 0.1
C5: SG&A | F5: 0.05 | G5: from Revenues
C6: BHPUSO | F6: 0 | G6: from Revenues
C7: Price Adjustment after 5 year | F7: 0.15
G9: Y1 | H9: Y2 | I9: Y3 | J9: Y4 | K9: Y5 | L9: Y6 | M9: Y7 | N9: Y8 | O9: Y9 | P9: Y10 | Q9: Total
B10: CAPEX | Q10: =SUM(G10:K10) -> 0
E11: BV 29 Feb 24 | G11: 81740579 | Q11: =SUM(G11:K11) -> 81740579
B12: Total CAPEX | G12: =SUM(G10:G11) -> 81740579 | Q12: =SUM(G12:K12) -> 81740579
B14: IRR Calculation | G14: 2024 | H14: =G14+1 -> 2025 | I14: =H14+1 -> 2026 | J14: =I14+1 -> 2027 | K14: =J14+1 -> 2028 | L14: =K14+1 -> 2029 | M14: =L14+1 -> 2030 | N14: =M14+1 -> 2031 | O14: =N14+1 -> 2032 | P14: =O14+1 -> 2033 | Q14: Total
B15: Months of Service | G15: 12 | H15: 12 | I15: 12 | J15: 12 | K15: 12 | L15: 12 | M15: 12 | N15: 12 | O15: 12 | P15: 12
B16: % increase (decrease)
B18: Revenues
C19: TSEL | G19: 228000000 | H19: 228000000 | I19: 228000000 | J19: =I19 -> 228000000 | K19: =J19*95% -> 216600000 | Q19: =SUM($G19:P19) -> 1128600000
Q20: =SUM($G20:P20) -> 0
Q21: =SUM($G21:P21) -> 0
Q22: =SUM($G22:K22) -> 0
B23: Total Revenues | G23: =SUM(G19:G21) -> 228000000 | H23: =SUM(H19:H21) -> 228000000 | I23: =SUM(I19:I21) -> 228000000 | J23: =SUM(J19:J21) -> 228000000 | K23: =SUM(K19:K21) -> 216600000 | L23: =SUM(L21:L22) -> 0 | M23: =SUM(M21:M22) -> 0 | N23: =SUM(N21:N22) -> 0 | O23: =SUM(O21:O22) -> 0 | P23: =SUM(P21:P22) -> 0 | Q23: =SUM(Q19:Q21) -> 1128600000 | R23: =SUM(G23:K23)-Q23 -> 0
B25: OPEX
C26: Lease to BM | G26: 275000000 | Q26: =SUM($G26:P26) -> 275000000
C27: Electricity | G27: 25000000 | H27: =G27 -> 25000000 | I27: =H27 -> 25000000 | J27: =I27 -> 25000000 | K27: =J27 -> 25000000 | Q27: =SUM($G27:K27) -> 125000000
C28: Maintenance (RPM) | G28: =+PARAMETER!$B$71*(COUNTA(G19:G21)) -> 7000000 | H28: =+PARAMETER!$B$71*(COUNTA(H19:H21)) -> 7000000 | I28: =+PARAMETER!$B$71*(COUNTA(I17:I21)) -> 7000000 | J28: =+PARAMETER!$B$71*(COUNTA(J19:J21)) -> 7000000 | K28: =+PARAMETER!$B$71*(COUNTA(K19:K21)) -> 7000000 | Q28: =SUM($G28:P28) -> 35000000
C29: SG&A (inhouse resources) | G29: =$F$5*G23 -> 11400000 | H29: =$F$5*H23 -> 11400000 | I29: =$F$5*I23 -> 11400000 | J29: =$F$5*J23 -> 11400000 | K29: =$F$5*K23 -> 10830000 | L29: =$F$5*L23 -> 0 | M29: =$F$5*M23 -> 0 | N29: =$F$5*N23 -> 0 | ... P29: =$F$5*P23 -> 0 | Q29: =SUM($G29:P29) -> 56430000
B30: Total OPEX | G30: =SUM(G26:G29) -> 318400000 | H30: =SUM(H26:H29) -> 43400000 | I30: =SUM(I26:I29) -> 43400000 | J30: =SUM(J26:J29) -> 43400000 | K30: =SUM(K26:K29) -> 42830000 | L30: =SUM(L26:L29) -> 0 | M30: =SUM(M26:M29) -> 0 | N30: =SUM(N26:N29) -> 0 | ... Q30: =SUM(Q26:Q29) -> 491430000 | R30: =SUM(G30:K30)-Q30 -> 0
B31: Total EBITDA | G31: =G23-G30 -> -90400000 | H31: =H23-H30 -> 184600000 | I31: =I23-I30 -> 184600000 | J31: =J23-J30 -> 184600000 | K31: =K23-K30 -> 173770000 | L31: =L23-L30 -> 0 | M31: =M23-M30 -> 0 | N31: =N23-N30 -> 0 | ... Q31: =Q23-Q30 -> 637170000 | R31: =SUM(G31:K31)-Q31 -> 0
B32: Ebitda margin | H32: =H31/H23 -> 0.80964912 | I32: =I31/I23 -> 0.80964912 | J32: =J31/J23 -> 0.80964912 | K32: =K31/K23 -> 0.80226223 | L32: =L31/L23 -> #DIV/0! | M32: =M31/M23 -> #DIV/0! | N32: =N31/N23 -> #DIV/0! | O32: =O31/O23 -> #DIV/0! | ... Q32: =Q31/Q23 -> 0.56456672
B34: Depreciation Expense | G34: =G53 -> 16348116 | H34: =H63 -> 16348116 | I34: =I63 -> 16348116 | J34: =J63 -> 16348116 | K34: =K63 -> 16348116 | Q34: =SUM($G34:P34) -> 81740579
B35: Total EBIT | G35: =G31-G34 -> -1.0674812e+08 | H35: =H31-H34 -> 1.6825188e+08 | I35: =I31-I34 -> 1.6825188e+08 | J35: =J31-J34 -> 1.6825188e+08 | K35: =K31-K34 -> 1.5742188e+08 | L35: =L31-L34 -> 0 | M35: =M31-M34 -> 0 | N35: =N31-N34 -> 0 | ... Q35: =Q31-Q34 -> 555429421 | R35: =SUM(G35:K35)-Q35 -> 0
B36: Interest Expense | G36: =PARAMETER!M34 -> 11756074 | H36: =PARAMETER!N34 -> 3768001.1 | I36: =PARAMETER!O34 -> 0 | J36: =PARAMETER!P34 -> 0 | K36: =PARAMETER!Q34 -> 0 | L36: =V74 -> 0 | M36: =W74 -> 0 | N36: =X74 -> 0 | O36: =Y74 -> 0 | P36: =Z74 -> 0 | Q36: =SUM($G36:K36) -> 15524075
B37: EBT | G37: =G35-G36 -> -1.1850419e+08 | H37: =H35-H36 -> 1.6448388e+08 | I37: =I35-I36 -> 1.6825188e+08 | J37: =J35-J36 -> 1.6825188e+08 | K37: =K35-K36 -> 1.5742188e+08 | L37: =L35-L36 -> 0 | M37: =M35-M36 -> 0 | N37: =N35-N36 -> 0 | ... P37: =P35-P36 -> 0 | Q37: =SUM($G37:P37) -> 5.3990535e+08 | R37: =SUM(G37:K37)-Q37 -> 0
B38: Tax Expense | G38: =IF(G37<0,0,G37*$F$3) -> 0 | H38: =IF(H37<0,0,H37*$F$3) -> 3289677.7 | I38: =IF(I37<0,0,I37*$F$3) -> 3365037.7 | J38: =IF(J37<0,0,J37*$F$3) -> 3365037.7 | K38: =IF(K37<0,0,K37*$F$3) -> 3148437.7 | Q38: =SUM($G38:K38) -> 13168191
B39: Net Income | G39: =G37-G38 -> -1.1850419e+08 | H39: =H37-H38 -> 1.6119421e+08 | I39: =I37-I38 -> 1.6488685e+08 | J39: =J37-J38 -> 1.6488685e+08 | K39: =K37-K38 -> 1.5427345e+08 | L39: =L37-L38 -> 0 | M39: =M37-M38 -> 0 | N39: =N37-N38 -> 0 | ... Q39: =Q37-Q38 -> 5.2673716e+08 | R39: =SUM(G39:K39)-Q39 -> 0
B41: Capex | G41: =-G12 -> -81740579 | H41: 0 | I41: 0 | J41: 0 | K41: 0 | Q41: =SUM($G$41:K41) -> -81740579
B42: FCFF | G42: =G41+G39+G34 -> -1.8389665e+08 | H42: =H41+H39+H34 -> 1.7754232e+08 | I42: =I41+I39+I34 -> 1.8123496e+08 | J42: =J41+J39+J34 -> 1.8123496e+08 | K42: =K41+K39+K34 -> 1.7062156e+08 | L42: =L41+L39+L34 -> 0 | M42: =M41+M39+M34 -> 0 | N42: =N41+N39+N34 -> 0 | ... P42: =P41+P39+P34 -> 0 | Q42: =SUM($F$42:P42) -> 5.2673716e+08
B43: Accumulated FCF | G43: =G42 -> -1.8389665e+08 | H43: =G43+H42 -> -6354331.3 | I43: =H43+I42 -> 1.7488063e+08 | J43: =I43+J42 -> 3.5611559e+08 | K43: =J43+K42 -> 5.2673716e+08
B44: PBP | G44: =IF(AND(F43<0,G43>0),H51-(G43/G42),0) -> 0 | H44: =IF(AND(G43<0,H43>0),I51-(H43/H42),0) -> 0 | I44: =IF(AND(H43<0,I43>0),J51-(I43/I42),0) -> 2.0350613 | J44: =IF(AND(I43<0,J43>0),K51-(J43/J42),0) -> 0 | K44: =IF(AND(J43<0,K43>0),#REF!-(K43/K42),0) -> 0
B46: IRR 5th | F46: =IRR(F42:P42) -> 0.89572891
B47: NPV 5th | F47: =NPV(F4,H42:P42)+G42 -> 3.7998775e+08
...

Sheet PARAMETER
A1: PERHITUNGAN INTEREST EXPENSE based CAPEX
A2: Capex tahun | B2: 5 | C2: 2014 | D2: =C2+1 -> 2015 | E2: =D2+1 -> 2016 | F2: =E2+1 -> 2017 | G2: =F2+1 -> 2018 | H2: =G2+1 -> 2019 | I2: =H2+1 -> 2020 | J2: =I2+1 -> 2021 | K2: =J2+1 -> 2022 | ... T2: =S2+1 -> 2031
A3: 2014 | B3: loan | D3: =C3-$C$4 -> 0 | E3: =D3-$C$4 -> 0 | F3: =E3-$C$4 -> 0 | G3: =F3-$C$4 -> 0 | H3: =G3-$C$4 -> 0 | U3: 2013 | V3: 1.7266708e+09
B4: Installment/thn | U4: 2014 | V4: 422342499
B5: Interest | D5: =AVERAGE(C3:D3)*IRR!$F$4 -> 0 | E5: =AVERAGE(D3:E3)*IRR!$F$4 -> 0 | F5: =AVERAGE(E3:F3)*IRR!$F$4 -> 0 | G5: =AVERAGE(F3:G3)*IRR!$F$4 -> 0 | H5: =AVERAGE(G3:H3)*IRR!$F$4 -> 0 | U5: 2016 | V5: 10773000
A6: 2015 | B6: loan | D6: 1394953527 | E6: =D6-D7 -> 1.1159628e+09 | F6: =E6-D7 -> 8.3697212e+08 | G6: =F6-D7 -> 5.5798141e+08 | H6: =G6-D7 -> 2.7899071e+08 | I6: =H6-D7 -> 0 | U6: 2017 | V6: 102210600
B7: Installment/thn | D7: =D6/B2 -> 2.7899071e+08
B8: Interest | D8: =((D6*IRR!F4*6)/12) -> 69747676 | E8: =AVERAGE(D6:E6)*IRR!$F$4 -> 1.2554582e+08 | F8: =AVERAGE(E6:F6)*IRR!$F$4 -> 97646747 | G8: =AVERAGE(F6:G6)*IRR!$F$4 -> 69747676 | H8: =AVERAGE(G6:H6)*IRR!$F$4 -> 41848606 | I8: =AVERAGE(H6:I6)*IRR!$F$4 -> 13949535 | J8: =AVERAGE(I6:J6)*IRR!$F$4 -> 0
A9: 2016 | B9: loan | E9: 198823424 | F9: =E9-E10 -> 1.5905874e+08 | G9: =F9-E10 -> 1.1929405e+08 | H9: =G9-E10 -> 79529370 | I9: =H9-E10 -> 39764685 | J9: =I9-E10 -> 0 | U9: 2017 | V9: 102210600
B10: Installment/thn | E10: =E9/B2 -> 39764685
B11: Interest | E11: =((E9*IRR!F4*6)/12) -> 9941171.2 | F11: =AVERAGE(E9:F9)*IRR!$F$4 -> 17894108 | G11: =AVERAGE(F9:G9)*IRR!$F$4 -> 13917640 | H11: =AVERAGE(G9:H9)*IRR!$F$4 -> 9941171.2 | I11: =AVERAGE(H9:I9)*IRR!$F$4 -> 5964702.7 | J11: =AVERAGE(I9:J9)*IRR!$F$4 -> 1988234.2 | K11: =AVERAGE(J9:K9)*IRR!$F$4 -> 0
A12: 2017 | B12: loan | G12: =F12-F13 -> 0 | H12: =G12-F13 -> 0 | I12: =H12-F13 -> 0 | J12: =I12-F13 -> 0 | K12: =J12-F13 -> 0 | U12: 2017 | V12: 102210600
B13: Installment/thn | F13: =F12/B2 -> 0
B14: Interest | F14: =((F12*IRR!F4*6)/12) -> 0 | G14: =AVERAGE(F12:G12)*IRR!$F$4 -> 0 | H14: =AVERAGE(G12:H12)*IRR!$F$4 -> 0 | I14: =AVERAGE(H12:I12)*IRR!$F$4 -> 0 | J14: =AVERAGE(I12:J12)*IRR!$F$4 -> 0 | K14: =AVERAGE(J12:K12)*IRR!$F$4 -> 0 | L14: =AVERAGE(K12:L12)*IRR!$F$4 -> 0
A15: 2018 | B15: loan | H15: =G15-$G$16 -> 0 | I15: =H15-$G$16 -> 0 | J15: =I15-$G$16 -> 0 | K15: =J15-$G$16 -> 0 | L15: =K15-$G$16 -> 0
B16: Installment/thn | G16: =G15/$B$2 -> 0
B17: Interest | G17: =((G15*IRR!$F$4*6)/12) -> 0 | H17: =AVERAGE(G15:H15)*IRR!$F$4 -> 0 | I17: =AVERAGE(H15:I15)*IRR!$F$4 -> 0 | J17: =AVERAGE(I15:J15)*IRR!$F$4 -> 0 | K17: =AVERAGE(J15:K15)*IRR!$F$4 -> 0 | L17: =AVERAGE(K15:L15)*IRR!$F$4 -> 0 | M17: =AVERAGE(L15:M15)*IRR!$F$4 -> 0
A18: 2019 | B18: loan | H18: 45207038 | I18: =H18-$H19 -> 36165630 | J18: =I18-$H19 -> 27124223 | K18: =J18-$H19 -> 18082815 | L18: =K18-$H19 -> 9041407.6 | M18: =L18-$H19 -> 0
B19: Installment/thn | H19: =H18/$B$2 -> 9041407.6
B20: Interest | H20: =((H18*IRR!$F$4*6)/12) -> 2260351.9 | I20: =AVERAGE(H18:I18)*IRR!$F$4 -> 4068633.4 | J20: =AVERAGE(I18:J18)*IRR!$F$4 -> 3164492.7 | K20: =AVERAGE(J18:K18)*IRR!$F$4 -> 2260351.9 | L20: =AVERAGE(K18:L18)*IRR!$F$4 -> 1356211.1 | M20: =AVERAGE(L18:M18)*IRR!$F$4 -> 452070.38 | N20: =AVERAGE(M18:N18)*IRR!$F$4 -> 0
A21: 2020 | B21: loan | I21: 376800106 | J21: =I21-$I22 -> 3.0144008e+08 | K21: =J21-$I22 -> 2.2608006e+08 | L21: =K21-I$22 -> 1.5072004e+08 | M21: =L21-$I22 -> 75360021 | N21: =M21-$I22 -> 0
B22: Installment/thn | I22: =I21/$B$2 -> 75360021
B23: Interest | I23: =((I21*IRR!$F$4*6)/12) -> 18840005 | J23: =AVERAGE(I21:J21)*IRR!$F$4 -> 33912010 | K23: =AVERAGE(J21:K21)*IRR!$F$4 -> 26376007 | L23: =AVERAGE(K21:L21)*IRR!$F$4 -> 18840005 | M23: =AVERAGE(L21:M21)*IRR!$F$4 -> 11304003 | N23: =AVERAGE(M21:N21)*IRR!$F$4 -> 3768001.1 | O23: =AVERAGE(N21:O21)*IRR!$F$4 -> 0
A24: 2021 | B24: loan | K24: =J24-J25 -> 0 | L24: =K24-J25 -> 0 | M24: =L24-J25 -> 0 | N24: =M24-J25 -> 0 | O24: =N24-J25 -> 0
B25: Installment/thn | J25: =J24/$B$2 -> 0
B26: Interest | J26: =((J24*IRR!$F$4*6)/12) -> 0 | K26: =AVERAGE(J24:K24)*IRR!$F$4 -> 0 | L26: =AVERAGE(K24:L24)*IRR!$F$4 -> 0 | M26: =AVERAGE(L24:M24)*IRR!$F$4 -> 0 | N26: =AVERAGE(M24:N24)*IRR!$F$4 -> 0 | O26: =AVERAGE(N24:O24)*IRR!$F$4 -> 0 | P26: =AVERAGE(O24:P24)*IRR!$F$4 -> 0
A27: 2023 | B27: loan | M27: =L27-L28 -> 0 | N27: =M27-L28 -> 0 | O27: =N27-L28 -> 0 | P27: =O27-L28 -> 0 | Q27: =P27-L28 -> 0
B28: Installment/thn | L28: =L27/$B$2 -> 0
B29: Interest | L29: =((L27*IRR!$F$4*6)/12) -> 0 | M29: =AVERAGE(L27:M27)*IRR!$F$4 -> 0 | N29: =AVERAGE(M27:N27)*IRR!$F$4 -> 0 | O29: =AVERAGE(N27:O27)*IRR!$F$4 -> 0 | P29: =AVERAGE(O27:P27)*IRR!$F$4 -> 0 | Q29: =AVERAGE(P27:Q27)*IRR!$F$4 -> 0 | R29: =AVERAGE(Q27:R27)*IRR!$F$4 -> 0
A30: 2024 | B30: loan | M30: =IRR!G10 -> 0 | N30: =M30-M31 -> 0 | O30: =N30-M31 -> 0 | P30: =O30-M31 -> 0 | Q30: =P30-M31 -> 0 | R30: =Q30-M31 -> 0
B31: Installment/thn | M31: =M30/$B$2 -> 0
B32: Interest | M32: =((M30*IRR!$F$4*6)/12) -> 0 | N32: =AVERAGE(M30:N30)*IRR!$F$4 -> 0 | O32: =AVERAGE(N30:O30)*IRR!$F$4 -> 0 | P32: =AVERAGE(O30:P30)*IRR!$F$4 -> 0 | Q32: =AVERAGE(P30:Q30)*IRR!$F$4 -> 0 | R32: =AVERAGE(Q30:R30)*IRR!$F$4 -> 0 | S32: =AVERAGE(R30:S30)*IRR!$F$4 -> 0
B34: Interest Exp | C34: =C8+C5+C11+C14+C17+C20+C23+C26+C29 -> 0 | D34: =D8+D5+D11+D14+D17+D20+D23+D26+D29 -> 69747676 | E34: =E8+E5+E11+E14+E17+E20+E23+E26+E29 -> 1.3548699e+08 | F34: =F8+F5+F11+F14+F17+F20+F23+F26+F29 -> 1.1554086e+08 | G34: =G8+G5+G11+G14+G17+G20+G23+G26+G29 -> 83665316 | H34: =H8+H5+H11+H14+H17+H20+H23+H26+H29 -> 54050129 | I34: =I8+I5+I11+I14+I17+I20+I23+I26+I29 -> 42822877 | J34: =J8+J5+J11+J14+J17+J20+J23+J26+J29 -> 39064736 | ... L34: =L8+L5+L11+L14+L17+L20+L23+L26+L29 -> 20196216 | M34: =M8+M5+M11+M14+M17+M20+M23+M26+M29+M32 -> 11756074 | N34: =N8+N5+N11+N14+N17+N20+N23+N26+N29+N32 -> 3768001.1 | O34: =O8+O5+O11+O14+O17+O20+O23+O26+O29+O32 -> 0 | P34: =P8+P5+P11+P14+P17+P20+P23+P26+P29+P32 -> 0 | Q34: =Q8+Q5+Q11+Q14+Q17+Q20+Q23+Q26+Q29+Q32 -> 0 | R34: =R8+R5+R11+R14+R17+R20+R23+R26+R29+R32 -> 0 | S34: =S8+S5+S11+S14+S17+S20+S23+S26+S29+S32 -> 0
A40: SG&A | B40: 50000000 | C40: =B40+C41 -> 51000000 | D40: =C40+D42 -> 52020000 | E40: =D40+E42 -> 53060400 | F40: =E40+F42 -> 54121608 | G40: =F40+G42 -> 55204040 | H40: =G40+H42 -> 56308121 | I40: =H40+I42 -> 57434283 | J40: =I40+J42 -> 58582969 | K40: =J40+K42 -> 59754628
A41: 0.02 | C41: =C42 -> 1000000 | D41: =C41+D42 -> 2020000 | E41: =D41+E42 -> 3060400 | F41: =E41+F42 -> 4121608 | G41: =F41+G42 -> 5204040.2 | H41: =G41+H42 -> 6308121 | I41: =H41+I42 -> 7434283.4 | J41: =I41+J42 -> 8582969.1 | K41: =J41+K42 -> 9754628.4
C42: =B40*$A$41 -> 1000000 | D42: =C40*$A$41 -> 1020000 | E42: =D40*$A$41 -> 1040400 | F42: =E40*$A$41 -> 1061208 | G42: =F40*$A$41 -> 1082432.2 | H42: =G40*$A$41 -> 1104080.8 | I42: =H40*$A$41 -> 1126162.4 | J42: =I40*$A$41 -> 1148685.7 | K42: =J40*$A$41 -> 1171659.4
F47: person | G47: trip | H47: kamar | I47: Days by Omni | J47: Biaya walktest inhouse/visit | K47: Biaya walktest inhouse/thn
E48: Diisikan | F48: 1 | G48: 1 | H48: 1 | I48: =Summary!H8 -> 203
B49: Transport | C49: Pesawat | D49: =C66 -> 3500000 | E49: person | F49: =F48 -> 1 | J49: =F49*D49 -> 3500000
C50: Bandara | D50: 600000 | E50: person | F50: =F48 -> 1 | I50: 2 | J50: =D50*F50 -> 600000
...

Sheet SummaryBR
D1: SUMMARY REVIEW
A3: Nama Site | C3: : | D3: =IRR!Q1 -> Gudang Garam Office
A4: Nama Pemilik | C4: : | D4: PT Gudang Garam, tbk
A5: Alamat Pemilik | C5: : | D5: Jl. Jend Ahmad Yani No.75-76, Jakarta
A6: Telp | C6: :
A7: Obyek Sewa | C7: : | D7: 203 omni + 8 pole + RBS 40m2
A9: No. | B9: Keterangan | D9: Existing | E9: Renewal
A11: 1. | B11: Scope Of Lease | D11: IBC | E11: IBC
A12: 2. | B12: Obyek Sewa | D12: =D7 -> 203 omni + 8 pole + RBS 40m2 | E12: =D12 -> 203 omni + 8 pole + RBS 40m2
A13: 3. | B13: Periode Sewa | D13: 13 Mar 19 s/d 12 Mar 2024 | E13: 13 Mar 24 s/d 12 Mar 2029
A15: 4 | B15: Harga Sewa | D15: 275000000 | E15: =D15 -> 275000000
B16: Harga Sewa/th | D16: =D15/5 -> 55000000 | E16: =E15/5 -> 55000000
A17: 5 | B17: Operator Join | D17: TSEL (13 Aug 22 s/d 12 Aug 27) | E17: TSEL (13 Aug 22 s/d 12 Aug 27)
A21: 6. | B21: Kenaikan/ Penurunan Harga | D21: Harga tetap

Sheet Analisa
A2: SITE Mall Medan centre Point
A3: Periode | B3: Start | C3: End
A5: Rev TSEL | B5: 44786 | C5: 46611
A7: Sewa BM | B7: 45364 | C7: 47189
B9: Start | C9: End | D9: Days
A10: Worse >> Jika Sewa BM diperpanjang 5 tahun dan XL sesuai periodenya XL, maka:
A11: Rev XL | B11: 45346 | C11: 45559 | D11: =C11-B11 -> 213 | E11: 150000000 | F11: =E11*D11/365 -> 87534247
A12: Sewa BM | B12: 45346 | C12: 47172 | D12: =C12-B12 -> 1826 | E12: =275000000/5 -> 55000000 | F12: =-E12/365*D12 -> -2.7515068e+08
A13: OM | B13: 45346 | C13: 45559 | D13: =C13-B13 -> 213 | E13: 7000000 | F13: =-E13/365*D13 -> -4084931.5
A14: Antisipasi Add Capex and Pole | E14: 100000000
A15: Profit | F15: =SUM(F11:F14) -> -1.9170137e+08
D18: =C18-B18 -> 0 | E18: =IRR!G20 -> 0 | F18: =E18*D18/365 -> 0
A19: Rev TSEL | B19: 45517 | C19: 45881 | D19: =C19-B19 -> 364 | E19: =IRR!G19 -> 228000000 | F19: =E19*D19/365 -> 2.2737534e+08
D20: =C20-B20 -> 0 | E20: =IRR!G21 -> 0 | F20: =E20*D20/365 -> 0
A21: Sewa BM | B21: =B7 -> 45364 | C21: 45728 | D21: =C21-B21 -> 364 | E21: =SummaryBR!E16 -> 55000000 | F21: =-(E21*D21/365) -> -54849315
A22: OM | B22: 45292 | C22: 45657 | D22: =C22-B22 -> 365 | E22: 7000000 | F22: =-(E22*D22/365) -> -7000000
A23: Antisipasi Add Capex and Pole | E23: 100000000
A24: Profit | F24: =SUM(F18:F23) -> 1.6552603e+08
