Workbook
Name jk: #REF!
Name jk: #REF!
Name jk: #REF!
Name years_contract: [1]Kerlink!$D$5

Sheet Summary
C1: No. | D1: 0016/IRR/IBC/VI/2024 | M1: Th Bellevue Pondok Indah
C2: Product : | D2: IBS / DAS | J2: Tanggal P&L: | M2: 45254
C3: Status P&L | D3: New Building
B5: Site Information | E5: Technical Information | J5: Financial Summary
B6: Site Name | D6: ='IRR Approved'!R1 -> The Belleuve Bestwestern Pondok Indah | E6: IBC | K6: Capex /antenna | M6: =M11/H7 -> 5417771.4 | O6: =M6-'IRR Approved'!F8 -> -1582228.6 | P6: 5417771.4
B7: Address | E7: Antena PKS BM | H7: 75 | K7: Contract Period (thn) | M7: 3 | P7: 3
B8: Area building | E8: Antena Asset | K8: Interest rate /year | M8: ='IRR Approved'!$F$4 -> 0.1 | P8: 0.1
B9: Type of building | D9: Apartmen | E9: Jumlah Pole Makro | K9: Kurs 1USD | M9: 0 | P9: 0
B10: Status | K10: Total Revenue | M10: ='IRR Approved'!$R$27 -> 420000000 | P10: 420000000
B11: Total floor | D11: 3 | K11: Total Capex DAS | M11: 406332853 | P11: 406332853
B12: No of building tower | D12: 1 | E12: OPENET | K12: Total Capex BV 31Jul24 | M12: ='IRR Approved'!$R$13 -> 273897107 | P12: 273897107
E13: Cable FO (Core) | H13: 0 | K13: Total COGS Rent | M13: ='IRR Approved'!$R$30 -> 300000000 | P13: 300000000
E14: Cable FO (meter) | H14: 0 | K14: Total COGS Other | M14: ='IRR Approved'!$R$31+'IRR Approved'!$R$32+'IRR Approved'!$R$33 -> 42000000 | P14: 42000000
K15: IRR | M15: ='IRR Approved'!$F$51 -> -0.3193701 | P15: -0.3193701
E16: Drop Wire (meter) | H16: 0 | K16: NPV | M16: ='IRR Approved'!$F$52 -> -2.3711887e+08 | P16: -2.3711887e+08
E17: OTHERS | K17: EBITDA margin | M17: ='IRR Approved'!$F$53 -> 0.18571429 | P17: 0.18571429
K18: Payback (year) | M18: ='IRR Approved'!$F$54 -> 0 | P18: 0
B20: Target to Achieve by Commercial: | L20: Prepared by
B21: Revenue | D21: Perpanjangan sewa hanya 3 tahun IRR Negatif karena BV masih besar | L21: Citra K.
B26: Approved by

Sheet IRR Approved
B1: No | C1: 0016/IRR/IBC/VI/2024 | R1: The Belleuve Bestwestern Pondok Indah
B2: General Asumption | I2: Join year | L2: % inc (dec)
C3: Tax Rate | F3: 0.02 | I3: Rev/month - TSEL | K3: =H22/12 -> 0 | L3: 0.15
C4: Interest Rate | F4: 0.1 | I4: Rev/month - XL | K4: =H23/12 -> 11666667 | L4: 0.15
C5: SG&A | F5: 0.05 | G5: Increase every year | I5: Rev/month - IOH | K5: =(H25+H24)/12 -> 0 | L5: 0.15
C6: BHPUSO | F6: 0 | G6: from Revenues | I6: Rev/month - SF
C7: Price Adjustment after 5 year | F7: 0.15
C8: Capex per antenna | F8: 7000000
C9: Migrasi per operator | F9: 150000000
G11: Y0 | H11: Y1 | I11: Y2 | J11: Y3 | K11: Y4 | L11: Y5 | M11: Y6 | N11: Y7 | O11: Y8 | P11: Y9 | Q11: Y10 | R11: Total
B12: CAPEX
B13: Total CAPEX | E13: BV 31 Jul 2024 | F13: 75 | H13: 273897107 | I13: 0 | J13: 0 | R13: =SUM(H13:Q13) -> 273897107
E14: BTS migrasi | F14: =3*0 -> 0 | I14: =$F$9*0 -> 0 | J14: =$F$9*0 -> 0 | K14: =$F$9*0 -> 0 | R14: =SUM(H14:Q14) -> 0
R15: =SUM(R13:R14) -> 273897107
B17: IRR Calculation | G17: Year 0 | H17: 2025 | I17: =H17+1 -> 2026 | J17: =I17+1 -> 2027 | K17: =J17+1 -> 2028 | L17: =K17+1 -> 2029 | M17: =L17+1 -> 2030 | N17: =M17+1 -> 2031 | O17: =N17+1 -> 2032 | P17: =O17+1 -> 2033 | Q17: =P17+1 -> 2034 | R17: Total
B18: Months of Service | G18: 12 | H18: 12 | I18: 12 | J18: 12 | K18: 12 | L18: 12 | M18: 12 | N18: 12 | O18: 12 | P18: 12 | Q18: 12
B19: % increase (decrease) | M19: 0.1
B21: Revenues
C22: Telkomsel | M22: =$K$3*0 -> 0 | N22: =$K$3*(1-$L$3)*0 -> 0 | O22: =$K$3*(1-$L$3)*0 -> 0 | P22: =$K$3*(1-$L$3)*0 -> 0 | Q22: =$K$3*(1-$L$3)*0 -> 0 | R22: =SUM($G22:Q22) -> 0
C23: XL | H23: 140000000 | I23: =H23 -> 140000000 | J23: =I23 -> 140000000 | M23: =$K$4*0 -> 0 | N23: =$K$4*0 -> 0 | O23: =$K$4*0 -> 0 | P23: =$K$4*(1-$L$4)*0 -> 0 | Q23: =$K$4*(1-$L$4)*0 -> 0 | R23: =SUM($G23:Q23) -> 420000000
C24: IOH-Makro | R24: =SUM($G24:Q24) -> 0
C25: IOH | I25: =H25 -> 0 | J25: =I25 -> 0 | K25: =J25 -> 0 | L25: =K25 -> 0 | M25: =$K$5*0 -> 0 | N25: =$K$5*0 -> 0 | O25: =$K$5*(1-$L$5)*0 -> 0 | P25: =$K$5*(1-$L$5)*0 -> 0 | Q25: =$K$5*(1-$L$5)*0 -> 0 | R25: =SUM($G25:Q25) -> 0
C26: Smartfren | R26: =SUM($G26:Q26) -> 0
B27: Total Revenues | G27: =SUM(G22:G26) -> 0 | H27: =SUM(H22:H26) -> 140000000 | I27: =SUM(I22:I26) -> 140000000 | J27: =SUM(J22:J26) -> 140000000 | K27: =SUM(K22:K26) -> 0 | L27: =SUM(L22:L26) -> 0 | M27: =SUM(M22:M26) -> 0 | N27: =SUM(N22:N26) -> 0 | ... R27: =SUM(R22:R26) -> 420000000 | S27: =SUM(G27:Q27)-R27 -> 0
B29: OPEX
C30: Lease to BM | H30: 300000000 | M30: =800000000*10%*0 -> 0 | N30: =800000000*30%*0 -> 0 | O30: =800000000*20%*0 -> 0 | P30: =O30 -> 0 | Q30: =P30 -> 0 | R30: =SUM($H30:Q30) -> 300000000
C31: Electricity | M31: =200000000*0.5*0 -> 0 | N31: =200000000*0.5*0 -> 0 | O31: =200000000*0.5*0 -> 0 | P31: =200000000*0.5*0 -> 0 | Q31: =200000000*0.5*0 -> 0 | R31: =SUM($G31:Q31) -> 0
C32: Maintenance (RPM) | G32: =IF(G22>0,COUNTIF(G22:G26,">0")*7000000, IF(G23>0,COUNTIF(G22:G26,">0")*7000000, IF(G25>0,COUNTIF(G22:G26,">0")*7000000, IF(G26>0,COUNTIF(G22:G26,">0")*7000000,0)))) -> 0 | H32: =7000000 -> 7000000 | I32: =H32 -> 7000000 | J32: =I32 -> 7000000 | M32: =IF(N22>0,COUNTIF(M22:M26,">0")*7000000, IF(M23>0,COUNTIF(M22:M26,">0")*7000000, IF(O25>0,COUNTIF(M22:M26,">0")*7000000, IF(M26>0,COUNTIF(M22:M26,">0")*7000000,0)))) -> 0 | N32: =IF(O22>0,COUNTIF(N22:N26,">0")*7000000, IF(N23>0,COUNTIF(N22:N26,">0")*7000000, IF(P25>0,COUNTIF(N22:N26,">0")*7000000, IF(N26>0,COUNTIF(N22:N26,">0")*7000000,0)))) -> 0 | O32: =IF(P22>0,COUNTIF(O22:O26,">0")*7000000, IF(O23>0,COUNTIF(O22:O26,">0")*7000000, IF(Q25>0,COUNTIF(O22:O26,">0")*7000000, IF(O26>0,COUNTIF(O22:O26,">0")*7000000,0)))) -> 0 | P32: =IF(P22>0,COUNTIF(P22:P26,">0")*7000000, IF(P23>0,COUNTIF(P22:P26,">0")*7000000, IF(P25>0,COUNTIF(P22:P26,">0")*7000000, IF(P26>0,COUNTIF(P22:P26,">0")*7000000,0)))) -> 0 | Q32: =IF(Q22>0,COUNTIF(Q22:Q26,">0")*7000000, IF(Q23>0,COUNTIF(Q22:Q26,">0")*7000000, IF(Q25>0,COUNTIF(Q22:Q26,">0")*7000000, IF(Q26>0,COUNTIF(Q22:Q26,">0")*7000000,0)))) -> 0 | R32: =SUM($G32:Q32) -> 21000000
C33: SG&A (inhouse resources) | G33: =$F$5*G27 -> 0 | H33: =H27*$F$5 -> 7000000 | I33: =I27*$F$5 -> 7000000 | J33: =J27*$F$5 -> 7000000 | K33: =K27*$F$5 -> 0 | L33: =L27*$F$5 -> 0 | M33: =PARAMETER!G36*0 -> 0 | N33: =PARAMETER!H36*0 -> 0 | O33: =PARAMETER!I36*0 -> 0 | P33: =PARAMETER!J36*0 -> 0 | Q33: =PARAMETER!K36*0 -> 0 | R33: =SUM($G33:Q33) -> 21000000
B34: Total OPEX | G34: =SUM(G30:G33) -> 0 | H34: =SUM(H30:H33) -> 314000000 | I34: =SUM(I30:I33) -> 14000000 | J34: =SUM(J30:J33) -> 14000000 | K34: =SUM(K30:K33) -> 0 | L34: =SUM(L30:L33) -> 0 | M34: =SUM(M30:M33) -> 0 | N34: =SUM(N30:N33) -> 0 | ... R34: =SUM(R30:R33) -> 342000000 | S34: =SUM(G34:Q34)-R34 -> 0
B35: Total EBITDA | G35: =G27-G34 -> 0 | H35: =H27-H34 -> -174000000 | I35: =I27-I34 -> 126000000 | J35: =J27-J34 -> 126000000 | K35: =K27-K34 -> 0 | L35: =L27-L34 -> 0 | M35: =M27-M34 -> 0 | N35: =N27-N34 -> 0 | ... R35: =R27-R34 -> 78000000 | S35: =SUM(G35:Q35)-R35 -> 0
B36: Ebitda margin | H36: =H35/H27 -> -1.2428571 | I36: =I35/I27 -> 0.9 | J36: =J35/J27 -> 0.9 | K36: =K35/K27 -> #DIV/0! | L36: =L35/L27 -> #DIV/0! | M36: =M35/M27 -> #DIV/0! | N36: =N35/N27 -> #DIV/0! | O36: =O35/O27 -> #DIV/0! | ... R36: =R35/R27 -> 0.18571429
B38: Depreciation Expense | H38: =H68 -> 91299036 | I38: =I68 -> 91299036 | J38: =J68 -> 91299036 | M38: =M68*0 -> 0 | N38: =N68*0 -> 0 | O38: =O68*0 -> 0 | P38: =P68*0 -> 0 | Q38: =Q68*0 -> 0 | R38: =SUM($G38:Q38) -> 273897107
B39: Total EBIT | H39: =H35-H38 -> -2.6529904e+08 | I39: =I35-I38 -> 34700964 | J39: =J35-J38 -> 34700964 | K39: =K35-K38 -> 0 | L39: =L35-L38 -> 0 | M39: =M35-M38 -> 0 | N39: =N35-N38 -> 0 | O39: =O35-O38 -> 0 | ... R39: =R35-R38 -> -195897107 | S39: =SUM(G39:Q39)-R39 -> 0
B40: Interest Expense | H40: =PARAMETER!H24 -> 6694948.4 | I40: =PARAMETER!I24 -> 0 | J40: =PARAMETER!J24 -> 0 | K40: =PARAMETER!K24 -> 0 | L40: =PARAMETER!L24 -> 0 | N40: =PARAMETER!I4 -> 0 | O40: =PARAMETER!J4 -> 0 | P40: =PARAMETER!K4 -> 0 | Q40: =PARAMETER!L4 -> 0 | R40: =SUM($G40:Q40) -> 6694948.4
B41: EBT | H41: =H39-H40 -> -2.7199398e+08 | I41: =I39-I40 -> 34700964 | J41: =J39-J40 -> 34700964 | K41: =K39-K40 -> 0 | L41: =L39-L40 -> 0 | M41: =M39-M40 -> 0 | N41: =N39-N40 -> 0 | O41: =O39-O40 -> 0 | ... Q41: =Q39-Q40 -> 0 | R41: =SUM($G41:Q41) -> -2.0259206e+08 | S41: =SUM(G41:Q41)-R41 -> 0
B42: Tax Expense | H42: =IF(H41<0,0,H41*$F$3) -> 0 | I42: =IF(I41<0,0,I41*$F$3) -> 694019.29 | J42: =IF(J41<0,0,J41*$F$3) -> 694019.29 | K42: =IF(K41<0,0,K41*$F$3) -> 0 | L42: =IF(L41<0,0,L41*$F$3) -> 0 | M42: =IF(M41<0,0,M41*$F$3) -> 0 | N42: =IF(N41<0,0,N41*$F$3) -> 0 | O42: =IF(O41<0,0,O41*$F$3) -> 0 | ... Q42: =IF(Q41<0,0,Q41*$F$3) -> 0 | R42: =SUM($G42:Q42) -> 1388038.6
B43: Net Income | H43: =H41-H42 -> -2.7199398e+08 | I43: =I41-I42 -> 34006945 | J43: =J41-J42 -> 34006945 | K43: =K41-K42 -> 0 | L43: =L41-L42 -> 0 | M43: =M41-M42 -> 0 | N43: =N41-N42 -> 0 | O43: =O41-O42 -> 0 | ... R43: =R41-R42 -> -2.0398009e+08 | S43: =SUM(G43:Q43)-R43 -> 0
B45: Capex | H45: =-H13+-H14 -> -273897107 | I45: =-I13+-I14 -> 0 | J45: =-J13+-J14 -> 0 | K45: =-K13+-K14 -> 0 | L45: =-L13+-L14 -> 0 | M45: =-M14 -> 0 | N45: =-N14 -> 0 | O45: =-O14 -> 0 | P45: =-P14 -> 0 | Q45: =-Q14 -> 0 | R45: =SUM($G$45:Q45) -> -273897107
B46: FCFF | H46: =H45+H43+H38 -> -4.5459206e+08 | I46: =I45+I43+I38 -> 1.2530598e+08 | J46: =J45+J43+J38 -> 1.2530598e+08 | K46: =K45+K43+K38 -> 0 | L46: =L45+L43+L38 -> 0 | M46: =M45+M43+M38 -> 0 | N46: =N45+N43+N38 -> 0 | O46: =O45+O43+O38 -> 0 | ... Q46: =Q45+Q43+Q38 -> 0 | R46: =SUM($H$46:Q46) -> -2.0398009e+08
...

Sheet PARAMETER
B1: 5 | C1: 2019 | D1: =C1+1 -> 2020 | E1: =D1+1 -> 2021 | F1: =E1+1 -> 2022 | G1: =F1+1 -> 2023 | H1: =G1+1 -> 2024 | I1: =H1+1 -> 2025 | J1: =I1+1 -> 2026 | K1: =J1+1 -> 2027 | ... V1: =U1+1 -> 2038
A2: 2019 | B2: loan | C2: 546640824 | D2: =C2-C3 -> 4.3731266e+08 | E2: =D2-C3 -> 3.2798449e+08 | F2: =E2-C3 -> 2.1865633e+08 | G2: =F2-C3 -> 1.0932816e+08 | H2: =G2-C3 -> 0
B3: Installment/thn | C3: =C2/$B$1 -> 1.0932816e+08
B4: Interest | C4: =(C2*'IRR Approved'!$F$4*6/12) -> 27332041 | D4: =AVERAGE(C2:D2)*'IRR Approved'!$F$4 -> 49197674 | E4: =AVERAGE(D2:E2)*'IRR Approved'!$F$4 -> 38264858 | F4: =AVERAGE(E2:F2)*'IRR Approved'!$F$4 -> 27332041 | G4: =AVERAGE(F2:G2)*'IRR Approved'!$F$4 -> 16399225 | H4: =AVERAGE(G2:H2)*'IRR Approved'!$F$4 -> 5466408.2 | I4: =AVERAGE(H2:I2)*'IRR Approved'!$F$4 -> 0
A5: =A2+1 -> 2020 | B5: loan | C5: 122854012 | D5: =C5-$C$6 -> 98283210 | E5: =D5-$C$6 -> 73712407 | F5: =E5-$C$6 -> 49141605 | G5: =F5-$C$6 -> 24570802 | H5: =G5-$C$6 -> 0
B6: Installment/thn | C6: =C5/$B$1 -> 24570802
B7: Interest | C7: =(C5*'IRR Approved'!$F$4*6/12) -> 6142700.6 | D7: =AVERAGE(C5:D5)*'IRR Approved'!$F$4 -> 11056861 | E7: =AVERAGE(D5:E5)*'IRR Approved'!$F$4 -> 8599780.8 | F7: =AVERAGE(E5:F5)*'IRR Approved'!$F$4 -> 6142700.6 | G7: =AVERAGE(F5:G5)*'IRR Approved'!$F$4 -> 3685620.4 | H7: =AVERAGE(G5:H5)*'IRR Approved'!$F$4 -> 1228540.1 | I7: =AVERAGE(H5:I5)*'IRR Approved'!$F$4 -> 0
A8: =A5+1 -> 2021 | B8: loan
B9: Installment/thn
B10: Interest
A11: =A8+1 -> 2022 | B11: loan
B12: Installment/thn
B13: Interest
A14: =A11+1 -> 2023 | B14: loan
B15: Installment/thn
B16: Interest
A17: =A14+1 -> 2024 | B17: loan
B18: Installment/thn
B19: Interest
A20: =A17+1 -> 2025 | B20: loan
B21: Installment/thn
B22: Interest
C24: =C22+C19+C16+C13+C10+C7+C4 -> 33474742 | D24: =D22+D19+D16+D13+D10+D7+D4 -> 60254535 | E24: =E22+E19+E16+E13+E10+E7+E4 -> 46864639 | F24: =F22+F19+F16+F13+F10+F7+F4 -> 33474742 | G24: =G22+G19+G16+G13+G10+G7+G4 -> 20084845 | H24: =H22+H19+H16+H13+H10+H7+H4 -> 6694948.4 | I24: =I22+I19+I16+I13+I10+I7+I4 -> 0 | J24: =J22+J19+J16+J13+J10+J7+J4 -> 0 | ... T24: =T22+T19+T16+T13+T10+T7+T4 -> 0
A36: SG&A | B36: 50000000 | C36: =B36+C37 -> 51000000 | D36: =C36+D38 -> 52020000 | E36: =D36+E38 -> 53060400 | F36: =E36+F38 -> 54121608 | G36: =F36+G38 -> 55204040 | H36: =G36+H38 -> 56308121 | I36: =H36+I38 -> 57434283 | J36: =I36+J38 -> 58582969 | K36: =J36+K38 -> 59754628
A37: 0.02 | C37: =C38 -> 1000000 | D37: =C37+D38 -> 2020000 | E37: =D37+E38 -> 3060400 | F37: =E37+F38 -> 4121608 | G37: =F37+G38 -> 5204040.2 | H37: =G37+H38 -> 6308121 | I37: =H37+I38 -> 7434283.4 | J37: =I37+J38 -> 8582969.1 | K37: =J37+K38 -> 9754628.4
C38: =B36*$A$37 -> 1000000 | D38: =C36*$A$37 -> 1020000 | E38: =D36*$A$37 -> 1040400 | F38: =E36*$A$37 -> 1061208 | G38: =F36*$A$37 -> 1082432.2 | H38: =G36*$A$37 -> 1104080.8 | I38: =H36*$A$37 -> 1126162.4 | J38: =I36*$A$37 -> 1148685.7 | K38: =J36*$A$37 -> 1171659.4
F43: person | G43: trip | H43: kamar | I43: Days by Omni | J43: Biaya walktest inhouse/visit | K43: Biaya walktest inhouse/thn
E44: Diisikan | F44: 1 | G44: 1 | H44: 1 | I44: 266
B45: Transport | C45: Pesawat | D45: =C56 -> 3000000 | E45: person | F45: =F44 -> 1 | J45: =F45*D45 -> 3000000
C46: Bandara | D46: 600000 | E46: person | F46: =F44 -> 1 | I46: =IF($I$36<=120,2,IF($I$36>220,4,3)) -> 4 | J46: =D46*F46 -> 600000
C47: Transport | D47: 200000 | E47: Trip | G47: =G44 -> 1 | J47: =G47*D47 -> 200000
B48: Hotel | C48: Hotel | D48: 450000 | E48: kamar | F48: =F44 -> 1 | H48: =H44 -> 1 | I48: =IF($I$36<=120,2,IF($I$36>220,4,3)) -> 4 | J48: =H48*D48*I48 -> 1800000
B49: Uang Saku | C49: Uang Saku | D49: 120000 | E49: person | F49: =F44 -> 1 | I49: =IF($I$36<=120,2,IF($I$36>220,4,3)) -> 4 | J49: =I49*D49*F49 -> 480000
J50: =SUM(J45:J49) -> 6080000 | K50: =J50*2 -> 12160000
B54: PM/Year/Site | C54: Pesawat | E54: Asumsi:
A55: Sulut | B55: 16800000 | C55: 4000000 | E55: Walktest 4x dalam setahun semua operator sekaligus
A56: Makasar | C56: 3000000 | E56: Walktest pertama oleh vendor | I56: 10000000
A57: Bali | B57: 15600000 | C57: 2500000 | E57: Walktest pertama oleh vendor | H57: Pekanbaru | I57: 12000000
A58: Jatim | B58: 15000000 | C58: 2000000 | E58: Walktest pertama oleh vendor | H58: Sumut | I58: 14000000
A59: Jateng | B59: 15000000 | C59: 1850000 | E59: Walktest pertama oleh vendor | H59: Sulsel | I59: 14000000
...

Sheet Analisa
A2: SITE Best Western Bellevue Pondok Indah
A3: Periode | B3: Start | C3: End
A4: Rev XL | B4: 45476 | C4: 46570
A5: Sewa BM | B5: 45501 | C5: 46595
B7: Start | C7: End | D7: Days
A8: Worse >> Jika Sewa BM diperpanjang 5 tahun dan XL sesuai periodenya XL, maka:
A9: Rev XL | B9: 45501 | C9: 46570 | D9: =C9-B9 -> 1069 | E9: 140000000 | F9: =E9/365*D9 -> 4.100274e+08
A10: Sewa BM | B10: 45501 | C10: 46595 | D10: =C10-B10 -> 1094 | E10: 100000000 | F10: =-E10/365*D10 -> -2.9972603e+08
A11: OM | B11: 45501 | C11: 46570 | D11: =C11-B11 -> 1069 | E11: 7000000 | F11: =-E11/365*D11 -> -20501370
A12: Antisipasi Add Capex and Pole | E12: 100000000
A13: Profit | F13: =SUM(F9:F12) -> 89800000

Sheet Summary BR
C1: SUMMARY REVIEW
A3: Nama Site | C3: : The Bellevue Best Western Pondok Indah (Aston Bellevue)
A4: Nama Pemilik | C4: : PT.Bina Usaha Nusantara
A5: Alamat Pemilik | C5: : JL. H.Nawi No.1 Jakarta Selatan
A6: Telp | C6: :
A7: Obyek Sewa | C7: : 75 Omni + Unit Pole Antenna + RBS m²
A9: No. | B9: Keterangan | C9: Existing | D9: Renewal
A11: 1 | B11: Scope Of Lease | C11: IBC | D11: IBC
A12: 2 | B12: Obyek Sewa | C12: =C7 -> : 75 Omni + Unit Pole Antenna + RBS m² | D12: =C7 -> : 75 Omni + Unit Pole Antenna + RBS m²
A13: 3 | B13: Periode Sewa | C13: 28 Juli 2021 s/d 27 Juli 2024 (3 tahun) | D13: 28 Juli 2024 s/d 27 Juli 2027 (3 tahun)
A14: 4 | B14: Harga Sewa | C14: Rp.83.333.333/ Tahun atau Rp.250.000.000/ 3 Tahun | D14: Rp.100.000.000/ Tahun atau Rp.300.000.000/ 3 Tahun
A15: 6 | B15: Operator Join | C15: Smartfren | D15: Smartfren
C16: XL (03 Juli 2019 s/d 02 Juli 2024) | D16: XL (03 Juli 2024 s/d 02 Juli 2027)
A17: 7 | B17: Harga Sewa | C17: Mengalami kenaikan sebesar 20%
B19: Note :
