Workbook
Name jk: #REF!
Name years_contract: [1]Kerlink!$D$5

Sheet Summary
C2: Product : | D2: IBS / DAS | J2: Tanggal P&L: | M2: 45489
C3: Status P&L | D3: Renewal
B5: Site Information | E5: Technical Information | J5: Financial Summary
B6: Site Name | D6: Hotel Swissbell Watu Jimbar | E6: IBC | K6: Capex /antenna | M6: =906221447/H8 -> 7489433.4
B7: Address | E7: Antena PKS BM | H7: 123 | K7: Contract Period (thn) | M7: 5
E8: Antena Asset | H8: 121 | K8: Interest rate /year | M8: 0.1
B9: Area building | D9: Bali | E9: Jumlah Pole Makro | K9: Kurs 1USD | M9: 0
B10: Type of building | D10: Hotel | K10: Total Revenue | M10: =IRR!L19 -> 660000000
B11: Status | D11: Renewal | K11: Total Capex | M11: =IRR!G8 -> 89433549
B12: Total floor | D12: 4 | E12: OPENET | K12: Total COGS Rent | M12: =IRR!L22 -> 200000000
B13: No of building tower | D13: 1 | E13: Cable FO (Core) | H13: 0 | K13: Total COGS Other | M13: =SUM(IRR!L23:L25) -> 373100000
E14: Cable FO (meter) | H14: 0
E15: Drop Wire (meter) | H15: 0 | K15: IRR | M15: =IRR!F40 -> -0.015480302
E16: OTHERS | K16: NPV | M16: =IRR!F41 -> -28672244
K17: EBITDA margin | M17: =IRR!F42 -> 0.13166667
K18: Payback (year) | M18: =IRR!F43 -> 0
B20: Target Achieved by Commercial: | L20: Prepared by
B21: Revenue | D21: : | L21: Citra Kartika
D22: :
D23: :
B27: Approved by

Sheet IRR
B1: General
C2: Tax Rate | F2: 0.02
C3: Interest Rate | F3: 0.1
C4: SG&A | F4: 0.05 | G4: from Revenues
C5: BHPUSO | F5: 0 | G5: from Revenues
C6: Erosion | F6: 0.15
G7: Y1 | H7: Y2 | I7: Y3 | J7: Y4 | K7: Y5
B8: Total CAPEX | E8: BV 30 Jun 24 | G8: 89433549 | H8: 0 | I8: 0 | J8: 0
E9: BTS
G10: 2024 | H10: 2025 | I10: 2026 | J10: 2027 | K10: 2028
B11: IRR Calculation | G11: Year 1 | H11: Year 2 | I11: Year 3 | J11: Year 4 | K11: Year 5 | L11: Total
B12: Months of Service | G12: 12 | H12: 12 | I12: 12 | J12: 12 | K12: 12
B14: Revenues
C15: TSEL | G15: 132000000 | H15: =G15 -> 132000000 | I15: =H15 -> 132000000 | J15: =I15 -> 132000000 | K15: =J15 -> 132000000 | L15: =SUM(G15:K15) -> 660000000
C16: IOH | H16: =G16*(1-$F$6) -> 0 | I16: =H16 -> 0 | J16: =I16 -> 0 | K16: =J16 -> 0 | L16: =SUM(G16:K16) -> 0
C17: XL | L17: =SUM(G17:K17) -> 0
B19: Total Revenues (SF) | G19: =SUM(G15:G18) -> 132000000 | H19: =SUM(H15:H18) -> 132000000 | I19: =SUM(I15:I18) -> 132000000 | J19: =SUM(J15:J18) -> 132000000 | K19: =SUM(K15:K18) -> 132000000 | L19: =SUM(G19:K19) -> 660000000
B21: OPEX
C22: Lease to BM | G22: 80000000 | I22: 120000000 | L22: =SUM(G22:K22) -> 200000000
C23: Electricity | G23: =PARAMETER!B48 -> 42000000 | H23: =G23 -> 42000000 | I23: =H23 -> 42000000 | J23: =I23 -> 42000000 | K23: =J23 -> 42000000 | L23: =SUM(G23:K23) -> 210000000
C24: Maintenance | G24: =PARAMETER!K27 -> 32620000 | H24: =G24 -> 32620000 | I24: =H24 -> 32620000 | J24: =I24 -> 32620000 | K24: =J24 -> 32620000 | L24: =SUM(G24:K24) -> 163100000
C25: SG&A | L25: =SUM(G25:K25) -> 0
B26: Total OPEX | G26: =SUM(G22:G25) -> 154620000 | H26: =SUM(H22:H25) -> 74620000 | I26: =SUM(I22:I25) -> 194620000 | J26: =SUM(J22:J25) -> 74620000 | K26: =SUM(K22:K25) -> 74620000 | L26: =SUM(L22:L25) -> 573100000
B27: Total EBITDA | G27: =G19-G26 -> -22620000 | H27: =H19-H26 -> 57380000 | I27: =I19-I26 -> -62620000 | J27: =J19-J26 -> 57380000 | K27: =K19-K26 -> 57380000 | L27: =L19-L26 -> 86900000
B28: Ebitda margin | G28: 0 | H28: =H27/H19 -> 0.43469697 | I28: =I27/I19 -> -0.47439394 | J28: =J27/J19 -> 0.43469697 | K28: =K27/K19 -> 0.43469697 | L28: =L27/L19 -> 0.13166667
B29: Depreciation Expense | G29: =G51 -> 17886710 | H29: =H51 -> 17886710 | I29: =I51 -> 17886710 | J29: =J51 -> 17886710 | K29: =K51 -> 17886710 | L29: =SUM(G29:K29) -> 89433549
B30: Total EBIT | G30: =G27-G29 -> -40506710 | H30: =H27-H29 -> 39493290 | I30: =I27-I29 -> -80506710 | J30: =J27-J29 -> 39493290 | K30: =K27-K29 -> 39493290 | L30: =L27-L29 -> -2533549
B31: Interest Expense | G31: =PARAMETER!K15 -> 268517.28 | H31: =PARAMETER!L15 -> 89505.76 | I31: =PARAMETER!M15 -> 0 | J31: =PARAMETER!N15 -> 0 | K31: =PARAMETER!O15 -> 0 | L31: =SUM(G31:K31) -> 358023.04
B32: EBT | G32: =G30-G31 -> -40775227 | H32: =H30-H31 -> 39403784 | I32: =I30-I31 -> -80506710 | J32: =J30-J31 -> 39493290 | K32: =K30-K31 -> 39493290 | L32: =SUM(G32:K32) -> -2891572
B33: Tax Expense | G33: =IF(G32<0,0,G32*$F$2) -> 0 | H33: =IF(H32<0,0,H32*$F$2) -> 788075.69 | I33: =IF(I32<0,0,I32*$F$2) -> 0 | J33: =IF(J32<0,0,J32*$F$2) -> 789865.8 | K33: =IF(K32<0,0,K32*$F$2) -> 789865.8 | L33: =SUM(G33:K33) -> 2367807.3
B34: Net Income | G34: =G32-G33 -> -40775227 | H34: =H32-H33 -> 38615709 | I34: =I32-I33 -> -80506710 | J34: =J32-J33 -> 38703424 | K34: =K32-K33 -> 38703424 | L34: =L32-L33 -> -5259379.3
B36: Capex | G36: =-G8+-G9 -> -89433549 | H36: =-I8+-I9 -> 0 | I36: =-J8+-J9 -> 0 | J36: =-K8+-K9 -> 0 | K36: =-L8+-L9 -> 0 | L36: =SUM(G36:K36) -> -89433549
B37: FCFF | F37: =F36 -> 0 | G37: =G36+G34+G29 -> -1.1232207e+08 | H37: =H36+H34+H29 -> 56502419 | I37: =I36+I34+I29 -> -62620000 | J37: =J36+J34+J29 -> 56590134 | K37: =K36+K34+K29 -> 56590134 | L37: =SUM(G37:K37) -> -5259379.3
B38: Accumulated FCF | F38: =F37 -> 0 | G38: =G37 -> -1.1232207e+08 | H38: =G38+H37 -> -55819648 | I38: =H38+I37 -> -1.1843965e+08 | J38: =I38+J37 -> -61849514 | K38: =J38+K37 -> -5259379.3
B39: PBP | G39: =IF(AND(F38<0,G38>0),G44-(G38/G37),0) -> 0 | H39: =IF(AND(G38<0,H38>0),H44-(H38/H37),0) -> 0 | I39: =IF(AND(H38<0,I38>0),I44-(I38/I37),0) -> 0 | J39: =IF(AND(I38<0,J38>0),J44-(J38/J37),0) -> 0 | K39: =IF(AND(J38<0,K38>0),K44-(K38/K37),0) -> 0
B40: IRR | F40: =IRR(G37:K37) -> -0.015480302
B41: NPV | F41: =NPV(F3,G37:K37)+F37 -> -28672244
B42: EBITDA margin | F42: =L28 -> 0.13166667
B43: Payback | F43: =SUM(F39:K39) -> 0
G44: 1 | H44: 2 | I44: 3 | J44: 4 | K44: 5
...

Sheet Summary review
A2: SUMMARY REVIEW
A4: Nama Site | C4: : Hotel Watu Jimbar bali
A5: Nama Pemilik | C5: PT Binakarya Citra Lestari
A6: Alamat Pemilik | C6: : Jl. Outer Ring Road, Mall taman Palem lt.3
A7: Object Sewa | C7: : 123 omni
A9: No. | B9: Keterangan | C9: Existing | E9: Renewal
A11: 1 | B11: Scope Of Lease | C11: IBC | E11: IBC
A12: 2 | B12: Obyek | C12: 123 Omni + Pole Antenna + RBS M2 | E12: =C12 -> 123 Omni + Pole Antenna + RBS M2
B13: Periode Sewa | C13: 08 November 2013 s/d d 07 November 2023 | E13: 07 November 2023 s/d d 08 November 2028
A14: 3 | B14: Masa sewa | C14: 14/01/21 s/d 22/7/24 (3 thn, 6bulan,9hari) | E14: 23/07/24 s/d 21/9/26 (2 tahun, 2 bulan)
B15: Harga Sewa | C15: 141000000 | E15: 86666666
B16: Harga sewa / tahun | C16: 39166667 | E16: 40000000
A17: 4 | B17: Operator Joint | C17: Telkomsel | E17: Telkomsel
A18: 5 | B18: Kenaikan/Penurunan Harga | C18: Mengalami penurunan
B20: Noted :
B21: Operator hanya Telkomsel
B22: TOP : 50% setelah addendum di sign
B23: 50% setelah pembayaran pertama

Sheet PARAMETER
B1: 2015 | C1: 2016 | D1: 2017 | E1: 2018 | F1: 2019 | G1: 2020 | H1: 2021 | I1: 2022 | J1: 2023 | K1: 2024 | L1: 2025
A2: 2015 | B2: 29035000 | C2: =$B$2-$B$4 -> 23228000 | D2: =$C$2-$B$4 -> 17421000 | E2: =$D$2-$B$4 -> 11614000 | F2: =$E$2-$B$4 -> 5807000 | G2: =$F$2-$B$4 -> 0
B3: 5
B4: =$B$2/$B$3 -> 5807000
B5: =(($B$2*IRR!$F$3)*6)/12 -> 1451750 | C5: =AVERAGE(B2:C2)*IRR!$F$3 -> 2613150 | D5: =AVERAGE(C2:D2)*IRR!$F$3 -> 2032450 | E5: =AVERAGE(D2:E2)*IRR!$F$3 -> 1451750 | F5: =AVERAGE(E2:F2)*IRR!$F$3 -> 871050 | G5: =AVERAGE(F2:G2)*IRR!$F$3 -> 290350 | H5: =AVERAGE(G2:H2)*IRR!$F$3 -> 0
A6: 2017 | D6: 906221447 | E6: =D6-D8 -> 7.2497716e+08 | F6: =E6-$D$8 -> 5.4373287e+08 | G6: =F6-$D$8 -> 3.6248858e+08 | H6: =G6-$D$8 -> 1.8124429e+08 | I6: =H6-$D$8 -> 0
D7: 5
D8: =D6/D7 -> 1.8124429e+08
D9: =(($D$6*IRR!$F$3)*6)/12 -> 45311072 | E9: =AVERAGE(D6:E6)*IRR!$F$3 -> 81559930 | F9: =AVERAGE(E6:F6)*IRR!$F$3 -> 63435501 | G9: =AVERAGE(F6:G6)*IRR!$F$3 -> 45311072 | H9: =AVERAGE(G6:H6)*IRR!$F$3 -> 27186643 | I9: =AVERAGE(H6:I6)*IRR!$F$3 -> 9062214.5 | J9: =AVERAGE(I6:J6)*IRR!$F$3 -> 0
G10: 8950576 | H10: =G10-$G$12 -> 7160460.8 | I10: =H10-$G$12 -> 5370345.6 | J10: =I10-$G$12 -> 3580230.4 | K10: =J10-$G$12 -> 1790115.2 | L10: =K10-$G$12 -> 0
G11: 5
G12: =G10/G11 -> 1790115.2
G13: =(($G$10*IRR!$F$3)*6)/12 -> 447528.8 | H13: =AVERAGE(G10:H10)*IRR!$F$3 -> 805551.84 | I13: =AVERAGE(H10:I10)*IRR!$F$3 -> 626540.32 | J13: =AVERAGE(I10:J10)*IRR!$F$3 -> 447528.8 | K13: =AVERAGE(J10:K10)*IRR!$F$3 -> 268517.28 | L13: =AVERAGE(K10:L10)*IRR!$F$3 -> 89505.76 | M13: =AVERAGE(L10:M10)*IRR!$F$3 -> 0
K15: =K13+K9+K5 -> 268517.28 | L15: =L13+L9+L5 -> 89505.76
F19: person | G19: trip | H19: kamar | I19: Days by Omni | J19: Biaya walktest inhouse/visit | K19: Biaya walktest inhouse/thn
E20: Diisikan | F20: 1 | G20: 1 | H20: 1 | I20: 121
B21: Transport | C21: Pesawat | D21: =C33 -> 2500000 | E21: person | F21: =F20 -> 1 | J21: =F21*D21 -> 2500000
C22: Bandara | D22: 600000 | E22: person | F22: =F20 -> 1 | I22: =IF($I$20<=120,2,IF($I$20>220,4,3)) -> 3 | J22: =D22*F22 -> 600000
C23: Transport | D23: 200000 | E23: Trip | G23: =G20 -> 1 | J23: =G23*D23 -> 200000
B24: Hotel | C24: Hotel | D24: 450000 | E24: kamar | F24: =F20 -> 1 | H24: =H20 -> 1 | I24: =IF($I$20<=120,2,IF($I$20>220,4,3)) -> 3 | J24: =H24*D24*I24 -> 1350000
B25: Uang Saku | C25: Uang Saku | D25: 120000 | E25: person | F25: =F20 -> 1 | I25: =IF($I$20<=120,2,IF($I$20>220,4,3)) -> 3 | J25: =I25*D25*F25 -> 360000
J26: =SUM(J21:J25) -> 5010000 | K26: =J26*2 -> 10020000
K27: =K26+B43+B33 -> 32620000
B30: PM/Year/Site | C30: Pesawat | E30: Asumsi:
A31: Sulut | B31: 16800000 | C31: 4000000 | E31: Walktest 4x dalam setahun semua operator sekaligus
A32: Makasar | C32: 3000000 | E32: Walktest pertama oleh vendor | I32: 10000000
A33: Bali | B33: 15600000 | C33: 2500000 | E33: Walktest pertama oleh vendor | H33: Pekanbaru | I33: 12000000
A34: Jatim | B34: 15000000 | C34: 2000000 | E34: Walktest pertama oleh vendor | H34: Sumut | I34: 14000000
A35: Jateng | B35: 15000000 | C35: 1850000 | E35: Walktest pertama oleh vendor | H35: Sulsel | I35: 14000000
A36: Jabar | B36: 12000000 | C36: 1200000 | E36: Walktest pertama oleh vendor | H36: Sulut | I36: 17000000
A37: Kalimantan | B37: 16800000 | C37: 2000000 | E37: Walktest pertama oleh vendor | H37: Kalimantan | I37: 14000000
A38: Sumatera | B38: 15720000 | C38: 3500000
A39: Palembang | C39: 2800000
A40: Jabodetabek | B40: 0 | C40: 0 | D40: Inhouse
B42: CM /Year/Oprt
B43: 7000000
A45: LISTRIK
A46: Listrik/Oprt/year DAS+1Pole 3sektor
A47: 0-100 | B47: 36000000
A48: 101-200 | B48: 42000000
...

Sheet Book Value
B1: 2014 | C1: 2015 | D1: 2016 | E1: 2017 | F1: 2018 | G1: 2019 | H1: 2020 | I1: 2021 | J1: 2022 | K1: 2023 | L1: 2024 | M1: 2025
A2: DAS | B2: 224594454 | C2: 40373564 | D2: 141300 | E2: 797476084 | F2: 121348379
A3: BTS | F3: 107303967 | G3: 11175077 | H3: 40778978 | I3: 32146262
A5: DAS | B5: =(B2/10)*(2024-B1) -> 224594454 | C5: =(C2/10)*(2024-C1) -> 36336208 | D5: =(D2/10)*(2023-D1) -> 98910 | E5: =(E2/10)*(2023-E1) -> 4.7848565e+08 | F5: =(F2/10)*(2023-F1) -> 60674190 | G5: =(G2/10)*(2023-G1) -> 0 | H5: =(H2/10)*(2023-H1) -> 0 | I5: =(I2/10)*(2023-I1) -> 0 | J5: =(J2/10)*(2023-J1) -> 0
A6: BTS | C6: =(C3/10)*(2024-C1) -> 0 | D6: =(D3/10)*(2024-D1) -> 0 | E6: =(E3/10)*(2023-E1) -> 0 | F6: =(F3/10)*(2023-F1) -> 53651984 | G6: =(G3/10)*(2023-G1) -> 4470030.8 | H6: =(H3/10)*(2023-H1) -> 12233693 | I6: =(I3/10)*(2023-I1) -> 6429252.4 | J6: =(J3/10)*(2023-J1) -> 0
A8: DAS | B8: =B2-B5 -> 0 | C8: =C2-C5 -> 4037356.4 | D8: =D2-D5 -> 42390 | E8: =E2-E5 -> 3.1899043e+08 | F8: =F2-F5 -> 60674190 | G8: =G2-G5 -> 0 | H8: =H2-H5 -> 0 | I8: =I2-I5 -> 0 | J8: =J2-J5 -> 0
A9: BTS | C9: =C3-C6 -> 0 | D9: =D3-D6 -> 0 | E9: =E3-E6 -> 0 | F9: =F3-F6 -> 53651984 | G9: =G3-G6 -> 6705046.2 | H9: =H3-H6 -> 28545285 | I9: =I3-I6 -> 25717010 | J9: =J3-J6 -> 0

Sheet Sharing cost
A1: Site Name | B1: Tsel | E1: XL
B2: Amount | C2: Start | D2: End | E2: Amount | F2: Start | G2: End
A3: Hotel Swisbell Watu Jimbar | B3: 132000000 | C3: 44400 | D3: 46225
A4: Hotel Alila Seminyak | B4: 222000000 | C4: 44283 | D4: 46108 | E4: 150000000 | F4: 45331 | G4: 46426
A5: Hotel Fave Bypass | B5: 139680000 | C5: 44062 | D5: 45887
A6: Hotel Episode ex Ibis Kuta Circle | B6: 153900000 | C6: 44177 | D6: 46002
A7: Hotel Smasta Movenpic | B7: 427500000 | C7: 44064 | D7: 45889 | E7: 150000000 | F7: 44899 | G7: 46724
A8: LIWO Denpasar | B8: 240000000 | C8: 45308 | D8: 47134
B9: =SUM(B3:B8) -> 1315080000 | E9: =SUM(E3:E8) -> 300000000
