Workbook
Name jk: #REF!
Name jk: #REF!
Name jk: #REF!
Name jk: #REF!
Name years_contract: [1]Kerlink!$D$5

Sheet Summary
B2: No. | C2: 0021/IRR/IBC/VII/2024 | N2: PURI KIIC KARAWANG
C3: Product : | D3: IBS / DAS | J3: Tanggal P&L: | M3: 45496
C4: Status P&L | D4: EXTEND
B6: Site Information | E6: Technical Information | J6: Financial Summary
B7: Site Name | D7: Puri KIIC Karawang | E7: IBC | K7: Capex DAS | M7: 683396999
B8: Address | E8: Antena PKS BM | K8: Capex /antenna | M8: =M7/H9 -> 7855137.9
E9: Antena Asset | H9: 87 | K9: Contract Period (thn) | M9: 5
B10: Area building | E10: Jumlah Pole Makro | H10: 0 | K10: Interest rate /year | M10: =[2]IRR!F3 -> 0.1
B11: Type of building | D11: Mall | E11: OPENET | K11: Total Revenue | M11: =IRR!Q17 -> 700000000
B12: Status | D12: Renewal | E12: Cable FO (Core) | H12: 0 | K12: Total Capex BV | M12: =IRR!G9 -> 48278725
B13: Total floor | E13: Cable FO (meter) | H13: 0 | K13: Total Opex Sewa | M13: =IRR!Q20 -> 100000000
B14: No of building tower | E14: Drop Wire (meter) | H14: 0 | K14: Total Opex Other | M14: =IRR!Q22+IRR!Q23 -> 70000000
B15: Sitac Tahun
E16: OTHERS | K16: IRR | M16: Positip
K17: NPV | M17: =IRR!F39 -> 3.6703096e+08
K18: EBITDA margin | M18: =IRR!F40 -> 0.75714286
K19: Payback (year) | M19: =IRR!F41 -> 1.2021148
B21: Target Achieved by Commercial: | L21: Prepared by
B22: Revenue | D22: Harga Sewa dan Rev XL Tetap selama 5 tahun, dengan asumsi XL tidak hanya di perpanjang 3 tahun tapi akan di perpanjang s.d 5 th | L22: Citra Kartika
B28: Approved by

Sheet IRR
B1: No, | C1: 0021/IRR/IBC/VII/2024 | Q1: PURI KIIC KARAWANG
B2: General | H2: Operator join | I2: Rev.Change
C3: Tax Rate | E3: 0.02
C4: Interest Rate | E4: 0.1
C5: SG&A | E5: 0.05 | F5: from Revenues | I5: -
C6: BHPUSO | E6: 0 | F6: from Revenues | I6: -
G8: Y1 | H8: Y2 | I8: Y3 | J8: Y4 | K8: Y5 | L8: Y6 | M8: Y7 | N8: Y8 | O8: Y9 | P8: Y10
B9: Total CAPEX | E9: DAS | G9: 48278725 | H9: 0 | I9: 0 | J9: 0
E10: BTS
G11: 2024 | H11: =G11+1 -> 2025 | I11: =H11+1 -> 2026 | J11: =I11+1 -> 2027 | K11: =J11+1 -> 2028 | L11: =K11+1 -> 2029 | M11: =L11+1 -> 2030 | N11: =M11+1 -> 2031 | O11: =N11+1 -> 2032 | P11: =O11+1 -> 2033
B12: IRR Calculation | F12: Year 0 | G12: Year 1 | H12: Year 2 | I12: Year 3 | J12: Year 4 | K12: Year 5 | L12: Year 6 | M12: Year 7 | N12: Year 8 | O12: Year 9 | P12: Year 10 | Q12: Total
B13: Months of Service | G13: 12 | H13: 12 | I13: 12 | J13: 12 | K13: 12
B15: Revenues
C16: XL | G16: 140000000 | H16: =G16 -> 140000000 | I16: =H16 -> 140000000 | J16: =I16 -> 140000000 | K16: =J16 -> 140000000 | Q16: =SUM(G16:K16) -> 700000000
B17: Total Revenues (SF) | G17: =SUM(G16:G16) -> 140000000 | H17: =SUM(H16:H16) -> 140000000 | I17: =SUM(I16:I16) -> 140000000 | J17: =SUM(J16:J16) -> 140000000 | K17: =SUM(K16:K16) -> 140000000 | Q17: =SUM(G17:K17) -> 700000000
B19: OPEX
C20: Lease to BM | G20: 100000000 | Q20: =SUM(G20:K20) -> 100000000
C21: Electricity | Q21: =SUM(G21:K21) -> 0
C22: Maintenance | G22: 7000000 | H22: =G22 -> 7000000 | I22: =H22 -> 7000000 | J22: =I22 -> 7000000 | K22: =J22 -> 7000000 | Q22: =SUM(G22:K22) -> 35000000
C23: SG&A | G23: =G17*$E$5 -> 7000000 | H23: =H17*$E$5 -> 7000000 | I23: =I17*$E$5 -> 7000000 | J23: =J17*$E$5 -> 7000000 | K23: =K17*$E$5 -> 7000000 | Q23: =SUM(G23:K23) -> 35000000
B24: Total OPEX | G24: =SUM(G20:G23) -> 114000000 | H24: =SUM(H20:H23) -> 14000000 | I24: =SUM(I20:I23) -> 14000000 | J24: =SUM(J20:J23) -> 14000000 | K24: =SUM(K20:K23) -> 14000000 | Q24: =SUM(Q20:Q23) -> 170000000
B25: Total EBITDA | G25: =G17-G24 -> 26000000 | H25: =H17-H24 -> 126000000 | I25: =I17-I24 -> 126000000 | J25: =J17-J24 -> 126000000 | K25: =K17-K24 -> 126000000 | Q25: =Q17-Q24 -> 530000000
B26: Ebitda margin | G26: 0 | H26: =H25/H17 -> 0.9 | I26: =I25/I17 -> 0.9 | J26: =J25/J17 -> 0.9 | K26: =K25/K17 -> 0.9 | Q26: =Q25/Q17 -> 0.75714286
B27: Depreciation Expense | G27: =G49 -> 9655745 | H27: =H49 -> 9655745 | I27: =I49 -> 9655745 | J27: =J49 -> 9655745 | K27: =K49 -> 9655745 | Q27: =SUM(G27:K27) -> 48278725
B28: Total EBIT | G28: =G25-G27 -> 16344255 | H28: =H25-H27 -> 1.1634426e+08 | I28: =I25-I27 -> 1.1634426e+08 | J28: =J25-J27 -> 1.1634426e+08 | K28: =K25-K27 -> 1.1634426e+08 | Q28: =Q25-Q27 -> 4.8172128e+08
B29: Interest Expense | G29: =Parameter!L16 -> 2439346.1 | Q29: =SUM(G29:K29) -> 2439346.1
B30: EBT | G30: =G28-G29 -> 13904909 | H30: =H28-H29 -> 1.1634426e+08 | I30: =I28-I29 -> 1.1634426e+08 | J30: =J28-J29 -> 1.1634426e+08 | K30: =K28-K29 -> 1.1634426e+08 | Q30: =SUM(G30:K30) -> 4.7928193e+08
B31: Tax Expense | G31: =IF(G30<0,0,G30*$E$3) -> 278098.18 | H31: =IF(H30<0,0,H30*$E$3) -> 2326885.1 | I31: =IF(I30<0,0,I30*$E$3) -> 2326885.1 | J31: =IF(J30<0,0,J30*$E$3) -> 2326885.1 | K31: =IF(K30<0,0,K30*$E$3) -> 2326885.1 | Q31: =SUM(G31:K31) -> 9585638.6
B32: Net Income | G32: =G30-G31 -> 13626811 | H32: =H30-H31 -> 1.1401737e+08 | I32: =I30-I31 -> 1.1401737e+08 | J32: =J30-J31 -> 1.1401737e+08 | K32: =K30-K31 -> 1.1401737e+08 | Q32: =SUM(G32:K32) -> 4.6969629e+08
B34: Capex | G34: =-G9+-G10 -> -48278725 | H34: =-I9+-I10 -> 0 | I34: =-J9+-J10 -> 0 | J34: =-K9+-K10 -> 0 | K34: =-Q9+-Q10 -> 0
B35: FCFF | G35: =G34+G32+G27 -> -24996169 | H35: =H34+H32+H27 -> 1.2367311e+08 | I35: =I34+I32+I27 -> 1.2367311e+08 | J35: =J34+J32+J27 -> 1.2367311e+08 | K35: =K34+K32+K27 -> 1.2367311e+08 | Q35: =SUM(F35:K35) -> 4.6969629e+08
B36: Accumulated FCF | G36: =F36+G35 -> -24996169 | H36: =G36+H35 -> 98676946 | I36: =H36+I35 -> 2.2235006e+08 | J36: =I36+J35 -> 3.4602318e+08 | K36: =J36+K35 -> 4.6969629e+08
B37: PBP | G37: =IF(AND(F36<0,G36>0),G42-(G36/G35),0) -> 0 | H37: =IF(AND(G36<0,H36>0),H42-(H36/H35),0) -> 1.2021148 | I37: =IF(AND(H36<0,I36>0),I42-(I36/I35),0) -> 0 | J37: =IF(AND(I36<0,J36>0),J42-(J36/J35),0) -> 0 | K37: =IF(AND(J36<0,K36>0),K42-(K36/K35),0) -> 0
B38: IRR | F38: =IRR(G35:K35) -> 4.9437184
B39: NPV | F39: =NPV(E4,H35:K35)+G35 -> 3.6703096e+08
B40: EBITDA margin | F40: =Q26 -> 0.75714286
B41: Payback | F41: =SUM(F37:K37) -> 1.2021148
G42: 1 | H42: 2 | I42: 3 | J42: 4 | K42: 5
B43: Depreciation Calculation | E43: no of Year depreciated | G43: =G12 -> Year 1 | H43: =H12 -> Year 2 | I43: =I12 -> Year 3 | J43: =J12 -> Year 4 | K43: =K12 -> Year 5
D44: Year 1 | E44: 5 | G44: =SUM(G9:G10)/$E44 -> 9655745 | H44: =G44 -> 9655745 | I44: =H44 -> 9655745 | J44: =I44 -> 9655745 | K44: =J44 -> 9655745
...

Sheet SummaryBR
C1: SUMMARY REVIEW
A3: Nama Site | C3: Puri KIIC Karawang
A4: Nama Pemilik | C4: PT Maligi Permata Industrial Estate
A5: Alamat Pemilik | C5: jl. Permata Raya Lot C-1B
A6: Telp | C6: 021-8901666
A7: Obyek Sewa | C7: 87 Omni 8 pole RBS 40m2
A9: No. | B9: Keterangan | C9: Existing | D9: Renewal
A11: 1. | B11: Scope Of Lease | C11: IBC | D11: IBC
A12: 2. | B12: Obyek Sewa | C12: 87 Omni 8 pole RBS 40m2 | D12: 87 Omni 8 pole RBS 40m2
A13: 3. | B13: Periode Sewa | C13: 22Jul2019 sd 21Jul2024 | D13: 22Jul2024 sd 21Jul2029
A14: 4 | B14: Harga Sewa | C14: 100,000,000/5thn | D14: 100,000,000/5thn
C15: 20.000.000/th | D15: 20.000.000/th
A16: 5 | B16: Operator Join | C16: XL 2Jul19 sd 1Jul24 | D16: XL 2Jul24 sd 1Jul27
A17: 6. | B17: Kenaikan/ Penurunan Harga | C17: Tidak ada Penurunan Harga dan Kenaikan

Sheet Analisa
A2: SITE Puri KIIC Karawang
A3: Periode | B3: Start | C3: End
A4: Rev XL | B4: 45475 | C4: 46569
A5: Sewa BM | B5: 45495 | C5: 47320
B7: Start | C7: End | D7: Days
A8: Worse >> Jika Sewa BM diperpanjang 5 tahun dan XL sesuai periodenya XL, maka:
A9: Rev XL | B9: 45495 | C9: 46569 | D9: =C9-B9 -> 1074 | E9: 140000000 | F9: =D9/365*E9 -> 4.1194521e+08
A10: Sewa BM | B10: 45495 | C10: 47320 | D10: =C10-B10 -> 1825 | E10: 20000000 | F10: =-E10/365*D10 -> -100000000
A11: OM | B11: 45495 | C11: 46569 | D11: =C11-B11 -> 1074 | E11: 7000000 | F11: =-E11/365*D11 -> -20597260
A12: Antisipasi Add Capex and Pole | E12: 100000000
A13: Profit | F13: =SUM(F9:F12) -> 2.9134795e+08

Sheet Parameter
A1: PERHITUNGAN INTEREST EXPENSE based CAPEX
A2: Capex tahun | B2: 5 | C2: 2015 | D2: =C2+1 -> 2016 | E2: =D2+1 -> 2017 | F2: =E2+1 -> 2018 | G2: =F2+1 -> 2019 | H2: =G2+1 -> 2020 | I2: =H2+1 -> 2021 | J2: =I2+1 -> 2022 | K2: =J2+1 -> 2023 | ... M2: =L2+1 -> 2025
A3: 2015 | B3: loan | C3: 683396999 | D3: =C3-C4 -> 5.467176e+08 | E3: =D3-C4 -> 4.100382e+08 | F3: =E3-C4 -> 2.733588e+08 | G3: =F3-C4 -> 1.366794e+08 | H3: =G3-C4 -> 0 | I3: =H3-$E$4 -> 0 | J3: =I3-$E$4 -> 0 | N3: 2013 | O3: 1.7266708e+09
B4: Installment/thn | C4: =C3/B2 -> 1.366794e+08 | N4: 2014 | O4: 422342499
B5: Interest | C5: =(C3*IRR!E4*6)/12 -> 34169850 | D5: =AVERAGE(C3:D3)*IRR!$E$4 -> 61505730 | E5: =AVERAGE(D3:E3)*IRR!$E$4 -> 47837790 | F5: =AVERAGE(E3:F3)*IRR!$E$4 -> 34169850 | G5: =AVERAGE(F3:G3)*IRR!$E$4 -> 20501910 | H5: =AVERAGE(G3:H3)*IRR!$E$4 -> 6833970 | I5: =AVERAGE($H$3:$I$3)*[3]IRR!$G$4 -> 0 | J5: =AVERAGE($I$3:$J$3)*[3]IRR!$G$4 -> 0 | N5: 2016 | O5: 10773000
A6: 2019 | B6: loan | G6: 121967305 | H6: =G6-G7 -> 97573844 | I6: =H6-G7 -> 73180383 | J6: =I6-G7 -> 48786922 | K6: =J6-G7 -> 24393461
B7: Installment/thn | G7: =G6/B2 -> 24393461
B8: Interest | G8: =(G6*IRR!E4*6)/12 -> 6098365.2 | H8: =AVERAGE(G6:H6)*IRR!$E$4 -> 10977057 | I8: =AVERAGE(H6:I6)*[4]IRR!$F$3 -> 8537711.3 | J8: =AVERAGE(I6:J6)*[4]IRR!$F$3 -> 6098365.2 | K8: =AVERAGE(J6:K6)*[4]IRR!$F$3 -> 3659019.2 | L8: =AVERAGE(K6:L6)*[4]IRR!$F$3 -> 2439346.1
A9: 2016 | B9: loan
B10: Installment/thn
B11: Interest
A12: 2017 | B12: loan
B13: Installment/thn
B14: Interest
B16: Interest Exp | C16: =C5+C8+C11+C14 -> 34169850 | D16: =D5+D8+D11+D14 -> 61505730 | E16: =E5+E8+E11+E14 -> 47837790 | F16: =F5+F8+F11+F14 -> 34169850 | G16: =G5+G8+G11+G14 -> 26600275 | H16: =H5+H8+H11+H14 -> 17811027 | I16: =I5+I8+I11+I14 -> 8537711.3 | J16: =J5+J8+J11+J14 -> 6098365.2 | ... L16: =L5+L8+L11+L14 -> 2439346.1 | M16: =M5+#REF!+M11+M14 -> #REF!
A19: PERHITUNGAN SG&A
A20: Untuk IBC | B20: Start tahun pertama | C20: 50000000
A21: Untuk Opennet | B21: Start tahun pertama | C21: 20000000
A22: Untuk IBC Ext | B22: tiap tahun = Rev x 5%
A23: Untuk Opennet Ext | B23: tiap tahun = Rev x 5%
A25: SG&A | B25: =C20 -> 50000000 | C25: =B25+C26 -> 51000000 | D25: =C25+D27 -> 52020000 | E25: =D25+E27 -> 53060400 | F25: =E25+F27 -> 54121608 | G25: =F25+G27 -> 55204040 | H25: =G25+H27 -> 56308121 | I25: =H25+I27 -> 57434283 | J25: =I25+J27 -> 58582969 | K25: =J25+K27 -> 59754628
A26: 0.02 | C26: =C27 -> 1000000 | D26: =C26+D27 -> 2020000 | E26: =D26+E27 -> 3060400 | F26: =E26+F27 -> 4121608 | G26: =F26+G27 -> 5204040.2 | H26: =G26+H27 -> 6308121 | I26: =H26+I27 -> 7434283.4 | J26: =I26+J27 -> 8582969.1 | K26: =J26+K27 -> 9754628.4
C27: =B25*$A$26 -> 1000000 | D27: =C25*$A$26 -> 1020000 | E27: =D25*$A$26 -> 1040400 | F27: =E25*$A$26 -> 1061208 | G27: =F25*$A$26 -> 1082432.2 | H27: =G25*$A$26 -> 1104080.8 | I27: =H25*$A$26 -> 1126162.4 | J27: =I25*$A$26 -> 1148685.7 | K27: =J25*$A$26 -> 1171659.4
A30: PERHITUNGAN MAINTENANCE (PM,CM,WT)
A31: PM by Vendor
A32: CM by Vendor/Inhouse
A33: WT by Inhouse
A34: WT New by Vendor/Operator
A35: MAINTENANCE = (PM + CM + WT New + WT by Inhouse )
A37: PM | B37: PM/Year/Site | D37: CM | E37: CM /Year/Oprt | G37: WT New by Vendor/Operator | J37: Pesawat | K37: Tiket PP
A38: Sulut | B38: 16800000 | D38: All | E38: 7000000 | G38: Jawa/Bali | H38: 10000000 | J38: Sulut | K38: 4000000
A39: Makasar | G39: Pekanbaru | H39: 12000000 | J39: Makasar | K39: 3000000
A40: Bali | B40: 15600000 | G40: Sumut | H40: 14000000 | J40: Bali | K40: 2500000
A41: Jatim | B41: 15000000 | G41: Sulsel | H41: 14000000 | J41: Jatim | K41: 2000000
A42: Jateng | B42: 15000000 | G42: Sulut | H42: 17000000 | J42: Jateng | K42: 1850000
A43: Jabar | B43: 12000000 | G43: Kalimantan | H43: 14000000 | J43: Jabar | K43: 1200000
A44: Kalimantan | B44: 16800000 | J44: Kalimantan | K44: 2000000
A45: Sumatera | B45: 15720000 | J45: Sumatera | K45: 3500000
A46: Palembang | J46: Palembang | K46: 2800000
A47: Jabodetabek | B47: 0
...
