Workbook
Name jk: #REF!
Name jk: #REF!
Name jk: #REF!
Name jk: #REF!
Name jk: #REF!
Name years_contract: [1]Kerlink!$D$5

Sheet Summary
B2: No. | C2: 0023/IRR/IBC/VIII/2024 | N2: =D7 -> RSPI Sulianti Saroso
C3: Product : | D3: IBS / DAS | J3: Tanggal P&L: | M3: 45523
C4: Status P&L | D4: Extent
B6: Site Information | E6: Technical Information | J6: Financial Summary
B7: Site Name | D7: RSPI Sulianti Saroso | E7: IBC | K7: Capex DAS | M7: 1190665577
B8: Address | D8: Jl. Sunter Permai Raya No.2, RT.2/RW.12, Papanggo, Kec. Tj. Priok | E8: Antena PKS BM | H8: 134 | K8: Capex /antenna | M8: =M7/H9 -> 9229965.7
E9: Antena Asset | H9: 129 | K9: Contract Period (thn) | M9: 5
B10: Area building | D10: Jakarta | E10: Jumlah Pole Makro | H10: 8 Unit Pole Antenna + RBS 45m² | K10: Interest rate /year | M10: =[2]IRR!F3 -> 0.1
B11: Type of building | D11: Rumah Sakit | K11: Total Revenue | M11: =IRR!Q19 -> 1593600000
B12: Status | D12: Renewal | E12: OPENET | K12: Total Capex BV 31Jul24 | M12: =IRR!G10 -> 27961340
B13: Total floor | E13: Cable FO (Core) | H13: 0 | K13: Total Opex Sewa | M13: =IRR!Q22 -> 500000000
B14: No of building tower | E14: Cable FO (meter) | H14: 0 | K14: Total Opex Other | M14: =IRR!Q23+IRR!Q24+IRR!Q25 -> 359680000
B15: Sitac Tahun | E15: Drop Wire (meter) | H15: 0
E16: OTHERS | K16: IRR | M16: =IRR!F40 -> 0.77044739
K17: NPV | M17: =IRR!F41 -> 4.8469733e+08
K18: EBITDA margin | M18: =IRR!F42 -> 0.46054217
K19: Payback (year) | M19: =IRR!F43 -> 2.1664496
B21: Target Achieved by Commercial: | K21: Prepared by
B22: Revenue | D22: : | L22: Citra Kartika
D23: :
D24: :
B28: Approved by

Sheet IRR
B1: No | C1: 0023/IRR/IBC/VIII/2024 | Q1: =Summary!D7 -> RSPI Sulianti Saroso
B2: General | H2: Operator join | I2: Rev.Change
C3: Tax Rate | E3: 0.02 | H3: Tsel 2024 | I3: -0.05
C4: Interest Rate | E4: 0.1
C5: SG&A | E5: 0.05 | F5: from Revenues
C6: BHPUSO | E6: 0 | F6: from Revenues
G8: 2024 | H8: 2025 | I8: 2026 | J8: 2027 | K8: 2028 | L8: Y6 | M8: Y7 | N8: Y8 | O8: Y9 | P8: Y10
B9: Total CAPEX | E9: BV 31Jul24 | G9: 27961340 | H9: 0 | I9: 0 | J9: 0 | Q9: =SUM(G9:K9) -> 27961340
G10: =G9 -> 27961340 | Q10: =SUM(Q9) -> 27961340
B12: IRR Calculation | F12: Year 0 | G12: Year 1 | H12: Year 2 | I12: Year 3 | J12: Year 4 | K12: Year 5 | L12: Year 6 | M12: Year 7 | N12: Year 8 | O12: Year 9 | P12: Year 10 | Q12: Total
B13: Months of Service | G13: 12 | H13: 12 | I13: 12 | J13: 12 | K13: 12
B15: Revenues
C16: TSEL | G16: =177600000*95% -> 168720000 | H16: =G16 -> 168720000 | I16: =H16 -> 168720000 | J16: =I16 -> 168720000 | K16: =J16 -> 168720000 | Q16: =SUM(G16:K16) -> 843600000
C17: XL | G17: 150000000 | H17: =G17 -> 150000000 | I17: =H17 -> 150000000 | J17: =I17 -> 150000000 | K17: =J17 -> 150000000 | Q17: =SUM(G17:K17) -> 750000000
C18: IOH | Q18: =SUM(G18:K18) -> 0
B19: Total Revenues (SF) | G19: =SUM(G16:G18) -> 318720000 | H19: =SUM(H16:H18) -> 318720000 | I19: =SUM(I16:I18) -> 318720000 | J19: =SUM(J16:J18) -> 318720000 | K19: =SUM(K16:K18) -> 318720000 | Q19: =SUM(G19:K19) -> 1593600000
B21: OPEX
C22: Lease to BM | G22: 500000000 | Q22: =SUM(G22:K22) -> 500000000
C23: Electricity | G23: =Parameter!B85 -> 42000000 | H23: =G23 -> 42000000 | I23: =H23 -> 42000000 | J23: =I23 -> 42000000 | K23: =J23 -> 42000000 | Q23: =SUM(G23:K23) -> 210000000
C24: Maintenance | G24: =7000000*2 -> 14000000 | H24: =G24 -> 14000000 | I24: =H24 -> 14000000 | J24: =I24 -> 14000000 | K24: =J24 -> 14000000 | Q24: =SUM(G24:K24) -> 70000000
C25: SG&A | G25: =G19*$E$5 -> 15936000 | H25: =H19*$E$5 -> 15936000 | I25: =I19*$E$5 -> 15936000 | J25: =J19*$E$5 -> 15936000 | K25: =K19*$E$5 -> 15936000 | Q25: =SUM(G25:K25) -> 79680000
B26: Total OPEX | G26: =SUM(G22:G25) -> 571936000 | H26: =SUM(H22:H25) -> 71936000 | I26: =SUM(I22:I25) -> 71936000 | J26: =SUM(J22:J25) -> 71936000 | K26: =SUM(K22:K25) -> 71936000 | Q26: =SUM(Q22:Q25) -> 859680000
B27: Total EBITDA | G27: =G19-G26 -> -253216000 | H27: =H19-H26 -> 246784000 | I27: =I19-I26 -> 246784000 | J27: =J19-J26 -> 246784000 | K27: =K19-K26 -> 246784000 | Q27: =Q19-Q26 -> 733920000
B28: Ebitda margin | G28: 0 | H28: =H27/H19 -> 0.77429719 | I28: =I27/I19 -> 0.77429719 | J28: =J27/J19 -> 0.77429719 | K28: =K27/K19 -> 0.77429719 | Q28: =Q27/Q19 -> 0.46054217
B29: Depreciation Expense | G29: =G51 -> 5592268 | H29: =H51 -> 5592268 | I29: =I51 -> 5592268 | J29: =J51 -> 5592268 | K29: =K51 -> 5592268 | Q29: =SUM(G29:K29) -> 27961340
B30: Total EBIT | G30: =G27-G29 -> -258808268 | H30: =H27-H29 -> 241191732 | I30: =I27-I29 -> 241191732 | J30: =J27-J29 -> 241191732 | K30: =K27-K29 -> 241191732 | Q30: =Q27-Q29 -> 705958660
B31: Interest Expense | G31: =Parameter!L34 -> 652210.6 | H31: =Parameter!M34 -> 391326.36 | I31: =Parameter!N34 -> 130442.12 | J31: =Parameter!O34 -> 0 | K31: =Parameter!P34 -> 0 | Q31: =SUM(G31:K31) -> 1173979.1
B32: EBT | G32: =G30-G31 -> -2.5946048e+08 | H32: =H30-H31 -> 2.4080041e+08 | I32: =I30-I31 -> 2.4106129e+08 | J32: =J30-J31 -> 241191732 | K32: =K30-K31 -> 241191732 | Q32: =SUM(G32:K32) -> 7.0478468e+08
B33: Tax Expense | G33: =IF(G32<0,0,G32*$E$3) -> 0 | H33: =IF(H32<0,0,H32*$E$3) -> 4816008.1 | I33: =IF(I32<0,0,I32*$E$3) -> 4821225.8 | J33: =IF(J32<0,0,J32*$E$3) -> 4823834.6 | K33: =IF(K32<0,0,K32*$E$3) -> 4823834.6 | Q33: =SUM(G33:K33) -> 19284903
B34: Net Income | G34: =G32-G33 -> -2.5946048e+08 | H34: =H32-H33 -> 2.359844e+08 | I34: =I32-I33 -> 2.3624006e+08 | J34: =J32-J33 -> 2.363679e+08 | K34: =K32-K33 -> 2.363679e+08 | Q34: =Q32-Q33 -> 6.8549978e+08
B36: Capex | G36: =-G10 -> -27961340 | H36: =-I9+-I10 -> 0 | I36: =-J9+-J10 -> 0 | J36: =-K9+-K10 -> 0 | K36: =-L9+-L10 -> 0
B37: FCFF | F37: =F36 -> 0 | G37: =G36+G34+G29 -> -2.8182955e+08 | H37: =H36+H34+H29 -> 2.4157667e+08 | I37: =I36+I34+I29 -> 2.4183233e+08 | J37: =J36+J34+J29 -> 2.4196017e+08 | K37: =K36+K34+K29 -> 2.4196017e+08 | Q37: =SUM(F37:K37) -> 6.8549978e+08
B38: Accumulated FCF | F38: =F37 -> 0 | G38: =F38+G37 -> -2.8182955e+08 | H38: =G38+H37 -> -40252885 | I38: =H38+I37 -> 2.0157945e+08 | J38: =I38+J37 -> 4.4353961e+08 | K38: =J38+K37 -> 6.8549978e+08
B39: PBP | G39: =IF(AND(F38<0,G38>0),G44-(G38/G37),0) -> 0 | H39: =IF(AND(G38<0,H38>0),H44-(H38/H37),0) -> 0 | I39: =IF(AND(H38<0,I38>0),I44-(I38/I37),0) -> 2.1664496 | J39: =IF(AND(I38<0,J38>0),J44-(J38/J37),0) -> 0 | K39: =IF(AND(J38<0,K38>0),K44-(K38/K37),0) -> 0
B40: IRR | F40: =IRR(G37:K37) -> 0.77044739
B41: NPV | F41: =NPV(E4,H37:K37)+G37 -> 4.8469733e+08
B42: EBITDA margin | F42: =Q28 -> 0.46054217
B43: Payback | F43: =SUM(F39:K39) -> 2.1664496
G44: 1 | H44: 2 | I44: 3 | J44: 4 | K44: 5
B45: Depreciation Calculation | E45: no of Year depreciated | G45: =G12 -> Year 1 | H45: =H12 -> Year 2 | I45: =I12 -> Year 3 | J45: =J12 -> Year 4 | K45: =K12 -> Year 5
...

Sheet Summary Review  (2)
C1: SUMMARY REVIEW
A3: Nama Site | C3: : RSPI Sulianti Saroso
A4: Nama Pemilik | C4: : RSPI Prof. DR. Sulianti Saroso
A5: Alamat Pemilik | C5: : Jl. Baru Sunter Permai Raya
A6: Telp | C6: : 021 - 6506559
A7: Obyek Sewa | C7: : 134 Omni + 8 Unit Pole Antenna + RBS 45m²
A9: No. | B9: Keterangan | C9: Existing | D9: Renewal
A11: 1. | B11: Scope Of Lease | C11: Indoor & outdoor coverage | D11: Indoor & outdoor coverage
A12: 2. | B12: Obyek Sewa | C12: 134 Omni + 8 Unit Pole Antenna + RBS 45m² | D12: =C12 -> 134 Omni + 8 Unit Pole Antenna + RBS 45m²
A13: 3. | B13: Periode Sewa | C13: 23 Agust 2019 s.d 22 Agust 2024 | D13: 23 Agust 2024 s.d 22 Agust 2029
A14: 4. | B14: Harga Sewa / Masa Sewa | C14: Rp. 450.000.000 (untuk 2 operator) | D14: Rp. 500.000.000 (untuk 2 operator)
B15: Harga Sewa / Tahun | C15: Rp. 45.000.000/th/operator | D15: Rp. 50.000.000/th/operator
A16: 5 | B16: Termin Pemby. | C16: 100 % setelah PKS | D16: 100 % setelah PKS
A17: 6 | B17: Operator Join | C17: - XL (24 Oct 2019 s.d 23 Oct 2024) | D17: - XL (24 Oct 2019 s.d 23 Oct 2024) on process renewal
C18: - Telkomsel (05 Dec 2019 s.d 04 Dec 2024) | D18: - Telkomsel (05 Dec 2024 s.d 04 Dec 2027) on process renewal
A19: 7 | B19: Kenaikan/ Penurunan Harga | C19: Harga mengalami Kenaikan sebesar 11%

Sheet Parameter
A1: PERHITUNGAN INTEREST EXPENSE based CAPEX
A2: Capex tahun | B2: 5 | C2: 2015 | D2: =C2+1 -> 2016 | E2: =D2+1 -> 2017 | F2: =E2+1 -> 2018 | G2: =F2+1 -> 2019 | H2: =G2+1 -> 2020 | I2: =H2+1 -> 2021 | J2: =I2+1 -> 2022 | K2: =J2+1 -> 2023 | ... R2: =Q2+1 -> 2030
A3: 2015 | B3: loan | C3: 1232886953 | D3: =C3-C4 -> 9.8630956e+08 | E3: =D3-C4 -> 7.3973217e+08 | F3: =E3-C4 -> 4.9315478e+08 | G3: =F3-C4 -> 2.4657739e+08 | H3: =G3-C4 -> 0 | I3: =H3-$E$4 -> 0 | J3: =I3-$E$4 -> 0 | R3: 2013 | S3: 1.7266708e+09
B4: Installment/thn | C4: =C3/B2 -> 2.4657739e+08 | R4: 2014 | S4: 422342499
B5: Interest | C5: =(($C$3*IRR!E4*6)/12) -> 61644348 | D5: =AVERAGE(C3:D3)*IRR!E4 -> 1.1095983e+08 | E5: =AVERAGE(D3:E3)*IRR!E4 -> 86302087 | F5: =AVERAGE(E3:F3)*IRR!E4 -> 61644348 | G5: =AVERAGE(F3:G3)*IRR!E4 -> 36986609 | H5: =AVERAGE(G3:H3)*IRR!E4 -> 12328870 | I5: =AVERAGE($H$3:$I$3)*[3]IRR!$G$4 -> 0 | J5: =AVERAGE($I$3:$J$3)*[3]IRR!$G$4 -> 0 | R5: 2016 | S5: 10773000
A6: =A3+1 -> 2016 | B6: loan | D6: 78887200 | E6: =D6-D7 -> 63109760 | F6: =E6-D7 -> 47332320 | G6: =F6-D7 -> 31554880 | H6: =G6-D7 -> 15777440 | R6: 2017 | S6: 102210600
B7: Installment/thn | D7: =D6/B2 -> 15777440
B8: Interest | D8: =((D6*IRR!E4*6)/12) -> 3944360 | E8: =AVERAGE(D6:E6)*IRR!E4 -> 7099848 | F8: =AVERAGE(E6:F6)*IRR!E4 -> 5522104 | G8: =AVERAGE(F6:G6)*IRR!E4 -> 3944360 | H8: =AVERAGE(G6:H6)*IRR!E4 -> 2366616 | I8: =AVERAGE(H6:I6)*IRR!E4 -> 1577744
A9: =A6+1 -> 2017 | B9: loan | F9: =E9-E10 -> 0 | G9: =F9-E10 -> 0 | H9: =G9-E10 -> 0 | I9: =H9-E10 -> 0 | J9: =I9-E10 -> 0
B10: Installment/thn | E10: =E9/B2 -> 0
B11: Interest | E11: =((E9*IRR!E4*6)/12) -> 0 | F11: =AVERAGE(E9:F9)*IRR!$E$4 -> 0 | G11: =AVERAGE(F9:G9)*IRR!$E$4 -> 0 | H11: =AVERAGE(G9:H9)*IRR!$E$4 -> 0 | I11: =AVERAGE(H9:I9)*IRR!$E$4 -> 0 | J11: =AVERAGE(I9:J9)*IRR!$E$4 -> 0
A12: =A9+1 -> 2018 | B12: loan | F12: 104046104 | G12: =F12-F13 -> 83236883 | H12: =G12-F13 -> 62427662 | I12: =H12-F13 -> 41618442 | J12: =I12-F13 -> 20809221 | K12: =J12-F13 -> 0
B13: Installment/thn | F13: =F12/B2 -> 20809221
B14: Interest | F14: =((F12*IRR!E4*6)/12) -> 5202305.2 | G14: =AVERAGE(F12:G12)*IRR!$E$4 -> 9364149.4 | H14: =AVERAGE(G12:H12)*IRR!$E$4 -> 7283227.3 | I14: =AVERAGE(H12:I12)*IRR!$E$4 -> 5202305.2 | J14: =AVERAGE(I12:J12)*IRR!$E$4 -> 3121383.1 | K14: =AVERAGE(J12:K12)*IRR!$E$4 -> 1040461
A15: =A12+1 -> 2019 | B15: loan | H15: =G15-G16 -> 0 | I15: =H15-G16 -> 0 | J15: =I15-G16 -> 0 | K15: =J15-G16 -> 0 | L15: =K15-G16 -> 0
B16: Installment/thn | G16: =G15/B2 -> 0
B17: Interest | G17: =((G15*IRR!E4*6)/12) -> 0 | H17: =AVERAGE(G15:H15)*IRR!$E$4 -> 0 | I17: =AVERAGE(H15:I15)*IRR!$E$4 -> 0 | J17: =AVERAGE(I15:J15)*IRR!$E$4 -> 0 | K17: =AVERAGE(J15:K15)*IRR!$E$4 -> 0 | L17: =AVERAGE(K15:L15)*IRR!$E$4 -> 0
A18: =A15+1 -> 2020 | B18: loan | I18: =H18-H19 -> 0 | J18: =I18-H19 -> 0 | K18: =J18-H19 -> 0 | L18: =K18-H19 -> 0 | M18: =L18-H19 -> 0
B19: Installment/thn | H19: =H18/B2 -> 0
B20: Interest | H20: =((H18*IRR!E4*6)/12) -> 0 | I20: =AVERAGE(H18:I18)*IRR!$E$4 -> 0 | J20: =AVERAGE(I18:J18)*IRR!$E$4 -> 0 | K20: =AVERAGE(J18:K18)*IRR!$E$4 -> 0 | L20: =AVERAGE(K18:L18)*IRR!$E$4 -> 0 | M20: =AVERAGE(L18:M18)*IRR!$E$4 -> 0
A21: =A18+1 -> 2021 | B21: loan | I21: 13044212 | J21: =I21-I22 -> 10435370 | K21: =J21-I22 -> 7826527.2 | L21: =K21-I22 -> 5217684.8 | M21: =L21-I22 -> 2608842.4 | N21: =M21-I22 -> 0
B22: Installment/thn | I22: =I21/B2 -> 2608842.4
B23: Interest | I23: =((I21*IRR!E4*6)/12) -> 652210.6 | J23: =AVERAGE(I21:J21)*IRR!$E$4 -> 1173979.1 | K23: =AVERAGE(J21:K21)*IRR!$E$4 -> 913094.84 | L23: =AVERAGE(K21:L21)*IRR!$E$4 -> 652210.6 | M23: =AVERAGE(L21:M21)*IRR!$E$4 -> 391326.36 | N23: =AVERAGE(M21:N21)*IRR!$E$4 -> 130442.12
A24: =A21+1 -> 2022 | B24: loan | K24: =J24-J25 -> 0 | L24: =K24-J25 -> 0 | M24: =L24-J25 -> 0 | N24: =M24-J25 -> 0 | O24: =N24-J25 -> 0
B25: Installment/thn | J25: =J24/B2 -> 0
B26: Interest | J26: =((J24*IRR!E4*6)/12) -> 0 | K26: =AVERAGE(J24:K24)*IRR!$E$4 -> 0 | L26: =AVERAGE(K24:L24)*IRR!$E$4 -> 0 | M26: =AVERAGE(L24:M24)*IRR!$E$4 -> 0 | N26: =AVERAGE(M24:N24)*IRR!$E$4 -> 0 | O26: =AVERAGE(N24:O24)*IRR!$E$4 -> 0
A27: =A24+1 -> 2023 | B27: loan | M27: =L27-L28 -> 0 | N27: =M27-L28 -> 0 | O27: =N27-L28 -> 0 | P27: =O27-L28 -> 0 | Q27: =P27-L28 -> 0
B28: Installment/thn | L28: =L27/B2 -> 0
B29: Interest | L29: =((L27*IRR!E4*6)/12) -> 0 | M29: =AVERAGE(L27:M27)*IRR!$E$4 -> 0 | N29: =AVERAGE(M27:N27)*IRR!$E$4 -> 0 | O29: =AVERAGE(N27:O27)*IRR!$E$4 -> 0 | P29: =AVERAGE(O27:P27)*IRR!$E$4 -> 0 | Q29: =AVERAGE(P27:Q27)*IRR!$E$4 -> 0
A30: =A27+1 -> 2024 | B30: loan | N30: =M30-M31 -> 0 | O30: =N30-M31 -> 0 | P30: =O30-M31 -> 0 | Q30: =P30-M31 -> 0 | R30: =Q30-M31 -> 0
B31: Installment/thn | M31: =M30/B2 -> 0
B32: Interest | M32: =((M30*IRR!E4*6)/12) -> 0 | N32: =AVERAGE(M30:N30)*IRR!$E$4 -> 0 | O32: =AVERAGE(N30:O30)*IRR!$E$4 -> 0 | P32: =AVERAGE(O30:P30)*IRR!$E$4 -> 0 | Q32: =AVERAGE(P30:Q30)*IRR!$E$4 -> 0 | R32: =AVERAGE(Q30:R30)*IRR!$E$4 -> 0
B34: Interest Exp | C34: =C5+C8+C11+C14+C17+C20+C23+C26+C29+C32 -> 61644348 | D34: =D5+D8+D11+D14+D17+D20+D23+D26+D29+D32 -> 1.1490419e+08 | E34: =E5+E8+E11+E14+E17+E20+E23+E26+E29+E32 -> 93401935 | F34: =F5+F8+F11+F14+F17+F20+F23+F26+F29+F32 -> 72368757 | G34: =G5+G8+G11+G14+G17+G20+G23+G26+G29+G32 -> 50295118 | H34: =H5+H8+H11+H14+H17+H20+H23+H26+H29+H32 -> 21978713 | I34: =I5+I8+I11+I14+I17+I20+I23+I26+I29+I32 -> 7432259.8 | J34: =J5+J8+J11+J14+J17+J20+J23+J26+J29+J32 -> 4295362.2 | ... R34: =R5+R8+R11+R14+R17+R20+R23+R26+R29+R32 -> 2016
A37: PERHITUNGAN SG&A
A38: Untuk IBC | B38: Start tahun pertama | C38: 50000000
A39: Untuk Opennet | B39: Start tahun pertama | C39: 20000000
A40: Untuk IBC Ext | B40: tiap tahun = Rev x 5%
A41: Untuk Opennet Ext | B41: tiap tahun = Rev x 5%
A43: SG&A | B43: =C38 -> 50000000 | C43: =B43+C44 -> 51000000 | D43: =C43+D45 -> 52020000 | E43: =D43+E45 -> 53060400 | F43: =E43+F45 -> 54121608 | G43: =F43+G45 -> 55204040 | H43: =G43+H45 -> 56308121 | I43: =H43+I45 -> 57434283 | J43: =I43+J45 -> 58582969 | K43: =J43+K45 -> 59754628
A44: 0.02 | C44: =C45 -> 1000000 | D44: =C44+D45 -> 2020000 | E44: =D44+E45 -> 3060400 | F44: =E44+F45 -> 4121608 | G44: =F44+G45 -> 5204040.2 | H44: =G44+H45 -> 6308121 | I44: =H44+I45 -> 7434283.4 | J44: =I44+J45 -> 8582969.1 | K44: =J44+K45 -> 9754628.4
...

Sheet Analisa
A2: SITE Soelianti Saroso
A3: Periode | B3: Start | C3: End
A4: Rev Tsel | B4: 45631 | C4: 46725
A5: Rev XL | B5: 43762 | C5: 45588
A6: Sewa BM | B6: 45527 | C6: 47352
B8: Start | C8: End | D8: Days
A9: Worse >> Jika Sewa BM diperpanjang 5 tahun dan XL, Tsel sesuai existing, maka:
A10: Rev Tsel | B10: 45527 | C10: 45631 | D10: =C10-B10 -> 104 | E10: 177600000 | F10: =E10/365*D10 -> 50603836
A11: Rev XL | B11: 45527 | C11: 45588 | D11: =C11-B11 -> 61 | E11: 150000000 | F11: =E11/365*D11 -> 25068493
A12: Sewa BM | B12: 45527 | C12: 47352 | D12: =C12-B12 -> 1825 | E12: =275000000/5 -> 55000000 | F12: =-E12/365*D12 -> -275000000
A13: Listrik Tsel | B13: 45527 | C13: 45631 | D13: =C13-B13 -> 104 | E13: 42000000 | F13: =-E13/365*D13 -> -11967123
A14: OM Tsel | B14: 45527 | C14: 45631 | D14: =C14-B14 -> 104 | E14: 14000000 | F14: =-E14/365*D14 -> -3989041.1
A15: OM XL | B15: 45527 | C15: 45588 | D15: =C15-B15 -> 61 | E15: 14000000 | F15: =-E15/365*D15 -> -2339726
A16: Antisipasi Add Capex and Pole | E16: 100000000
A17: Profit | F17: =SUM(F10:F16) -> -2.1762356e+08
A19: Optimis>> ika Sewa BM diperpanjang 5thn, XL dgn existing period, Tsel extend 3 tahun, maka:
A20: Rev Tsel | B20: 45527 | C20: 45631 | D20: =C20-B20 -> 104 | E20: 177600000 | F20: =E20/365*D20 -> 50603836
A21: Rev Tsel | B21: 45632 | C21: 46725 | D21: =C21-B21 -> 1093 | E21: 168720000 | F21: =E21/365*D21 -> 5.0523551e+08
A22: Rev XL | B22: 45527 | C22: 45588 | D22: =C22-B22 -> 61 | E22: 150000000 | F22: =E22/365*D22 -> 25068493
A23: Sewa BM | B23: 45527 | C23: 47352 | D23: =C23-B23 -> 1825 | E23: =275000000/5 -> 55000000 | F23: =-E23/365*D23 -> -275000000
A24: Listrik Tsel | B24: 45527 | C24: 46725 | D24: =C24-B24 -> 1198 | E24: 42000000 | F24: =-E24/365*D24 -> -1.3785205e+08
A25: OM Tsel | B25: 45527 | C25: 46725 | D25: =C25-B25 -> 1198 | E25: 14000000 | F25: =-E25/365*D25 -> -45950685
A26: OM XL | B26: 45527 | C26: 45588 | D26: =C26-B26 -> 61 | E26: 14000000 | F26: =-E26/365*D26 -> -2339726
A27: Antisipasi Add Capex and Pole | E27: 100000000
A28: Profit | F28: =SUM(F20:F27) -> 1.1976537e+08
