Workbook
Name jk: #REF!
Name jk: #REF!
Name jk: #REF!
Name years_contract: [1]Kerlink!$D$5

Sheet Summary
C1: 0028/IRR/IBC/IX/2024 | N1: HOTEL ROYAL KUNINGAN
C2: Product : | D2: IBS / DAS | J2: Tanggal P&L: | M2: 45538
C3: Status P&L | D3: Renewal
B5: Site Information | E5: Technical Information | J5: Financial Summary
B6: Site Name | D6: Hotel Royal Kuningan | E6: IBC | K6: Capex DAS | M6: =906221447 -> 906221447
B7: Address | E7: Antena PKS BM | H7: 145 | K7: Capex /antenna | M7: =M6/H8 -> 5809111.8
E8: Antena Asset | H8: 156 | K8: Contract Period (thn) | M8: 5
B9: Area building | D9: Jakarta | E9: Jumlah Pole Makro | H9: 8 Unit Pole + RBS 40m² | K9: Interest rate /year | M9: 0.1
B10: Type of building | D10: Hotel | K10: Kurs 1USD | M10: 0
B11: Status | D11: Renewal | K11: Total Revenue | M11: =IRR!L18 -> 1719816000
B12: Total floor | D12: 4 | E12: OPENET | K12: Total BV 30 Jun 2024 | M12: =IRR!G9 -> 154551173
B13: No of building tower | D13: 1 | E13: Cable FO (Core) | H13: 0 | K13: Total COGS Rent | M13: =IRR!L21 -> 750000000
E14: Cable FO (meter) | H14: 0 | K14: Total COGS Other | M14: =SUM(IRR!L22:L24) -> 477990800
E15: Drop Wire (meter) | H15: 0
K16: IRR | M16: =IRR!F39 -> 0.13635835
E17: OTHERS | K17: NPV | M17: =IRR!F40 -> 66865983
K18: EBITDA margin | M18: =IRR!F41 -> 0.28597548
K19: Payback (year) | M19: =IRR!F42 -> 3.9966657
B21: Target Achieved by Commercial: | L21: Prepared by
C22: ada penambahan revenue dari IOH pada tahun 2026. | L22: Citra Kartika
B28: Approved by

Sheet IRR
B1: 0028/IRR/IBC/IX/2024 | L1: HOTEL ROYAL KUNINGAN
B2: General | I2: Operator join | J2: Rev.Change
C3: Tax Rate | F3: 0.02 | I3: 2026 Tsel | J3: -0.05
C4: Interest Rate | F4: 0.1
C5: SG&A | F5: 0.05 | G5: from Revenues
C6: BHPUSO | F6: 0 | G6: from Revenues
C7: Erosion | F7: 0.15
G8: Y1 | H8: Y2 | I8: Y3 | J8: Y4 | K8: Y5
B9: Total CAPEX | E9: BV 31 Jul 24 | G9: 154551173 | H9: 0 | I9: 0 | J9: 0
G11: 2024 | H11: 2025 | I11: 2026 | J11: 2027 | K11: 2028
B12: IRR Calculation | G12: Year 1 | H12: Year 2 | I12: Year 3 | J12: Year 4 | K12: Year 5 | L12: Total
B13: Months of Service | G13: 12 | H13: 12 | I13: 12 | J13: 12 | K13: 12
B15: Revenues
C16: TSEL | G16: 215280000 | H16: =G16 -> 215280000 | I16: =H16*90% -> 193752000 | J16: =I16 -> 193752000 | K16: =J16 -> 193752000 | L16: =SUM(G16:K16) -> 1011816000
C17: IOH | I17: 236000000 | J17: =I17 -> 236000000 | K17: =J17 -> 236000000 | L17: =SUM(G17:K17) -> 708000000
B18: Total Revenues (SF) | G18: =SUM(G16:G17) -> 215280000 | H18: =SUM(H16:H17) -> 215280000 | I18: =SUM(I16:I17) -> 429752000 | J18: =SUM(J16:J17) -> 429752000 | K18: =SUM(K16:K17) -> 429752000 | L18: =SUM(G18:K18) -> 1719816000
B20: OPEX
C21: Lease to BM | G21: 750000000 | L21: =SUM(G21:K21) -> 750000000
C22: Electricity | G22: =PARAMETER!B60 -> 42000000 | H22: =G22 -> 42000000 | I22: =H22*2 -> 84000000 | J22: =I22 -> 84000000 | K22: =J22 -> 84000000 | L22: =SUM(G22:K22) -> 336000000
C23: Maintenance | G23: =PARAMETER!B55 -> 7000000 | H23: =G23 -> 7000000 | I23: 14000000 | J23: =I23 -> 14000000 | K23: =J23 -> 14000000 | L23: =SUM(G23:K23) -> 56000000
C24: SG&A | G24: =G18*$F$5 -> 10764000 | H24: =H18*$F$5 -> 10764000 | I24: =I18*$F$5 -> 21487600 | J24: =J18*$F$5 -> 21487600 | K24: =K18*$F$5 -> 21487600 | L24: =SUM(G24:K24) -> 85990800
B25: Total OPEX | G25: =SUM(G21:G24) -> 809764000 | H25: =SUM(H21:H24) -> 59764000 | I25: =SUM(I21:I24) -> 119487600 | J25: =SUM(J21:J24) -> 119487600 | K25: =SUM(K21:K24) -> 119487600 | L25: =SUM(L21:L24) -> 1227990800
B26: Total EBITDA | G26: =G18-G25 -> -594484000 | H26: =H18-H25 -> 155516000 | I26: =I18-I25 -> 310264400 | J26: =J18-J25 -> 310264400 | K26: =K18-K25 -> 310264400 | L26: =L18-L25 -> 491825200
B27: Ebitda margin | G27: 0 | H27: =H26/H18 -> 0.72238945 | I27: =I26/I18 -> 0.7219615 | J27: =J26/J18 -> 0.7219615 | K27: =K26/K18 -> 0.7219615 | L27: =L26/L18 -> 0.28597548
B28: Depreciation Expense | G28: =G50 -> 30910235 | H28: =H50 -> 30910235 | I28: =I50 -> 30910235 | J28: =J50 -> 30910235 | K28: =K50 -> 30910235 | L28: =SUM(G28:K28) -> 154551173
B29: Total EBIT | G29: =G26-G28 -> -6.2539423e+08 | H29: =H26-H28 -> 1.2460577e+08 | I29: =I26-I28 -> 2.7935417e+08 | J29: =J26-J28 -> 2.7935417e+08 | K29: =K26-K28 -> 2.7935417e+08 | L29: =L26-L28 -> 337274027
B30: Interest Expense | G30: =PARAMETER!N29 -> 9050390.5 | H30: =PARAMETER!O29 -> 3203738.7 | I30: =PARAMETER!P29 -> 140206.43 | J30: =PARAMETER!Q29 -> 0 | K30: =PARAMETER!R29 -> 0 | L30: =SUM(G30:K30) -> 12394336
B31: EBT | G31: =G29-G30 -> -6.3444463e+08 | H31: =H29-H30 -> 1.2140203e+08 | I31: =I29-I30 -> 2.7921396e+08 | J31: =J29-J30 -> 2.7935417e+08 | K31: =K29-K30 -> 2.7935417e+08 | L31: =SUM(G31:K31) -> 3.2487969e+08
B32: Tax Expense | G32: =IF(G31<0,0,G31*$F$3) -> 0 | H32: =IF(H31<0,0,H31*$F$3) -> 2428040.5 | I32: =IF(I31<0,0,I31*$F$3) -> 5584279.2 | J32: =IF(J31<0,0,J31*$F$3) -> 5587083.3 | K32: =IF(K31<0,0,K31*$F$3) -> 5587083.3 | L32: =SUM(G32:K32) -> 19186486
B33: Net Income | G33: =G31-G32 -> -6.3444463e+08 | H33: =H31-H32 -> 1.1897399e+08 | I33: =I31-I32 -> 2.7362968e+08 | J33: =J31-J32 -> 2.7376708e+08 | K33: =K31-K32 -> 2.7376708e+08 | L33: =L31-L32 -> 3.0569321e+08
B35: Capex | G35: =-G9+-G10 -> -154551173 | H35: =-I9+-I10 -> 0 | I35: =-J9+-J10 -> 0 | J35: =-K9+-K10 -> 0 | K35: =-L9+-L10 -> 0 | L35: =SUM(G35:K35) -> -154551173
B36: FCFF | F36: =F35 -> 0 | G36: =G35+G33+G28 -> -7.5808556e+08 | H36: =H35+H33+H28 -> 1.4988422e+08 | I36: =I35+I33+I28 -> 3.0453991e+08 | J36: =J35+J33+J28 -> 3.0467732e+08 | K36: =K35+K33+K28 -> 3.0467732e+08 | L36: =SUM(G36:K36) -> 3.0569321e+08
B37: Accumulated FCF | F37: =F36 -> 0 | G37: =G36 -> -7.5808556e+08 | H37: =G37+H36 -> -6.0820134e+08 | I37: =H37+I36 -> -3.0366143e+08 | J37: =I37+J36 -> 1015888.3 | K37: =J37+K36 -> 3.0569321e+08
B38: PBP | G38: =IF(AND(F37<0,G37>0),G43-(G37/G36),0) -> 0 | H38: =IF(AND(G37<0,H37>0),H43-(H37/H36),0) -> 0 | I38: =IF(AND(H37<0,I37>0),I43-(I37/I36),0) -> 0 | J38: =IF(AND(I37<0,J37>0),J43-(J37/J36),0) -> 3.9966657 | K38: =IF(AND(J37<0,K37>0),K43-(K37/K36),0) -> 0
B39: IRR | F39: =IRR(G36:K36) -> 0.13635835
B40: NPV | F40: =NPV(F4,H36:K36)+G36 -> 66865983
B41: EBITDA margin | F41: =L27 -> 0.28597548
B42: Payback | F42: =SUM(F38:K38) -> 3.9966657
G43: 1 | H43: 2 | I43: 3 | J43: 4 | K43: 5
B44: Depreciation Calculation | E44: no of Year depreciated | G44: =G12 -> Year 1 | H44: =H12 -> Year 2 | I44: =I12 -> Year 3 | J44: =J12 -> Year 4 | K44: =K12 -> Year 5 | L44: TOTAL
...

Sheet Hotel Royal Kuningan
C1: SUMMARY REVIEW
A3: Nama Site | C3: : H. Royal Kuningan
A4: Nama Pemilik | C4: : PT. Berlian Semesta Prima
A5: Alamat Pemilik | C5: : Jl. Kuningan Persada Kav.2
A6: Telp | C6: :
A7: Obyek Sewa | C7: : 145 Omni + 8 Unit Pole + RBS 40m²
A9: No. | B9: Keterangan | C9: Existing | D9: Renewal
A11: 1 | B11: Scope Of Lease | C11: IBC | D11: IBC
A12: 2 | B12: Obyek Sewa | C12: =C7 -> : 145 Omni + 8 Unit Pole + RBS 40m² | D12: =C7 -> : 145 Omni + 8 Unit Pole + RBS 40m²
A13: 3 | B13: Periode Sewa | C13: 03 Agustus 2021 s/d 02 Agustus 2024 | D13: 03 Agustus 2024 s/d 02 Agustus 2029
A14: 4 | B14: Harga Sewa | C14: Rp.360.000.000/3 Tahun atau Rp.120.000.000 / Tahun | D14: Rp.750.000.000/5 Tahun atau Rp.150.000.000 / Tahun
A15: 6 | B15: Operator Join | C15: XL : 13/03/2019 s/d 12/03/ 2024 Rp150.000.000/th | D15: Drop
C16: Tsel : 29/07/ 2021 s/d 28/07/ 2026 Rp.215.280.000/th | D16: Tsel : 29/07/ 2021 s/d 28/07/ 2026 Rp.215.280.000/th
D17: IOH (akan join) RP236.000.000/th
A18: 7 | B18: Penurunan Harga | C18: Mengalami kenaikan sebesar 25%

Sheet PARAMETER
B1: 5 | C1: 2013 | D1: =C1+1 -> 2014 | E1: =D1+1 -> 2015 | F1: =E1+1 -> 2016 | G1: =F1+1 -> 2017 | H1: =G1+1 -> 2018 | I1: =H1+1 -> 2019 | J1: =I1+1 -> 2020 | K1: =J1+1 -> 2021 | ... V1: =U1+1 -> 2032
A2: 2013 | B2: loan | C2: 74691608 | D2: =C2-C3 -> 59753286 | E2: =D2-C3 -> 44814965 | F2: =E2-C3 -> 29876643 | G2: =F2-C3 -> 14938322 | H2: =G2-C3 -> 0
B3: Installment/thn | C3: =C2/$B$1 -> 14938322
B4: Interest | C4: =(C2*IRR!$F$4*6/12) -> 3734580.4 | D4: =AVERAGE(C2:D2)*IRR!$F$4 -> 6722244.7 | E4: =AVERAGE(D2:E2)*IRR!$F$4 -> 5228412.6 | F4: =AVERAGE(E2:F2)*IRR!$F$4 -> 3734580.4 | G4: =AVERAGE(F2:G2)*IRR!$F$4 -> 2240748.2 | H4: =AVERAGE(G2:H2)*IRR!$F$4 -> 746916.08 | I4: =AVERAGE(H2:I2)*IRR!$F$4 -> 0
A5: =A2+1 -> 2014 | B5: loan | D5: 813292555 | E5: =D5-$D$6 -> 650634044 | F5: =E5-$D$6 -> 487975533 | G5: =F5-$D$6 -> 325317022 | H5: =G5-$D$6 -> 162658511 | I5: =H5-$D$6 -> 0
B6: Installment/thn | D6: =D5/$B$1 -> 162658511
B7: Interest | D7: =(D5*IRR!$F$4*6/12) -> 40664628 | E7: =AVERAGE(D5:E5)*IRR!$F$4 -> 73196330 | F7: =AVERAGE(E5:F5)*IRR!$F$4 -> 56930479 | G7: =AVERAGE(F5:G5)*IRR!$F$4 -> 40664628 | H7: =AVERAGE(G5:H5)*IRR!$F$4 -> 24398777 | I7: =AVERAGE(H5:I5)*IRR!$F$4 -> 8132925.6 | J7: =AVERAGE(I5:J5)*IRR!$F$4 -> 0
A8: =A5+1 -> 2015 | E8: 129081063 | F8: =E8-$E$9 -> 1.0326485e+08 | G8: =F8-$E$9 -> 77448638 | H8: =G8-$E$9 -> 51632425 | I8: =H8-$E$9 -> 25816213 | J8: =I8-$E$9 -> 0
E9: =E8/$B$1 -> 25816213
E10: =(E8*IRR!$F$4*6/12) -> 6454053.2 | F10: =AVERAGE(E8:F8)*IRR!$F$4 -> 11617296 | G10: =AVERAGE(F8:G8)*IRR!$F$4 -> 9035674.4 | H10: =AVERAGE(G8:H8)*IRR!$F$4 -> 6454053.2 | I10: =AVERAGE(H8:I8)*IRR!$F$4 -> 3872431.9 | J10: =AVERAGE(I8:J8)*IRR!$F$4 -> 1290810.6 | K10: =AVERAGE(J8:K8)*IRR!$F$4 -> 0
A11: =A8+1 -> 2016 | F11: 120757794 | G11: =F11-$F$12 -> 96606235 | H11: =G11-$F$12 -> 72454676 | I11: =H11-$F$12 -> 48303118 | J11: =I11-$F$12 -> 24151559 | K11: =J11-$F$12 -> 0
F12: =F11/$B$1 -> 24151559
F13: =(F11*IRR!$F$4*6/12) -> 6037889.7 | G13: =AVERAGE(F11:G11)*IRR!$F$4 -> 10868201 | H13: =AVERAGE(G11:H11)*IRR!$F$4 -> 8453045.6 | I13: =AVERAGE(H11:I11)*IRR!$F$4 -> 6037889.7 | J13: =AVERAGE(I11:J11)*IRR!$F$4 -> 3622733.8 | K13: =AVERAGE(J11:K11)*IRR!$F$4 -> 1207577.9
A14: =A11+1 -> 2017
A17: =A14+1 -> 2018 | H17: 26069732 | I17: =H17-$H$18 -> 20855786 | J17: =I17-$H$18 -> 15641839 | K17: =J17-$H$18 -> 10427893 | L17: =K17-$H$18 -> 5213946.4 | M17: =L17-$H$18 -> 0
H18: =H17/$B$1 -> 5213946.4
H19: =(H17*IRR!$F$4*6/12) -> 1303486.6 | I19: =AVERAGE(H17:I17)*IRR!$F$4 -> 2346275.9 | J19: =AVERAGE(I17:J17)*IRR!$F$4 -> 1824881.2 | K19: =AVERAGE(J17:K17)*IRR!$F$4 -> 1303486.6 | L19: =AVERAGE(K17:L17)*IRR!$F$4 -> 782091.96 | M19: =AVERAGE(L17:M17)*IRR!$F$4 -> 260697.32 | N19: =AVERAGE(M17:N17)*IRR!$F$4 -> 0
A20: =A17+1 -> 2019
A23: =A20+1 -> 2020 | J23: 278311944 | K23: =J23-$J$24 -> 2.2264956e+08 | L23: =K23-$J$24 -> 1.6698717e+08 | M23: =L23-$J$24 -> 1.1132478e+08 | N23: =M23-$J$24 -> 55662389 | O23: =N23-$J$24 -> 0
J24: =J23/$B$1 -> 55662389
J25: =(J23*IRR!$F$4*6/12) -> 13915597 | K25: =AVERAGE(J23:K23)*IRR!$F$4 -> 25048075 | L25: =AVERAGE(K23:L23)*IRR!$F$4 -> 19481836 | M25: =AVERAGE(L23:M23)*IRR!$F$4 -> 13915597 | N25: =AVERAGE(M23:N23)*IRR!$F$4 -> 8349358.3 | O25: =AVERAGE(N23:O23)*IRR!$F$4 -> 2783119.4 | P25: =AVERAGE(O23:P23)*IRR!$F$4 -> 0
A26: =A23+1 -> 2021 | K26: 14020643 | L26: =K26-$K$27 -> 11216514 | M26: =L26-$K$27 -> 8412385.8 | N26: =M26-$K$27 -> 5608257.2 | O26: =N26-$K$27 -> 2804128.6 | P26: =O26-$K$27 -> 0
K27: =K26/$B$1 -> 2804128.6
K28: =(K26*IRR!$F$4*6/12) -> 701032.15 | L28: =AVERAGE(K26:L26)*IRR!$F$4 -> 1261857.9 | M28: =AVERAGE(L26:M26)*IRR!$F$4 -> 981445.01 | N28: =AVERAGE(M26:N26)*IRR!$F$4 -> 701032.15 | O28: =AVERAGE(N26:O26)*IRR!$F$4 -> 420619.29 | P28: =AVERAGE(O26:P26)*IRR!$F$4 -> 140206.43 | Q28: =AVERAGE(P26:Q26)*IRR!$F$4 -> 0
N29: =N28+N25 -> 9050390.5 | O29: =O28+O25 -> 3203738.7 | P29: =P28+P25 -> 140206.43 | Q29: =Q28+Q25 -> 0
F31: person | G31: trip | H31: kamar | I31: Days by Omni | J31: Biaya walktest inhouse/visit | K31: Biaya walktest inhouse/thn
E32: Diisikan | F32: 1 | G32: 1 | H32: 1 | I32: 121
B33: Transport | C33: Pesawat | D33: =C45 -> 2500000 | E33: person | F33: =F32 -> 1 | J33: =F33*D33 -> 2500000
C34: Bandara | D34: 600000 | E34: person | F34: =F32 -> 1 | I34: =IF($I$32<=120,2,IF($I$32>220,4,3)) -> 3 | J34: =D34*F34 -> 600000
C35: Transport | D35: 200000 | E35: Trip | G35: =G32 -> 1 | J35: =G35*D35 -> 200000
B36: Hotel | C36: Hotel | D36: 450000 | E36: kamar | F36: =F32 -> 1 | H36: =H32 -> 1 | I36: =IF($I$32<=120,2,IF($I$32>220,4,3)) -> 3 | J36: =H36*D36*I36 -> 1350000
B37: Uang Saku | C37: Uang Saku | D37: 120000 | E37: person | F37: =F32 -> 1 | I37: =IF($I$32<=120,2,IF($I$32>220,4,3)) -> 3 | J37: =I37*D37*F37 -> 360000
J38: =SUM(J33:J37) -> 5010000 | K38: =J38*2 -> 10020000
K39: =K38+B55+B45 -> 32620000
B42: PM/Year/Site | C42: Pesawat | E42: Asumsi:
A43: Sulut | B43: 16800000 | C43: 4000000 | E43: Walktest 4x dalam setahun semua operator sekaligus
A44: Makasar | C44: 3000000 | E44: Walktest pertama oleh vendor | I44: 10000000
A45: Bali | B45: 15600000 | C45: 2500000 | E45: Walktest pertama oleh vendor | H45: Pekanbaru | I45: 12000000
A46: Jatim | B46: 15000000 | C46: 2000000 | E46: Walktest pertama oleh vendor | H46: Sumut | I46: 14000000
A47: Jateng | B47: 15000000 | C47: 1850000 | E47: Walktest pertama oleh vendor | H47: Sulsel | I47: 14000000
...

Sheet Analisa
A2: SITE HOTEL ROYAL KUNINGAN
A3: Periode | B3: Start | C3: End
A4: Rev Tsel | B4: 44406 | C4: 46231
A5: Rev IOH | B5: 46204 | C5: 11504
A6: Sewa BM | B6: 45507 | C6: 47332
B8: Start | C8: End | D8: Days
A9: Worse >> Jika Sewa BM diperpanjang 5 tahun dan operator sesuai periode masing2, maka:
A10: Rev Tsel | B10: 45507 | C10: 46231 | D10: =C10-B10 -> 724 | E10: 215280000 | F10: =E10/365*D10 -> 4.2702115e+08
A11: Rev IOH | B11: 46204 | C11: 47332 | D11: =C11-B11 -> 1128 | E11: 236000000 | F11: =E11/365*D11 -> 7.2933699e+08
A12: Sewa BM | B12: 45507 | C12: 47332 | D12: =C12-B12 -> 1825 | E12: 150000000 | F12: =-E12/365*D12 -> -750000000
A13: OM Tsel | B13: 45507 | C13: 46231 | D13: =C13-B13 -> 724 | E13: 7000000 | F13: =-E13/365*D13 -> -13884932
A14: OM IOH | B14: 46204 | C14: 47332 | D14: =C14-B14 -> 1128 | E14: 7000000 | F14: =-E14/365*D14 -> -21632877
A15: Listrik Tsel | B15: 45507 | C15: 46231 | D15: =C15-B15 -> 724 | E15: 42000000 | F15: =-E15/365*D15 -> -83309589
A16: Listrik IOH | B16: 46204 | C16: 47332 | D16: =C16-B16 -> 1128 | E16: 42000000 | F16: =-E16/365*D16 -> -1.2979726e+08
A17: Antisipasi Add Capex and Pole | E17: 100000000
A18: Profit | F18: =SUM(F10:F17) -> 1.5773348e+08
A20: Conservative >> Jika Sewa BM diperpanjang 5th dan Operator sesuai periode BM, maka:
A21: Rev Tsel | B21: 45507 | C21: 46231 | D21: =C21-B21 -> 724 | E21: 215280000 | F21: =E21/365*D21 -> 4.2702115e+08
A22: Rev Tsel | B22: 46232 | C22: 47332 | D22: =C22-B22 -> 1100 | E22: 193752000 | F22: =E22/365*D22 -> 5.8391014e+08
A23: Rev IOH | B23: 46204 | C23: 47332 | D23: =C23-B23 -> 1128 | E23: 236000000 | F23: =E23/365*D23 -> 7.2933699e+08
A24: Sewa BM | B24: 45507 | C24: 47332 | D24: =C24-B24 -> 1825 | E24: 150000000 | F24: =-E24/365*D24 -> -750000000
A25: OM Tsel | B25: 45507 | C25: 46231 | D25: =C25-B25 -> 724 | E25: 7000000 | F25: =-E25/365*D25 -> -13884932
A26: OM Tsel&IOH | B26: 46232 | C26: 47332 | D26: =C26-B26 -> 1100 | E26: 14000000 | F26: =-E26/365*D26 -> -42191781
A27: Listrik Tsel | B27: 45507 | C27: 46231 | D27: =C27-B27 -> 724 | E27: 42000000 | F27: =-E27/365*D27 -> -83309589
A28: Listrik Tsel&IOH | B28: 46232 | C28: 47332 | D28: =C28-B28 -> 1100 | E28: 84000000 | F28: =-E28/365*D28 -> -2.5315068e+08
A29: Antisipasi Add Capex and Pole | E29: 100000000
A30: Profit | F30: =SUM(F21:F29) -> 5.9773129e+08
