Workbook
Name jk: #REF!
Name years_contract: [1]Kerlink!$D$5

Sheet Summary
C1: 0030/IRR/IBC/IX/2024 | M1: APARTEMEN SEASONS CITY
C2: Product : | D2: IBS / DAS | J2: Tanggal P&L: | M2: 45538
C3: Status P&L | D3: New
B5: Site Information | E5: Technical Information | J5: Financial Summary
B6: Site Name | D6: Apt. Seasons City | E6: IBC | K6: Capex DAS | M6: 1726670812
B7: Address | D7: Jakarta | E7: Antena PKS BM | H7: 380 | K7: Capex /antenna | M7: =M6/H8 -> 4543870.6
E8: Antena Asset | H8: 380 | K8: Contract Period (thn) | M8: 5
B9: Area building | D9: Jakarta | E9: Jumlah Pole Makro | H9: 0 | K9: Interest rate /year | M9: =[2]IRR!F3 -> 0.1
B10: Type of building | D10: Apartement | E10: OPENET | K10: Total Revenue | M10: =IRR!Q17 -> 1076068800
B11: Status | D11: New Site | E11: Cable FO (Core) | H11: 0 | K11: Total Capex BV30Sep24 | M11: =IRR!Q8+IRR!Q9 -> 14070025
B12: Total floor | D12: 33 | E12: Cable FO (meter) | H12: 0 | K12: Total CoGS Rent | M12: =IRR!Q19 -> 650000000
B13: No of building tower | D13: 1 | E13: Drop Wire (meter) | H13: 0 | K13: Total CoGS Others | M13: =IRR!Q21+IRR!Q22 -> 88803440
E15: OTHERS | K15: IRR | M15: =IRR!F37 -> 4.7014351
K16: NPV | M16: =IRR!F38 -> 1.0075362e+08
K17: EBITDA margin | M17: =IRR!F39 -> 0.3134236
K18: Payback (year) | M18: =IRR!F40 -> 0.21266571
B20: Target Achieved by Commercial: | L20: Prepared by
B21: Opex: | D21: Renewal untuk periode 1 tahun | L21: Citra Kartika
B22: Revenue: | D22: untuk renewal XL di 2025 harga tetap
B27: Approved by

Sheet IRR
B1: General | D1: 0004/IRR/IBC/I/2024 | P1: Apt. Seasons City | Q1: APT. SEASONS CITY
C2: Tax Rate | F2: 0.02
C3: Interest Rate | F3: 0.1
C4: SG&A | F4: 0.05 | G4: from Revenues
C5: BHPUSO | F5: 0 | G5: from Revenues
C6: Erosion | F6: 0.15
G7: Y1 | H7: Y2 | I7: Y3 | J7: Y4 | K7: Y5 | L7: Y6 | M7: Y7 | N7: Y8 | O7: Y9 | P7: Y10
B8: Total CAPEX | E8: BV 30Sep24 | G8: 14070025 | I8: 0 | J8: 0 | Q8: =SUM(G8:P8) -> 14070025
E9: BTS | Q9: =SUM(G9:P9) -> 0
G11: 2024 | H11: 2025 | I11: =H11+1 -> 2026 | J11: =I11+1 -> 2027 | K11: =J11+1 -> 2028 | L11: =K11+1 -> 2029 | M11: =L11+1 -> 2030 | N11: =M11+1 -> 2031 | O11: =N11+1 -> 2032 | P11: =O11+1 -> 2033
B12: IRR Calculation | G12: Year 1 | H12: Year 2 | I12: Year 3 | J12: Year 4 | K12: Year 5 | L12: Year 6 | M12: Year 7 | N12: Year 8 | O12: Year 9 | P12: Year 10 | Q12: Total
B13: Months of Service | G13: 12 | H13: 12 | I13: 12 | J13: 12 | K13: 12 | L13: 12 | M13: 12 | N13: 12 | O13: 12 | P13: 12
B14: Revenues
C15: XL | G15: 215213760 | H15: =G15 -> 215213760 | I15: =H15 -> 215213760 | J15: =I15 -> 215213760 | K15: =J15 -> 215213760 | Q15: =SUM(G15:P15) -> 1076068800
H16: 0 | Q16: =SUM(G16:P16) -> 0
B17: Total Revenues (SF) | G17: =SUM(G15:G16) -> 215213760 | H17: =SUM(H15:H16) -> 215213760 | I17: =SUM(I15:I16) -> 215213760 | J17: =SUM(J15:J16) -> 215213760 | K17: =SUM(K15:K16) -> 215213760 | L17: =SUM(L15:L16) -> 0 | M17: =SUM(M15:M16) -> 0 | N17: =SUM(N15:N16) -> 0 | ... Q17: =SUM(Q15:Q16) -> 1076068800
B18: OPEX
C19: Lease to BM | G19: 130000000 | H19: 130000000 | I19: 130000000 | J19: 130000000 | K19: 130000000 | Q19: =SUM(G19:P19) -> 650000000
C20: Electricity | G20: 0 | Q20: =SUM(G20:P20) -> 0
C21: Maintenance | G21: 7000000 | H21: 7000000 | I21: 7000000 | J21: 7000000 | K21: 7000000 | Q21: =SUM(G21:P21) -> 35000000
C22: SG&A | G22: =G17*$F$4 -> 10760688 | H22: =H17*$F$4 -> 10760688 | I22: =I17*$F$4 -> 10760688 | J22: =J17*$F$4 -> 10760688 | K22: =K17*$F$4 -> 10760688 | Q22: =SUM(G22:P22) -> 53803440
B23: Total OPEX | G23: =SUM(G19:G22) -> 147760688 | H23: =SUM(H19:H22) -> 147760688 | I23: =SUM(I19:I22) -> 147760688 | J23: =SUM(J19:J22) -> 147760688 | K23: =SUM(K19:K22) -> 147760688 | L23: =SUM(L19:L22) -> 0 | M23: =SUM(M19:M22) -> 0 | N23: =SUM(N19:N22) -> 0 | ... Q23: =SUM(Q19:Q22) -> 738803440
B24: Total EBITDA | G24: =G17-G23 -> 67453072 | H24: =H17-H23 -> 67453072 | I24: =I17-I23 -> 67453072 | J24: =J17-J23 -> 67453072 | K24: =K17-K23 -> 67453072 | L24: =L17-L23 -> 0 | M24: =M17-M23 -> 0 | N24: =N17-N23 -> 0 | ... Q24: =Q17-Q23 -> 337265360
B25: Ebitda margin | G25: 0 | H25: =H24/H17 -> 0.3134236 | I25: =I24/I17 -> 0.3134236 | J25: =J24/J17 -> 0.3134236 | K25: =K24/K17 -> 0.3134236 | L25: =L24/L17 -> #DIV/0! | M25: =M24/M17 -> #DIV/0! | N25: =N24/N17 -> #DIV/0! | O25: =O24/O17 -> #DIV/0! | ... Q25: =Q24/Q17 -> 0.3134236
B26: Depreciation Expense | G26: =G45 -> 2814005 | H26: =H45 -> 2814005 | I26: =I45 -> 2814005 | J26: =J45 -> 2814005 | K26: =K45 -> 2814005 | Q26: =SUM(G26:L26) -> 14070025
B27: Total EBIT | G27: =G24-G26 -> 64639067 | H27: =H24-H26 -> 64639067 | I27: =I24-I26 -> 64639067 | J27: =J24-J26 -> 64639067 | K27: =K24-K26 -> 64639067 | L27: =L24-L26 -> 0 | M27: =M24-M26 -> 0 | N27: =N24-N26 -> 0 | ... Q27: =Q24-Q26 -> 323195335
B28: Interest Expense | P28: =PARAMETER!K4 -> 0 | Q28: =SUM(G28:P28) -> 0
B29: EBT | G29: =G27-G28 -> 64639067 | H29: =H27-H28 -> 64639067 | I29: =I27-I28 -> 64639067 | J29: =J27-J28 -> 64639067 | K29: =K27-K28 -> 64639067 | L29: =L27-L28 -> 0 | M29: =M27-M28 -> 0 | N29: =N27-N28 -> 0 | ... P29: =P27-P28 -> 0 | Q29: =SUM(G29:P29) -> 323195335
B30: Tax Expense | G30: =IF(G29<0,0,G29*$F$2) -> 1292781.3 | H30: =IF(H29<0,0,H29*$F$2) -> 1292781.3 | I30: =IF(I29<0,0,I29*$F$2) -> 1292781.3 | J30: =IF(J29<0,0,J29*$F$2) -> 1292781.3 | K30: =IF(K29<0,0,K29*$F$2) -> 1292781.3 | L30: =IF(L29<0,0,L29*$F$2) -> 0 | M30: =IF(M29<0,0,M29*$F$2) -> 0 | N30: =IF(N29<0,0,N29*$F$2) -> 0 | ... P30: =IF(P29<0,0,P29*$F$2) -> 0 | Q30: =SUM(G30:P30) -> 6463906.7
B31: Net Income | G31: =G29-G30 -> 63346286 | H31: =H29-H30 -> 63346286 | I31: =I29-I30 -> 63346286 | J31: =J29-J30 -> 63346286 | K31: =K29-K30 -> 63346286 | L31: =L29-L30 -> 0 | M31: =M29-M30 -> 0 | N31: =N29-N30 -> 0 | ... Q31: =Q29-Q30 -> 3.1673143e+08
B33: Capex | F33: =-G8+-G9 -> -14070025 | H33: =-H8+-H9 -> 0 | I33: =-I8+-I9 -> 0 | J33: =-K8+-K9 -> 0 | K33: =-L8+-L9 -> 0 | L33: =-R8+-R9 -> 0 | M33: =-S8+-S9 -> 0 | N33: =-T8+-T9 -> 0 | O33: =-U8+-U9 -> 0 | P33: =-V8+-V9 -> 0 | Q33: =SUM(F33:P33) -> -14070025
B34: FCFF | F34: =F33 -> -14070025 | G34: =G33+G31+G26 -> 66160291 | H34: =H33+H31+H26 -> 66160291 | I34: =I33+I31+I26 -> 66160291 | J34: =J33+J31+J26 -> 66160291 | K34: =K33+K31+K26 -> 66160291 | L34: =L33+L31+L26 -> 0 | M34: =M33+M31+M26 -> 0 | N34: =N33+N31+N26 -> 0 | ... P34: =P33+P31+P26 -> 0 | Q34: =SUM(F34:P34) -> 3.1673143e+08
B35: Accumulated FCF | F35: =F34 -> -14070025 | G35: =F35+G34 -> 52090266 | H35: =G35+H34 -> 1.1825056e+08 | I35: =H35+I34 -> 1.8441085e+08 | J35: =I35+J34 -> 2.5057114e+08 | K35: =J35+K34 -> 3.1673143e+08
B36: PBP | G36: =IF(AND(F35<0,G35>0),G41-(G35/G34),0) -> 0.21266571 | H36: =IF(AND(G35<0,H35>0),H41-(H35/H34),0) -> 0 | I36: =IF(AND(H35<0,I35>0),I41-(I35/I34),0) -> 0 | J36: =IF(AND(I35<0,J35>0),J41-(J35/J34),0) -> 0 | K36: =IF(AND(J35<0,K35>0),K41-(K35/K34),0) -> 0 | L36: =IF(AND(K35<0,L35>0),L41-(L35/L34),0) -> 0 | M36: =IF(AND(L35<0,M35>0),M41-(M35/M34),0) -> 0 | N36: =IF(AND(M35<0,N35>0),N41-(N35/N34),0) -> 0 | O36: =IF(AND(O35<0,P35>0),N41-(N35/N34),0) -> 0 | P36: =IF(AND(P35<0,Q35>0),O41-(O35/O34),0) -> 0
B37: IRR | F37: =IRR(F34:P34) -> 4.7014351
B38: NPV | F38: =NPV(F3,G34:H34)+F34 -> 1.0075362e+08
B39: EBITDA margin | F39: =Q25 -> 0.3134236
B40: Payback | F40: =SUM(F36:P36) -> 0.21266571
G41: 1 | H41: =G41+1 -> 2 | I41: =H41+1 -> 3 | J41: =I41+1 -> 4 | K41: =J41+1 -> 5 | L41: =K41+1 -> 6 | M41: =L41+1 -> 7 | N41: =M41+1 -> 8 | O41: =N41+1 -> 9 | P41: =O41+1 -> 10
B42: Depreciation Calculation | E42: no of Year depreciated | G42: =G12 -> Year 1 | H42: =H12 -> Year 2 | I42: =I12 -> Year 3 | J42: =J12 -> Year 4 | K42: =K12 -> Year 5 | L42: =L12 -> Year 6 | M42: =M12 -> Year 7 | N42: =N12 -> Year 8 | ... P42: =P12 -> Year 10 | Q42: Total
...

Sheet PARAMETER
B1: 5 | C1: 2013 | D1: =C1+1 -> 2014 | E1: =D1+1 -> 2015 | F1: =E1+1 -> 2016 | G1: =F1+1 -> 2017 | H1: =G1+1 -> 2018 | I1: =H1+1 -> 2019 | J1: =I1+1 -> 2020 | K1: =J1+1 -> 2021 | ... M1: =L1+1 -> 2023
A2: 2013 | B2: loan | C2: 1.7266708e+09 | D2: =C2-C3 -> 1.3813366e+09 | E2: =D2-C3 -> 1.0360025e+09 | F2: =E2-C3 -> 6.9066832e+08 | G2: =F2-C3 -> 3.4533416e+08 | H2: =G2-C3 -> 0 | I2: =H2-$E$3 -> 0 | J2: =I2-$E$3 -> 0 | N2: 2013 | O2: 1.7266708e+09
B3: Installment/thn | C3: =C2/B1 -> 3.4533416e+08 | N3: 2014 | O3: 422342499
B4: Interest | C4: =(($C$2*IRR!$F$3)*6)/12 -> 86333541 | D4: =AVERAGE(C2:D2)*IRR!$F$3 -> 1.5540037e+08 | E4: =AVERAGE(D2:E2)*IRR!$F$3 -> 1.2086696e+08 | F4: =AVERAGE(E2:F2)*IRR!$F$3 -> 86333541 | G4: =AVERAGE(F2:G2)*IRR!$F$3 -> 51800124 | H4: =AVERAGE(G2:H2)*IRR!$F$3 -> 17266708 | I4: =AVERAGE($H$2:$I$2)*[3]IRR!$G$4 -> 0 | J4: =AVERAGE($I$2:$J$2)*[3]IRR!$G$4 -> 0 | N4: 2016 | O4: 10773000
A5: 2014 | B5: loan | D5: 422342499 | E5: =D5-D6 -> 3.37874e+08 | F5: =E5-D6 -> 2.534055e+08 | G5: =F5-D6 -> 1.68937e+08 | H5: =G5-D6 -> 84468500 | I5: =H5-D6 -> 0 | N5: 2017 | O5: 102210600
B6: Installment/thn | D6: =D5/B1 -> 84468500
B7: Interest | D7: =((D5*IRR!$F$3)*6)/12 -> 21117125 | E7: =AVERAGE(D5:E5)*IRR!$F$3 -> 38010825 | F7: =AVERAGE(E5:F5)*IRR!$F$3 -> 29563975 | G7: =AVERAGE(F5:G5)*IRR!$F$3 -> 21117125 | H7: =AVERAGE(G5:H5)*IRR!$F$3 -> 12670275 | I7: =AVERAGE(H5:I5)*IRR!$F$3 -> 4223425
A8: 2016 | B8: loan | F8: 10773000 | G8: =F8-F9 -> 8618400 | H8: =G8-F9 -> 6463800 | I8: =H8-F9 -> 4309200 | J8: =I8-F9 -> 2154600 | K8: =J8-F9 -> 0
B9: Installment/thn | F9: =F8/B1 -> 2154600
B10: Interest | F10: =((F8*IRR!$F$3)*6)/12 -> 538650 | G10: =AVERAGE(F8:G8)*IRR!$F$3 -> 969570 | H10: =AVERAGE(G8:H8)*IRR!$F$3 -> 754110 | I10: =AVERAGE(H8:I8)*IRR!$F$3 -> 538650 | J10: =AVERAGE(I8:J8)*IRR!$F$3 -> 323190 | K10: =AVERAGE(J8:K8)*IRR!$F$3 -> 107730
A11: 2017 | B11: loan | G11: 102210600 | H11: =G11-G12 -> 81768480 | I11: =H11-G12 -> 61326360 | J11: =I11-G12 -> 40884240 | K11: =J11-G12 -> 20442120 | L11: =K11-G12 -> 0
B12: Installment/thn | G12: =G11/B1 -> 20442120
B13: Interest | G13: =((G11*IRR!$F$3)*6)/12 -> 5110530 | H13: =AVERAGE(G11:H11)*IRR!$F$3 -> 9198954 | I13: =AVERAGE(H11:I11)*IRR!$F$3 -> 7154742 | J13: =AVERAGE(I11:J11)*IRR!$F$3 -> 5110530 | K13: =AVERAGE(J11:K11)*IRR!$F$3 -> 3066318 | L13: =AVERAGE(K11:L11)*IRR!$F$3 -> 1022106
C15: =C4+C7+C10+C13 -> 86333541 | D15: =D4+D7+D10+D13 -> 1.765175e+08 | E15: =E4+E7+E10+E13 -> 1.5887778e+08 | F15: =F4+F7+F10+F13 -> 1.1643617e+08 | G15: =G4+G7+G10+G13 -> 78997349 | H15: =H4+H7+H10+H13 -> 39890047 | I15: =I4+I7+I10+I13 -> 11916817 | J15: =J4+J7+J10+J13 -> 5433720 | ... M15: =M4+M7+M10+M13 -> 0
A18: SG&A | B18: 50000000 | C18: =B18+C19 -> 51000000 | D18: =C18+D20 -> 52020000 | E18: =D18+E20 -> 53060400 | F18: =E18+F20 -> 54121608 | G18: =F18+G20 -> 55204040 | H18: =G18+H20 -> 56308121 | I18: =H18+I20 -> 57434283 | J18: =I18+J20 -> 58582969 | K18: =J18+K20 -> 59754628
A19: 0.02 | C19: =C20 -> 1000000 | D19: =C19+D20 -> 2020000 | E19: =D19+E20 -> 3060400 | F19: =E19+F20 -> 4121608 | G19: =F19+G20 -> 5204040.2 | H19: =G19+H20 -> 6308121 | I19: =H19+I20 -> 7434283.4 | J19: =I19+J20 -> 8582969.1 | K19: =J19+K20 -> 9754628.4
C20: =B18*$A$19 -> 1000000 | D20: =C18*$A$19 -> 1020000 | E20: =D18*$A$19 -> 1040400 | F20: =E18*$A$19 -> 1061208 | G20: =F18*$A$19 -> 1082432.2 | H20: =G18*$A$19 -> 1104080.8 | I20: =H18*$A$19 -> 1126162.4 | J20: =I18*$A$19 -> 1148685.7 | K20: =J18*$A$19 -> 1171659.4
F22: person | G22: trip | H22: kamar | I22: Days by Omni | J22: Biaya walktest inhouse/visit | K22: Biaya walktest inhouse/thn
E23: Diisikan | F23: 1 | G23: 1 | H23: 1 | I23: 50
B24: Transport | C24: Pesawat | D24: =C35 -> 3000000 | E24: person | F24: =F23 -> 1 | J24: =F24*D24 -> 3000000
C25: Bandara | D25: 600000 | E25: person | F25: =F23 -> 1 | I25: =IF($I$23<=120,2,IF($I$22>220,4,3)) -> 2 | J25: =D25*F25 -> 600000
C26: Transport | D26: 200000 | E26: Trip | G26: =G23 -> 1 | J26: =G26*D26 -> 200000
B27: Hotel | C27: Hotel | D27: 450000 | E27: kamar | F27: =F23 -> 1 | H27: =H23 -> 1 | I27: =IF($I$23<=120,2,IF($I$23>220,4,3)) -> 2 | J27: =H27*D27*I27 -> 900000
B28: Uang Saku | C28: Uang Saku | D28: 120000 | E28: person | F28: =F23 -> 1 | I28: =IF($I$23<=120,2,IF($I$23>220,4,3)) -> 2 | J28: =I28*D28*F28 -> 240000
J29: =SUM(J24:J28) -> 4940000 | K29: =J29*2 -> 9880000
K30: =B41 -> 15720000
K31: =K29+K30 -> 25600000
B33: PM/Year/Site | C33: Pesawat | E33: Asumsi:
A34: Sulut | B34: 16800000 | C34: 4000000 | E34: Walktest 4x dalam setahun semua operator sekaligus
A35: Makasar | C35: 3000000 | E35: Walktest pertama oleh vendor | I35: 10000000
A36: Bali | B36: 15600000 | C36: 2500000 | E36: Walktest pertama oleh vendor | H36: Pekanbaru | I36: 12000000
A37: Jatim | B37: 15000000 | C37: 2000000 | E37: Walktest pertama oleh vendor | H37: Sumut | I37: 14000000
A38: Jateng | B38: 15000000 | C38: 1850000 | E38: Walktest pertama oleh vendor | H38: Sulsel | I38: 14000000
A39: Jabar | B39: 12000000 | C39: 1200000 | E39: Walktest pertama oleh vendor | H39: Sulut | I39: 17000000
A40: Kalimantan | B40: 16800000 | C40: 2000000 | E40: Walktest pertama oleh vendor | H40: Kalimantan | I40: 14000000
A41: Sumatera | B41: 15720000 | C41: 3500000
A42: Palembang | C42: 2800000
A43: Jabodetabek | B43: 0 | C43: 0 | D43: Inhouse
B45: CM /Year/Oprt
B46: 7000000
...

Sheet Book Value
B1: 2013 | C1: 2014 | D1: 2015 | E1: 2016 | F1: 2017 | G1: 2018 | H1: 2019 | I1: 2020 | J1: 2021
A2: DAS | B2: 1590676795
A3: BTS | D3: 482091041
A5: DAS | B5: =(B2/10)*(2023-B1) -> 1590676795 | C5: =(C2/10)*(2023-C1) -> 0 | D5: =(D2/10)*(2023-D1) -> 0 | E5: =(E2/10)*(2023-E1) -> 0 | F5: =(F2/10)*(2023-F1) -> 0
A6: BTS | C6: =(C3/10)*(2023-C1) -> 0 | D6: =(D3/10)*(2023-D1) -> 3.8567283e+08 | E6: =(E3/10)*(2023-E1) -> 0
A8: DAS | B8: =B2-B5 -> 0 | C8: =C2-C5 -> 0 | D8: =D2-D5 -> 0 | E8: =E2-E5 -> 0 | F8: =F2-F5 -> 0
A9: BTS | C9: =C3-C6 -> 0 | D9: =D3-D6 -> 96418208 | E9: =E3-E6 -> 0 | F9: =F3-F6 -> 0

Sheet summary BR
A2: SUMMARY REVIEW
A4: Nama Site | C4: : Apartement Season City
A5: Nama Pemilik | C5: : PPPSRS SONCY
A6: Alamat Pemilik | C6: : Jl. Prof Dr. Latumenten No. 33
A7: Object Sewa | C7: : 380 + Pole Antenna + RBS m2
A9: No. | B9: Keterangan | C9: Existing | E9: Renewal
A11: 1 | B11: Scope Of Lease | C11: IBC | E11: IBC
A12: 2 | B12: Obyek Sewa | C12: 380 Omni, BTS, Pole | E12: =C12 -> 380 Omni, BTS, Pole
A13: 3 | B13: Periode Sewa | C13: 01 Okt 22 s/d 30 Sept 24 | E13: 1Okt 24 s/d 30 Sep 25
A14: 4 | B14: Harga Sewa / masa sewa | C14: 260000000 | E14: =C14/2 -> 130000000
B15: Harga sewa / tahun | C15: =C14/2 -> 130000000 | E15: =E14 -> 130000000
A16: 5 | B16: Operator Join | C16: - XL (27 Aug 23 - 26 Aug 24) | E16: XL : 27 Aug 24 - 26 Aug 25
A17: 6 | B17: Kenaikan/Penurunan Harga | C17: harga sama dengan periode sebelumnya
B19: Noted:
B20: Termin pembayaran :
B21: pembayaran 50% setelah PKS Addendum di sign
B22: pembayaran ke 2, 6 bulan stelah pmbayarn pertama
