Workbook
Name jk: #REF!
Name jk: #REF!
Name jk: #REF!
Name jk: #REF!
Name jk: #REF!
Name years_contract: [1]Kerlink!$D$5

Sheet Summary
B2: No. | C2: 0027/IRR/IBC/IX/2024 | N2: =D7 -> Holiday Inn Kemayoran
C3: Product : | D3: IBS / DAS | J3: Tanggal P&L: | M3: 45530
C4: Status P&L | D4: Extent
B6: Site Information | E6: Technical Information | J6: Financial Summary
B7: Site Name | D7: Holiday Inn Kemayoran | E7: IBC | K7: Capex DAS | M7: 930779633
B8: Address | D8: Jl. Griya Utama No.1 Blok B, Sunter Agung, Tanjung Priok, Jakarta, 14350 | E8: Antena PKS BM | H8: 122 | K8: Capex /antenna | M8: =M7/H9 -> 7215346
E9: Antena Asset | H9: 129 | K9: Contract Period (thn) | M9: 5
B10: Area building | D10: Jakarta | E10: Jumlah Pole Makro | H10: 8 Unit Pole Antenna + RBS 40 m² | K10: Interest rate /year | M10: 0.1
B11: Type of building | D11: Hotel | K11: Total Revenue | M11: =IRR!Q17 -> 750000000
B12: Status | D12: Renewal | E12: OPENET | K12: Total Capex BV31 Aug24 | M12: =IRR!G10 -> 5071455
B13: Total floor | E13: Cable FO (Core) | H13: 0 | K13: Total Opex Sewa | M13: =IRR!Q20 -> 200000000
B14: No of building tower | E14: Cable FO (meter) | H14: 0 | K14: Total Opex Other | M14: =IRR!Q21+IRR!Q22+IRR!Q23 -> 72500000
B15: Sitac Tahun | E15: Drop Wire (meter) | H15: 0
E16: OTHERS | K16: IRR | M16: =IRR!F38 -> Positip
K17: NPV | M17: =IRR!F39 -> 3.8527084e+08
K18: EBITDA margin | M18: =IRR!F40 -> 0.63666667
K19: Payback (year) | M19: =IRR!F41 -> 0
B21: Target Achieved by Commercial: | L21: Prepared by
B22: Opex | D22: Perpanjangan Sewa Gedung hanya setahun 9Sep24 sd 8Sep25 | L22: Citra Kartika
D23: Harga sewa akan disesuaikan apabila ada penambahan Operator
D24: :
B28: Approved by

Sheet IRR
B1: No | C1: 0027/IRR/IBC/IX/2024 | Q1: =Summary!D7 -> Holiday Inn Kemayoran
B2: General | H2: Operator join | I2: Rev.Change
C3: Tax Rate | E3: 0.02
C4: Interest Rate | E4: 0.1
C5: SG&A | E5: 0.05 | F5: from Revenues
C6: BHPUSO | E6: 0 | F6: from Revenues
G8: Y1 | H8: Y2 | I8: Y3 | J8: Y4 | K8: Y5 | L8: Y6 | M8: Y7 | N8: Y8 | O8: Y9 | P8: Y10
B9: Total CAPEX | E9: BV 31 Aug 24 | G9: 5071455 | H9: 0 | I9: 0 | J9: 0 | Q9: =SUM(G9:K9) -> 5071455
G10: =G9 -> 5071455 | Q10: =SUM(Q9) -> 5071455
G11: 2024 | H11: =G11+1 -> 2025 | I11: =H11+1 -> 2026 | J11: =I11+1 -> 2027 | K11: =J11+1 -> 2028 | L11: =K11+1 -> 2029 | M11: =L11+1 -> 2030 | N11: =M11+1 -> 2031 | O11: =N11+1 -> 2032 | P11: =O11+1 -> 2033
B12: IRR Calculation | F12: Year 0 | G12: Year 1 | H12: Year 2 | I12: Year 3 | J12: Year 4 | K12: Year 5 | L12: Year 6 | M12: Year 7 | N12: Year 8 | O12: Year 9 | P12: Year 10 | Q12: Total
B13: Months of Service | G13: 12 | H13: 12 | I13: 12 | J13: 12 | K13: 12
B15: Revenues
C16: XL | G16: 150000000 | H16: 150000000 | I16: 150000000 | J16: 150000000 | K16: 150000000 | Q16: =SUM(G16:K16) -> 750000000
B17: Total Revenues (SF) | G17: =SUM(G16:G16) -> 150000000 | H17: =SUM(H16:H16) -> 150000000 | I17: =SUM(I16:I16) -> 150000000 | J17: =SUM(J16:J16) -> 150000000 | K17: =SUM(K16:K16) -> 150000000 | Q17: =SUM(G17:K17) -> 750000000
B19: OPEX
C20: Lease to BM | G20: 40000000 | H20: 40000000 | I20: 40000000 | J20: 40000000 | K20: 40000000 | Q20: =SUM(G20:K20) -> 200000000
C21: Electricity | G21: 0 | H21: =G21 -> 0 | I21: =H21 -> 0 | J21: =I21 -> 0 | K21: =J21 -> 0 | Q21: =SUM(G21:K21) -> 0
C22: Maintenance | G22: 7000000 | H22: =G22 -> 7000000 | I22: =H22 -> 7000000 | J22: =I22 -> 7000000 | K22: =J22 -> 7000000 | Q22: =SUM(G22:K22) -> 35000000
C23: SG&A | G23: =G17*$E$5 -> 7500000 | H23: =H17*$E$5 -> 7500000 | I23: =I17*$E$5 -> 7500000 | J23: =J17*$E$5 -> 7500000 | K23: =K17*$E$5 -> 7500000 | Q23: =SUM(G23:K23) -> 37500000
B24: Total OPEX | G24: =SUM(G20:G23) -> 54500000 | H24: =SUM(H20:H23) -> 54500000 | I24: =SUM(I20:I23) -> 54500000 | J24: =SUM(J20:J23) -> 54500000 | K24: =SUM(K20:K23) -> 54500000 | Q24: =SUM(Q20:Q23) -> 272500000
B25: Total EBITDA | G25: =G17-G24 -> 95500000 | H25: =H17-H24 -> 95500000 | I25: =I17-I24 -> 95500000 | J25: =J17-J24 -> 95500000 | K25: =K17-K24 -> 95500000 | Q25: =Q17-Q24 -> 477500000
B26: Ebitda margin | G26: 0 | H26: =H25/H17 -> 0.63666667 | I26: =I25/I17 -> 0.63666667 | J26: =J25/J17 -> 0.63666667 | K26: =K25/K17 -> 0.63666667 | Q26: =Q25/Q17 -> 0.63666667
B27: Depreciation Expense | G27: =G49 -> 1014291 | H27: =H49 -> 1014291 | I27: =I49 -> 1014291 | J27: =J49 -> 1014291 | K27: =K49 -> 1014291 | Q27: =SUM(G27:K27) -> 5071455
B28: Total EBIT | G28: =G25-G27 -> 94485709 | H28: =H25-H27 -> 94485709 | I28: =I25-I27 -> 94485709 | J28: =J25-J27 -> 94485709 | K28: =K25-K27 -> 94485709 | Q28: =Q25-Q27 -> 472428545
B29: Interest Expense | G29: =Parameter!M34 -> 0 | H29: =Parameter!N34 -> 0 | I29: =Parameter!O34 -> 0 | J29: =Parameter!O34 -> 0 | K29: =Parameter!P34 -> 0 | Q29: =SUM(G29:K29) -> 0
B30: EBT | G30: =G28-G29 -> 94485709 | H30: =H28-H29 -> 94485709 | I30: =I28-I29 -> 94485709 | J30: =J28-J29 -> 94485709 | K30: =K28-K29 -> 94485709 | Q30: =SUM(G30:K30) -> 472428545
B31: Tax Expense | G31: =IF(G30<0,0,G30*$E$3) -> 1889714.2 | H31: =IF(H30<0,0,H30*$E$3) -> 1889714.2 | I31: =IF(I30<0,0,I30*$E$3) -> 1889714.2 | J31: =IF(J30<0,0,J30*$E$3) -> 1889714.2 | K31: =IF(K30<0,0,K30*$E$3) -> 1889714.2 | Q31: =SUM(G31:K31) -> 9448570.9
B32: Net Income | G32: =G30-G31 -> 92595995 | H32: =H30-H31 -> 92595995 | I32: =I30-I31 -> 92595995 | J32: =J30-J31 -> 92595995 | K32: =K30-K31 -> 92595995 | Q32: =Q30-Q31 -> 4.6297997e+08
B34: Capex | G34: =-G10 -> -5071455 | H34: =-I9+-I10 -> 0 | I34: =-J9+-J10 -> 0 | J34: =-K9+-K10 -> 0 | K34: =-L9+-L10 -> 0
B35: FCFF | F35: =F34 -> 0 | G35: =G34+G32+G27 -> 88538831 | H35: =H34+H32+H27 -> 93610286 | I35: =I34+I32+I27 -> 93610286 | J35: =J34+J32+J27 -> 93610286 | K35: =K34+K32+K27 -> 93610286 | Q35: =SUM(F35:K35) -> 4.6297997e+08
B36: Accumulated FCF | F36: =F35 -> 0 | G36: =F36+G35 -> 88538831 | H36: =G36+H35 -> 1.8214912e+08 | I36: =H36+I35 -> 2.757594e+08 | J36: =I36+J35 -> 3.6936969e+08 | K36: =J36+K35 -> 4.6297997e+08
B37: PBP | G37: =IF(AND(F36<0,G36>0),G42-(G36/G35),0) -> 0 | H37: =IF(AND(G36<0,H36>0),H42-(H36/H35),0) -> 0 | I37: =IF(AND(H36<0,I36>0),I42-(I36/I35),0) -> 0 | J37: =IF(AND(I36<0,J36>0),J42-(J36/J35),0) -> 0 | K37: =IF(AND(J36<0,K36>0),K42-(K36/K35),0) -> 0
B38: IRR | F38: Positip
B39: NPV | F39: =NPV(E4,H35:K35)+G35 -> 3.8527084e+08
B40: EBITDA margin | F40: =Q26 -> 0.63666667
B41: Payback | F41: =SUM(F37:K37) -> 0
G42: 1 | H42: 2 | I42: 3 | J42: 4 | K42: 5
B43: Depreciation Calculation | E43: no of Year depreciated | G43: =G12 -> Year 1 | H43: =H12 -> Year 2 | I43: =I12 -> Year 3 | J43: =J12 -> Year 4 | K43: =K12 -> Year 5
D44: Year 1 | E44: 5 | G44: =SUM(G9)/$E44 -> 1014291 | H44: =G44 -> 1014291 | I44: =H44 -> 1014291 | J44: =I44 -> 1014291 | K44: =J44 -> 1014291 | Q44: =SUM(G44:K44) -> 5071455
...

Sheet Summary Review new (2)
C1: SUMMARY REVIEW
A3: Nama Site | C3: : Hotel Double Tree By Hilton Jakarta Kemayoran (Holiday Inn Kemayoran)
A4: Nama Pemilik | C4: : PT. Nusa Plaza Internasional
A5: Alamat Pemilik | C5: : Jl. Griya Utama Sunter Agung
A6: Telp | C6: : 021-65831177
A7: Obyek Sewa | C7: : 122 Omni + 8 Unit Pole Antenna + RBS 40 m²
A9: No. | B9: Keterangan | C9: Existing | D9: Renewal
A11: 1. | B11: Scope Of Lease | C11: IBC | D11: IBC
A12: 2. | B12: Obyek Sewa | C12: =C7 -> : 122 Omni + 8 Unit Pole Antenna + RBS 40 m² | D12: =C7 -> : 122 Omni + 8 Unit Pole Antenna + RBS 40 m²
A13: 3. | B13: Periode Sewa | C13: 09 September 2019 s/d 08 September 2024 | D13: 09 September 2024 s/d 08 September 2025
A14: 4 | B14: Harga Sewa / Masa Sewa | C14: 200000000 | D14: 40000000
B15: Harga Sewa / Tahun | C15: =C14/5 -> 40000000 | D15: =D14 -> 40000000
A16: 5 | B16: Operator Join | C16: XL (01 Juni 2015 s/d 31 Mei 2020) | D16: XL (01 Juni 2020 s/d 31 Mei 2025)
A17: 6. | B17: Kenaikan/ Penurunan Harga | C17: Harga sama
B19: Note :
B20: - Harga untuk 1 operator, apabila ada penambahan akan dibuatkan addendum penambahan

Sheet Parameter
A1: PERHITUNGAN INTEREST EXPENSE based CAPEX
A2: Capex tahun | B2: 5 | C2: 2015 | D2: =C2+1 -> 2016 | E2: =D2+1 -> 2017 | F2: =E2+1 -> 2018 | G2: =F2+1 -> 2019 | H2: =G2+1 -> 2020 | I2: =H2+1 -> 2021 | J2: =I2+1 -> 2022 | K2: =J2+1 -> 2023 | ... R2: =Q2+1 -> 2030
A3: 2015 | B3: loan | C3: 1008381959 | D3: =C3-C4 -> 8.0670557e+08 | E3: =D3-C4 -> 6.0502918e+08 | F3: =E3-C4 -> 4.0335278e+08 | G3: =F3-C4 -> 2.0167639e+08 | H3: =G3-C4 -> 0 | I3: =H3-$E$4 -> 0 | J3: =I3-$E$4 -> 0 | R3: 2013 | S3: 1.7266708e+09
B4: Installment/thn | C4: =C3/B2 -> 2.0167639e+08 | R4: 2014 | S4: 422342499
B5: Interest | C5: =(($C$3*IRR!E4*6)/12) -> 50419098 | D5: =AVERAGE(C3:D3)*IRR!E4 -> 90754376 | E5: =AVERAGE(D3:E3)*IRR!E4 -> 70586737 | F5: =AVERAGE(E3:F3)*IRR!E4 -> 50419098 | G5: =AVERAGE(F3:G3)*IRR!E4 -> 30251459 | H5: =AVERAGE(G3:H3)*IRR!E4 -> 10083820 | I5: =AVERAGE($H$3:$I$3)*[2]IRR!$G$4 -> 0 | J5: =AVERAGE($I$3:$J$3)*[2]IRR!$G$4 -> 0 | R5: 2016 | S5: 10773000
A6: =A3+1 -> 2016 | B6: loan | D6: 83542705 | E6: =D6-D7 -> 66834164 | F6: =E6-D7 -> 50125623 | G6: =F6-D7 -> 33417082 | H6: =G6-D7 -> 16708541 | R6: 2017 | S6: 102210600
B7: Installment/thn | D7: =D6/B2 -> 16708541
B8: Interest | D8: =((D6*IRR!E4*6)/12) -> 4177135.2 | E8: =AVERAGE(D6:E6)*IRR!E4 -> 7518843.5 | F8: =AVERAGE(E6:F6)*IRR!E4 -> 5847989.4 | G8: =AVERAGE(F6:G6)*IRR!E4 -> 4177135.2 | H8: =AVERAGE(G6:H6)*IRR!E4 -> 2506281.1 | I8: =AVERAGE(H6:I6)*IRR!E4 -> 1670854.1
A9: =A6+1 -> 2017 | B9: loan | E9: 34779633 | F9: =E9-E10 -> 27823706 | G9: =F9-E10 -> 20867780 | H9: =G9-E10 -> 13911853 | I9: =H9-E10 -> 6955926.6 | J9: =I9-E10 -> 0
B10: Installment/thn | E10: =E9/B2 -> 6955926.6
B11: Interest | E11: =((E9*IRR!E4*6)/12) -> 1738981.7 | F11: =AVERAGE(E9:F9)*IRR!$E$4 -> 3130167 | G11: =AVERAGE(F9:G9)*IRR!$E$4 -> 2434574.3 | H11: =AVERAGE(G9:H9)*IRR!$E$4 -> 1738981.6 | I11: =AVERAGE(H9:I9)*IRR!$E$4 -> 1043389 | J11: =AVERAGE(I9:J9)*IRR!$E$4 -> 347796.33
A12: =A9+1 -> 2018 | B12: loan | G12: =F12-F13 -> 0 | H12: =G12-F13 -> 0 | I12: =H12-F13 -> 0 | J12: =I12-F13 -> 0 | K12: =J12-F13 -> 0
B13: Installment/thn | F13: =F12/B2 -> 0
B14: Interest | F14: =((F12*IRR!E4*6)/12) -> 0 | G14: =AVERAGE(F12:G12)*IRR!$E$4 -> 0 | H14: =AVERAGE(G12:H12)*IRR!$E$4 -> 0 | I14: =AVERAGE(H12:I12)*IRR!$E$4 -> 0 | J14: =AVERAGE(I12:J12)*IRR!$E$4 -> 0 | K14: =AVERAGE(J12:K12)*IRR!$E$4 -> 0
A15: =A12+1 -> 2019 | B15: loan | H15: =G15-G16 -> 0 | I15: =H15-G16 -> 0 | J15: =I15-G16 -> 0 | K15: =J15-G16 -> 0 | L15: =K15-G16 -> 0
B16: Installment/thn | G16: =G15/B2 -> 0
B17: Interest | G17: =((G15*IRR!E4*6)/12) -> 0 | H17: =AVERAGE(G15:H15)*IRR!$E$4 -> 0 | I17: =AVERAGE(H15:I15)*IRR!$E$4 -> 0 | J17: =AVERAGE(I15:J15)*IRR!$E$4 -> 0 | K17: =AVERAGE(J15:K15)*IRR!$E$4 -> 0 | L17: =AVERAGE(K15:L15)*IRR!$E$4 -> 0
A18: =A15+1 -> 2020 | B18: loan | I18: =H18-H19 -> 0 | J18: =I18-H19 -> 0 | K18: =J18-H19 -> 0 | L18: =K18-H19 -> 0 | M18: =L18-H19 -> 0
B19: Installment/thn | H19: =H18/B2 -> 0
B20: Interest | H20: =((H18*IRR!E4*6)/12) -> 0 | I20: =AVERAGE(H18:I18)*IRR!$E$4 -> 0 | J20: =AVERAGE(I18:J18)*IRR!$E$4 -> 0 | K20: =AVERAGE(J18:K18)*IRR!$E$4 -> 0 | L20: =AVERAGE(K18:L18)*IRR!$E$4 -> 0 | M20: =AVERAGE(L18:M18)*IRR!$E$4 -> 0
A21: =A18+1 -> 2021 | B21: loan | J21: =I21-I22 -> 0 | K21: =J21-I22 -> 0 | L21: =K21-I22 -> 0 | M21: =L21-I22 -> 0 | N21: =M21-I22 -> 0
B22: Installment/thn | I22: =I21/B2 -> 0
B23: Interest | I23: =((I21*IRR!E4*6)/12) -> 0 | J23: =AVERAGE(I21:J21)*IRR!$E$4 -> 0 | K23: =AVERAGE(J21:K21)*IRR!$E$4 -> 0 | L23: =AVERAGE(K21:L21)*IRR!$E$4 -> 0 | M23: =AVERAGE(L21:M21)*IRR!$E$4 -> 0 | N23: =AVERAGE(M21:N21)*IRR!$E$4 -> 0
A24: =A21+1 -> 2022 | B24: loan | K24: =J24-J25 -> 0 | L24: =K24-J25 -> 0 | M24: =L24-J25 -> 0 | N24: =M24-J25 -> 0 | O24: =N24-J25 -> 0
B25: Installment/thn | J25: =J24/B2 -> 0
B26: Interest | J26: =((J24*IRR!E4*6)/12) -> 0 | K26: =AVERAGE(J24:K24)*IRR!$E$4 -> 0 | L26: =AVERAGE(K24:L24)*IRR!$E$4 -> 0 | M26: =AVERAGE(L24:M24)*IRR!$E$4 -> 0 | N26: =AVERAGE(M24:N24)*IRR!$E$4 -> 0 | O26: =AVERAGE(N24:O24)*IRR!$E$4 -> 0
A27: =A24+1 -> 2023 | B27: loan | M27: =L27-L28 -> 0 | N27: =M27-L28 -> 0 | O27: =N27-L28 -> 0 | P27: =O27-L28 -> 0 | Q27: =P27-L28 -> 0
B28: Installment/thn | L28: =L27/B2 -> 0
B29: Interest | L29: =((L27*IRR!E4*6)/12) -> 0 | M29: =AVERAGE(L27:M27)*IRR!$E$4 -> 0 | N29: =AVERAGE(M27:N27)*IRR!$E$4 -> 0 | O29: =AVERAGE(N27:O27)*IRR!$E$4 -> 0 | P29: =AVERAGE(O27:P27)*IRR!$E$4 -> 0 | Q29: =AVERAGE(P27:Q27)*IRR!$E$4 -> 0
A30: =A27+1 -> 2024 | B30: loan | N30: =M30-M31 -> 0 | O30: =N30-M31 -> 0 | P30: =O30-M31 -> 0 | Q30: =P30-M31 -> 0 | R30: =Q30-M31 -> 0
B31: Installment/thn | M31: =M30/B2 -> 0
B32: Interest | M32: =((M30*IRR!E4*6)/12) -> 0 | N32: =AVERAGE(M30:N30)*IRR!$E$4 -> 0 | O32: =AVERAGE(N30:O30)*IRR!$E$4 -> 0 | P32: =AVERAGE(O30:P30)*IRR!$E$4 -> 0 | Q32: =AVERAGE(P30:Q30)*IRR!$E$4 -> 0 | R32: =AVERAGE(Q30:R30)*IRR!$E$4 -> 0
B34: Interest Exp | C34: =C5+C8+C11+C14+C17+C20+C23+C26+C29+C32 -> 50419098 | D34: =D5+D8+D11+D14+D17+D20+D23+D26+D29+D32 -> 94931512 | E34: =E5+E8+E11+E14+E17+E20+E23+E26+E29+E32 -> 79844562 | F34: =F5+F8+F11+F14+F17+F20+F23+F26+F29+F32 -> 59397254 | G34: =G5+G8+G11+G14+G17+G20+G23+G26+G29+G32 -> 36863168 | H34: =H5+H8+H11+H14+H17+H20+H23+H26+H29+H32 -> 14329082 | I34: =I5+I8+I11+I14+I17+I20+I23+I26+I29+I32 -> 2714243.1 | J34: =J5+J8+J11+J14+J17+J20+J23+J26+J29+J32 -> 347796.33 | ... R34: =R5+R8+R11+R14+R17+R20+R23+R26+R29+R32 -> 2016
A37: PERHITUNGAN SG&A
A38: Untuk IBC | B38: Start tahun pertama | C38: 50000000
A39: Untuk Opennet | B39: Start tahun pertama | C39: 20000000
A40: Untuk IBC Ext | B40: tiap tahun = Rev x 5%
A41: Untuk Opennet Ext | B41: tiap tahun = Rev x 5%
A43: SG&A | B43: =C38 -> 50000000 | C43: =B43+C44 -> 51000000 | D43: =C43+D45 -> 52020000 | E43: =D43+E45 -> 53060400 | F43: =E43+F45 -> 54121608 | G43: =F43+G45 -> 55204040 | H43: =G43+H45 -> 56308121 | I43: =H43+I45 -> 57434283 | J43: =I43+J45 -> 58582969 | K43: =J43+K45 -> 59754628
A44: 0.02 | C44: =C45 -> 1000000 | D44: =C44+D45 -> 2020000 | E44: =D44+E45 -> 3060400 | F44: =E44+F45 -> 4121608 | G44: =F44+G45 -> 5204040.2 | H44: =G44+H45 -> 6308121 | I44: =H44+I45 -> 7434283.4 | J44: =I44+J45 -> 8582969.1 | K44: =J44+K45 -> 9754628.4
...

Sheet Analisa
A2: SITE Holiday Inn Kemayoran
A3: Periode | B3: Start | C3: End
A4: Rev XL | B4: 43983 | C4: 45808
A5: Sewa BM | B5: 45544 | C5: 45908
B7: Start | C7: End | D7: Days
A8: Worse >> Jika Sewa BM diperpanjang 1 tahun dan XL sesuai periode XL, maka:
A9: Rev XL | B9: 45544 | C9: 45808 | D9: =C9-B9 -> 264 | E9: 150000000 | F9: =E9/365*D9 -> 1.0849315e+08
A10: Sewa BM | B10: 45544 | C10: 45908 | D10: =C10-B10 -> 364 | E10: 40000000 | F10: =-E10/365*D10 -> -39890411
A11: OM | B11: 45544 | C11: 45808 | D11: =C11-B11 -> 264 | E11: 7000000 | F11: =-E11/365*D11 -> -5063013.7
A12: Antisipasi Add Capex and Pole | E12: 100000000
A13: Profit | F13: =SUM(F9:F12) -> 63539726
A15: Optimist >> Jika Sewa BM diperpanjang 5th dan XL 3 tahun saja, maka:
A16: Rev XL | B16: 45544 | C16: 46904 | D16: =C16-B16 -> 1360 | E16: 150000000 | F16: =E16/365*D16 -> 5.5890411e+08
A17: Sewa BM | B17: 45544 | C17: 47369 | D17: =C17-B17 -> 1825 | E17: =275000000/5 -> 55000000 | F17: =-E17/365*D17 -> -275000000
A18: OM | B18: 45544 | C18: 46904 | D18: =C18-B18 -> 1360 | E18: 7000000 | F18: =-E18/365*D18 -> -26082192
A19: Antisipasi Add Capex and Pole | E19: 100000000
A20: Profit | F20: =SUM(F16:F19) -> 2.5782192e+08
