Workbook
Name jk: #REF!
Name jk: #REF!
Name jk: #REF!
Name jk: #REF!
Name jk: #REF!
Name years_contract: [1]Kerlink!$D$5

Sheet Summary
B2: No.
C3: Product : | D3: IBS / DAS | J3: Tanggal P&L: | M3: 45552
C4: Status P&L | D4: Extent
B6: Site Information | E6: Technical Information | J6: Financial Summary
B7: Site Name | D7: Sinarmas Land BSd | E7: IBC | K7: Capex DAS | M7: 649580182
B8: Address | D8: Jl. Grand Boulevard BSD City | E8: Antena PKS BM | H8: 64 | K8: Capex /antenna | M8: =M7/H9 -> 7466438.9
E9: Antena Asset | H9: 87 | K9: Contract Period (thn) | M9: 5
B10: Area building | D10: Banten | E10: Jumlah Pole Makro | H10: BTS dan Pole | K10: Interest rate /year | M10: =[2]IRR!F3 -> 0.1
B11: Type of building | D11: Office | K11: Total Revenue | M11: =IRR!Q21 -> 1842501900
B12: Status | D12: Renewal | E12: OPENET | K12: Total Capex BV 30Nov24 | M12: =IRR!G9 -> 32602238
B13: Total floor | E13: Cable FO (Core) | H13: 0 | K13: Total Opex Sewa | M13: =IRR!Q24 -> 450000000
B14: No of building tower | E14: Cable FO (meter) | H14: 0 | K14: Total Opex Other | M14: =SUM(IRR!Q25:Q27) -> 487125095
B15: Sitac Tahun | E15: Drop Wire (meter) | H15: 0
E16: OTHERS | K16: IRR | M16: =IRR!F42 -> 1.1798699
K17: NPV | M17: =IRR!F43 -> 6.2479874e+08
K18: EBITDA margin | M18: =IRR!F44 -> 0.49138446
K19: Payback (year) | M19: =IRR!F45 -> 1.8111254
B21: Target Achieved by Commercial: | K21: Prepared by
B22: Revenue | D22: : | L22: Citra Kartika
D23: :
D24: :
B28: Approved by

Sheet IRR
B1: No | C1: 0024/IRR/IBC/VIII/2024 | Q1: =[4]Summary!D7 -> AEON Mall BSD
B2: General | H2: Operator join | I2: Rev.Change
C3: Tax Rate | E3: 0.02 | H3: XL 2027 | I3: 0
C4: Interest Rate | E4: 0.1
C5: SG&A | E5: 0.05 | F5: from Revenues | H5: Tsel 2024 | I5: -0.05
C6: BHPUSO | E6: 0 | F6: from Revenues
B8: Total CAPEX | G8: Y1 | H8: Y2 | I8: Y3 | J8: Y4 | K8: Y5 | L8: Y6 | M8: Y7 | N8: Y8 | O8: Y9 | P8: Y10
D9: BV 30Nov24 | G9: 32602238 | H9: 0 | I9: 0 | J9: 0 | Q9: =SUM(G9:K9) -> 32602238
Q10: =G10 -> 0
G11: =SUM(G9:G10) -> 32602238 | Q11: =Q10+Q9 -> 32602238
G12: 2024 | H12: =G12+1 -> 2025 | I12: =H12+1 -> 2026 | J12: =I12+1 -> 2027 | K12: =J12+1 -> 2028 | L12: =K12+1 -> 2029 | M12: =L12+1 -> 2030 | N12: =M12+1 -> 2031 | O12: =N12+1 -> 2032 | P12: =O12+1 -> 2033
B13: IRR Calculation | F13: Year 0 | G13: Year 1 | H13: Year 2 | I13: Year 3 | J13: Year 4 | K13: Year 5 | L13: Year 6 | M13: Year 7 | N13: Year 8 | O13: Year 9 | P13: Year 10 | Q13: Total
B14: Months of Service | G14: 12 | H14: 12 | I14: 12 | J14: 12 | K14: 12
B16: Revenues
C17: TSEL | G17: =230000400*95% -> 218500380 | H17: =G17 -> 218500380 | I17: =H17 -> 218500380 | J17: =I17 -> 218500380 | K17: =J17 -> 218500380 | Q17: =SUM(G17:K17) -> 1092501900
Q18: =SUM(G18:K18) -> 0
C19: XL | G19: 150000000 | H19: =G19 -> 150000000 | I19: =H19 -> 150000000 | J19: =I19 -> 150000000 | K19: =J19 -> 150000000 | Q19: =SUM(G19:K19) -> 750000000
H20: =G20 -> 0 | I20: =H20*90% -> 0 | J20: =I20 -> 0 | K20: =J20 -> 0 | Q20: =SUM(G20:K20) -> 0
B21: Total Revenues (SF) | G21: =SUM(G17:G20) -> 368500380 | H21: =SUM(H17:H20) -> 368500380 | I21: =SUM(I17:I20) -> 368500380 | J21: =SUM(J17:J20) -> 368500380 | K21: =SUM(K17:K20) -> 368500380 | Q21: =SUM(G21:K21) -> 1842501900
B23: OPEX
C24: Lease to BM | G24: 450000000 | Q24: =SUM(G24:K24) -> 450000000
C25: Electricity | G25: 65000000 | H25: =G25 -> 65000000 | I25: =H25 -> 65000000 | J25: =I25 -> 65000000 | K25: =J25 -> 65000000 | Q25: =SUM(G25:K25) -> 325000000
C26: Maintenance | G26: =7000000*2 -> 14000000 | H26: =G26 -> 14000000 | I26: =H26 -> 14000000 | J26: =I26 -> 14000000 | K26: =J26 -> 14000000 | Q26: =SUM(G26:K26) -> 70000000
C27: SG&A | G27: =G21*$E$5 -> 18425019 | H27: =H21*$E$5 -> 18425019 | I27: =I21*$E$5 -> 18425019 | J27: =J21*$E$5 -> 18425019 | K27: =K21*$E$5 -> 18425019 | Q27: =SUM(G27:K27) -> 92125095
B28: Total OPEX | G28: =SUM(G24:G27) -> 547425019 | H28: =SUM(H24:H27) -> 97425019 | I28: =SUM(I24:I27) -> 97425019 | J28: =SUM(J24:J27) -> 97425019 | K28: =SUM(K24:K27) -> 97425019 | Q28: =SUM(Q24:Q27) -> 937125095
B29: Total EBITDA | G29: =G21-G28 -> -178924639 | H29: =H21-H28 -> 271075361 | I29: =I21-I28 -> 271075361 | J29: =J21-J28 -> 271075361 | K29: =K21-K28 -> 271075361 | Q29: =Q21-Q28 -> 905376805
B30: Ebitda margin | G30: 0 | H30: =H29/H21 -> 0.73561759 | I30: =I29/I21 -> 0.73561759 | J30: =J29/J21 -> 0.73561759 | K30: =K29/K21 -> 0.73561759 | Q30: =Q29/Q21 -> 0.49138446
B31: Depreciation Expense | G31: =G53 -> 6520447.6 | H31: =H53 -> 6520447.6 | I31: =I53 -> 6520447.6 | J31: =J53 -> 6520447.6 | K31: =K53 -> 6520447.6 | Q31: =SUM(G31:K31) -> 32602238
B32: Total EBIT | G32: =G29-G31 -> -1.8544509e+08 | H32: =H29-H31 -> 2.6455491e+08 | I32: =I29-I31 -> 2.6455491e+08 | J32: =J29-J31 -> 2.6455491e+08 | K32: =K29-K31 -> 2.6455491e+08 | Q32: =Q29-Q31 -> 872774567
B33: Interest Expense | G33: =Parameter!L34 -> 2507318.7 | H33: =Parameter!M34 -> 1950136.8 | I33: =Parameter!N34 -> 1392954.9 | J33: =Parameter!O34 -> 835772.91 | K33: =Parameter!P34 -> 278590.97 | Q33: =SUM(G33:K33) -> 6964774.3
B34: EBT | G34: =G32-G33 -> -1.8795241e+08 | H34: =H32-H33 -> 2.6260478e+08 | I34: =I32-I33 -> 2.6316196e+08 | J34: =J32-J33 -> 2.6371914e+08 | K34: =K32-K33 -> 2.6427632e+08 | Q34: =SUM(G34:K34) -> 8.6580979e+08
B35: Tax Expense | G35: =IF(G34<0,0,G34*$E$3) -> 0 | H35: =IF(H34<0,0,H34*$E$3) -> 5252095.5 | I35: =IF(I34<0,0,I34*$E$3) -> 5263239.2 | J35: =IF(J34<0,0,J34*$E$3) -> 5274382.8 | K35: =IF(K34<0,0,K34*$E$3) -> 5285526.4 | Q35: =SUM(G35:K35) -> 21075244
B36: Net Income | G36: =G34-G35 -> -1.8795241e+08 | H36: =H34-H35 -> 2.5735268e+08 | I36: =I34-I35 -> 2.5789872e+08 | J36: =J34-J35 -> 2.5844476e+08 | K36: =K34-K35 -> 2.589908e+08 | Q36: =Q34-Q35 -> 8.4473455e+08
B38: Capex | G38: =-G11 -> -32602238 | H38: =-I9+-I11 -> 0 | I38: =-J9+-J11 -> 0 | J38: =-K9+-K11 -> 0 | K38: =-L9+-L11 -> 0
B39: FCFF | F39: =F38 -> 0 | G39: =G38+G36+G31 -> -2.140342e+08 | H39: =H38+H36+H31 -> 2.6387313e+08 | I39: =I38+I36+I31 -> 2.6441917e+08 | J39: =J38+J36+J31 -> 2.6496521e+08 | K39: =K38+K36+K31 -> 2.6551124e+08 | Q39: =SUM(F39:K39) -> 8.4473455e+08
B40: Accumulated FCF | F40: =F39 -> 0 | G40: =F40+G39 -> -2.140342e+08 | H40: =G40+H39 -> 49838933 | I40: =H40+I39 -> 3.142581e+08 | J40: =I40+J39 -> 5.7922331e+08 | K40: =J40+K39 -> 8.4473455e+08
B41: PBP | G41: =IF(AND(F40<0,G40>0),G46-(G40/G39),0) -> 0 | H41: =IF(AND(G40<0,H40>0),H46-(H40/H39),0) -> 1.8111254 | I41: =IF(AND(H40<0,I40>0),I46-(I40/I39),0) -> 0 | J41: =IF(AND(I40<0,J40>0),J46-(J40/J39),0) -> 0 | K41: =IF(AND(J40<0,K40>0),K46-(K40/K39),0) -> 0
B42: IRR | F42: =IRR(G39:K39) -> 1.1798699
B43: NPV | F43: =NPV(E4,H39:K39)+G39 -> 6.2479874e+08
B44: EBITDA margin | F44: =Q30 -> 0.49138446
...

Sheet Summary Review  (2)
C1: SUMMARY REVIEW
A3: Nama Site | C3: : Gedung Sinarmasland BSD
A4: Nama Pemilik | C4: : PT. Bumi Serpong Damai
A5: Alamat Pemilik | C5: : Jl. Grand Boulevard BSD City
A6: Telp | C6: :
A7: Obyek Sewa | C7: : Antenna omni 64, BTS dan Pole
A9: No. | B9: Keterangan | C9: Existing | D9: Renewal
A11: 1 | B11: Scope Of Lease | C11: IBC | D11: IBC
A12: 2 | B12: Obyek Sewa | C12: 64 antenna Omni, BTS dan Pole | D12: =C12 -> 64 antenna Omni, BTS dan Pole
A13: 3 | B13: Periode Sewa | C13: 01 Desember 2019 s/d 30 November 2024 | D13: 01 desember 2024 - 30 November 2029
A14: 4 | B14: Harga Sewa | C14: Rp. 450.000.000 | D14: Rp. 450.000.000
A15: 6 | B15: Harga Sewa / Yearly | C15: Rp. 130.000.000 | D15: RP. 130.000.000
A16: 7 | B16: Operator Joint | C16: Telkomsel : 08-Apr-19 s/d 07-Apr-24 | D16: Telkomsel : 08 -Apr-24 - 7 Apr 29
C17: XL : 26 Feb 21 s/d 27 Feb 24 | D17: XL : 27 Feb 24 s/d 26 Feb 27
B18: Penurunan Harga | C18: Tidak mengalami penurunan dan kenaikan
B20: termin of payment
B21: 20% after Addendum sign
B22: 30% 3 bulan after first payment
B23: 50% 3 bulan after second payment

Sheet Parameter
A1: PERHITUNGAN INTEREST EXPENSE based CAPEX
A2: Capex tahun | B2: 5 | C2: 2015 | D2: =C2+1 -> 2016 | E2: =D2+1 -> 2017 | F2: =E2+1 -> 2018 | G2: =F2+1 -> 2019 | H2: =G2+1 -> 2020 | I2: =H2+1 -> 2021 | J2: =I2+1 -> 2022 | K2: =J2+1 -> 2023 | ... R2: =Q2+1 -> 2030
A3: 2015 | B3: loan | C3: 413437731 | D3: =C3-C4 -> 3.3075018e+08 | E3: =D3-C4 -> 2.4806264e+08 | F3: =E3-C4 -> 1.6537509e+08 | G3: =F3-C4 -> 82687546 | H3: =G3-C4 -> 0 | I3: =H3-$E$4 -> 0 | J3: =I3-$E$4 -> 0
B4: Installment/thn | C4: =C3/B2 -> 82687546
B5: Interest | C5: =(($C$3*IRR!E4*6)/12) -> 20671887 | D5: =AVERAGE(C3:D3)*IRR!$E$4 -> 37209396 | E5: =AVERAGE(D3:E3)*IRR!$E$4 -> 28940641 | F5: =AVERAGE(E3:F3)*IRR!$E$4 -> 20671887 | G5: =AVERAGE(F3:G3)*IRR!$E$4 -> 12403132 | H5: =AVERAGE(G3:H3)*IRR!$E$4 -> 4134377.3 | I5: =AVERAGE(H3:I3)*IRR!$E$4 -> 0 | J5: =AVERAGE($I$3:$J$3)*[3]IRR!$G$4 -> 0
A6: =A3+1 -> 2016 | B6: loan | D6: 649580182 | E6: =D6-D7 -> 5.1966415e+08 | F6: =E6-D7 -> 3.8974811e+08 | G6: =F6-D7 -> 2.5983207e+08 | H6: =G6-D7 -> 1.2991604e+08 | I6: =H6-D7 -> 0
B7: Installment/thn | D7: =D6/B2 -> 1.2991604e+08
B8: Interest | D8: =((D6*IRR!$E$4*6)/12) -> 32479009 | E8: =AVERAGE(D6:E6)*IRR!$E$4 -> 58462216 | F8: =AVERAGE(E6:F6)*IRR!$E$4 -> 45470613 | G8: =AVERAGE(F6:G6)*IRR!$E$4 -> 32479009 | H8: =AVERAGE(G6:H6)*IRR!$E$4 -> 19487405 | I8: =AVERAGE(H6:I6)*IRR!$E$4 -> 6495801.8 | J8: =AVERAGE(I6:J6)*IRR!$E$4 -> 0
A9: =A6+1 -> 2017 | B9: loan | E9: 12171513 | F9: =E9-E10 -> 9737210.4 | G9: =F9-E10 -> 7302907.8 | H9: =G9-E10 -> 4868605.2 | I9: =H9-E10 -> 2434302.6 | J9: =I9-E10 -> 0
B10: Installment/thn | E10: =E9/B2 -> 2434302.6
B11: Interest | E11: =((E9*IRR!$E$4*6)/12) -> 608575.65 | F11: =AVERAGE(E9:F9)*IRR!$E$4 -> 1095436.2 | G11: =AVERAGE(F9:G9)*IRR!$E$4 -> 852005.91 | H11: =AVERAGE(G9:H9)*IRR!$E$4 -> 608575.65 | I11: =AVERAGE(H9:I9)*IRR!$E$4 -> 365145.39 | J11: =AVERAGE(I9:J9)*IRR!$E$4 -> 121715.13 | K11: =AVERAGE(J9:K9)*IRR!$E$4 -> 0
A12: =A9+1 -> 2018 | B12: loan | F12: 41200000 | G12: =F12-F13 -> 32960000 | H12: =G12-F13 -> 24720000 | I12: =H12-F13 -> 16480000 | J12: =I12-F13 -> 8240000 | K12: =J12-F13 -> 0
B13: Installment/thn | F13: =F12/B2 -> 8240000
B14: Interest | F14: =((F12*IRR!$E$4*6)/12) -> 2060000 | G14: =AVERAGE(F12:G12)*IRR!$E$4 -> 3708000 | H14: =AVERAGE(G12:H12)*IRR!$E$4 -> 2884000 | I14: =AVERAGE(H12:I12)*IRR!$E$4 -> 2060000 | J14: =AVERAGE(I12:J12)*IRR!$E$4 -> 1236000 | K14: =AVERAGE(J12:K12)*IRR!$E$4 -> 412000 | L14: =AVERAGE(K12:L12)*IRR!$E$4 -> 0
A15: =A12+1 -> 2019 | B15: loan | H15: =G15-G16 -> 0 | I15: =H15-G16 -> 0 | J15: =I15-G16 -> 0 | K15: =J15-G16 -> 0 | L15: =K15-G16 -> 0
B16: Installment/thn | G16: =G15/B2 -> 0
B17: Interest | G17: =((G15*IRR!$E$4*6)/12) -> 0 | H17: =AVERAGE(G15:H15)*IRR!$E$4 -> 0 | I17: =AVERAGE(H15:I15)*IRR!$E$4 -> 0 | J17: =AVERAGE(I15:J15)*IRR!$E$4 -> 0 | K17: =AVERAGE(J15:K15)*IRR!$E$4 -> 0 | L17: =AVERAGE(K15:L15)*IRR!$E$4 -> 0 | M17: =AVERAGE(L15:M15)*IRR!$E$4 -> 0
A18: =A15+1 -> 2020 | B18: loan | I18: =H18-H19 -> 0 | J18: =I18-H19 -> 0 | K18: =J18-H19 -> 0 | L18: =K18-H19 -> 0 | M18: =L18-H19 -> 0
B19: Installment/thn | H19: =H18/B2 -> 0
B20: Interest | H20: =((H18*IRR!$E$4*6)/12) -> 0 | I20: =AVERAGE(H18:I18)*IRR!$E$4 -> 0 | J20: =AVERAGE(I18:J18)*IRR!$E$4 -> 0 | K20: =AVERAGE(J18:K18)*IRR!$E$4 -> 0 | L20: =AVERAGE(K18:L18)*IRR!$E$4 -> 0 | M20: =AVERAGE(L18:M18)*IRR!$E$4 -> 0 | N20: =AVERAGE(M18:N18)*IRR!$E$4 -> 0
A21: =A18+1 -> 2021 | B21: loan | J21: =I21-I22 -> 0 | K21: =J21-I22 -> 0 | L21: =K21-I22 -> 0 | M21: =L21-I22 -> 0 | N21: =M21-I22 -> 0
B22: Installment/thn | I22: =I21/B2 -> 0
B23: Interest | I23: =((I21*IRR!$E$4*6)/12) -> 0 | J23: =AVERAGE(I21:J21)*IRR!$E$4 -> 0 | K23: =AVERAGE(J21:K21)*IRR!$E$4 -> 0 | L23: =AVERAGE(K21:L21)*IRR!$E$4 -> 0 | M23: =AVERAGE(L21:M21)*IRR!$E$4 -> 0 | N23: =AVERAGE(M21:N21)*IRR!$E$4 -> 0 | O23: =AVERAGE(N21:O21)*IRR!$E$4 -> 0
A24: =A21+1 -> 2022 | B24: loan | K24: =J24-J25 -> 0 | L24: =K24-J25 -> 0 | M24: =L24-J25 -> 0 | N24: =M24-J25 -> 0 | O24: =N24-J25 -> 0
B25: Installment/thn | J25: =J24/B2 -> 0
B26: Interest | J26: =((J24*IRR!$E$4*6)/12) -> 0 | K26: =AVERAGE(J24:K24)*IRR!$E$4 -> 0 | L26: =AVERAGE(K24:L24)*IRR!$E$4 -> 0 | M26: =AVERAGE(L24:M24)*IRR!$E$4 -> 0 | N26: =AVERAGE(M24:N24)*IRR!$E$4 -> 0 | O26: =AVERAGE(N24:O24)*IRR!$E$4 -> 0 | P26: =AVERAGE(O24:P24)*IRR!$E$4 -> 0
A27: =A24+1 -> 2023 | B27: loan | K27: 27859097 | L27: =K27-K28 -> 22287278 | M27: =L27-$K$28 -> 16715458 | N27: =M27-$K$28 -> 11143639 | O27: =N27-$K$28 -> 5571819.4 | P27: =O27-$K$28 -> 0
B28: Installment/thn | K28: =K27/B2 -> 5571819.4
B29: Interest | K29: =((K27*IRR!$E$4*6)/12) -> 1392954.9 | L29: =AVERAGE(K27:L27)*IRR!$E$4 -> 2507318.7 | M29: =AVERAGE(L27:M27)*IRR!$E$4 -> 1950136.8 | N29: =AVERAGE(M27:N27)*IRR!$E$4 -> 1392954.9 | O29: =AVERAGE(N27:O27)*IRR!$E$4 -> 835772.91 | P29: =AVERAGE(O27:P27)*IRR!$E$4 -> 278590.97 | Q29: =AVERAGE(P27:Q27)*IRR!$E$4 -> 0
A30: 2024 | B30: loan | M30: =L30-$L$31 -> 0 | N30: =M30-$L$31 -> 0 | O30: =N30-$L$31 -> 0 | P30: =O30-$L$31 -> 0 | Q30: =P30-$L$31 -> 0 | R30: =Q30-M31 -> 0
B31: Installment/thn | L31: =L30/B2 -> 0
B32: Interest | L32: =((L30*IRR!$E$4*6)/12) -> 0 | M32: =AVERAGE(L30:M30)*IRR!$E$4 -> 0 | N32: =AVERAGE(M30:N30)*IRR!$E$4 -> 0 | O32: =AVERAGE(N30:O30)*IRR!$E$4 -> 0 | P32: =AVERAGE(O30:P30)*IRR!$E$4 -> 0 | Q32: =AVERAGE(P30:Q30)*IRR!$E$4 -> 0 | R32: =AVERAGE(Q30:R30)*IRR!$E$4 -> 0
B34: Interest Exp | C34: =C5+C8+C11+C14+C17+C20+C23+C26+C29+C32 -> 20671887 | D34: =D5+D8+D11+D14+D17+D20+D23+D26+D29+D32 -> 69688405 | E34: =E5+E8+E11+E14+E17+E20+E23+E26+E29+E32 -> 88011433 | F34: =F5+F8+F11+F14+F17+F20+F23+F26+F29+F32 -> 69297935 | G34: =G5+G8+G11+G14+G17+G20+G23+G26+G29+G32 -> 49442147 | H34: =H5+H8+H11+H14+H17+H20+H23+H26+H29+H32 -> 27114358 | I34: =I5+I8+I11+I14+I17+I20+I23+I26+I29+I32 -> 8920947.2 | J34: =J5+J8+J11+J14+J17+J20+J23+J26+J29+J32 -> 1357715.1 | ... R34: =R5+R8+R11+R14+R17+R20+R23+R26+R29+R32 -> 0
A37: PERHITUNGAN SG&A
A38: Untuk IBC | B38: Start tahun pertama | C38: 50000000
A39: Untuk Opennet | B39: Start tahun pertama | C39: 20000000
A40: Untuk IBC Ext | B40: tiap tahun = Rev x 5%
A41: Untuk Opennet Ext | B41: tiap tahun = Rev x 5%
A43: SG&A | B43: =C38 -> 50000000 | C43: =B43+C44 -> 51000000 | D43: =C43+D45 -> 52020000 | E43: =D43+E45 -> 53060400 | F43: =E43+F45 -> 54121608 | G43: =F43+G45 -> 55204040 | H43: =G43+H45 -> 56308121 | I43: =H43+I45 -> 57434283 | J43: =I43+J45 -> 58582969 | K43: =J43+K45 -> 59754628
A44: 0.02 | C44: =C45 -> 1000000 | D44: =C44+D45 -> 2020000 | E44: =D44+E45 -> 3060400 | F44: =E44+F45 -> 4121608 | G44: =F44+G45 -> 5204040.2 | H44: =G44+H45 -> 6308121 | I44: =H44+I45 -> 7434283.4 | J44: =I44+J45 -> 8582969.1 | K44: =J44+K45 -> 9754628.4
...

Sheet Analisa
A2: SITE AEON Mall BSD
A3: Periode | B3: Start | C3: End
A4: Rev Tsel | B4: 44086 | C4: 45788
A5: Rev IOH | B5: 44292 | C5: 46117
A6: Rev XL | B6: 44204 | C6: 46029
A7: Sewa BM | B7: 45807 | C7: 11107
B9: Start | C9: End | D9: Days
A10: Moderate >> Jika Sewa BM diperpanjang 5 tahun dan IOH,XL sesuai periode existing, Tsel Extent 5th
A11: Rev Tsel | B11: 45807 | C11: 47614 | D11: =C11-B11 -> 1807 | E11: 448200000 | F11: =E11/365*D11 -> 2.218897e+09
A12: Rev IOH | B12: 45807 | C12: 46117 | D12: =C12-B12 -> 310 | E12: 306000000 | F12: =E12/365*D12 -> 2.5989041e+08
A13: Rev XL | B13: 45807 | C13: 46029 | D13: =C13-B13 -> 222 | E13: 415584000 | F13: =E13/365*D13 -> 2.5276616e+08
A14: Sewa BM | B14: 45807 | C14: 47632 | D14: =C14-B14 -> 1825 | E14: 400000000 | F14: =-E14/365*D14 -> -2000000000
A15: Listrik IOH | B15: 45807 | C15: 46117 | D15: =C15-B15 -> 310 | E15: 48000000 | F15: =-E15/365*D15 -> -40767123
A16: Listrik Tsel | B16: 45807 | C16: 47614 | D16: =C16-B16 -> 1807 | E16: 48000001 | F16: =-E16/365*D16 -> -2.3763288e+08
A17: OM IOH dan XL | B17: 45807 | C17: 46117 | D17: =C17-B17 -> 310 | E17: 14000000 | F17: =-E17/365*D17 -> -11890411
A18: OM Tsel | B18: 45807 | C18: 47614 | D18: =C18-B18 -> 1807 | E18: 7000000 | F18: =-E18/365*D18 -> -34654795
A19: Antisipasi Add Capex and Pole | E19: 100000000
A20: Profit | F20: =SUM(F11:F19) -> 4.0660835e+08
