Workbook
Name years_contract: [1]Kerlink!$D$5

Sheet IRR (3)
B1: Assumption: | R1: AEON DELTAMAS
B2: General
C3: Tax Rate | G3: 0.02
C4: Interest Rate | G4: 0.1
C5: SG&A | G5: 0 | H5: from Revenues
C6: BHPUSO | G6: 0 | H6: from Revenues
C7: Deposito Rate | G7: 0.03
H9: Y1 | I9: Y2 | J9: Y3 | K9: Y4 | L9: Y5 | M9: Y6 | N9: Y7 | O9: Y8 | P9: Y9 | Q9: Y10
B10: CAPEX
B12: Total CAPEX | H12: 2100000000 | I12: 250000000 | J12: 0 | K12: 0
B15: IRR Calculation | H15: Year 1 | I15: Year 2 | J15: Year 3 | K15: Year 4 | L15: Year 5 | M15: Year 6 | N15: Year 7 | O15: Year 8 | P15: Year 9 | Q15: Year 10 | R15: Total
B16: Months of Service | H16: 12 | I16: 12 | J16: 12 | K16: 12 | L16: 12 | M16: 12 | N16: 12 | O16: 12 | P16: 12 | Q16: 12
N17: 0.15
B19: Revenues
C20: Telkomsel | I20: 500000000 | J20: 500000000 | K20: 500000000 | L20: 500000000 | M20: 500000000 | N20: =M20*(1-$N$17) -> 425000000 | O20: =N20 -> 425000000 | P20: =O20 -> 425000000 | Q20: =P20 -> 425000000 | R20: =SUM(H20:Q20) -> 4200000000
C21: XL | I21: 250000000 | J21: 250000000 | K21: 250000000 | L21: 250000000 | M21: 250000000 | N21: =M21*(1-$N$17) -> 212500000 | O21: =N21 -> 212500000 | P21: =O21 -> 212500000 | Q21: =P21 -> 212500000 | R21: =SUM(H21:Q21) -> 2100000000
C22: IOH | I22: 500000000 | J22: 500000000 | K22: 500000000 | L22: 500000000 | M22: 500000000 | N22: =M22*(1-$N$17) -> 425000000 | O22: =N22 -> 425000000 | P22: =O22 -> 425000000 | Q22: =P22 -> 425000000 | R22: =SUM(H22:Q22) -> 4200000000
C23: Smartfren | R23: =SUM(H23:Q23) -> 0
B24: Total Revenues | E24: =SUM(H24:Q24) -> 10500000000 | H24: =SUM(H20:H23) -> 0 | I24: =SUM(I20:I23) -> 1250000000 | J24: =SUM(J20:J23) -> 1250000000 | K24: =SUM(K20:K23) -> 1250000000 | L24: =SUM(L20:L23) -> 1250000000 | M24: =SUM(M20:M23) -> 1250000000 | N24: =SUM(N20:N23) -> 1062500000 | O24: =SUM(O20:O23) -> 1062500000 | ... R24: =SUM(R20:R23) -> 10500000000
B26: OPEX
C27: Lease to BM | I27: 400000000 | J27: 400000000 | K27: 400000000 | L27: 400000000 | M27: =400000000*(1-N17) -> 340000000 | N27: =M27 -> 340000000 | O27: =N27 -> 340000000 | P27: =O27 -> 340000000 | Q27: 0 | R27: =SUM(H27:Q27) -> 2960000000
C28: Electricity | I28: =96000000*0.5 -> 48000000 | J28: =96000000*0.5 -> 48000000 | K28: =200000000*0.5 -> 100000000 | L28: =200000000*0.5 -> 100000000 | M28: =200000000*0.5 -> 100000000 | N28: =200000000*0.5 -> 100000000 | O28: =200000000*0.5 -> 100000000 | P28: =200000000*0.5 -> 100000000 | Q28: =200000000*0.5 -> 100000000 | R28: =SUM(H28:Q28) -> 796000000
C29: Maintenance | I29: 21000000 | J29: 21000000 | K29: 21000000 | L29: 21000000 | M29: 21000000 | N29: 21000000 | O29: 21000000 | P29: 21000000 | Q29: 21000000 | R29: =SUM(H29:Q29) -> 189000000
C30: SG&A | H30: =$G$5*H24 -> 0 | I30: =$G$5*I24 -> 0 | J30: =$G$5*J24 -> 0 | K30: =$G$5*K24 -> 0 | L30: =$G$5*L24 -> 0 | M30: =$G$5*M24 -> 0 | N30: =$G$5*N24 -> 0 | O30: =$G$5*O24 -> 0 | ... Q30: =$G$5*Q24 -> 0 | R30: =SUM(H30:Q30) -> 0
B31: Total OPEX | H31: =SUM(H27:H30) -> 0 | I31: =SUM(I27:I30) -> 469000000 | J31: =SUM(J27:J30) -> 469000000 | K31: =SUM(K27:K30) -> 521000000 | L31: =SUM(L27:L30) -> 521000000 | M31: =SUM(M27:M30) -> 461000000 | N31: =SUM(N27:N30) -> 461000000 | O31: =SUM(O27:O30) -> 461000000 | ... R31: =SUM(R27:R30) -> 3945000000
B32: Total EBITDA | H32: =H24-H31 -> 0 | I32: =I24-I31 -> 781000000 | J32: =J24-J31 -> 781000000 | K32: =K24-K31 -> 729000000 | L32: =L24-L31 -> 729000000 | M32: =M24-M31 -> 789000000 | N32: =N24-N31 -> 601500000 | O32: =O24-O31 -> 601500000 | ... R32: =R24-R31 -> 6555000000
B33: Ebitda margin | H33: =H32/H24 -> #DIV/0! | I33: =I32/I24 -> 0.6248 | J33: =J32/J24 -> 0.6248 | K33: =K32/K24 -> 0.5832 | L33: =L32/L24 -> 0.5832 | M33: =M32/M24 -> 0.6312 | N33: =N32/N24 -> 0.56611765 | O33: =O32/O24 -> 0.56611765 | ... R33: =R32/R24 -> 0.62428571
B35: Depreciation Expense | H35: =H69 -> 210000000 | I35: =I69 -> 2.3777778e+08 | J35: =J69 -> 2.3777778e+08 | K35: =K69 -> 2.3777778e+08 | L35: =L69 -> 2.3777778e+08 | M35: =M69 -> 2.3777778e+08 | N35: =N69 -> 2.3777778e+08 | O35: =O69 -> 2.3777778e+08 | ... Q35: =Q69 -> 0 | R35: =SUM(H35:Q35) -> 2.1122222e+09
B36: Total EBIT | H36: =H32-H35 -> -210000000 | I36: =I32-I35 -> 5.4322222e+08 | J36: =J32-J35 -> 5.4322222e+08 | K36: =K32-K35 -> 4.9122222e+08 | L36: =L32-L35 -> 4.9122222e+08 | M36: =M32-M35 -> 5.5122222e+08 | N36: =N32-N35 -> 3.6372222e+08 | O36: =O32-O35 -> 3.6372222e+08 | ... R36: =R32-R35 -> 4.4427778e+09
R38: =SUM(H38:Q38) -> 0
B39: EBT | H39: =H36-H38 -> -210000000 | I39: =I36-I38 -> 5.4322222e+08 | J39: =J36-J38 -> 5.4322222e+08 | K39: =K36-K38 -> 4.9122222e+08 | L39: =L36-L38 -> 4.9122222e+08 | M39: =M36-M38 -> 5.5122222e+08 | N39: =N36-N38 -> 3.6372222e+08 | O39: =O36-O38 -> 3.6372222e+08 | ... Q39: =Q36-Q38 -> 941500000 | R39: =SUM(H39:Q39) -> 4.4427778e+09
B40: Tax Expense | H40: =IF(H39<0,0,H39*$G$3) -> 0 | I40: =IF(I39<0,0,I39*$G$3) -> 10864444 | J40: =IF(J39<0,0,J39*$G$3) -> 10864444 | K40: =IF(K39<0,0,K39*$G$3) -> 9824444.4 | L40: =IF(L39<0,0,L39*$G$3) -> 9824444.4 | M40: =IF(M39<0,0,M39*$G$3) -> 11024444 | N40: =IF(N39<0,0,N39*$G$3) -> 7274444.4 | O40: =IF(O39<0,0,O39*$G$3) -> 7274444.4 | ... Q40: =IF(Q39<0,0,Q39*$G$3) -> 18830000 | R40: =SUM(H40:Q40) -> 93055556
B41: Net Income | H41: =H39-H40 -> -210000000 | I41: =I39-I40 -> 5.3235778e+08 | J41: =J39-J40 -> 5.3235778e+08 | K41: =K39-K40 -> 4.8139778e+08 | L41: =L39-L40 -> 4.8139778e+08 | M41: =M39-M40 -> 5.4019778e+08 | N41: =N39-N40 -> 3.5644778e+08 | O41: =O39-O40 -> 3.5644778e+08 | ... Q41: =Q39-Q40 -> 922670000 | R41: =R36-R40 -> 4.3497222e+09
B43: Capex | G43: =-H12 -> -2100000000 | H43: =-I12 -> -250000000 | I43: =-J12 -> 0 | J43: =-K12 -> 0 | K43: =-L12 -> 0 | L43: =-M12 -> 0 | M43: =-N12 -> 0 | N43: =-O12 -> 0 | ... Q43: =-R12 -> 0
B44: FCFF | G44: =G43 -> -2100000000 | H44: =H43+H41+H35 -> -250000000 | I44: =I43+I41+I35 -> 7.7013556e+08 | J44: =J43+J41+J35 -> 7.7013556e+08 | K44: =K43+K41+K35 -> 7.1917556e+08 | L44: =L43+L41+L35 -> 7.1917556e+08 | M44: =M43+M41+M35 -> 7.7797556e+08 | N44: =N43+N41+N35 -> 5.9422556e+08 | O44: =O43+O41+O35 -> 5.9422556e+08 | ... Q44: =Q43+Q41+Q35 -> 922670000
B45: Accumulated FCF | G45: =G44 -> -2100000000 | H45: =G45+H44 -> -2350000000 | I45: =H45+I44 -> -1.5798644e+09 | J45: =I45+J44 -> -8.0972889e+08 | K45: =J45+K44 -> -90553333 | L45: =K45+L44 -> 6.2862222e+08 | M45: =L45+M44 -> 1.4065978e+09 | N45: =M45+N44 -> 2.0008233e+09 | O45: =N45+O44 -> 2.5950489e+09 | ... Q45: =P45+Q44 -> 4.1119444e+09
B46: Interest | G46: =IF(G45<0,G45*70%*$G$4,G45*$G$7) -> -147000000 | H46: =IF(H45<0,H45*70%*$G$4,H45*$G$7) -> -164500000 | I46: =IF(I45<0,I45*70%*$G$4,I45*$G$7) -> -1.1059051e+08 | J46: =IF(J45<0,J45*70%*$G$4,J45*$G$7) -> -56681022 | K46: =IF(K45<0,K45*70%*$G$4,K45*$G$7) -> -6338733.3 | L46: =IF(L45<0,L45*70%*$G$4,L45*$G$7) -> 18858667 | M46: =IF(M45<0,M45*70%*$G$4,M45*$G$7) -> 42197933 | N46: =IF(N45<0,N45*70%*$G$4,N45*$G$7) -> 60024700 | ... Q46: =IF(Q45<0,Q45*70%*$G$4,Q45*$G$7) -> 1.2335833e+08 | R46: =SUM(H46:Q46) -> 79859067
B47: FCFF after Interest | G47: =G44+G46 -> -2247000000 | H47: =H44+H46 -> -414500000 | I47: =I44+I46 -> 6.5954504e+08 | J47: =J44+J46 -> 7.1345453e+08 | K47: =K44+K46 -> 7.1283682e+08 | L47: =L44+L46 -> 7.3803422e+08 | M47: =M44+M46 -> 8.2017349e+08 | N47: =N44+N46 -> 6.5425026e+08 | ... Q47: =Q44+Q46 -> 1.0460283e+09
B48: Accumulated FCF after Interest | G48: =G47 -> -2247000000 | H48: =G48+H47 -> -2661500000 | I48: =H48+I47 -> -2.001955e+09 | J48: =I48+J47 -> -1.2885004e+09 | K48: =J48+K47 -> -5.756636e+08 | L48: =K48+L47 -> 1.6237062e+08 | M48: =L48+M47 -> 9.8254411e+08 | N48: =M48+N47 -> 1.6367944e+09 | O48: =N48+O47 -> 2.3088714e+09 | ... Q48: =P48+Q47 -> 4.0448035e+09
B49: PBP | H49: =IF(AND(G48<0,H48>0),H57-(H48/H44),0) -> 0 | I49: =IF(AND(H48<0,I48>0),I57-(I48/I44),0) -> 0 | J49: =IF(AND(I48<0,J48>0),J57-(J48/J47),0) -> 0 | K49: =IF(AND(J48<0,K48>0),K57-(K48/K47),0) -> 0 | L49: =IF(AND(K48<0,L48>0),L57-(L48/L47),0) -> 4.7799958 | M49: =IF(AND(L48<0,M48>0),M57-(M48/M47),0) -> 0 | N49: =IF(AND(M48<0,N48>0),N57-(N48/N47),0) -> 0 | O49: =IF(AND(N48<0,O48>0),O57-(O48/O47),0) -> 0 | P49: =IF(AND(O48<0,P48>0),P57-(P48/P47),0) -> 0 | Q49: =IF(AND(P48<0,Q48>0),Q57-(Q48/Q47),0) -> 0
...

Sheet IRR (2)
B1: Assumption: | R1: AEON DELTAMAS
B2: General
C3: Tax Rate | G3: 0.25
C4: Interest Rate | G4: 0.12
C5: SG&A | G5: 0 | H5: from Revenues
C6: BHPUSO | G6: 0 | H6: from Revenues
H9: Y1 | I9: Y2 | J9: Y3 | K9: Y4 | L9: Y5 | M9: Y6 | N9: Y7 | O9: Y8 | P9: Y9 | Q9: Y10
B10: CAPEX
B12: Total CAPEX | H12: 2100000000 | I12: 250000000 | J12: 0 | K12: 0
B15: IRR Calculation | H15: Year 1 | I15: Year 2 | J15: Year 3 | K15: Year 4 | L15: Year 5 | M15: Year 6 | N15: Year 7 | O15: Year 8 | P15: Year 9 | Q15: Year 10 | R15: Total
B16: Months of Service | H16: 12 | I16: 12 | J16: 12 | K16: 12 | L16: 12 | M16: 12 | N16: 12 | O16: 12 | P16: 12 | Q16: 12
N17: 0.15
B19: Revenues
C20: Telkomsel | I20: 500000000 | J20: 500000000 | K20: 500000000 | L20: 500000000 | M20: 500000000 | N20: =M20*(1-$N$17) -> 425000000 | O20: =N20 -> 425000000 | P20: =O20 -> 425000000 | Q20: =P20 -> 425000000 | R20: =SUM(H20:Q20) -> 4200000000
C21: XL | I21: 250000000 | J21: 250000000 | K21: 250000000 | L21: 250000000 | M21: 250000000 | N21: =M21*(1-$N$17) -> 212500000 | O21: =N21 -> 212500000 | P21: =O21 -> 212500000 | Q21: =P21 -> 212500000 | R21: =SUM(H21:Q21) -> 2100000000
C22: IOH | I22: 500000000 | J22: 500000000 | K22: 500000000 | L22: 500000000 | M22: 500000000 | N22: =M22*(1-$N$17) -> 425000000 | O22: =N22 -> 425000000 | P22: =O22 -> 425000000 | Q22: =P22 -> 425000000 | R22: =SUM(H22:Q22) -> 4200000000
C23: Smartfren | R23: =SUM(H23:Q23) -> 0
B24: Total Revenues | E24: =SUM(H24:Q24) -> 10500000000 | H24: =SUM(H20:H23) -> 0 | I24: =SUM(I20:I23) -> 1250000000 | J24: =SUM(J20:J23) -> 1250000000 | K24: =SUM(K20:K23) -> 1250000000 | L24: =SUM(L20:L23) -> 1250000000 | M24: =SUM(M20:M23) -> 1250000000 | N24: =SUM(N20:N23) -> 1062500000 | O24: =SUM(O20:O23) -> 1062500000 | ... R24: =SUM(R20:R23) -> 10500000000
B26: OPEX
C27: Lease to BM | I27: 400000000 | J27: 400000000 | K27: 400000000 | L27: 400000000 | M27: =400000000*(1-N17) -> 340000000 | N27: =M27 -> 340000000 | O27: =N27 -> 340000000 | P27: =O27 -> 340000000 | Q27: 0 | R27: =SUM(H27:Q27) -> 2960000000
C28: Electricity | I28: =96000000*0.5 -> 48000000 | J28: =96000000*0.5 -> 48000000 | K28: =200000000*0.5 -> 100000000 | L28: =200000000*0.5 -> 100000000 | M28: =200000000*0.5 -> 100000000 | N28: =200000000*0.5 -> 100000000 | O28: =200000000*0.5 -> 100000000 | P28: =200000000*0.5 -> 100000000 | Q28: =200000000*0.5 -> 100000000 | R28: =SUM(H28:Q28) -> 796000000
C29: Maintenance | I29: 21000000 | J29: 21000000 | K29: 21000000 | L29: 21000000 | M29: 21000000 | N29: 21000000 | O29: 21000000 | P29: 21000000 | Q29: 21000000 | R29: =SUM(H29:Q29) -> 189000000
C30: SG&A | H30: =$G$5*H24 -> 0 | I30: =$G$5*I24 -> 0 | J30: =$G$5*J24 -> 0 | K30: =$G$5*K24 -> 0 | L30: =$G$5*L24 -> 0 | M30: =$G$5*M24 -> 0 | N30: =$G$5*N24 -> 0 | O30: =$G$5*O24 -> 0 | ... Q30: =$G$5*Q24 -> 0 | R30: =SUM(H30:Q30) -> 0
B31: Total OPEX | H31: =SUM(H27:H30) -> 0 | I31: =SUM(I27:I30) -> 469000000 | J31: =SUM(J27:J30) -> 469000000 | K31: =SUM(K27:K30) -> 521000000 | L31: =SUM(L27:L30) -> 521000000 | M31: =SUM(M27:M30) -> 461000000 | N31: =SUM(N27:N30) -> 461000000 | O31: =SUM(O27:O30) -> 461000000 | ... R31: =SUM(R27:R30) -> 3945000000
B32: Total EBITDA | H32: =H24-H31 -> 0 | I32: =I24-I31 -> 781000000 | J32: =J24-J31 -> 781000000 | K32: =K24-K31 -> 729000000 | L32: =L24-L31 -> 729000000 | M32: =M24-M31 -> 789000000 | N32: =N24-N31 -> 601500000 | O32: =O24-O31 -> 601500000 | ... R32: =R24-R31 -> 6555000000
B33: Ebitda margin | H33: =H32/H24 -> #DIV/0! | I33: =I32/I24 -> 0.6248 | J33: =J32/J24 -> 0.6248 | K33: =K32/K24 -> 0.5832 | L33: =L32/L24 -> 0.5832 | M33: =M32/M24 -> 0.6312 | N33: =N32/N24 -> 0.56611765 | O33: =O32/O24 -> 0.56611765 | ... R33: =R32/R24 -> 0.62428571
B35: Depreciation Expense | H35: =H66 -> 210000000 | I35: =I66 -> 2.3777778e+08 | J35: =J66 -> 2.3777778e+08 | K35: =K66 -> 2.3777778e+08 | L35: =L66 -> 2.3777778e+08 | M35: =M66 -> 2.3777778e+08 | N35: =N66 -> 2.3777778e+08 | O35: =O66 -> 2.3777778e+08 | ... Q35: =Q66 -> 0 | R35: =SUM(H35:Q35) -> 2.1122222e+09
B36: Total EBIT | H36: =H32-H35 -> -210000000 | I36: =I32-I35 -> 5.4322222e+08 | J36: =J32-J35 -> 5.4322222e+08 | K36: =K32-K35 -> 4.9122222e+08 | L36: =L32-L35 -> 4.9122222e+08 | M36: =M32-M35 -> 5.5122222e+08 | N36: =N32-N35 -> 3.6372222e+08 | O36: =O32-O35 -> 3.6372222e+08 | ... R36: =R32-R35 -> 4.4427778e+09
B38: Interest Expense | H38: =H85 -> 126000000 | I38: =I85 -> 241800000 | J38: =J85 -> 203400000 | K38: =K85 -> 147000000 | L38: =L85 -> 90600000 | M38: =M85 -> 34200000 | N38: =N85 -> 3000000 | O38: =O85 -> 0 | ... Q38: =Q85 -> 0 | R38: =SUM(H38:Q38) -> 846000000
B39: EBT | H39: =H36-H38 -> -336000000 | I39: =I36-I38 -> 3.0142222e+08 | J39: =J36-J38 -> 3.3982222e+08 | K39: =K36-K38 -> 3.4422222e+08 | L39: =L36-L38 -> 4.0062222e+08 | M39: =M36-M38 -> 5.1702222e+08 | N39: =N36-N38 -> 3.6072222e+08 | O39: =O36-O38 -> 3.6372222e+08 | ... Q39: =Q36-Q38 -> 941500000 | R39: =SUM(H39:Q39) -> 3.5967778e+09
B40: Tax Expense | H40: =IF(H39<0,0,H39*$G$3) -> 0 | I40: =IF(I39<0,0,I39*$G$3) -> 75355556 | J40: =IF(J39<0,0,J39*$G$3) -> 84955556 | K40: =IF(K39<0,0,K39*$G$3) -> 86055556 | L40: =IF(L39<0,0,L39*$G$3) -> 1.0015556e+08 | M40: =IF(M39<0,0,M39*$G$3) -> 1.2925556e+08 | N40: =IF(N39<0,0,N39*$G$3) -> 90180556 | O40: =IF(O39<0,0,O39*$G$3) -> 90930556 | ... Q40: =IF(Q39<0,0,Q39*$G$3) -> 235375000 | R40: =SUM(H40:Q40) -> 9.8319444e+08
B41: Net Income | H41: =H39-H40 -> -336000000 | I41: =I39-I40 -> 2.2606667e+08 | J41: =J39-J40 -> 2.5486667e+08 | K41: =K39-K40 -> 2.5816667e+08 | L41: =L39-L40 -> 3.0046667e+08 | M41: =M39-M40 -> 3.8776667e+08 | N41: =N39-N40 -> 2.7054167e+08 | O41: =O39-O40 -> 2.7279167e+08 | ... Q41: =Q39-Q40 -> 706125000 | R41: =R36-R40 -> 3.4595833e+09
B43: Capex | G43: =-H12 -> -2100000000 | H43: =-I12 -> -250000000 | I43: =-J12 -> 0 | J43: =-K12 -> 0 | K43: =-L12 -> 0 | L43: =-M12 -> 0 | M43: =-N12 -> 0 | N43: =-O12 -> 0 | ... Q43: =-R12 -> 0
B44: FCFF | G44: =G43 -> -2100000000 | H44: =H43+H41+H35 -> -376000000 | I44: =I43+I41+I35 -> 4.6384444e+08 | J44: =J43+J41+J35 -> 4.9264444e+08 | K44: =K43+K41+K35 -> 4.9594444e+08 | L44: =L43+L41+L35 -> 5.3824444e+08 | M44: =M43+M41+M35 -> 6.2554444e+08 | N44: =N43+N41+N35 -> 5.0831944e+08 | O44: =O43+O41+O35 -> 5.1056944e+08 | ... Q44: =Q43+Q41+Q35 -> 706125000
B45: Accumulated FCF | G45: =G44 -> -2100000000 | H45: =G45+H44 -> -2476000000 | I45: =H45+I44 -> -2.0121556e+09 | J45: =I45+J44 -> -1.5195111e+09 | K45: =J45+K44 -> -1.0235667e+09 | L45: =K45+L44 -> -4.8532222e+08 | M45: =L45+M44 -> 1.4022222e+08 | N45: =M45+N44 -> 6.4854167e+08 | O45: =N45+O44 -> 1.1591111e+09 | ... Q45: =P45+Q44 -> 2.3758056e+09
B46: PBP | H46: =IF(AND(G45<0,H45>0),H54-(H45/H44),0) -> 0 | I46: =IF(AND(H45<0,I45>0),I54-(I45/I44),0) -> 0 | J46: =IF(AND(I45<0,J45>0),J54-(J45/J44),0) -> 0 | K46: =IF(AND(J45<0,K45>0),K54-(K45/K44),0) -> 0 | L46: =IF(AND(K45<0,L45>0),L54-(L45/L44),0) -> 0 | M46: =IF(AND(L45<0,M45>0),M54-(M45/M44),0) -> 5.7758397 | N46: =IF(AND(M45<0,N45>0),N54-(N45/N44),0) -> 0 | O46: =IF(AND(N45<0,O45>0),O54-(O45/O44),0) -> 0 | ... Q46: =IF(AND(P45<0,Q45>0),Q54-(Q45/Q44),0) -> 0
B49: IRR | G49: =IRR(G44:Q44) -> 0.1259892
B50: NPV | G50: =NPV(G4,H44:Q44)+G44 -> 69848696
B51: EBITDA margin | G51: =R33 -> 0.62428571
B52: Payback | G52: =SUM(G46:Q46) -> 5.7758397
...

Sheet Summary
C2: Product : | D2: IBS / DAS | J2: Tanggal P&L: | M2: 45538
C3: Status P&L | D3: New Building
B5: Site Information | E5: Technical Information | J5: Financial Summary
B6: Site Name | D6: ='IRR Approved'!S1 -> House Of Sacrifice Medan | E6: IBC | K6: Total Capex DAS | M6: ='IRR Approved'!H11 -> 350000000
B7: Address | E7: Antena PKS BM | H7: 50 | K7: Capex /antenna | M7: =M6/H7 -> 7000000
B8: Area building | D8: Medan | E8: Antena Asset | H8: 0 | K8: Contract Period (thn) | M8: 5
B9: Type of building | D9: Hall | E9: Jumlah Pole Makro | H9: 6 | K9: Interest rate /year | M9: ='IRR Approved'!G4 -> 0.1
B10: Status | D10: New Building | E10: OPENET | K10: Kurs 1USD | M10: 0
B11: Total floor | D11: 3 | E11: Cable FO (Core) | H11: 0 | K11: Total Revenue | M11: ='IRR Approved'!S23 -> 1925000000
B12: No of building tower | D12: 1 | E12: Cable FO (meter) | H12: 0 | K12: Total Capex CME | M12: ='IRR Approved'!J12+'IRR Approved'!K12+'IRR Approved'!L12 -> 0
K13: Total COGS Rent | M13: ='IRR Approved'!S26 -> 250000000
E14: Drop Wire (meter) | H14: 0 | K14: Total COGS Other | M14: ='IRR Approved'!S27+'IRR Approved'!S28+'IRR Approved'!S29 -> 810202008
E15: OTHERS | K15: IRR | M15: ='IRR Approved'!G48 -> 0.22376263
K16: NPV | M16: ='IRR Approved'!G49 -> 1.7304356e+08
K17: EBITDA margin | M17: ='IRR Approved'!G50 -> 0.44924571
K18: Payback (year) | M18: ='IRR Approved'!G51 -> 4.1399362
B20: Target to Achieve by Commercial: | L20: Prepared by
B21: Revenue | L21: Citra K.
B26: Approved by

Sheet IRR Approved
B1: NO : 0001/01/IRR/IBC/V/2023 | C1: 0026/03/IRR/IBC/XI/2023 | S1: House Of Sacrifice Medan
B2: General Asumption
C3: Tax Rate | G3: 0.02
C4: Interest Rate | G4: 0.1
C5: SG&A | G5: 0.02 | H5: Increase every year, start based 50 mil
C6: BHPUSO | G6: 0 | H6: from Revenues
C7: Price Adjustment after 5 year | G7: 0.15
H9: Y0 | I9: Y1 | J9: Y2 | K9: Y3 | L9: Y4 | M9: Y5 | N9: Y6 | O9: Y7 | P9: Y8 | Q9: Y9 | R9: Y10
B10: CAPEX
B11: Total CAPEX | E11: DAS | H11: 350000000 | I11: 0 | J11: 0 | K11: 0
E12: BTS
B14: IRR Calculation | H14: Year 0 | I14: 2025 | J14: =I14+1 -> 2026 | K14: =J14+1 -> 2027 | L14: =K14+1 -> 2028 | M14: =L14+1 -> 2029 | N14: =M14+1 -> 2030 | O14: =N14+1 -> 2031 | P14: =O14+1 -> 2032 | Q14: =P14+1 -> 2033 | R14: =Q14+1 -> 2034 | S14: Total
B15: Months of Service | H15: 12 | I15: 12 | J15: 12 | K15: 12 | L15: 12 | M15: 12 | N15: 12 | O15: 12 | P15: 12 | R15: 12
N16: 0.15
B18: Revenues
C19: Telkomsel | I19: 155000000 | J19: 155000000 | K19: =J19 -> 155000000 | L19: =K19 -> 155000000 | M19: =L19 -> 155000000 | S19: =SUM(H19:R19) -> 775000000
C20: XL | I20: 150000000 | J20: 150000000 | K20: =J20 -> 150000000 | L20: =K20 -> 150000000 | M20: =L20 -> 150000000 | S20: =SUM(H20:R20) -> 750000000
C21: IOH | J21: 100000000 | K21: =J21 -> 100000000 | L21: =K21 -> 100000000 | M21: =L21 -> 100000000 | S21: =SUM(H21:R21) -> 400000000
C22: Smartfren | S22: =SUM(H22:R22) -> 0
B23: Total Revenues | H23: =SUM(H19:H22) -> 0 | I23: =SUM(I19:I22) -> 305000000 | J23: =SUM(J19:J22) -> 405000000 | K23: =SUM(K19:K22) -> 405000000 | L23: =SUM(L19:L22) -> 405000000 | M23: =SUM(M19:M22) -> 405000000 | N23: =SUM(N19:N22) -> 0 | O23: =SUM(O19:O22) -> 0 | ... S23: =SUM(S19:S22) -> 1925000000
B25: OPEX
C26: Lease to BM | I26: 250000000 | S26: =SUM(H26:R26) -> 250000000
C27: Electricity | I27: 36000000 | J27: =36000000*2 -> 72000000 | K27: =36000000*2 -> 72000000 | L27: =K27 -> 72000000 | M27: =L27 -> 72000000 | S27: =SUM(H27:R27) -> 324000000
C28: Maintenance | H28: =IF(H19>0,COUNTIF(H19:H22,">0")*7000000, IF(H20>0,COUNTIF(H19:H22,">0")*7000000, IF(H21>0,COUNTIF(H19:H22,">0")*7000000, IF(H22>0,COUNTIF(H19:H22,">0")*7000000,0)))) -> 0 | I28: =IF(I19>0,COUNTIF(I19:I22,">0")*7000000, IF(I20>0,COUNTIF(I19:I22,">0")*7000000, IF(I21>0,COUNTIF(I19:I22,">0")*7000000, IF(I22>0,COUNTIF(I19:I22,">0")*7000000,0))))+[2]PARAMETER!$K$31 -> 39600000 | J28: =IF(J19>0,COUNTIF(J19:J22,">0")*7000000, IF(J20>0,COUNTIF(J19:J22,">0")*7000000, IF(J21>0,COUNTIF(J19:J22,">0")*7000000, IF(J22>0,COUNTIF(J19:J22,">0")*7000000,0))))+[2]PARAMETER!$K$31 -> 46600000 | K28: =IF(K19>0,COUNTIF(K19:K22,">0")*7000000, IF(K20>0,COUNTIF(K19:K22,">0")*7000000, IF(K21>0,COUNTIF(K19:K22,">0")*7000000, IF(K22>0,COUNTIF(K19:K22,">0")*7000000,0))))+[2]PARAMETER!$K$31 -> 46600000 | L28: =K28 -> 46600000 | M28: =L28 -> 46600000 | S28: =SUM(H28:R28) -> 226000000
C29: SG&A | H29: =$G$5*H23 -> 0 | I29: =PARAMETER!B10 -> 50000000 | J29: =PARAMETER!C10 -> 51000000 | K29: =PARAMETER!D10 -> 52020000 | L29: =PARAMETER!E10 -> 53060400 | M29: =PARAMETER!F10 -> 54121608 | S29: =SUM(H29:R29) -> 260202008
B30: Total OPEX | H30: =SUM(H26:H29) -> 0 | I30: =SUM(I26:I29) -> 375600000 | J30: =SUM(J26:J29) -> 169600000 | K30: =SUM(K26:K29) -> 170620000 | L30: =SUM(L26:L29) -> 171660400 | M30: =SUM(M26:M29) -> 172721608 | N30: =SUM(N26:N29) -> 0 | O30: =SUM(O26:O29) -> 0 | ... S30: =SUM(S26:S29) -> 1060202008
B31: Total EBITDA | H31: =H23-H30 -> 0 | I31: =I23-I30 -> -70600000 | J31: =J23-J30 -> 235400000 | K31: =K23-K30 -> 234380000 | L31: =L23-L30 -> 233339600 | M31: =M23-M30 -> 232278392 | N31: =N23-N30 -> 0 | O31: =O23-O30 -> 0 | ... S31: =S23-S30 -> 864797992
B32: Ebitda margin | I32: =I31/I23 -> -0.23147541 | J32: =J31/J23 -> 0.58123457 | K32: =K31/K23 -> 0.57871605 | L32: =L31/L23 -> 0.57614716 | M32: =M31/M23 -> 0.57352689 | N32: =N31/N23 -> #DIV/0! | O32: =O31/O23 -> #DIV/0! | P32: =P31/P23 -> #DIV/0! | ... S32: =S31/S23 -> 0.44924571
B34: Depreciation Expense | I34: =I65 -> 70000000 | J34: =J65 -> 70000000 | K34: =K65 -> 70000000 | L34: =L65 -> 70000000 | M34: =M65 -> 70000000 | S34: =SUM(H34:R34) -> 350000000
B35: Total EBIT | H35: =H31-H34 -> 0 | I35: =I31-I34 -> -140600000 | J35: =J31-J34 -> 165400000 | K35: =K31-K34 -> 164380000 | L35: =L31-L34 -> 163339600 | M35: =M31-M34 -> 162278392 | N35: =N31-N34 -> 0 | O35: =O31-O34 -> 0 | ... S35: =S31-S34 -> 514797992
B37: Interest Expense | I37: =PARAMETER!B$5 -> 17500000 | J37: =PARAMETER!C$5 -> 31500000 | K37: =PARAMETER!D$5 -> 24500000 | L37: =PARAMETER!E$5 -> 17500000 | M37: =PARAMETER!F$5 -> 10500000 | S37: =SUM(H37:R37) -> 101500000
B38: EBT | H38: =H35-H37 -> 0 | I38: =I35-I37 -> -158100000 | J38: =J35-J37 -> 133900000 | K38: =K35-K37 -> 139880000 | L38: =L35-L37 -> 145839600 | M38: =M35-M37 -> 151778392 | O38: =O35-O37 -> 0 | P38: =P35-P37 -> 0 | Q38: =Q35-Q37 -> 0 | R38: =R35-R37 -> 0 | S38: =SUM(H38:R38) -> 413297992
B39: Tax Expense | H39: =IF(H38<0,0,H38*$G$3) -> 0 | I39: =IF(I38<0,0,I38*$G$3) -> 0 | J39: =IF(J38<0,0,J38*$G$3) -> 2678000 | K39: =IF(K38<0,0,K38*$G$3) -> 2797600 | L39: =IF(L38<0,0,L38*$G$3) -> 2916792 | M39: =IF(M38<0,0,M38*$G$3) -> 3035567.8 | O39: =IF(O38<0,0,O38*$G$3) -> 0 | P39: =IF(P38<0,0,P38*$G$3) -> 0 | Q39: =IF(Q38<0,0,Q38*$G$3) -> 0 | R39: =IF(R38<0,0,R38*$G$3) -> 0 | S39: =SUM(H39:R39) -> 11427960
B40: Net Income | H40: =H38-H39 -> 0 | I40: =I38-I39 -> -158100000 | J40: =J38-J39 -> 131222000 | K40: =K38-K39 -> 137082400 | L40: =L38-L39 -> 142922808 | M40: =M38-M39 -> 1.4874282e+08 | N40: =N38-N39 -> 0 | O40: =O38-O39 -> 0 | ... R40: =R38-R39 -> 0 | S40: =S35-S39 -> 5.0337003e+08
B42: Capex | H42: =-H11+-H12 -> -350000000 | I42: =-I12 -> 0 | J42: =-J12 -> 0 | K42: =-K12 -> 0 | L42: =-L12 -> 0 | M42: =-M12 -> 0 | N42: =-O11 -> 0 | O42: =-P11 -> 0 | P42: =-R11 -> 0 | Q42: =-S11 -> 0 | R42: =-T11 -> 0 | S42: =SUM(G42:R42) -> -350000000
B43: FCFF | H43: =H42+H40+H34 -> -350000000 | I43: =I42+I40+I34 -> -88100000 | J43: =J42+J40+J34 -> 201222000 | K43: =K42+K40+K34 -> 207082400 | L43: =L42+L40+L34 -> 212922808 | M43: =M42+M40+M34 -> 2.1874282e+08 | N43: =N42+N40+N34 -> 0 | O43: =O42+O40+O34 -> 0 | ... R43: =R42+R40+R34 -> 0 | S43: =SUM(G43:R43) -> 4.0187003e+08
B44: Accumulated FCF | H44: =G44+H43 -> -350000000 | I44: =H44+I43 -> -438100000 | J44: =I44+J43 -> -236878000 | K44: =J44+K43 -> -29795600 | L44: =K44+L43 -> 183127208 | M44: =L44+M43 -> 4.0187003e+08 | N44: =M44+N43 -> 4.0187003e+08 | O44: =N44+O43 -> 4.0187003e+08 | ... R44: =Q44+R43 -> 4.0187003e+08
B45: PBP | H45: =IF(AND(G44<0,H44>0),I53-(H44/H43),0) -> 0 | I45: =IF(AND(H44<0,I44>0),J53-(I44/I43),0) -> 0 | J45: =IF(AND(I44<0,J44>0),K53-(J44/J43),0) -> 0 | K45: =IF(AND(J44<0,K44>0),L53-(K44/K43),0) -> 0 | L45: =IF(AND(K44<0,L44>0),M53-(L44/L43),0) -> 4.1399362 | M45: =IF(AND(L44<0,M44>0),N53-(M44/M43),0) -> 0 | N45: =IF(AND(M44<0,N44>0),O53-(N44/N43),0) -> 0 | O45: =IF(AND(N44<0,O44>0),P53-(O44/O43),0) -> 0 | P45: =IF(AND(O44<0,P44>0),Q53-(P44/P43),0) -> 0 | R45: =IF(AND(P44<0,R44>0),S53-(R44/R43),0) -> 0
B48: IRR | G48: =IRR(H43:R43) -> 0.22376263
B49: NPV | G49: =NPV(G4,I43:R43)+H43 -> 1.7304356e+08
...

Sheet PARAMETER
B1: Year 1 | C1: Year 2 | D1: Year 3 | E1: Year 4 | F1: Year 5 | G1: Year 6 | H1: Year 7 | I1: Year 8 | J1: Year 9 | K1: Year 10
A2: loan | B2: ='IRR Approved'!$H$11+'IRR Approved'!I12+'IRR Approved'!J12 -> 350000000 | C2: =$B$2-$B$4 -> 280000000 | D2: =$C$2-$B$4 -> 210000000 | E2: =$D$2-$B$4 -> 140000000 | F2: =$E$2-$B$4 -> 70000000 | G2: =$F$2-$B$4 -> 0 | H2: =$G$2-$B$4 -> -70000000 | I2: =$H$2-$B$4 -> -140000000 | J2: =$I$2-$B$4 -> -210000000 | K2: =$J$2-$B$4 -> -280000000
A3: Period (thn) | B3: 5
A4: Installment/thn | B4: =$B$2/$B$3 -> 70000000
A5: Interest | B5: =(($B$2*'IRR Approved'!$G$4)*6)/12 -> 17500000 | C5: =AVERAGE($B$2:$C$2)*'IRR Approved'!$G$4 -> 31500000 | D5: =AVERAGE($C$2:$D$2)*'IRR Approved'!$G$4 -> 24500000 | E5: =AVERAGE($D$2:$E$2)*'IRR Approved'!$G$4 -> 17500000 | F5: =AVERAGE($E$2:$F$2)*'IRR Approved'!$G$4 -> 10500000 | G5: =AVERAGE($F$2:$G$2)*'IRR Approved'!$G$4 -> 3500000 | H5: =AVERAGE($G$2:$H$2)*'IRR Approved'!$G$4 -> -3500000 | I5: =AVERAGE($H$2:$I$2)*'IRR Approved'!$G$4 -> -10500000 | J5: =AVERAGE($I$2:$J$2)*'IRR Approved'!$G$4 -> -17500000 | K5: =AVERAGE($J$2:$K$2)*'IRR Approved'!$G$4 -> -24500000
A10: SG&A | B10: 50000000 | C10: =B10+C11 -> 51000000 | D10: =C10+D12 -> 52020000 | E10: =D10+E12 -> 53060400 | F10: =E10+F12 -> 54121608 | G10: =F10+G12 -> 55204040 | H10: =G10+H12 -> 56308121 | I10: =H10+I12 -> 57434283 | J10: =I10+J12 -> 58582969 | K10: =J10+K12 -> 59754628
A11: 0.02 | C11: =C12 -> 1000000 | D11: =C11+D12 -> 2020000 | E11: =D11+E12 -> 3060400 | F11: =E11+F12 -> 4121608 | G11: =F11+G12 -> 5204040.2 | H11: =G11+H12 -> 6308121 | I11: =H11+I12 -> 7434283.4 | J11: =I11+J12 -> 8582969.1 | K11: =J11+K12 -> 9754628.4
C12: =B10*$A$11 -> 1000000 | D12: =C10*$A$11 -> 1020000 | E12: =D10*$A$11 -> 1040400 | F12: =E10*$A$11 -> 1061208 | G12: =F10*$A$11 -> 1082432.2 | H12: =G10*$A$11 -> 1104080.8 | I12: =H10*$A$11 -> 1126162.4 | J12: =I10*$A$11 -> 1148685.7 | K12: =J10*$A$11 -> 1171659.4
