Workbook
Name jk: #REF!
Name jk: #REF!
Name years_contract: [1]Kerlink!$D$5

Sheet Summary
C2: Product : | D2: IBS / Openet | J2: Tanggal P&L: | M2: 45131
C3: Status P&L | D3: Renewal
B5: Site Information | E5: Technical Information | J5: Financial Summary
B6: Site Name | D6: Apartement Taman Melati Sinduadi | E6: IBC | K6: Capex /antenna | M6: 0
B7: Address | D7: Jl. Jembatan Baru UGM | E7: Antena PKS BM | K7: Contract Period (thn) | M7: 5
E8: Antena Asset | H8: 0 | K8: Interest rate /year | M8: =[2]IRR!F3 -> 0.1
B9: Area building | D9: Yogyakarta | E9: Jumlah Pole Makro | K9: Kurs 1USD | M9: 0
B10: Type of building | D10: Apartement | E10: OPENET | K10: Total BV 28Feb 25 | M10: =SUM(IRR!G9:G10) -> 3112159
B11: Status | D11: renewal | E11: Cable FO (Core) | H11: 0 | K11: Total COGS Rent | M11: =IRR!L20 -> 530785920
B12: Total floor | E12: Cable FO (meter) | H12: 0 | K12: Total COGS Other | M12: =SUM(IRR!L22:L24) -> 296355472
B13: No of building tower | E13: Drop Wire (meter) | H13: 0 | K13: Total Revenue | M13: =IRR!L17 -> 1769286400
E14: OTHERS | K14: IRR | M14: =IRR!F39 -> #NUM!
K15: NPV | M15: =IRR!F40 -> 7.6095098e+08
K16: EBITDA margin | M16: =IRR!F41 -> 0.5325
K17: Payback (year) | M17: =IRR!F42 -> 0
B19: Target Achieved by Commercial: | L19: Prepared by
B20: Revenue | L20: Citra Kartika
D22: :
B26: Approved by

Sheet IRR
B1: General
C2: Tax Rate | F2: 0.02
C3: Interest Rate | F3: 0.1
C4: SG&A | F4: 0.05 | G4: from Revenues
C5: BHPUSO | F5: 0 | G5: from Revenues
C6: Price Adjustment after 5 years | F6: 0.15
C7: Monthly Charge
G8: Y1
B9: Total CAPEX | E9: BV 28Feb 25 | G9: 3112159
E10: BTS
G11: 2025 | H11: =G11+1 -> 2026 | I11: =H11+1 -> 2027 | J11: =I11+1 -> 2028 | K11: =J11+1 -> 2029
B12: IRR Calculation | G12: Year 1 | L12: Total | O12: Cash flow | P12: amount | Q12: Desc
B13: Months of Service | G13: 12 | O13: Capex | P13: =G9 -> 3112159 | Q13: Jasa + ONT
O14: Opex | P14: =G20 -> 94783200 | Q14: 60% Rev share to ITC
B15: Revenues | P15: =G24 -> 15797200 | Q15: SG&A
G16: =Rev!C5 -> 315944000 | H16: =G16*115% -> 363335600 | I16: =H16 -> 363335600 | J16: =I16 -> 363335600 | K16: =J16 -> 363335600 | O16: Revenue | P16: =G16 -> 315944000 | Q16: Average price of subs
B17: Total Revenues | G17: =SUM(G16:G16) -> 315944000 | H17: =SUM(H16:H16) -> 363335600 | I17: =SUM(I16:I16) -> 363335600 | J17: =SUM(J16:J16) -> 363335600 | K17: =SUM(K16:K16) -> 363335600 | L17: =SUM(G17:K17) -> 1769286400
O18: IRR | Q18: =F39 -> #NUM!
B19: OPEX | O19: NPV | Q19: =F40 -> 7.6095098e+08
C20: Share to BM | E20: 0.3 | F20: from revenues | G20: =$E$20*G17 -> 94783200 | H20: =$E$20*H17 -> 109000680 | I20: =$E$20*I17 -> 109000680 | J20: =$E$20*J17 -> 109000680 | K20: =$E$20*K17 -> 109000680 | L20: =SUM(G20:K20) -> 530785920 | O20: EBITDA margin | Q20: =F41 -> 0.5325
C21: Electricity | G21: 0 | L21: =SUM(G21:K21) -> 0 | O21: Payback | Q21: =F42 -> 0
C22: Fixed operational cost | E22: 0.1 | F22: from revenues | G22: =G17*$E$22 -> 31594400 | H22: =H17*$E$22 -> 36333560 | I22: =I17*$E$22 -> 36333560 | J22: =J17*$E$22 -> 36333560 | K22: =K17*$E$22 -> 36333560 | L22: =SUM(G22:K22) -> 176928640
C23: BHP | E23: 0.0175 | F23: from revenues | G23: =G17*$E$23 -> 5529020 | H23: =H17*$E$23 -> 6358373 | I23: =I17*$E$23 -> 6358373 | J23: =J17*$E$23 -> 6358373 | K23: =K17*$E$23 -> 6358373 | L23: =SUM(G23:K23) -> 30962512
C24: SG&A | G24: =G17*$F$4 -> 15797200 | H24: =H17*$F$4 -> 18166780 | I24: =I17*$F$4 -> 18166780 | J24: =J17*$F$4 -> 18166780 | K24: =K17*$F$4 -> 18166780 | L24: =SUM(G24:K24) -> 88464320
B25: Total OPEX | G25: =SUM(G20:G24) -> 147703820 | H25: =SUM(H20:H24) -> 169859393 | I25: =SUM(I20:I24) -> 169859393 | J25: =SUM(J20:J24) -> 169859393 | K25: =SUM(K20:K24) -> 169859393 | L25: =SUM(L20:L24) -> 827141392
B26: Total EBITDA | G26: =G17-G25 -> 168240180 | H26: =H17-H25 -> 193476207 | I26: =I17-I25 -> 193476207 | J26: =J17-J25 -> 193476207 | K26: =K17-K25 -> 193476207 | L26: =L17-L25 -> 942145008
B27: Ebitda margin | G27: =G26/G17 -> 0.5325 | H27: =H26/H17 -> 0.5325 | I27: =I26/I17 -> 0.5325 | J27: =J26/J17 -> 0.5325 | K27: =K26/K17 -> 0.5325 | L27: =L26/L17 -> 0.5325
B28: Depreciation Expense | G28: =G46 -> 622431.8 | H28: =H46 -> 622431.8 | I28: =I46 -> 622431.8 | J28: =J46 -> 622431.8 | K28: =K46 -> 622431.8 | L28: =SUM(G28:K28) -> 3112159
B29: Total EBIT | G29: =G26-G28 -> 1.6761775e+08 | H29: =H26-H28 -> 1.9285378e+08 | I29: =I26-I28 -> 1.9285378e+08 | J29: =J26-J28 -> 1.9285378e+08 | K29: =K26-K28 -> 1.9285378e+08 | L29: =L26-L28 -> 939032849
B30: Interest Expense | G30: =PARAMETER!F6 -> 1481489.5 | H30: =PARAMETER!G6 -> 493829.84 | I30: =PARAMETER!H6 -> 0 | J30: =PARAMETER!I6 -> 0 | K30: 0 | L30: =SUM(G30:G30) -> 1481489.5
B31: EBT | G31: =G29-G30 -> 1.6613626e+08 | H31: =H29-H30 -> 1.9235995e+08 | I31: =I29-I30 -> 1.9285378e+08 | J31: =J29-J30 -> 1.9285378e+08 | K31: =K29-K30 -> 1.9285378e+08 | L31: =SUM(G31:K31) -> 9.3705753e+08
B32: Tax Expense | G32: =IF(G31<0,0,G31*$F$2) -> 3322725.2 | H32: =IF(H31<0,0,H31*$F$2) -> 3847198.9 | I32: =IF(I31<0,0,I31*$F$2) -> 3857075.5 | J32: =IF(J31<0,0,J31*$F$2) -> 3857075.5 | K32: =IF(K31<0,0,K31*$F$2) -> 3857075.5 | L32: =SUM(G32:K32) -> 18741151
B33: Net Income | G33: =G31-G32 -> 1.6281353e+08 | H33: =H31-H32 -> 1.8851275e+08 | I33: =I31-I32 -> 1.889967e+08 | J33: =J31-J32 -> 1.889967e+08 | K33: =K31-K32 -> 1.889967e+08 | L33: =L31-L32 -> 9.1831638e+08
B35: Capex | G35: =-G9+-G10 -> -3112159
B36: FCFF | F36: =F35 -> 0 | G36: =G35+G33+G28 -> 1.6032381e+08 | H36: =H35+H33+H28 -> 1.8913518e+08 | I36: =I35+I33+I28 -> 1.8961913e+08 | J36: =J35+J33+J28 -> 1.8961913e+08 | K36: =K35+K33+K28 -> 1.8961913e+08 | L36: =SUM(G36:K36) -> 9.1831638e+08
B37: Accumulated FCF | F37: =F36 -> 0 | G37: =F37+G36 -> 1.6032381e+08 | H37: =G37+H36 -> 3.4945898e+08 | I37: =H37+I36 -> 5.3907812e+08 | J37: =I37+J36 -> 7.2869725e+08 | K37: =J37+K36 -> 9.1831638e+08
B38: PBP | G38: =IF(AND(F37<0,G37>0),G43-(G37/G36),0) -> 0 | H38: =IF(AND(G37<0,H37>0),H43-(H37/H36),0) -> 0 | I38: =IF(AND(H37<0,I37>0),I43-(I37/I36),0) -> 0 | J38: =IF(AND(I37<0,J37>0),J43-(J37/J36),0) -> 0 | K38: =IF(AND(J37<0,K37>0),K43-(K37/K36),0) -> 0
B39: IRR | F39: =IRR(G36:K36) -> #NUM!
B40: NPV | F40: =NPV(F3,H36:K36)+G36 -> 7.6095098e+08
B41: EBITDA margin | F41: =L27 -> 0.5325
...

Sheet Rev
A1: No | B1: Nama Bulan | C1: Amount
B4: 2022 | C4: 252368000
B5: 2023 | C5: 315944000 | D5: =(C5-C4)/C4 -> 0.25191783
A6: 1 | B6: 45292 | C6: 24922000
A7: 2 | B7: 45323 | C7: 19586000
A8: 3 | B8: 45352 | C8: 20630000
A9: 4 | B9: 45383 | C9: 31266000
A10: 5 | B10: 45413 | C10: 22510000
A11: 6 | B11: 45444 | C11: 25104000
A12: 7 | B12: 45474 | C12: 27488000
A13: TOTAL

Sheet Summary Review new
C1: SUMMARY REVIEW
A3: Nama Site | C3: : Apartement Taman Melati Sinduadi
A4: Nama Pemilik | C4: : PT. Adhi Persada Properti
A5: Alamat Pemilik | C5: : Jl. Jembatan Baru UGM, Yogyakarta
A6: Telp | C6: :
A8: No. | B8: Keterangan | C8: Existing | D8: Renewal
A10: 1 | B10: Scope Of Lease | C10: Opennet | D10: Opennet
A11: 2 | B11: Periode Sewa | C11: 1 Maret 2020 s/d 2 Maret 2025 (5 tahun) | D11: 1 Maret 2025 s/d 2 Maret 2030 (5 tahun)
A12: 3 | B12: Persentase Revshare IBS to BM | C12: 0.3 | D12: 0.3
A13: 4 | B13: Nama ISP Join | C13: SIMS | D13: SIMS
A14: 5 | B14: Periode ISP Join | C14: 10 Oktober 2019 s/d 9 Oktober 2024 (5 tahun) | D14: 10 Oktober 2024 s/d 9 Oktober 2029 (5 tahun)
A15: 6 | B15: Revenue ISP / tahun | C15: 172484000 | D15: 172484000
A16: 7 | B16: Jumlah Tenant ISP | C16: 412 | D16: 412
A17: 8 | B17: Persentase Revshare ISP | C17: IBS 40 % JMN 60 % | D17: IBS 40 % JMN 60 %
B18: OLT & ONT | C18: OLT dari BM | D18: OLT dari BM

Sheet PARAMETER
B1: 2021 | C1: 2022 | D1: 2023 | E1: 2024 | F1: 2025 | G1: 2026
B2: Year 1 | C2: Year 2 | D2: Year 3 | E2: Year 4 | F2: Year 5 | G2: Year 6 | H2: Year 7 | I2: Year 8 | J2: Year 9 | K2: Year 10
A3: loan | B3: 49382984 | C3: =$B$3-$B$5 -> 39506387 | D3: =$C$3-$B$5 -> 29629790 | E3: =$D$3-$B$5 -> 19753194 | F3: =$E$3-$B$5 -> 9876596.8 | G3: =$F$3-$B$5 -> 0 | H3: 0
A4: Period (thn) | B4: 5
A5: Installment/thn | B5: =$B$3/$B$4 -> 9876596.8
A6: Interest | B6: =(($B$3*IRR!$F$3)*6)/12 -> 2469149.2 | C6: =AVERAGE(B3:C3)*IRR!$F$3 -> 4444468.6 | D6: =AVERAGE(C3:D3)*IRR!$F$3 -> 3456808.9 | E6: =AVERAGE(D3:E3)*IRR!$F$3 -> 2469149.2 | F6: =AVERAGE(E3:F3)*IRR!$F$3 -> 1481489.5 | G6: =AVERAGE(F3:G3)*IRR!$F$3 -> 493829.84 | H6: =AVERAGE(G3:H3)*IRR!$F$3 -> 0 | I6: =AVERAGE(H3:I3)*IRR!$F$3 -> 0 | J6: =AVERAGE(I3:J3)*IRR!$F$3 -> #DIV/0! | K6: =AVERAGE($J$3:$K$3)*[3]IRR!$G$4 -> #DIV/0!
F11: person | G11: trip | H11: kamar | I11: Days by Omni | J11: Biaya walktest inhouse/visit | K11: Biaya walktest inhouse/thn
E12: Diisikan | F12: 2 | G12: 1 | H12: 1 | I12: 186
B13: Transport | C13: Pesawat | D13: =C24 -> 3000000 | E13: person | F13: =F12 -> 2 | J13: =F13*D13 -> 6000000
C14: Bandara | D14: 600000 | E14: person | F14: =F12 -> 2 | I14: =IF($I$11<=120,2,IF($I$11>220,4,3)) -> 4 | J14: =D14*F14 -> 1200000
C15: Transport | D15: 200000 | E15: Trip | G15: =G12 -> 1 | J15: =G15*D15 -> 200000
B16: Hotel | C16: Hotel | D16: 450000 | E16: kamar | F16: =F12 -> 2 | H16: =H12 -> 1 | I16: =IF($I$11<=120,2,IF($I$11>220,4,3)) -> 4 | J16: =H16*D16*I16 -> 1800000
B17: Uang Saku | C17: Uang Saku | D17: 120000 | E17: person | F17: =F12 -> 2 | I17: =IF($I$11<=120,2,IF($I$11>220,4,3)) -> 4 | J17: =I17*D17*F17 -> 960000
J18: =SUM(J13:J17) -> 10160000 | K18: =J18*2 -> 20320000
B22: PM/Year/Site | C22: Pesawat | E22: Asumsi:
A23: Sulut | B23: 16800000 | C23: 4000000 | E23: Walktest 4x dalam setahun semua operator sekaligus
A24: Makasar | C24: 3000000 | E24: Walktest pertama oleh vendor | I24: 10000000
A25: Bali | B25: 15600000 | C25: 2500000 | E25: Walktest pertama oleh vendor | H25: Pekanbaru | I25: 12000000
A26: Jatim | B26: 15000000 | C26: 2000000 | E26: Walktest pertama oleh vendor | H26: Sumut | I26: 14000000
A27: Jateng | B27: 15000000 | C27: 1850000 | E27: Walktest pertama oleh vendor | H27: Sulsel | I27: 14000000
A28: Jabar | B28: 12000000 | C28: 1200000 | E28: Walktest pertama oleh vendor | H28: Sulut | I28: 17000000
A29: Kalimantan | B29: 16800000 | C29: 2000000 | E29: Walktest pertama oleh vendor | H29: Kalimantan | I29: 14000000
A30: Sumatera | B30: 15720000 | C30: 3500000
A31: Palembang | C31: 2800000
A32: Jabodetabek | B32: 0 | C32: 0 | D32: Inhouse
B34: CM /Year/Oprt
B35: 7000000
A37: LISTRIK
A38: Listrik/Oprt/year DAS+1Pole 3sektor
A39: 0-100 | B39: 36000000
A40: 101-200 | B40: 42000000
A41: 201- | B41: 48000000
A43: Listrik/Oprt/year DAS+2Pole 6sektor
A44: 0-200 | B44: 75000000
A45: 201- | B45: 95000000
