Workbook
Name jk: #REF!
Name jk: #REF!
Name jk: #REF!
Name jk: #REF!
Name years_contract: [1]Kerlink!$D$5

Sheet Summary
C1: 0002/IRR/IBC-Open/X/2024
C2: Product : | D2: IBS / DAS | M2: MANSION PASAR BARU
C3: Status P&L | D3: Renewal IBC - Openet | J3: Tanggal P&L: | M3: 1 Okt 2024
B5: Site Information | E5: Technical Information | J5: Financial Summary
B6: Site Name | D6: Mansion Pasar Baru | E6: IBC | K6: Capex DAS | M6: 1111584346
B7: Address | E7: Antena PKS BM | K7: Capex /antenna | M7: =M6/H8 -> 3692971.2
B8: Area building | D8: Jakarta Pusat | E8: Antena Asset | H8: 301 | K8: Contract Period (thn) | M8: 5
B9: Type of building | D9: Apartmen | E9: Jumlah Pole Makro | H9: 8 Pole Antenna + RBS 40 m² | K9: Interest rate /year | M9: ='IRR Approved (2)'!F4 -> 0.1
B10: Status | D10: Renewal | K10: Total Revenue | M10: ='IRR Approved (2)'!Q22 -> 1942560000
B11: Total floor | E11: OPENET | K11: Total BV DAS31Jan25 | M11: ='IRR Approved (2)'!G12 -> 169005226
B12: No of tower | E12: Cable FO (Core) | H12: 0 | K12: Total BV WIFI31Jan25 | M12: ='IRR Approved (2)'!G13 -> 94885769
E13: Cable FO (meter) | H13: 0 | K13: Total COGS Rent | M13: ='IRR Approved (2)'!Q25 -> 350000000
E14: Drop Wire (meter) | H14: 0 | K14: Total COGS Other | M14: =SUM('IRR Approved (2)'!Q26:Q31) -> 676225500
E16: OTHERS | K16: IRR 5 th | M16: ='IRR Approved (2)'!F48 -> 0.37063687
K17: NPV 5th | M17: ='IRR Approved (2)'!F49 -> 2.770067e+08
K18: EBITDA margin | M18: ='IRR Approved (2)'!F50 -> 0.4717149
K19: Payback (year) | M19: ='IRR Approved (2)'!F51 -> 3.9365257
B21: Target to Achieve by Commercial: | L21: Prepared by
B22: Revenue | L22: Citra K.
B27: Approved by

Sheet IRR Approved (2)
B1: NO : | C1: 0002/IRR/IBC-Open/X/2024 | Q1: =Summary!$D$6 -> Mansion Pasar Baru
B2: General Asumption | I2: Operator join | J2: Rev.Change
C3: Tax Rate | F3: 0.02 | I3: 2026 Tsel | J3: -0.05
C4: Interest Rate | F4: 0.1
C5: SG&A | F5: 0.05 | G5: from Revenues | J5: -
C6: BHPUSO | F6: 0 | G6: from Revenues | J6: -
C7: Price Adjustment after 5 year | F7: 0.1
G9: Y1 | H9: Y2 | I9: Y3 | J9: Y4 | K9: Y5 | M9: Y7 | N9: Y8 | O9: Y9 | P9: Y10 | Q9: Total
B10: CAPEX
B11: Total CAPEX | E11: Capex Pindahan Pole Tsel | G11: ='BoQ MANSION'!I57 -> 116098500 | Q11: =SUM(G11:K11) -> 116098500
E12: BV31Jan25DAS | F12: =Summary!H8 -> 301 | G12: 169005226 | Q12: =SUM(G12:K12) -> 169005226
E13: BV31Jan25Openet | F13: 51 | G13: 94885769 | Q13: =SUM(G13:K13) -> 94885769
G14: =SUM(G11:G13) -> 379989495 | H14: =SUM(H11:H13) -> 0 | I14: =SUM(I11:I13) -> 0 | J14: =SUM(J11:J13) -> 0 | K14: =SUM(K11:K13) -> 0 | L14: =SUM(L11:L13) -> 0 | M14: =SUM(M11:M13) -> 0 | N14: =SUM(N11:N13) -> 0 | ... Q14: =SUM(Q11:Q13) -> 379989495
B15: IRR Calculation | G15: 2025 | H15: =G15+1 -> 2026 | I15: =H15+1 -> 2027 | J15: =I15+1 -> 2028 | K15: =J15+1 -> 2029 | M15: =L15+1 -> 1 | N15: =M15+1 -> 2 | O15: =N15+1 -> 3 | P15: =O15+1 -> 4 | Q15: Total
B16: Months of Service | G16: 12 | H16: 12 | I16: 12 | J16: 12 | K16: 12 | M16: 12 | N16: 12 | O16: 12 | P16: 12
B17: % increase (decrease)
B19: Revenues
C20: TSEL | G20: 307200000 | H20: =G20*95% -> 291840000 | I20: =H20 -> 291840000 | J20: =I20 -> 291840000 | K20: =J20 -> 291840000 | Q20: =SUM($G20:P20) -> 1474560000
C21: Openet | E21: 51 tenant | G21: =7800000*12 -> 93600000 | H21: =G21 -> 93600000 | I21: =H21 -> 93600000 | J21: =I21 -> 93600000 | K21: =J21 -> 93600000 | Q21: =SUM($G21:P21) -> 468000000
B22: Total Revenues | G22: =SUM(G20:G21) -> 400800000 | H22: =SUM(H20:H21) -> 385440000 | I22: =SUM(I20:I21) -> 385440000 | J22: =SUM(J20:J21) -> 385440000 | K22: =SUM(K20:K21) -> 385440000 | M22: =SUM(M20:M20) -> 0 | N22: =SUM(N20:N20) -> 0 | O22: =SUM(O20:O20) -> 0 | P22: =SUM(P20:P20) -> 0 | Q22: =SUM(Q20:Q21) -> 1942560000 | R22: =SUM(G22:L22)-Q22 -> 0
B24: OPEX
C25: Lease to BM | G25: 350000000 | Q25: =SUM($G25:P25) -> 350000000
C26: cost complement | G26: 1821500 | H26: =G26 -> 1821500 | I26: =H26 -> 1821500 | J26: =I26 -> 1821500 | K26: =J26 -> 1821500 | Q26: =SUM($G26:P26) -> 9107500
C27: Electricity | G27: =PARAMETER!B80*2 -> 96000000 | H27: =G27 -> 96000000 | I27: =H27 -> 96000000 | J27: =I27 -> 96000000 | K27: =J27 -> 96000000 | Q27: =SUM($G27:P27) -> 480000000
C28: Maintenance (RPM) | G28: =7000000 -> 7000000 | H28: =G28 -> 7000000 | I28: =H28 -> 7000000 | J28: =I28 -> 7000000 | K28: =J28 -> 7000000 | Q28: =SUM($G28:P28) -> 35000000
C29: Fixed Operational Cost | F29: 0.1 | G29: =G21*10% -> 9360000 | H29: =H21*10% -> 9360000 | I29: =I21*10% -> 9360000 | J29: =J21*10% -> 9360000 | K29: =K21*10% -> 9360000 | Q29: =SUM($G29:P29) -> 46800000
C30: SG&A (inhouse resources) | G30: =$F$5*G22 -> 20040000 | H30: =$F$5*H22 -> 19272000 | I30: =$F$5*I22 -> 19272000 | J30: =$F$5*J22 -> 19272000 | K30: =$F$5*K22 -> 19272000 | M30: =$F$5*M22 -> 0 | N30: =$F$5*N22 -> 0 | O30: =$F$5*O22 -> 0 | P30: =$F$5*P22 -> 0 | Q30: =SUM($G30:P30) -> 97128000
C31: BHP | F31: 0.0175 | G31: =G21*$F$31 -> 1638000 | H31: =H21*$F$31 -> 1638000 | I31: =I21*$F$31 -> 1638000 | J31: =J21*$F$31 -> 1638000 | K31: =K21*$F$31 -> 1638000 | Q31: =SUM($G31:P31) -> 8190000
B32: Total OPEX | G32: =SUM(G25:G31) -> 485859500 | H32: =SUM(H25:H31) -> 135091500 | I32: =SUM(I25:I31) -> 135091500 | J32: =SUM(J25:J31) -> 135091500 | K32: =SUM(K25:K31) -> 135091500 | M32: =SUM(M25:M30) -> 0 | N32: =SUM(N25:N30) -> 0 | O32: =SUM(O25:O30) -> 0 | P32: =SUM(P25:P30) -> 0 | Q32: =SUM(Q25:Q31) -> 1026225500 | R32: =SUM(G32:L32)-Q32 -> 0
B33: Total EBITDA | G33: =G22-G32 -> -85059500 | H33: =H22-H32 -> 250348500 | I33: =I22-I32 -> 250348500 | J33: =J22-J32 -> 250348500 | K33: =K22-K32 -> 250348500 | M33: =M22-M32 -> 0 | N33: =N22-N32 -> 0 | O33: =O22-O32 -> 0 | P33: =P22-P32 -> 0 | Q33: =Q22-Q32 -> 916334500 | R33: =SUM(G33:L33)-Q33 -> 0
B34: Ebitda margin | H34: =H33/H22 -> 0.64951354 | I34: =I33/I22 -> 0.64951354 | J34: =J33/J22 -> 0.64951354 | K34: =K33/K22 -> 0.64951354 | M34: =M33/M22 -> #DIV/0! | N34: =N33/N22 -> #DIV/0! | O34: =O33/O22 -> #DIV/0! | P34: =P33/P22 -> #DIV/0! | Q34: =Q33/Q22 -> 0.4717149
B36: Depreciation Expense | G36: =G55 -> 75997899 | H36: =H65 -> 75997899 | I36: =I65 -> 75997899 | J36: =J65 -> 75997899 | K36: =K65 -> 75997899 | Q36: =SUM($G36:P36) -> 379989495
B37: Total EBIT | G37: =G33-G36 -> -161057399 | H37: =H33-H36 -> 174350601 | I37: =I33-I36 -> 174350601 | J37: =J33-J36 -> 174350601 | K37: =K33-K36 -> 174350601 | M37: =M33-M36 -> 0 | N37: =N33-N36 -> 0 | O37: =O33-O36 -> 0 | P37: =P33-P36 -> 0 | Q37: =Q33-Q36 -> 536345005 | R37: =SUM(G37:L37)-Q37 -> 0
B38: Interest Expense | G38: =PARAMETER!M34 -> 10335522 | H38: =PARAMETER!N34 -> 2699129.8 | I38: =PARAMETER!O34 -> 26098.13 | J38: =PARAMETER!P34 -> 0 | K38: =PARAMETER!P34 -> 0 | M38: =W76 -> 0 | N38: =X76 -> 0 | O38: =Y76 -> 0 | P38: =Z76 -> 0 | Q38: =SUM($G38:L38) -> 13060749
B39: EBT | G39: =G37-G38 -> -1.7139292e+08 | H39: =H37-H38 -> 1.7165147e+08 | I39: =I37-I38 -> 1.743245e+08 | J39: =J37-J38 -> 174350601 | K39: =K37-K38 -> 174350601 | M39: =M37-M38 -> 0 | N39: =N37-N38 -> 0 | O39: =O37-O38 -> 0 | P39: =P37-P38 -> 0 | Q39: =SUM($G39:P39) -> 5.2328426e+08 | R39: =SUM(G39:L39)-Q39 -> 0
B40: Tax Expense | G40: =IF(G39<0,0,G39*$F$3) -> 0 | H40: =IF(H39<0,0,H39*$F$3) -> 3433029.4 | I40: =IF(I39<0,0,I39*$F$3) -> 3486490.1 | J40: =IF(J39<0,0,J39*$F$3) -> 3487012 | K40: =IF(K39<0,0,K39*$F$3) -> 3487012 | Q40: =SUM($G40:L40) -> 13893544 | R40: =SUM(G40:L40)-Q40 -> 0
B41: Net Income | G41: =G39-G40 -> -1.7139292e+08 | H41: =H39-H40 -> 1.6821844e+08 | I41: =I39-I40 -> 1.7083801e+08 | J41: =J39-J40 -> 1.7086359e+08 | K41: =K39-K40 -> 1.7086359e+08 | M41: =M39-M40 -> 0 | N41: =N39-N40 -> 0 | O41: =O39-O40 -> 0 | P41: =P39-P40 -> 0 | Q41: =Q39-Q40 -> 5.0939071e+08 | R41: =SUM(G41:L41)-Q41 -> 0
B43: Capex | G43: =-G12-G13-G11 -> -379989495 | H43: 0 | I43: 0 | J43: 0 | K43: 0 | Q43: =SUM($G$43:K43) -> -379989495
B44: FCFF | G44: =G43+G41+G36 -> -4.7538452e+08 | H44: =H43+H41+H36 -> 2.4421634e+08 | I44: =I43+I41+I36 -> 2.4683591e+08 | J44: =J43+J41+J36 -> 2.4686149e+08 | K44: =K43+K41+K36 -> 2.4686149e+08 | M44: =M43+M41+M36 -> 0 | N44: =N43+N41+N36 -> 0 | O44: =O43+O41+O36 -> 0 | P44: =P43+P41+P36 -> 0 | Q44: =SUM($F$44:P44) -> 5.0939071e+08
B45: Accumulated FCF | G45: =+G44 -> -4.7538452e+08 | H45: =G45+H44 -> -2.3116818e+08 | I45: =H45+I44 -> 15667736 | J45: =I45+J44 -> 2.6252922e+08 | K45: =J45+K44 -> 5.0939071e+08
...

Sheet PARAMETER
A1: PERHITUNGAN INTEREST EXPENSE based CAPEX
A2: Capex tahun | B2: 5 | C2: 2015 | D2: =C2+1 -> 2016 | E2: =D2+1 -> 2017 | F2: =E2+1 -> 2018 | G2: =F2+1 -> 2019 | H2: =G2+1 -> 2020 | I2: =H2+1 -> 2021 | J2: =I2+1 -> 2022 | K2: =J2+1 -> 2023 | ... Q2: =P2+1 -> 2029
A3: 2015 | B3: loan | C3: 1097486346 | D3: =C3-$C$4 -> 8.7798908e+08 | E3: =D3-$C$4 -> 6.5849181e+08 | F3: =E3-$C$4 -> 4.3899454e+08 | G3: =F3-$C$4 -> 2.1949727e+08 | H3: =G3-$C$4 -> 0
B4: Installment/thn | C4: =C3/B2 -> 2.1949727e+08
B5: Interest | C5: =(($C$3*'IRR Approved (2)'!F4*6)/12) -> 54874317 | D5: =AVERAGE(C3:D3)*'IRR Approved (2)'!$F$4 -> 98773771 | E5: =AVERAGE(D3:E3)*'IRR Approved (2)'!$F$4 -> 76824044 | F5: =AVERAGE(E3:F3)*'IRR Approved (2)'!$F$4 -> 54874317 | G5: =AVERAGE(F3:G3)*'IRR Approved (2)'!$F$4 -> 32924590 | H5: =AVERAGE(G3:H3)*'IRR Approved (2)'!$F$4 -> 10974863 | I5: =AVERAGE(H3:I3)*'IRR Approved (2)'!$F$4 -> 0
A6: 2016 | B6: loan | D6: 14098000 | E6: =D6-$D$7 -> 11278400 | F6: =E6-$D$7 -> 8458800 | G6: =F6-$D$7 -> 5639200 | H6: =G6-$D$7 -> 2819600 | I6: =H6-$D$7 -> 0
B7: Installment/thn | D7: =D6/$B$2 -> 2819600
B8: Interest | D8: =((D6*'IRR Approved (2)'!F4*6)/12) -> 704900 | E8: =AVERAGE(D6:E6)*'IRR Approved (2)'!$F$4 -> 1268820 | F8: =AVERAGE(E6:F6)*'IRR Approved (2)'!$F$4 -> 986860 | G8: =AVERAGE(F6:G6)*'IRR Approved (2)'!$F$4 -> 704900 | H8: =AVERAGE(G6:H6)*'IRR Approved (2)'!$F$4 -> 422940 | I8: =AVERAGE(H6:I6)*'IRR Approved (2)'!$F$4 -> 140980 | J8: =AVERAGE(I6:J6)*'IRR Approved (2)'!$F$4 -> 0
A9: 2017 | B9: loan | E9: 7049000 | F9: =E9-$E$10 -> 5639200 | G9: =F9-$E$10 -> 4229400 | H9: =G9-$E$10 -> 2819600 | I9: =H9-$E$10 -> 1409800 | J9: =I9-$E$10 -> 0
B10: Installment/thn | E10: =E9/$B$2 -> 1409800
B11: Interest | E11: =((E9*'IRR Approved (2)'!F4*6)/12) -> 352450 | F11: =AVERAGE(E9:F9)*'IRR Approved (2)'!$F$4 -> 634410 | G11: =AVERAGE(F9:G9)*'IRR Approved (2)'!$F$4 -> 493430 | H11: =((H9*'IRR Approved (2)'!F4*6)/12) -> 140980 | I11: =AVERAGE(H9:I9)*'IRR Approved (2)'!$F$4 -> 211470 | J11: =AVERAGE(I9:J9)*'IRR Approved (2)'!$F$4 -> 70490 | K11: =AVERAGE(J9:K9)*'IRR Approved (2)'!$F$4 -> 0
A12: 2018 | B12: loan | F12: 105349010 | G12: =F12-$F$13 -> 84279208 | H12: =G12-$F$13 -> 63209406 | I12: =H12-$F$13 -> 42139604 | J12: =I12-$F$13 -> 21069802 | K12: =J12-$F$13 -> 0
B13: Installment/thn | F13: =F12/$B$2 -> 21069802
B14: Interest | F14: =((F12*'IRR Approved (2)'!F4*6)/12) -> 5267450.5 | G14: =AVERAGE(F12:G12)*'IRR Approved (2)'!$F$4 -> 9481410.9 | H14: =AVERAGE(G12:H12)*'IRR Approved (2)'!$F$4 -> 7374430.7 | I14: =AVERAGE(H12:I12)*'IRR Approved (2)'!$F$4 -> 5267450.5 | J14: =AVERAGE(I12:J12)*'IRR Approved (2)'!$F$4 -> 3160470.3 | K14: =AVERAGE(J12:K12)*'IRR Approved (2)'!$F$4 -> 1053490.1 | L14: =AVERAGE(K12:L12)*'IRR Approved (2)'!$F$4 -> 0
A15: 2019 | B15: loan
B16: Installment/thn
B17: Interest
A18: 2020 | B18: loan | H18: =280000000*0+234252476 -> 234252476 | I18: =H18-$H$19 -> 1.8740198e+08 | J18: =I18-$H$19 -> 1.4055149e+08 | K18: =J18-$H$19 -> 93700990 | L18: =K18-$H$19 -> 46850495 | M18: =L18-$H$19 -> 0
B19: Installment/thn | H19: =H18/$B$2 -> 46850495
B20: Interest | H20: =((H18*'IRR Approved (2)'!$F$4*6)/12) -> 11712624 | I20: =AVERAGE(H18:I18)*'IRR Approved (2)'!$F$4 -> 21082723 | J20: =AVERAGE(I18:J18)*'IRR Approved (2)'!$F$4 -> 16397673 | K20: =AVERAGE(J18:K18)*'IRR Approved (2)'!$F$4 -> 11712624 | L20: =AVERAGE(K18:L18)*'IRR Approved (2)'!$F$4 -> 7027574.3 | M20: =AVERAGE(L18:M18)*'IRR Approved (2)'!$F$4 -> 2342524.8 | N20: =AVERAGE(M18:N18)*'IRR Approved (2)'!$F$4 -> 0
A21: 2021 | B21: loan | I21: 262083538 | J21: =I21-$I$22 -> 2.0966683e+08 | K21: =J21-$I$22 -> 1.5725012e+08 | L21: =K21-$I$22 -> 1.0483342e+08 | M21: =L21-$I$22 -> 52416708 | N21: =M21-$I$22 -> 0
B22: Installment/thn | I22: =I21/$B$2 -> 52416708
B23: Interest | I23: =((I21*'IRR Approved (2)'!$F$4*6)/12) -> 13104177 | J23: =AVERAGE(I21:J21)*'IRR Approved (2)'!$F$4 -> 23587518 | K23: =AVERAGE(J21:K21)*'IRR Approved (2)'!$F$4 -> 18345848 | L23: =AVERAGE(K21:L21)*'IRR Approved (2)'!$F$4 -> 13104177 | M23: =AVERAGE(L21:M21)*'IRR Approved (2)'!$F$4 -> 7862506.1 | N23: =AVERAGE(M21:N21)*'IRR Approved (2)'!$F$4 -> 2620835.4 | O23: =AVERAGE(N21:O21)*'IRR Approved (2)'!$F$4 -> 0
A24: 2022 | B24: loan | J24: 2609813 | K24: =J24-$J$25 -> 2087850.4 | L24: =K24-$J$25 -> 1565887.8 | M24: =L24-$J$25 -> 1043925.2 | N24: =M24-$J$25 -> 521962.6 | O24: =N24-$J$25 -> 0
B25: Installment/thn | J25: =J24/$B$2 -> 521962.6
B26: Interest | J26: =((J24*'IRR Approved (2)'!$F$4*6)/12) -> 130490.65 | K26: =AVERAGE(J24:K24)*'IRR Approved (2)'!$F$4 -> 234883.17 | L26: =AVERAGE(K24:L24)*'IRR Approved (2)'!$F$4 -> 182686.91 | M26: =AVERAGE(L24:M24)*'IRR Approved (2)'!$F$4 -> 130490.65 | N26: =AVERAGE(M24:N24)*'IRR Approved (2)'!$F$4 -> 78294.39 | O26: =AVERAGE(N24:O24)*'IRR Approved (2)'!$F$4 -> 26098.13 | P26: =AVERAGE(O24:P24)*'IRR Approved (2)'!$F$4 -> 0
A27: 2023 | B27: loan | L27: =K27-$K$28 -> 0 | M27: =L27-$K$28 -> 0 | N27: =M27-$K$28 -> 0 | O27: =N27-$K$28 -> 0 | P27: =O27-$K$28 -> 0
B28: Installment/thn | K28: =K27/$B$2 -> 0
B29: Interest | K29: =((K27*'IRR Approved (2)'!$F$4*6)/12) -> 0 | L29: =AVERAGE(K27:L27)*'IRR Approved (2)'!$F$4 -> 0 | M29: =AVERAGE(L27:M27)*'IRR Approved (2)'!$F$4 -> 0 | N29: =AVERAGE(M27:N27)*'IRR Approved (2)'!$F$4 -> 0 | O29: =AVERAGE(N27:O27)*'IRR Approved (2)'!$F$4 -> 0 | P29: =AVERAGE(O27:P27)*'IRR Approved (2)'!$F$4 -> 0 | Q29: =AVERAGE(P27:Q27)*'IRR Approved (2)'!$F$4 -> 0
A30: 2024 | B30: loan | L30: =55000000*0 -> 0 | M30: =L30-$L$31 -> 0 | N30: =M30-$L$31 -> 0 | O30: =N30-$L$31 -> 0 | P30: =O30-$L$31 -> 0 | Q30: =P30-$L$31 -> 0
B31: Installment/thn | L31: =L30/$B$2 -> 0
B32: Interest | L32: =((L30*'IRR Approved (2)'!$F$4*6)/12) -> 0 | M32: =AVERAGE(L30:M30)*'IRR Approved (2)'!$F$4 -> 0 | N32: =AVERAGE(M30:N30)*'IRR Approved (2)'!$F$4 -> 0 | O32: =AVERAGE(N30:O30)*'IRR Approved (2)'!$F$4 -> 0 | P32: =AVERAGE(O30:P30)*'IRR Approved (2)'!$F$4 -> 0 | Q32: =AVERAGE(P30:Q30)*'IRR Approved (2)'!$F$4 -> 0 | R32: =AVERAGE(Q30:R30)*'IRR Approved (2)'!$F$4 -> 0
C34: =C8+C5+C11+C14+C17+C20+C23+C26+C29+C32 -> 54874317 | D34: =D8+D5+D11+D14+D17+D20+D23+D26+D29+D32 -> 99478671 | E34: =E8+E5+E11+E14+E17+E20+E23+E26+E29+E32 -> 78445314 | F34: =F8+F5+F11+F14+F17+F20+F23+F26+F29+F32 -> 61763038 | G34: =G8+G5+G11+G14+G17+G20+G23+G26+G29+G32 -> 43604331 | H34: =H8+H5+H11+H14+H17+H20+H23+H26+H29+H32 -> 30625838 | I34: =I8+I5+I11+I14+I17+I20+I23+I26+I29+I32 -> 39806800 | J34: =J8+J5+J11+J14+J17+J20+J23+J26+J29+J32 -> 43346643 | ... S34: =S8+S5+S11+S14+S17+S20+S23+S26+S29+S32 -> 0
A40: SG&A | B40: 50000000 | C40: =B40+C41 -> 51000000 | D40: =C40+D42 -> 52020000 | E40: =D40+E42 -> 53060400 | F40: =E40+F42 -> 54121608 | G40: =F40+G42 -> 55204040 | H40: =G40+H42 -> 56308121 | I40: =H40+I42 -> 57434283 | J40: =I40+J42 -> 58582969 | K40: =J40+K42 -> 59754628
A41: 0.02 | C41: =C42 -> 1000000 | D41: =C41+D42 -> 2020000 | E41: =D41+E42 -> 3060400 | F41: =E41+F42 -> 4121608 | G41: =F41+G42 -> 5204040.2 | H41: =G41+H42 -> 6308121 | I41: =H41+I42 -> 7434283.4 | J41: =I41+J42 -> 8582969.1 | K41: =J41+K42 -> 9754628.4
C42: =B40*$A$41 -> 1000000 | D42: =C40*$A$41 -> 1020000 | E42: =D40*$A$41 -> 1040400 | F42: =E40*$A$41 -> 1061208 | G42: =F40*$A$41 -> 1082432.2 | H42: =G40*$A$41 -> 1104080.8 | I42: =H40*$A$41 -> 1126162.4 | J42: =I40*$A$41 -> 1148685.7 | K42: =J40*$A$41 -> 1171659.4
F47: person | G47: trip | H47: kamar | I47: Days by Omni | J47: Biaya walktest inhouse/visit | K47: Biaya walktest inhouse/thn
E48: Diisikan | F48: 1 | G48: 1 | H48: 1 | I48: 266
B49: Transport | C49: Pesawat | D49: =C60 -> 3000000 | E49: person | F49: =F48 -> 1 | J49: =F49*D49 -> 3000000
C50: Bandara | D50: 600000 | E50: person | F50: =F48 -> 1 | I50: =IF($I$40<=120,2,IF($I$40>220,4,3)) -> 4 | J50: =D50*F50 -> 600000
...

Sheet Summary Review
C1: SUMMARY REVIEW
A3: Nama Site | C3: : The Pasar Baru Mansion
A4: Nama Pemilik | C4: : PT. Trikarya Idea Sakti
A5: Alamat Pemilik | C5: : Jl. Pintu Air 5 No. 33
A6: Telp | C6: : 021-3801756
A7: Obyek Sewa | C7: : 301 Omni + 8 Pole Antenna + RBS 40 m²
A9: No. | B9: Keterangan | C9: Existing | D9: Renewal
A11: 1 | B11: Scope Of Lease | C11: IBC | D11: IBC
A12: 2 | B12: Obyek Sewa | C12: 301 Omni + 8 Pole Antenna + RBS 40 m² | D12: 301 Omni + 8 Pole Antenna + RBS 40 m²
A13: 3 | B13: Periode Sewa | C13: 14 Februari 2020 /d 13 Februari 2025 | D13: 14 Februari 2025/d 13 Februari 2030
A14: 4 | B14: Harga Sewa | C14: Rp. 360.000.000/5th Untuk Opt. Telkomsel | D14: Rp. 350.000.000/5th Untuk Opt. Telkomsel
A15: 5 | B15: Harga Sewa Pertahun | C15: Rp. 72.000.000/th | D15: Rp. 70.000.000/th
B16: Harga Sewa Saat Opt XL Joint | D16: XL : Rp. 225.000.000/5 th @ 45.000.000/th
B17: Harga Sewa Saat Opt IOH Joint | D17: IOH: Rp. 275.000.000/5 th @ 55.000.000/th
A18: 6 | B18: Term Pembayaran | C18: 100% setelah BAK & PKS ditandatangani Kedua Belah Pihak | D18: 100% setelah BAK & PKS ditandatangani Kedua Belah Pihak
A19: 7 | B19: Operator Join | C19: 1. Telkomsel ( 23 Jan 2016 s/d 22 Jan 2021 ) | D19: 1. Telkomsel ( 23 Jan 2021 s/d 22 Jan 2026 )
A20: 8 | B20: complementary | C20: 50 mbps + TV Rp.493.000,- 1 Paket | D20: 50 mbps + TV Rp.493.000,- 1 Paket
C21: 50 mbps + TVBasic Rp.415.000,- 1 Paket | D21: 50 mbps + TVBasic Rp.415.000,- 1 Paket
C22: 25 mbps + TV Basix Rp.304.500,- 3 Paket | D22: 25 mbps + TV Basix Rp. 304.500,- 3 Paket
A23: 8 | B23: Kenaikan/ Penurunan Harga | C23: Mengalami Penurunan 2,77 %

Sheet Analisa
A2: SITE MANSION PASAR BARU
A3: Periode | B3: Start | C3: End
A4: Rev Tsel | B4: 44219 | C4: 46044
A5: Sewa BM | B5: 45702 | C5: 11002
B7: Start | C7: End | D7: Days
A8: Worse >> Jika Sewa BM diperpanjang 5 tahun dan XL sesuai periodenya XL, maka:
A9: Rev XL | B9: 45346 | C9: 45559 | D9: =C9-B9 -> 213 | E9: 150000000 | F9: =E9*D9/365 -> 87534247
A10: Sewa BM | B10: 45346 | C10: 47172 | D10: =C10-B10 -> 1826 | E10: =275000000/5 -> 55000000 | F10: =-E10/365*D10 -> -2.7515068e+08
A11: OM | B11: 45346 | C11: 45559 | D11: =C11-B11 -> 213 | E11: 7000000 | F11: =-E11/365*D11 -> -4084931.5
A12: Antisipasi Add Capex and Pole | E12: 100000000
A13: Profit | F13: =SUM(F9:F12) -> -1.9170137e+08
A15: Worse >> Jika Sewa BM diperpanjang 2 tahun dan Tsel sesuai Eksisting, maka:
A16: Rev Tsel | B16: 45702 | C16: 46044 | D16: =C16-B16 -> 342 | E16: 291840000 | F16: =E16*D16/365 -> 2.7345008e+08
A17: Rev GPON | B17: 45702 | C17: 47527 | D17: =C17-B17 -> 1825 | E17: 93600000 | F17: =E17*D17/365 -> 468000000
A18: Sewa BM | B18: 45702 | C18: 47527 | D18: =C18-B18 -> 1825 | E18: 70000000 | F18: =-E18/365*D18 -> -350000000
A19: OM | B19: 45702 | C19: 46044 | D19: =C19-B19 -> 342 | E19: 7000000 | F19: =-E19/365*D19 -> -6558904.1
A20: Listrik Tsel | B20: 45702 | C20: 46044 | D20: =C20-B20 -> 342 | E20: 96000000 | F20: =-E20/365*D20 -> -89950685
A21: Antisipasi Add Capex and Pole | E21: ='BoQ MANSION'!I57 -> 116098500 | F21: =-E21 -> -116098500
A22: Profit | F22: =SUM(F16:F21) -> 1.7884199e+08

Sheet BoQ MANSION
B1: BOQ - MANSION PASARBARU (RELOKASI MAKRO TELKOMSEL)
B2: Date: 12 September 2024
B3: PT. Infrastruktur Bisnis Sejahtera
B5: NO. | C5: ITEM WORK | D5: UoM | E5: Volume | F5: UNIT PRICE MATERIAL | G5: UNIT PRICE JASA | H5: UNIT PRICE MATERIAL+JASA | I5: TOTAL PRICE | J5: REMARKS
B7: B | C7: CME
B8: 2 | C8: Supply & Installation Power Cable NYY 3x10mm, 1 Phase (to Mini PDB) | D8: M | E8: =140+130 -> 270 | F8: 80000 | G8: 20000 | H8: =F8+G8 -> 100000 | I8: =E8*H8 -> 27000000
B9: 3 | C9: MINI PDB 1 Phase Outdoor (BOX MCB TERMINAL) | D9: 1 SET | E9: 2 | F9: 2500000 | G9: 30000 | H9: =F9+G9 -> 2530000 | I9: =E9*H9 -> 5060000
B10: D | C10: POLE HD-Galvanized(Sesuai speck design IBS)
B11: 2 | C11: New Pole 3 M HD-Galvanized dia. 4", include Installation & Mounting Bracket, Anchor Bolt & Bolt+Nut Stainless Steel (*see design) | D11: KG | E11: =160+120 -> 280 | F11: 32000 | H11: =F11+G11 -> 32000 | I11: =E11*H11 -> 8960000 | J11: * Pole 1 (L9)= 160 kg; Pole 2 (P5)= 120 kg
C12: a. Concrete Foundation K-225 include damdex 2% dari berat semen yang digunakan, Pondasi L Type | D12: M3 | E12: =0.04+0.14 -> 0.18 | F12: 4300000 | H12: =F12+G12 -> 4300000 | I12: =E12*H12 -> 774000 | J12: * Pondasi Pole 1= 0,04 M3; Pondasi Pole 2= 0,14 M3--> Wajib Campur DAMDEX
C13: b. Ubolt D16, Nut & Washer M16; HD-Galvanized | D13: PCS | E13: 4 | F13: 55000 | H13: =F13+G13 -> 55000 | I13: =E13*H13 -> 220000 | J13: * Pole 1= 2pcs & Pole 2= 2pcs
C14: c. Anchor M16-250 mm HD-Galvanized + Nut (Double) + Washer | D14: PCS | E14: =4+8 -> 12 | F14: 55000 | G14: 5000 | H14: =F14+G14 -> 60000 | I14: =E14*H14 -> 720000 | J14: * Pole 1= 4pcs+Pole 2= 8pcs
C15: d. Anchor M12-250 mm HD-Galvanized + Nut (Double) + Washer | D15: PCS | E15: 8 | F15: 55000 | G15: 5000 | H15: =F15+G15 -> 60000 | I15: =E15*H15 -> 480000 | J15: * Untuk Support Pole 1
C16: e. Chemical Hilti Re 500 D13 - 70 mm | D16: Tube | E16: 2 | F16: 600000 | G16: 200000 | H16: =F16+G16 -> 800000 | I16: =E16*H16 -> 1600000 | J16: * untuk 12 titik; estimasi pertitik @20ml= 200ml (1 tube=500ml)
C17: f. Chemical Hilti HVU D12 - 70 mm | D17: PCS | E17: 16 | F17: 150000 | G17: 50000 | H17: =F17+G17 -> 200000 | I17: =E17*H17 -> 3200000 | J17: * untuk 8 titik
C18: g. Waterproofing (Ex: Sika/Flinkote) | D18: LS | E18: 1 | F18: 1000000 | G18: 300000 | H18: =F18+G18 -> 1300000 | I18: =E18*H18 -> 1300000 | J18: * Overlap 40cm dari pondasi ( 2 pole)
B19: E | C19: ARM & BOOM
B20: 1 | C20: ARM & BOOM for Outdoor Antenna Sectoral, HD-Galvanized Æ2 ", include Installation & Mounting Bracket & Bolt+Nut Stainless Steel (*See design IBS) | D20: KG | E20: =42*2 -> 84 | F20: 29000 | G20: 5000 | H20: =F20+G20 -> 34000 | I20: =E20*H20 -> 2856000 | J20: * Arm Boom 2 set = @42kg x 2pcs
C21: - L Profile 60x60x6 - 4 pcs
C22: - U Profile 80x80x8 - 4 pcs
C23: - U Bolt f16 mm - 4 pcs
B24: F | C24: CABLE TRAY, LADDER FOR CABLE LINE
B25: 1 | C25: Cable Tray Hot Deep Galvanized w=100mm h=50mm, include accessories (Bracket Mounting + Hangger + Joint Tray + Bolt & nut) | D25: M | E25: 50 | F25: 250000 | G25: 15000 | H25: =F25+G25 -> 265000 | I25: =E25*H25 -> 13250000
B26: 2 | C26: Cable Tray Hot Deep Galvanized Accessoris for Cable Tray w=100mm h=50mm : | D26: M
C27: a) Horizontal Elbow | D27: M | E27: 5 | F27: 150000 | G27: 5000 | H27: =F27+G27 -> 155000 | I27: =E27*H27 -> 775000
C28: c) Outside Riser | D28: PCS | E28: 3 | F28: 150000 | G28: 5000 | H28: =F28+G28 -> 155000 | I28: =E28*H28 -> 465000
C29: d) Inside Riser | D29: PCS | E29: 3 | F29: 150000 | G29: 5000 | H29: =F29+G29 -> 155000 | I29: =E29*H29 -> 465000
B30: G | C30: GROUNDING SYSTEMS ( <1ohm )
B31: 1 | C31: Lightning Protection (Spitzen) - Aluminium | D31: PCS | E31: 1 | F31: 200000 | G31: 10000 | H31: =F31+G31 -> 210000 | I31: =E31*H31 -> 210000 | J31: * tap to existing box control IBS
B32: 2 | C32: Grounding Bar Aluminium 300x100x10 mm, 2 Rows | D32: PCS | E32: =1*2 -> 2 | F32: 250000 | G32: 10000 | H32: =F32+G32 -> 260000 | I32: =E32*H32 -> 520000
B33: 3 | C33: Ceramic Isolator | D33: PCS | E33: =2*2 -> 4 | F33: 25000 | G33: 10000 | H33: =F33+G33 -> 35000 | I33: =E33*H33 -> 140000
B34: 4 | C34: Stainless Shoe Cable (kabel skun)
C35: a. Stainless Shoe Cable (kabel skun) 50 mm | D35: PCS | E35: =2*2 -> 4 | F35: 6000 | G35: 1000 | H35: =F35+G35 -> 7000 | I35: =E35*H35 -> 28000
C36: b. Stainless Shoe Cable (kabel skun) 70 mm | D36: PCS | E36: =2*2 -> 4 | F36: 6000 | G36: 1000 | H36: =F36+G36 -> 7000 | I36: =E36*H36 -> 28000
B37: 5 | C37: Kabel Grounding Aluminium 70 mm2 type AAAC-S (dengan pembungkus kabel) untuk Grounding Penangkal Petir | D37: M | E37: =140 -> 140 | F37: 20000 | G37: 10000 | H37: =F37+G37 -> 30000 | I37: =E37*H37 -> 4200000 | J37: * tap to existing
B38: 6 | C38: Kabel Grounding Aluminium 50 mm2 type AAAC-S (dengan pembungkus kabel) untuk Grounding Perangkat | D38: M | E38: =135+140 -> 275 | F38: 15000 | G38: 10000 | H38: =F38+G38 -> 25000 | I38: =E38*H38 -> 6875000 | J38: * tap to existing
B39: H | C39: MISCELLANEOUS MIGRASI | D39: LS | E39: 1 | F39: 1000000 | G39: 0 | H39: =F39+G39 -> 1000000 | I39: =E39*H39 -> 1000000
C40: a. Heatshrink
C41: b.Cable Ties
C42: c. Tapes
...
