Workbook
Name jk: #REF!
Name jk: #REF!
Name years_contract: [1]Kerlink!$D$5

Sheet Summary
C2: Product : | D2: IBS / DAS | J2: Tanggal P&L: | M2: 45055
C3: Status P&L | D3: Renewal
B5: Site Information | E5: Technical Information | J5: Financial Summary
B6: Site Name | D6: Hotel Aston Makassar | E6: IBC | K6: Capex /antenna | M6: 0
B7: Address | D7: Jl. Sultan Hasanuddin No.10 | E7: Antena PKS BM | H7: 84 | K7: Contract Period (thn) | M7: 5
D8: Kota Makassar | E8: Antena Asset | H8: 84 | K8: Interest rate /year | M8: 0.1
B9: Area building | D9: Sulawesi Selatan | E9: Jumlah Pole Makro | H9: 1 | K9: Kurs 1USD | M9: 0
B10: Type of building | D10: Hotel | E10: OPENET | K10: Total Capex | M10: =IRR!G11 -> 77500000
B11: Status | D11: Renewal | E11: Cable FO (Core) | H11: 0 | K11: Total Opex | M11: =IRR!L28 -> 5.5283128e+08
B12: Total floor | D12: 15 | E12: Cable FO (meter) | H12: 0 | K12: Total Revenue | M12: =IRR!L21 -> 860625610
B13: No of building tower | D13: 1 | E13: Drop Wire (meter) | H13: 0
E14: OTHERS | K14: IRR | M14: =IRR!F45 -> 0.66487541
K15: NPV | M15: =IRR!F46 -> 1.3526022e+08
K16: EBITDA margin | M16: =IRR!F47 -> 0.35764022
K17: Payback (year) | M17: =IRR!F48 -> 1.3839957
B19: Target Achieve by Commercial: | L19: Prepared by
B20: Revenue | D20: : Nilai capex adalah nilai retrofit yang dicadangkan di IRR sebelumnya | L20: Alfredo
B26: Approved by

Sheet IRR
B1: NO : 0003/02/IRR/IBC/V/2023 | K1: HOTEL ASTON MAKASAR
A2: Assumption:
B3: Tax Rate | F3: 0.02
B4: Interest Rate | F4: 0.1
B5: SG&A | F5: 0.05 | G5: from Revenues
B6: BHPUSO | F6: 0 | G6: from Revenues
B7: Erosion Price | F7: 0.15
G8: Y1
A9: CAPEX
A11: Total CAPEX | F11: DAS | G11: 77500000
F12: BTS | G12: 0
A14: IRR Calculation | G14: Year 1 | H14: Year 2 | I14: Year 3 | J14: Year 4 | K14: Year 5 | L14: Total
A15: Months of Service | G15: 12 | H15: 12 | I15: 12 | J15: 12 | K15: 12
A16: Revenues
B17: Telkomsel | L17: =SUM(G17:G17) -> 0
B18: IOH | G18: 172125122 | H18: 172125122 | I18: 172125122 | J18: 172125122 | K18: 172125122 | L18: =SUM(G18:K18) -> 860625610
B19: XL | L19: =SUM(G19:G19) -> 0
B20: Smartfren | L20: =SUM(G20:G20) -> 0
A21: Total Revenues | G21: =SUM(G17:G20) -> 172125122 | H21: =SUM(H17:H20) -> 172125122 | I21: =SUM(I17:I20) -> 172125122 | J21: =SUM(J17:J20) -> 172125122 | K21: =SUM(K17:K20) -> 172125122 | L21: =SUM(L17:L20) -> 860625610
A23: OPEX
B24: Lease to BM | G24: 30000000 | H24: 30000000 | I24: 30000000 | J24: 30000000 | K24: 30000000 | L24: =SUM(G24:K24) -> 150000000
B25: Electricity | G25: =Parameter!$B$38 -> 36000000 | H25: =Parameter!$B$38 -> 36000000 | I25: =Parameter!$B$38 -> 36000000 | J25: =Parameter!$B$38 -> 36000000 | K25: =Parameter!$B$38 -> 36000000 | L25: =SUM(G25:K25) -> 180000000
B26: Maintenance | G26: =(Parameter!$B$22+Parameter!$I$23*(COUNTA(IRR!G17:G19))*0+Parameter!$B$34*(COUNTA(IRR!G17:G19))+Parameter!$K$17*2/4) -> 35960000 | H26: =(Parameter!$B$22+Parameter!$I$23*(COUNTA(IRR!H17:H19))*0+Parameter!$B$34*(COUNTA(IRR!H17:H19))+Parameter!$K$17*2/4) -> 35960000 | I26: =(Parameter!$B$22+Parameter!$I$23*(COUNTA(IRR!I17:I19))*0+Parameter!$B$34*(COUNTA(IRR!I17:I19))+Parameter!$K$17*2/4) -> 35960000 | J26: =(Parameter!$B$22+Parameter!$I$23*(COUNTA(IRR!J17:J19))*0+Parameter!$B$34*(COUNTA(IRR!J17:J19))+Parameter!$K$17*2/4) -> 35960000 | K26: =(Parameter!$B$22+Parameter!$I$23*(COUNTA(IRR!K17:K19))*0+Parameter!$B$34*(COUNTA(IRR!K17:K19))+Parameter!$K$17*2/4) -> 35960000 | L26: =SUM(G26:K26) -> 179800000
B27: SG&A | G27: =G21*$F$5 -> 8606256.1 | H27: =H21*$F$5 -> 8606256.1 | I27: =I21*$F$5 -> 8606256.1 | J27: =J21*$F$5 -> 8606256.1 | K27: =K21*$F$5 -> 8606256.1 | L27: =SUM(G27:K27) -> 43031280
A28: Total OPEX | G28: =SUM(G24:G27) -> 1.1056626e+08 | H28: =SUM(H24:H27) -> 1.1056626e+08 | I28: =SUM(I24:I27) -> 1.1056626e+08 | J28: =SUM(J24:J27) -> 1.1056626e+08 | K28: =SUM(K24:K27) -> 1.1056626e+08 | L28: =SUM(L24:L27) -> 5.5283128e+08
A29: Total EBITDA | G29: =G21-G28 -> 61558866 | H29: =H21-H28 -> 61558866 | I29: =I21-I28 -> 61558866 | J29: =J21-J28 -> 61558866 | K29: =K21-K28 -> 61558866 | L29: =L21-L28 -> 3.0779433e+08
A30: Ebitda margin | G30: =G29/G21 -> 0.35764022 | H30: =H29/H21 -> 0.35764022 | I30: =I29/I21 -> 0.35764022 | J30: =J29/J21 -> 0.35764022 | K30: =K29/K21 -> 0.35764022 | L30: =L29/L21 -> 0.35764022
A32: Depreciation Expense | G32: =G56 -> 15500000 | H32: =H56 -> 15500000 | I32: =I56 -> 15500000 | J32: =J56 -> 15500000 | K32: =K56 -> 15500000 | L32: =SUM(G32:G32) -> 15500000
A33: Total EBIT | G33: =G29-G32 -> 46058866 | H33: =H29-H32 -> 46058866 | I33: =I29-I32 -> 46058866 | J33: =J29-J32 -> 46058866 | K33: =K29-K32 -> 46058866 | L33: =L29-L32 -> 2.9229433e+08
A35: Interest Expense | G35: =Parameter!B5 -> 3875000 | H35: =Parameter!C5 -> 6975000 | I35: =Parameter!D5 -> 5425000 | J35: =Parameter!E5 -> 3875000 | K35: =Parameter!F5 -> 2325000 | L35: =SUM(G35:G35) -> 3875000
A36: EBT | G36: =G33-G35 -> 42183866 | H36: =H33-H35 -> 39083866 | I36: =I33-I35 -> 40633866 | J36: =J33-J35 -> 42183866 | K36: =K33-K35 -> 43733866 | L36: =SUM(G36:G36) -> 42183866
A37: Tax Expense | G37: =IF(G36<0,0,G36*$F$3) -> 843677.32 | H37: =IF(H36<0,0,H36*$F$3) -> 781677.32 | I37: =IF(I36<0,0,I36*$F$3) -> 812677.32 | J37: =IF(J36<0,0,J36*$F$3) -> 843677.32 | K37: =IF(K36<0,0,K36*$F$3) -> 874677.32 | L37: =SUM(G37:G37) -> 843677.32
A38: Net Income | G38: =G36-G37 -> 41340189 | H38: =H36-H37 -> 38302189 | I38: =I36-I37 -> 39821189 | J38: =J36-J37 -> 41340189 | K38: =K36-K37 -> 42859189 | L38: =L33-L37 -> 2.9145065e+08
A40: Capex | F40: =-G11 -> -77500000 | G40: 0 | H40: 0 | I40: 0 | J40: 0 | K40: 0 | L40: =SUM(F40:K40) -> -77500000
A41: FCFF | F41: =F40 -> -77500000 | G41: =G40+G38+G32 -> 56840189 | H41: =H40+H38+H32 -> 53802189 | I41: =I40+I38+I32 -> 55321189 | J41: =J40+J38+J32 -> 56840189 | K41: =K40+K38+K32 -> 58359189 | L41: =SUM(F41:K41) -> 2.0366294e+08
A42: Accumulated FCF | F42: =F41 -> -77500000 | G42: =F42+G41 -> -20659811 | H42: =G42+H41 -> 33142377 | I42: =H42+I41 -> 88463566 | J42: =I42+J41 -> 1.4530375e+08 | K42: =J42+K41 -> 2.0366294e+08
A43: PBP | G43: =IF(AND(F42<0,G42>0),G49-(G42/G41),0) -> 0 | H43: =IF(AND(G42<0,H42>0),H49-(H42/H41),0) -> 1.3839957 | I43: =IF(AND(H42<0,I42>0),I49-(I42/I41),0) -> 0 | J43: =IF(AND(I42<0,J42>0),J49-(J42/J41),0) -> 0 | K43: =IF(AND(J42<0,K42>0),K49-(K42/K41),0) -> 0
A45: IRR | F45: =IRR(F41:K41) -> 0.66487541
A46: NPV | F46: =NPV(F4,G41:K41)+F41 -> 1.3526022e+08
A47: EBITDA margin | F47: =L30 -> 0.35764022
...

Sheet Summary BR
A1: SUMMARY REVIEW
A3: Nama Site | C3: : Hotel Aston makassar
A4: Nama Pemilik | C4: : PT. Megahputra Hotel makassar
A5: Alamat Pemilik | C5: : Jln. Sultan Hassanudin No.10
A6: Telp | C6: : (0411) 3623222
A7: Obyek Sewa | C7: : 84 titik antenna, unit pole, RBS room 40 m2
A9: No. | B9: Keterangan | C9: Existing | D9: Renewal
A11: 1. | B11: Scope Of Lease | C11: IBC | D11: IBC
A12: 2. | B12: Obyek Sewa | C12: =C7 -> : 84 titik antenna, unit pole, RBS room 40 m2 | D12: =C7 -> : 84 titik antenna, unit pole, RBS room 40 m2
A13: 3. | B13: Periode Sewa | C13: 18 April 2018 s/d 17 September 2022 (4 th 5 bln) | D13: 18 September 2022 s/d 17 September 2027 (5 tahun)
A14: 4. | B14: Harga Sewa / Masa sewa | C14: 196296296 | D14: 150000000
B15: Harga Sewa / tahun | C15: 44444444 | D15: 30000000
A16: 5. | B16: Operator Joint | C16: Indosat ( 03 September 2017 - 02 September 2022) | D16: Indosat ( 03 September 2022 - 02 September 2027)
A17: 6. | B17: Kenaikan/ Penurunan Harga | C17: Mengalami penurunan sebesar 32,49%
B19: Note :

Sheet Parameter
B1: Year 1 | C1: Year 2 | D1: Year 3 | E1: Year 4 | F1: Year 5 | G1: Year 6 | H1: Year 7 | I1: Year 8 | J1: Year 9 | K1: Year 10
A2: loan | B2: =SUM(IRR!G11:G12) -> 77500000 | C2: =$B$2-$B$4 -> 62000000 | D2: =$C$2-$B$4 -> 46500000 | E2: =$D$2-$B$4 -> 31000000 | F2: =$E$2-$B$4 -> 15500000 | G2: =$F$2-$B$4 -> 0 | H2: =$G$2-$B$4 -> -15500000 | I2: =$H$2-$B$4 -> -31000000 | J2: =$I$2-$B$4 -> -46500000 | K2: =$J$2-$B$4 -> -62000000
A3: Period (thn) | B3: 5
A4: Installment/thn | B4: =$B$2/$B$3 -> 15500000
A5: Interest | B5: =(($B$2*IRR!F4*6)/12) -> 3875000 | C5: =AVERAGE(B2:C2)*IRR!F4 -> 6975000 | D5: =AVERAGE(C2:D2)*IRR!F4 -> 5425000 | E5: =AVERAGE(D2:E2)*IRR!F4 -> 3875000 | F5: =AVERAGE(E2:F2)*IRR!F4 -> 2325000 | G5: =AVERAGE(F2:G2)*IRR!F4 -> 775000 | H5: =AVERAGE($G$2:$H$2)*[2]IRR!$G$4 -> -775000 | I5: =AVERAGE($H$2:$I$2)*[2]IRR!$G$4 -> -2325000 | J5: =AVERAGE($I$2:$J$2)*[2]IRR!$G$4 -> -3875000 | K5: =AVERAGE($J$2:$K$2)*[2]IRR!$G$4 -> -5425000
F10: person | G10: trip | H10: kamar | I10: Days by Omni | J10: Biaya walktest inhouse/visit | K10: Biaya walktest inhouse/thn
E11: Diisikan | F11: 1 | G11: 1 | H11: 1 | I11: =Summary!H8 -> 84
B12: Transport | C12: Pesawat | D12: =C23 -> 3000000 | E12: person | F12: =F11 -> 1 | J12: =F12*D12 -> 3000000
C13: Bandara | D13: 600000 | E13: person | F13: =F11 -> 1 | I13: =IF($I$10<=120,2,IF($I$10>220,4,3)) -> 4 | J13: =D13*F13 -> 600000
C14: Transport | D14: 200000 | E14: Trip | G14: =G11 -> 1 | J14: =G14*D14 -> 200000
B15: Hotel | C15: Hotel | D15: 450000 | E15: kamar | F15: =F11 -> 1 | H15: =H11 -> 1 | I15: =IF($I$10<=120,2,IF($I$10>220,4,3)) -> 4 | J15: =H15*D15*I15 -> 1800000
B16: Uang Saku | C16: Uang Saku | D16: 120000 | E16: person | F16: =F11 -> 1 | I16: =IF($I$10<=120,2,IF($I$10>220,4,3)) -> 4 | J16: =I16*D16*F16 -> 480000
J17: =SUM(J12:J16) -> 6080000 | K17: =J17*4 -> 24320000
B21: PM/Year/Site | C21: Pesawat | E21: Asumsi:
A22: Sulut | B22: 16800000 | C22: 4000000 | E22: Walktest 4x dalam setahun semua operator sekaligus
A23: Makasar | C23: 3000000 | E23: Walktest pertama oleh vendor | I23: 10000000
A24: Bali | B24: 15600000 | C24: 2500000 | E24: Walktest pertama oleh vendor | H24: Pekanbaru | I24: 12000000
A25: Jatim | B25: 15000000 | C25: 2000000 | E25: Walktest pertama oleh vendor | H25: Sumut | I25: 14000000
A26: Jateng | B26: 15000000 | C26: 1850000 | E26: Walktest pertama oleh vendor | H26: Sulsel | I26: 14000000
A27: Jabar | B27: 12000000 | C27: 1200000 | E27: Walktest pertama oleh vendor | H27: Sulut | I27: 17000000
A28: Kalimantan | B28: 16800000 | C28: 2000000 | E28: Walktest pertama oleh vendor | H28: Kalimantan | I28: 14000000
A29: Sumatera | B29: 15720000 | C29: 3500000
A30: Palembang | C30: 2800000
A31: Jabodetabek | B31: 0 | C31: 0 | D31: Inhouse
B33: CM /Year/Oprt
B34: 7000000
A36: LISTRIK
A37: Listrik/Oprt/year DAS+1Pole 3sektor
A38: 0-100 | B38: 36000000
A39: 101-200 | B39: 42000000
A40: 201- | B40: 48000000
A42: Listrik/Oprt/year DAS+2Pole 6sektor
A43: 0-200 | B43: 75000000
A44: 201- | B44: 95000000
