Workbook
Name jk: #REF!
Name jk: #REF!
Name jk: #REF!
Name jk: #REF!
Name years_contract: [1]Kerlink!$D$5

Sheet Summary
B2: No. | C2: 0013/IRR/IBC/VI/2024 | N2: MALL MEDAN CENTRE POINT
C3: Product : | D3: IBS / DAS | J3: Tanggal P&L: | M3: 45447
C4: Status P&L | D4: Extent
B6: Site Information | E6: Technical Information | J6: Financial Summary
B7: Site Name | D7: Mall Medan Centre Point | E7: IBC | K7: Capex DAS | M7: =1650926985+42591502 -> 1693518487
B8: Address | D8: Medan | E8: Antena PKS BM | H8: 218 | K8: Capex /antenna | M8: =M7/H9 -> 7027047.7
E9: Antena Asset | H9: =222+19 -> 241 | K9: Contract Period (thn) | M9: 5
B10: Area building | D10: Medan | E10: Jumlah Pole Makro | H10: 5 | K10: Interest rate /year | M10: =[2]IRR!F3 -> 0.1
B11: Type of building | D11: Mall | E11: OPENET | K11: Total Revenue | M11: =IRR!Q19 -> 4907513600
B12: Status | D12: Renewal | E12: Cable FO (Core) | H12: 0 | K12: Total Capex BV 31Jul24 | M12: =IRR!G10 -> 2.4425418e+08
B13: Total floor | D13: 7 | E13: Cable FO (meter) | H13: 0 | K13: Total Capex Rektifikasi | M13: =IRR!G9 -> 6.571064e+08
B14: No of building tower | D14: 1 | E14: Drop Wire (meter) | H14: 0 | K14: Total Opex Sewa | M14: =IRR!Q22 -> 1000000000
B15: Sitac Tahun | D15: 2013 | K15: Total Opex Other | M15: =IRR!Q23+IRR!Q24+IRR!Q25 -> 1335575680
E16: OTHERS | K16: IRR | M16: =IRR!F40 -> 0.43028655
K17: NPV | M17: =IRR!F41 -> 8.9083713e+08
K18: EBITDA margin | M18: =IRR!F42 -> 0.52408167
K19: Payback (year) | M19: =IRR!F43 -> 2.7955676
B21: Target Achieved by Commercial: | L21: Prepared by
B22: Revenue | D22: : | L22: Citra Kartika
D23: :
D24: :
B28: Approved by

Sheet IRR
B1: No, | C1: 0013/IRR/IBC/VI/2024 | Q1: MALL MEDAN CENTRE POINT
B2: General | H2: Operator join | I2: Rev.Change
C3: Tax Rate | E3: 0.02 | H3: 2023 Tsel | I3: -0.15
C4: Interest Rate | E4: 0.1 | H4: 2021 IOH | I4: -0.15
C5: SG&A | E5: 0.05 | F5: from Revenues | H5: 2020 XL | I5: -0.15
C6: BHPUSO | E6: 0 | F6: from Revenues | H6: 2019 SF | I6: -
G8: Y1 | H8: Y2 | I8: Y3 | J8: Y4 | K8: Y5 | L8: Y6 | M8: Y7 | N8: Y8 | O8: Y9 | P8: Y10
B9: Total CAPEX | E9: DAS Rektifikasi | G9: ='BoQ RECTIFICATION MCP (2)'!I55+'BoQ Add Material RECTIFIMCP'!I22 -> 6.571064e+08 | H9: 0 | I9: 0 | J9: 0
E10: BV 31Jul24 | G10: 2.4425418e+08
G11: 2024 | H11: =G11+1 -> 2025 | I11: =H11+1 -> 2026 | J11: =I11+1 -> 2027 | K11: =J11+1 -> 2028 | L11: =K11+1 -> 2029 | M11: =L11+1 -> 2030 | N11: =M11+1 -> 2031 | O11: =N11+1 -> 2032 | P11: =O11+1 -> 2033
B12: IRR Calculation | F12: Year 0 | G12: Year 1 | H12: Year 2 | I12: Year 3 | J12: Year 4 | K12: Year 5 | L12: Year 6 | M12: Year 7 | N12: Year 8 | O12: Year 9 | P12: Year 10 | Q12: Total
B13: Months of Service | G13: 12 | H13: 12 | I13: 12 | J13: 12 | K13: 12
B15: Revenues
C16: TSEL | G16: 515280000 | H16: =G16-(G16*-I3) -> 437988000 | I16: =H16 -> 437988000 | J16: =I16 -> 437988000 | K16: =J16 -> 437988000 | Q16: =SUM(G16:K16) -> 2267232000
C17: XL | G17: 250000000 | H17: =G17+(G17*I5) -> 212500000 | I17: =H17 -> 212500000 | J17: =I17 -> 212500000 | K17: =J17 -> 212500000 | Q17: =SUM(G17:K17) -> 1100000000
C18: IOH | G18: 350064000 | H18: =G18+(G18*I4) -> 297554400 | I18: =H18 -> 297554400 | J18: =I18 -> 297554400 | K18: =J18 -> 297554400 | Q18: =SUM(G18:K18) -> 1540281600
B19: Total Revenues (SF) | G19: =SUM(G16:G18) -> 1115344000 | H19: =SUM(H16:H18) -> 948042400 | I19: =SUM(I16:I18) -> 948042400 | J19: =SUM(J16:J18) -> 948042400 | K19: =SUM(K16:K18) -> 948042400 | Q19: =SUM(G19:K19) -> 4907513600
B21: OPEX
C22: Lease to BM | G22: 1000000000 | Q22: =SUM(G22:K22) -> 1000000000
C23: Electricity | G23: 155000000 | H23: =G23 -> 155000000 | I23: =H23 -> 155000000 | J23: =I23 -> 155000000 | K23: =J23 -> 155000000 | Q23: =SUM(G23:K23) -> 775000000
C24: Maintenance | G24: =Parameter!L76 -> 63040000 | H24: =G24 -> 63040000 | I24: =H24 -> 63040000 | J24: =I24 -> 63040000 | K24: =J24 -> 63040000 | Q24: =SUM(G24:K24) -> 315200000
C25: SG&A | G25: =G19*$E$5 -> 55767200 | H25: =H19*$E$5 -> 47402120 | I25: =I19*$E$5 -> 47402120 | J25: =J19*$E$5 -> 47402120 | K25: =K19*$E$5 -> 47402120 | Q25: =SUM(G25:K25) -> 245375680
B26: Total OPEX | G26: =SUM(G22:G25) -> 1273807200 | H26: =SUM(H22:H25) -> 265442120 | I26: =SUM(I22:I25) -> 265442120 | J26: =SUM(J22:J25) -> 265442120 | K26: =SUM(K22:K25) -> 265442120 | Q26: =SUM(Q22:Q25) -> 2335575680
B27: Total EBITDA | G27: =G19-G26 -> -158463200 | H27: =H19-H26 -> 682600280 | I27: =I19-I26 -> 682600280 | J27: =J19-J26 -> 682600280 | K27: =K19-K26 -> 682600280 | Q27: =Q19-Q26 -> 2571937920
B28: Ebitda margin | G28: 0 | H28: =H27/H19 -> 0.72001029 | I28: =I27/I19 -> 0.72001029 | J28: =J27/J19 -> 0.72001029 | K28: =K27/K19 -> 0.72001029 | Q28: =Q27/Q19 -> 0.52408167
B29: Depreciation Expense | G29: =G51 -> 1.8027212e+08 | H29: =H51 -> 1.8027212e+08 | I29: =I51 -> 1.8027212e+08 | J29: =J51 -> 1.8027212e+08 | K29: =K51 -> 1.8027212e+08 | Q29: =SUM(G29:K29) -> 9.0136058e+08
B30: Total EBIT | G30: =G27-G29 -> -3.3873532e+08 | H30: =H27-H29 -> 5.0232816e+08 | I30: =I27-I29 -> 5.0232816e+08 | J30: =J27-J29 -> 5.0232816e+08 | K30: =K27-K29 -> 5.0232816e+08 | Q30: =Q27-Q29 -> 1.6705773e+09
B31: Interest Expense | G31: =Parameter!M34 -> 45708841 | H31: =Parameter!N34 -> 65848471 | I31: =Parameter!O34 -> 48164229 | J31: =Parameter!P34 -> 33350320 | K31: =Parameter!Q34 -> 19878192 | Q31: =SUM(G31:K31) -> 2.1295005e+08
B32: EBT | G32: =G30-G31 -> -3.8444416e+08 | H32: =H30-H31 -> 4.3647969e+08 | I32: =I30-I31 -> 4.5416394e+08 | J32: =J30-J31 -> 4.6897784e+08 | K32: =K30-K31 -> 4.8244997e+08 | Q32: =SUM(G32:K32) -> 1.4576273e+09
B33: Tax Expense | G33: =IF(G32<0,0,G32*$E$3) -> 0 | H33: =IF(H32<0,0,H32*$E$3) -> 8729593.9 | I33: =IF(I32<0,0,I32*$E$3) -> 9083278.7 | J33: =IF(J32<0,0,J32*$E$3) -> 9379556.9 | K33: =IF(K32<0,0,K32*$E$3) -> 9648999.5 | Q33: =SUM(G33:K33) -> 36841429
B34: Net Income | G34: =G32-G33 -> -3.8444416e+08 | H34: =H32-H33 -> 4.277501e+08 | I34: =I32-I33 -> 4.4508066e+08 | J34: =J32-J33 -> 4.5959829e+08 | K34: =K32-K33 -> 4.7280097e+08 | Q34: =Q32-Q33 -> 1.4207859e+09
B36: Capex | G36: =-G10+-G9 -> -9.0136058e+08 | H36: =-I9+-I10 -> 0 | I36: =-J9+-J10 -> 0 | J36: =-K9+-K10 -> 0 | K36: =-Q9+-Q10 -> 0
B37: FCFF | F37: =F36 -> 0 | G37: =G36+G34+G29 -> -1.1055326e+09 | H37: =H36+H34+H29 -> 6.0802222e+08 | I37: =I36+I34+I29 -> 6.2535277e+08 | J37: =J36+J34+J29 -> 6.398704e+08 | K37: =K36+K34+K29 -> 6.5307309e+08 | Q37: =SUM(F37:K37) -> 1.4207859e+09
B38: Accumulated FCF | F38: =F37 -> 0 | G38: =F38+G37 -> -1.1055326e+09 | H38: =G38+H37 -> -4.975104e+08 | I38: =H38+I37 -> 1.2784237e+08 | J38: =I38+J37 -> 7.6771277e+08 | K38: =J38+K37 -> 1.4207859e+09
B39: PBP | G39: =IF(AND(F38<0,G38>0),G44-(G38/G37),0) -> 0 | H39: =IF(AND(G38<0,H38>0),H44-(H38/H37),0) -> 0 | I39: =IF(AND(H38<0,I38>0),I44-(I38/I37),0) -> 2.7955676 | J39: =IF(AND(I38<0,J38>0),J44-(J38/J37),0) -> 0 | K39: =IF(AND(J38<0,K38>0),K44-(K38/K37),0) -> 0
B40: IRR | F40: =IRR(G37:K37) -> 0.43028655
B41: NPV | F41: =NPV(E4,H37:K37)+G37 -> 8.9083713e+08
B42: EBITDA margin | F42: =Q28 -> 0.52408167
B43: Payback | F43: =SUM(F39:K39) -> 2.7955676
G44: 1 | H44: 2 | I44: 3 | J44: 4 | K44: 5
...

Sheet Parameter
A1: PERHITUNGAN INTEREST EXPENSE based CAPEX
A2: Capex tahun | B2: 5 | C2: 2014 | D2: =C2+1 -> 2015 | E2: =D2+1 -> 2016 | F2: =E2+1 -> 2017 | G2: =F2+1 -> 2018 | H2: =G2+1 -> 2019 | I2: =H2+1 -> 2020 | J2: =I2+1 -> 2021 | K2: =J2+1 -> 2022 | ... R2: =Q2+1 -> 2029
A3: 2014 | B3: loan | C3: 492014563 | D3: =C3-C4 -> 3.9361165e+08 | E3: =D3-C4 -> 2.9520874e+08 | F3: =E3-C4 -> 1.9680583e+08 | G3: =F3-C4 -> 98402913 | H3: =G3-C4 -> 0 | I3: =H3-$E$4 -> 0 | J3: =I3-$E$4 -> 0 | R3: 2013 | S3: 1.7266708e+09
B4: Installment/thn | C4: =C3/B2 -> 98402913 | R4: 2014 | S4: 422342499
B5: Interest | C5: =(($C$3*IRR!E4*6)/12) -> 24600728 | D5: =AVERAGE(C3:D3)*IRR!E4 -> 44281311 | E5: =AVERAGE(D3:E3)*IRR!E4 -> 34441019 | F5: =AVERAGE(E3:F3)*IRR!E4 -> 24600728 | G5: =AVERAGE(F3:G3)*IRR!E4 -> 14760437 | H5: =AVERAGE(G3:H3)*IRR!E4 -> 4920145.6 | I5: =AVERAGE($H$3:$I$3)*[3]IRR!$G$4 -> 0 | J5: =AVERAGE($I$3:$J$3)*[3]IRR!$G$4 -> 0 | R5: 2016 | S5: 10773000
A6: 2015 | B6: loan | D6: 2.2249915e+09 | E6: =D6-D7 -> 1.7799932e+09 | F6: =E6-D7 -> 1.3349949e+09 | G6: =F6-D7 -> 8.899966e+08 | H6: =G6-D7 -> 4.449983e+08 | R6: 2017 | S6: 102210600
B7: Installment/thn | D7: =D6/B2 -> 4.449983e+08
B8: Interest | D8: =((D6*IRR!E4*6)/12) -> 1.1124957e+08 | E8: =AVERAGE(D6:E6)*IRR!E4 -> 2.0024923e+08 | F8: =AVERAGE(E6:F6)*IRR!E4 -> 1.557494e+08 | G8: =AVERAGE(F6:G6)*IRR!E4 -> 1.1124957e+08 | H8: =AVERAGE(G6:H6)*IRR!E4 -> 66749745 | I8: =AVERAGE(H6:I6)*IRR!E4 -> 44499830
A9: 2016 | B9: loan | E9: 24080000 | F9: =E9-E10 -> 19264000 | G9: =F9-E10 -> 14448000 | H9: =G9-E10 -> 9632000 | I9: =H9-E10 -> 4816000 | J9: =I9-E10 -> 0
B10: Installment/thn | E10: =E9/B2 -> 4816000
B11: Interest | E11: =((E9*IRR!E4*6)/12) -> 1204000 | F11: =AVERAGE(E9:F9)*IRR!$E$4 -> 2167200 | G11: =AVERAGE(F9:G9)*IRR!$E$4 -> 1685600 | H11: =AVERAGE(G9:H9)*IRR!$E$4 -> 1204000 | I11: =AVERAGE(H9:I9)*IRR!$E$4 -> 722400 | J11: =AVERAGE(I9:J9)*IRR!$E$4 -> 240800
A12: 2017 | B12: loan | F12: 516781606 | G12: =F12-F13 -> 4.1342528e+08 | H12: =G12-F13 -> 3.1006896e+08 | I12: =H12-F13 -> 2.0671264e+08 | J12: =I12-F13 -> 1.0335632e+08 | K12: =J12-F13 -> 0
B13: Installment/thn | F13: =F12/B2 -> 1.0335632e+08
B14: Interest | F14: =((F12*IRR!E4*6)/12) -> 25839080 | G14: =AVERAGE(F12:G12)*IRR!$E$4 -> 46510345 | H14: =AVERAGE(G12:H12)*IRR!$E$4 -> 36174712 | I14: =AVERAGE(H12:I12)*IRR!$E$4 -> 25839080 | J14: =AVERAGE(I12:J12)*IRR!$E$4 -> 15503448 | K14: =AVERAGE(J12:K12)*IRR!$E$4 -> 5167816.1
A15: 2018 | B15: loan | G15: 83627240 | H15: =G15-G16 -> 66901792 | I15: =H15-G16 -> 50176344 | J15: =I15-G16 -> 33450896 | K15: =J15-G16 -> 16725448 | L15: =K15-G16 -> 0
B16: Installment/thn | G16: =G15/B2 -> 16725448
B17: Interest | G17: =((G15*IRR!E4*6)/12) -> 4181362 | H17: =AVERAGE(G15:H15)*IRR!$E$4 -> 7526451.6 | I17: =AVERAGE(H15:I15)*IRR!$E$4 -> 5853906.8 | J17: =AVERAGE(I15:J15)*IRR!$E$4 -> 4181362 | K17: =AVERAGE(J15:K15)*IRR!$E$4 -> 2508817.2 | L17: =AVERAGE(K15:L15)*IRR!$E$4 -> 836272.4
A18: 2019 | B18: loan | H18: 7396000 | I18: =H18-H19 -> 5916800 | J18: =I18-H19 -> 4437600 | K18: =J18-H19 -> 2958400 | L18: =K18-H19 -> 1479200 | M18: =L18-H19 -> 0
B19: Installment/thn | H19: =H18/B2 -> 1479200
B20: Interest | H20: =((H18*IRR!E4*6)/12) -> 369800 | I20: =AVERAGE(H18:I18)*IRR!$E$4 -> 665640 | J20: =AVERAGE(I18:J18)*IRR!$E$4 -> 517720 | K20: =AVERAGE(J18:K18)*IRR!$E$4 -> 369800 | L20: =AVERAGE(K18:L18)*IRR!$E$4 -> 221880 | M20: =AVERAGE(L18:M18)*IRR!$E$4 -> 73960
A21: 2020 | B21: loan | I21: 152855212 | J21: =I21-I22 -> 1.2228417e+08 | K21: =J21-I22 -> 91713127 | L21: =K21-I22 -> 61142085 | M21: =L21-I22 -> 30571042 | N21: =M21-I22 -> 0
B22: Installment/thn | I22: =I21/B2 -> 30571042
B23: Interest | I23: =((I21*IRR!E4*6)/12) -> 7642760.6 | J23: =AVERAGE(I21:J21)*IRR!$E$4 -> 13756969 | K23: =AVERAGE(J21:K21)*IRR!$E$4 -> 10699865 | L23: =AVERAGE(K21:L21)*IRR!$E$4 -> 7642760.6 | M23: =AVERAGE(L21:M21)*IRR!$E$4 -> 4585656.4 | N23: =AVERAGE(M21:N21)*IRR!$E$4 -> 1528552.1
A24: 2021 | B24: loan | J24: 1.341781e+08 | K24: =J24-J25 -> 1.0734248e+08 | L24: =K24-J25 -> 80506861 | M24: =L24-J25 -> 53671241 | N24: =M24-J25 -> 26835620 | O24: =N24-J25 -> 0
B25: Installment/thn | J25: =J24/B2 -> 26835620
B26: Interest | J26: =((J24*IRR!E4*6)/12) -> 6708905.1 | K26: =AVERAGE(J24:K24)*IRR!$E$4 -> 12076029 | L26: =AVERAGE(K24:L24)*IRR!$E$4 -> 9392467.1 | M26: =AVERAGE(L24:M24)*IRR!$E$4 -> 6708905.1 | N26: =AVERAGE(M24:N24)*IRR!$E$4 -> 4025343 | O26: =AVERAGE(N24:O24)*IRR!$E$4 -> 1341781
A27: 2023 | B27: loan | L27: 16500000 | M27: =L27-L28 -> 13200000 | N27: =M27-L28 -> 9900000 | O27: =N27-L28 -> 6600000 | P27: =O27-L28 -> 3300000 | Q27: =P27-L28 -> 0
B28: Installment/thn | L28: =L27/B2 -> 3300000
B29: Interest | L29: =((L27*IRR!E4*6)/12) -> 825000 | M29: =AVERAGE(L27:M27)*IRR!$E$4 -> 1485000 | N29: =AVERAGE(M27:N27)*IRR!$E$4 -> 1155000 | O29: =AVERAGE(N27:O27)*IRR!$E$4 -> 825000 | P29: =AVERAGE(O27:P27)*IRR!$E$4 -> 495000 | Q29: =AVERAGE(P27:Q27)*IRR!$E$4 -> 165000
A30: 2024 | B30: loan | M30: =IRR!G9 -> 6.571064e+08 | N30: =M30-M31 -> 5.2568512e+08 | O30: =N30-M31 -> 3.9426384e+08 | P30: =O30-M31 -> 2.6284256e+08 | Q30: =P30-M31 -> 1.3142128e+08 | R30: =Q30-M31 -> 0
B31: Installment/thn | M31: =M30/B2 -> 1.3142128e+08
B32: Interest | M32: =((M30*IRR!E4*6)/12) -> 32855320 | N32: =AVERAGE(M30:N30)*IRR!$E$4 -> 59139576 | O32: =AVERAGE(N30:O30)*IRR!$E$4 -> 45997448 | P32: =AVERAGE(O30:P30)*IRR!$E$4 -> 32855320 | Q32: =AVERAGE(P30:Q30)*IRR!$E$4 -> 19713192 | R32: =AVERAGE(Q30:R30)*IRR!$E$4 -> 6571064
B34: Interest Exp | C34: =C5+C8+C11+C14+C17+C20+C23+C26+C29+C32 -> 24600728 | D34: =D5+D8+D11+D14+D17+D20+D23+D26+D29+D32 -> 1.5553089e+08 | E34: =E5+E8+E11+E14+E17+E20+E23+E26+E29+E32 -> 2.3589425e+08 | F34: =F5+F8+F11+F14+F17+F20+F23+F26+F29+F32 -> 2.0835641e+08 | G34: =G5+G8+G11+G14+G17+G20+G23+G26+G29+G32 -> 1.7838732e+08 | H34: =H5+H8+H11+H14+H17+H20+H23+H26+H29+H32 -> 1.1694485e+08 | I34: =I5+I8+I11+I14+I17+I20+I23+I26+I29+I32 -> 85223618 | J34: =J5+J8+J11+J14+J17+J20+J23+J26+J29+J32 -> 40909204 | ... R34: =R5+R8+R11+R14+R17+R20+R23+R26+R29+R32 -> 6573080
A37: PERHITUNGAN SG&A
A38: Untuk IBC | B38: Start tahun pertama | C38: 50000000
A39: Untuk Opennet | B39: Start tahun pertama | C39: 20000000
A40: Untuk IBC Ext | B40: tiap tahun = Rev x 5%
A41: Untuk Opennet Ext | B41: tiap tahun = Rev x 5%
A43: SG&A | B43: =C38 -> 50000000 | C43: =B43+C44 -> 51000000 | D43: =C43+D45 -> 52020000 | E43: =D43+E45 -> 53060400 | F43: =E43+F45 -> 54121608 | G43: =F43+G45 -> 55204040 | H43: =G43+H45 -> 56308121 | I43: =H43+I45 -> 57434283 | J43: =I43+J45 -> 58582969 | K43: =J43+K45 -> 59754628
A44: 0.02 | C44: =C45 -> 1000000 | D44: =C44+D45 -> 2020000 | E44: =D44+E45 -> 3060400 | F44: =E44+F45 -> 4121608 | G44: =F44+G45 -> 5204040.2 | H44: =G44+H45 -> 6308121 | I44: =H44+I45 -> 7434283.4 | J44: =I44+J45 -> 8582969.1 | K44: =J44+K45 -> 9754628.4
...

Sheet SummaryBR
C1: SUMMARY REVIEW
A3: Nama Site | C3: Mall Medan Centre Point
A4: Nama Pemilik
A5: Alamat Pemilik
A6: Telp | C6: : 024-8413377
A7: Obyek Sewa | C7: 218 Omni +5 Unit Pole Antenna + RBS 45 m²
A9: No. | B9: Keterangan | C9: Existing | D9: Renewal
A11: 1. | B11: Scope Of Lease | C11: IBC | D11: IBC
A12: 2. | B12: Obyek Sewa | C12: 218 Omni +5 Unit Pole Antenna + RBS 45 m² | D12: 218 Omni +5 Unit Pole Antenna + RBS 45 m²
A13: 3. | B13: Periode Sewa | C13: 11 Aug 2019 s/d 10 Aug 2024 | D13: 11 Aug 24 s/d 10 Aug 29
A14: 4 | B14: Harga Sewa | C14: 1.000.000.000/5thn | D14: 1.000.000.000/5thn
C15: 200.000.000/th | D15: 200.000.000/th
A16: 5 | B16: Operator Join | C16: Telkomsel (1 Jan2020 - 31Des24) | D16: Telkomsel (1 Jan2020 - 31Des24)
C17: IOH-Isat ( 8 Apr20 sd 7 Apr 25) | D17: IOH-Isat ( 8 Apr20 sd 7 Apr 25)
C18: XL (25 Jun 2020 sd - 24 Sep 2025) | D18: XL (25 Jun 2020 sd - 24 Sep 2025)
C19: H3I 1Jan19 sd 14Mar 22
A20: 6. | B20: Kenaikan/ Penurunan Harga | C20: Tetap

Sheet Analisa
A2: SITE Medan Centre Point
A3: Periode | B3: Start | C3: End
A4: Rev Tsel | B4: 43831 | C4: 45657
A5: Rev IOH | B5: 43929 | C5: 45754
A6: Rev XL | B6: 44007 | C6: 45924
A7: Sewa BM | B7: 45515 | C7: 47340
B9: Start | C9: End | D9: Days
A10: Optimis>> Jika Sewa BM diperpanjang 5 tahun dan Operator mengikutinya , maka:
A11: Rev Tsel | B11: 45515 | C11: 47340 | D11: =C11-B11 -> 1825 | E11: 515280000 | F11: =E11/365*D11 -> 2576400000
A12: Rev IOH | B12: 45515 | C12: 47340 | D12: =C12-B12 -> 1825 | E12: 350064000 | F12: =E12/365*D12 -> 1750320000
A13: Rev XL | B13: 45515 | C13: 47340 | D13: =C13-B13 -> 1825 | E13: 250000000 | F13: =E13/365*D13 -> 1250000000
A14: Listrik Tsel | B14: 45515 | C14: 47340 | D14: =C14-B14 -> 1825 | E14: =155000000/2 -> 77500000 | F14: =-E14/365*D14 -> -387500000
A15: Listrik IOH | B15: 45515 | C15: 47340 | D15: =C15-B15 -> 1825 | E15: =155000000/2 -> 77500000 | F15: =-E15/365*D15 -> -387500000
A16: Sewa BM | B16: 45515 | C16: 47340 | D16: =C16-B16 -> 1825 | E16: 200000000 | F16: =-E16/365*D16 -> -1000000000
A17: OM Tsel | B17: 45515 | C17: 47340 | D17: =C17-B17 -> 1825 | E17: =63040000/3 -> 21013333 | F17: =-E17/365*D17 -> -1.0506667e+08
A18: OM IOH | B18: 45515 | C18: 47340 | D18: =C18-B18 -> 1825 | E18: =63040000/3 -> 21013333 | F18: =-E18/365*D18 -> -1.0506667e+08
A19: OM XL | B19: 45515 | C19: 47340 | D19: =C19-B19 -> 1825 | E19: =63040000/3 -> 21013333 | F19: =-E19/365*D19 -> -1.0506667e+08
A20: Antisipasi Add Capex and Pole | E20: 100000000
A21: Profit | F21: =SUM(F11:F20) -> 3.48652e+09

Sheet BoQ RECTIFICATION MCP (2)
B1: BOQ - RECTIFICATION,MEDAN CENTER POIN
B2: Date: 24 Maret 2024
B3: PT. Infrastruktur Bisnis Sejahtera
B5: NO. | C5: ITEM WORK | D5: UoM | E5: Volume | F5: UNIT PRICE MATERIAL | G5: UNIT PRICE JASA | H5: UNIT PRICE MATERIAL+JASA | I5: TOTAL PRICE | J5: REMARKS
B6: I. | C6: RF
B7: A | C7: ANTENNAS (LOW PIM)
B8: 1 | C8: Omnidirectional Antenna 698-2700 MHz Gain min 5dBi / 360 deg, N-Female Connector with pigtail | D8: PCS | E8: 19 | F8: 235000 | G8: 20000 | H8: =F8+G8 -> 255000 | I8: =E8*H8 -> 4845000
B9: B | C9: POWER SPLITTERS (LOW PIM)
B10: 1 | C10: Multiband 2-way power splitter with wall mounting bracket, 200W, N-female connectors, 698-2700 MHz | D10: PCS | E10: 23 | F10: 290000 | G10: 20000 | H10: =F10+G10 -> 310000 | I10: =E10*H10 -> 7130000
B11: 2 | C11: Multiband 3-way power splitter with wall mounting bracket, 200W, N-female connectors, 698-2700 MHz | D11: PCS | E11: 28 | F11: 300000 | G11: 20000 | H11: =F11+G11 -> 320000 | I11: =E11*H11 -> 8960000
B12: 3 | C12: Multiband 4-way power splitter with wall mounting bracket, 200W, N-female connectors, 698-2700 MHz | D12: PCS | E12: 18 | F12: 340000 | G12: 20000 | H12: =F12+G12 -> 360000 | I12: =E12*H12 -> 6480000
B13: C | C13: COMBINER & POI (LOW PIM)
B14: 1 | C14: Quadplexer 790-960MHz (Port 1), 1710-1880 (Port 2), 1920-2170 (Port 2) 2300-2700 (Port 3) , Low PIM & Low Insertion Loss, 300-500 Watt per-port, 698-2700 MHz (DIN TYPE) | D14: PCS | E14: 6 | F14: 8500000 | G14: 20000 | H14: =F14+G14 -> 8520000 | I14: =E14*H14 -> 51120000 | J14: * support Combining Telkomsel
B15: 2 | C15: Dualband Combiner / Diplexer DCS-WCDMA, max Insertion loss -3 dB, 300-500 Watt per-port DIN type | D15: PCS | E15: 1 | F15: 6000000 | G15: 20000 | H15: =F15+G15 -> 6020000 | I15: =E15*H15 -> 6020000 | J15: * Support Combining IOH
B16: D | C16: CONNECTORS (LOW PIM)
B17: 1 | C17: N-male connector for 1/2" feeder cable 800-3000 MHz | D17: PCS | E17: 16 | F17: 67200 | G17: 20000 | H17: =F17+G17 -> 87200 | I17: =E17*H17 -> 1395200
B18: 2 | C18: N-Female connector for 7/8" feeder cable 800-3000 MHz | D18: PCS | E18: 86 | F18: 103950 | G18: 20000 | H18: =F18+G18 -> 123950 | I18: =E18*H18 -> 10659700
B19: 3 | C19: N-Female connector for 1 1/4" feeder cable 800-5000 MHz | D19: PCS | E19: 8 | F19: 210000 | G19: 20000 | H19: =F19+G19 -> 230000 | I19: =E19*H19 -> 1840000
B20: E | C20: JUMPER CABLES (LOW PIM)
B21: 1 | C21: 1m 1/2" superflexible jumper cable with N-male and N-female connector 800-3000 MHz (NM-NM) | D21: PCS | E21: 21 | F21: 110000 | G21: 20000 | H21: =F21+G21 -> 130000 | I21: =E21*H21 -> 2730000
B22: 2 | C22: 3m 1/2" superflexible jumper cable with N-male and 7/16" DIN-male connector 800-3000 MHz (DM-NM) | D22: PCS | E22: 7 | F22: 200000 | G22: 20000 | H22: =F22+G22 -> 220000 | I22: =E22*H22 -> 1540000
B23: F | C23: FEEDER
B24: 1 | C24: 1/2" Feeder Cable | D24: M | E24: 149 | F24: 29000 | G24: 16000 | H24: =F24+G24 -> 45000 | I24: =E24*H24 -> 6705000
B25: 2 | C25: 7/8" Feeder Cable | D25: M | E25: 1759 | F25: 65000 | G25: 18000 | H25: =F25+G25 -> 83000 | I25: =E25*H25 -> 145997000
B26: 3 | C26: 1 1/4" Feeder Cable | D26: M | E26: 356 | F26: 145000 | G26: 16500 | H26: =F26+G26 -> 161500 | I26: =E26*H26 -> 57494000
B27: II. | C27: CME
B28: A | C28: GROUNDING KIT
B29: 1 | C29: Grounding Kit for 1/2" Feeder Cable (Type KMT) | D29: PCS | E29: 3 | F29: 110000 | G29: 5000 | H29: =F29+G29 -> 115000 | I29: =E29*H29 -> 345000
B30: 2 | C30: Grounding Kit for 7/8" Feeder Cable (Type KMT) | D30: PCS | E30: 1 | F30: 150000 | G30: 5666 | H30: =F30+G30 -> 155666 | I30: =E30*H30 -> 155666
B31: 3 | C31: Grounding Kit for 1 1/4" Feeder Cable (Type KMT) | D31: PCS | E31: 3 | F31: 175000 | G31: 5000 | H31: =F31+G31 -> 180000 | I31: =E31*H31 -> 540000
B32: B | C32: FEEDER HANGER & CLAMP
B33: 1 | C33: Clamp for Feeder Cable 1/2" feeder for Indoor (Stainless Steel) | D33: PCS | E33: 50 | F33: 8000 | G33: 10000 | H33: =F33+G33 -> 18000 | I33: =E33*H33 -> 900000
B34: 2 | C34: Clamp for Feeder Cable 7/8" feeder for Indoor (Stainless Steel) | D34: PCS | E34: 586 | F34: 10000 | G34: 10000 | H34: =F34+G34 -> 20000 | I34: =E34*H34 -> 11720000
B35: 3 | C35: Clamp for Feeder Cable 1 1/4" feeder for Indoor (Stainless Steel) | D35: PCS | E35: =E26/3 -> 118.66667 | F35: 15000 | G35: 10000 | H35: =F35+G35 -> 25000 | I35: =E35*H35 -> 2966666.7
B36: 4 | C36: Mounting Bracket for Omni Antenna | D36: PCS | E36: 19 | F36: 125000 | G36: 20000 | H36: =F36+G36 -> 145000 | I36: =E36*H36 -> 2755000
B37: 5 | C37: Mounting Bracket for Splitter | D37: PCS | E37: =E10+E11+E12 -> 69 | F37: 125000 | G37: 20000 | H37: =F37+G37 -> 145000 | I37: =E37*H37 -> 10005000
B38: 6 | C38: MANHOLE Temporary (Pembuatan dan Perapihan) | D38: PCS | E38: 35 | G38: 250000 | H38: =F38+G38 -> 250000 | I38: =E38*H38 -> 8750000
B39: 7 | C39: MANHOLE Permanen | D39: PCS | E39: 15 | G39: 250000 | H39: =F39+G39 -> 250000 | I39: =E39*H39 -> 3750000
B40: 8 | C40: Firestop (bongkar Pasang) | D40: LS | E40: 1 | G40: 3000000 | H40: =F40+G40 -> 3000000 | I40: =E40*H40 -> 3000000
B41: 9 | C41: MISCELLANEOUS NEW DAS | D41: LS | E41: 1 | G41: 2500000 | H41: =F41+G41 -> 2500000 | I41: =E41*H41 -> 2500000
...

Sheet BoQ Add Material RECTIFIMCP
B1: BOQ - ADD MATERIAL RECTIFICATION,MEDAN CENTER POIN 07102024
B2: Date: 07 November 2024
B3: PT. Infrastruktur Bisnis Sejahtera
B5: NO. | C5: ITEM WORK | D5: UoM | E5: Volume | F5: UNIT PRICE MATERIAL | G5: UNIT PRICE JASA | H5: UNIT PRICE MATERIAL+JASA | I5: TOTAL PRICE | J5: REMARKS
B6: I. | C6: RF
B7: D | C7: CONNECTORS (LOW PIM)
B8: 1 | C8: N-Female connector for 7/8" feeder cable 800-3000 MHz | D8: PCS | E8: 90 | F8: 103950 | G8: 20000 | H8: =F8+G8 -> 123950 | I8: =E8*H8 -> 11155500
B9: 2 | C9: N-Female connector for 1 1/4" feeder cable 800-5000 MHz | D9: PCS | E9: 32 | F9: 210000 | G9: 20000 | H9: =F9+G9 -> 230000 | I9: =E9*H9 -> 7360000
B10: E | C10: JUMPER CABLES (LOW PIM)
B11: 1 | C11: 1m 1/2" superflexible jumper cable with N-male and N-male connector 800-3000 MHz (NM-NM) | D11: PCS | E11: 6 | F11: 110000 | G11: 20000 | H11: =F11+G11 -> 130000 | I11: =E11*H11 -> 780000
B12: 2 | C12: 1m 1/2" superflexible jumper cable with N-male and N-female connector 800-3000 MHz (NM-NF) | D12: PCS | E12: 88 | F12: 110000 | G12: 20000 | H12: =F12+G12 -> 130000 | I12: =E12*H12 -> 11440000
B13: F | C13: FEEDER
B14: 1 | C14: 7/8" Feeder Cable | D14: M | E14: 325 | F14: 65000 | G14: 18000 | H14: =F14+G14 -> 83000 | I14: =E14*H14 -> 26975000
B15: 2 | C15: 1 1/4" Feeder Cable | D15: M | E15: 924 | F15: 145000 | G15: 16500 | H15: =F15+G15 -> 161500 | I15: =E15*H15 -> 149226000
B16: II. | C16: CME
B17: B | C17: FEEDER HANGER & CLAMP
B18: 1 | C18: Clamp for Feeder Cable 7/8" feeder for Indoor (Stainless Steel) | D18: PCS | E18: =E14/3 -> 108.33333 | F18: 10000 | G18: 10000 | H18: =F18+G18 -> 20000 | I18: =E18*H18 -> 2166666.7
B19: 2 | C19: Clamp for Feeder Cable 1 1/4" feeder for Indoor (Stainless Steel) | D19: PCS | E19: =E15/3 -> 308 | F19: 15000 | G19: 10000 | H19: =F19+G19 -> 25000 | I19: =E19*H19 -> 7700000
B20: III. | C20: IMPLEMENTATION SERVICES
B21: 1 | C21: Mobilization: Loading & Unloading (Medan Sumatera Utara) | D21: LS | E21: 1 | G21: 15000000 | H21: =F21+G21 -> 15000000 | I21: =E21*H21 -> 15000000
I22: =SUM(I6:I21) -> 2.3180317e+08
H26: PER ANTENNA | I26: =I22/19 -> 12200167
