Workbook
Name years_contract: [1]Kerlink!$D$5

Sheet Summary
C2: Product : | D2: IBS / DAS | J2: Tanggal P&L: | M2: 45216
C3: Status P&L | D3: Renewal
B5: Site Information | E5: Technical Information | J5: Financial Summary
B6: Site Name | D6: Jembatan Merah Plaza | E6: IBC | K6: Capex /antenna | M6: 0
B7: Address | D7: JL. Taman Jayenggrono 2-4 | E7: Antena PKS BM | H7: 0 | K7: Contract Period (thn) | M7: 5
E8: Antena Asset | H8: 40 | K8: Interest rate /year | M8: =[2]IRR!F3 -> 0.1
B9: Area building | D9: Surabaya | E9: Jumlah Pole Makro | H9: 1 | K9: Kurs 1USD | M9: 0
B10: Type of building | D10: Mall | E10: OPENET | K10: Total Capex | M10: =SUM(IRR!G9:K10) -> 54175085
B11: Status | D11: Renewal | E11: Cable FO (Core) | H11: 0 | K11: Total Opex | M11: =IRR!L25 -> 499664000
B12: Total floor | D12: 4 | E12: Cable FO (meter) | H12: 0 | K12: Total Revenue | M12: =IRR!L18 -> 677280000
B13: No of building tower | D13: 1 | E13: Drop Wire (meter) | H13: 0
E14: OTHERS | K14: IRR | M14: =IRR!F39 -> 0.42223146
K15: NPV | M15: =IRR!F40 -> 51649880
K16: EBITDA margin | M16: =IRR!F41 -> 0.262249
K17: Payback (year) | M17: =IRR!F42 -> 2.0329716
B19: Target Achieved by Commercial: | L19: Prepared by
B20: Revenue | D20: : | L20: Alfredo
D21: :
D22: :
B26: Approved by

Sheet IRR
C1: 0023/03/IRR/IBC/X/2023 | L1: JEMBATAN MERAH PLAZA
B2: General
C3: Tax Rate | F3: 0.02
C4: Interest Rate | F4: 0.1
C5: SG&A | F5: 0.05 | G5: from Revenues
C6: BHPUSO | F6: 0 | G6: from Revenues
C7: Erosion | F7: 0.15
G8: Y1 | H8: Y2 | I8: Y3 | J8: Y4 | K8: Y5
B9: Total CAPEX | E9: DAS | G9: 54175085 | H9: 0 | I9: 0 | J9: 0
E10: BTS
G11: 2024 | H11: 2025 | I11: 2026 | J11: 2027 | K11: 2028
B12: IRR Calculation | G12: Year 1 | H12: Year 2 | I12: Year 3 | J12: Year 4 | K12: Year 5 | L12: Total
B13: Months of Service | G13: 12 | H13: 12 | I13: 12 | J13: 12 | K13: 12
B15: Revenues
C16: Operator | G16: =159360000*(1-$F$7) -> 135456000 | H16: =G16 -> 135456000 | I16: =H16 -> 135456000 | J16: =I16 -> 135456000 | K16: =J16 -> 135456000
B18: Total Revenues (SF) | G18: =SUM(G16:G17) -> 135456000 | H18: =SUM(H16:H17) -> 135456000 | I18: =SUM(I16:I17) -> 135456000 | J18: =SUM(J16:J17) -> 135456000 | K18: =SUM(K16:K17) -> 135456000 | L18: =SUM(G18:K18) -> 677280000
B20: OPEX
C21: Lease to BM | G21: 25000000 | H21: 25000000 | I21: 25000000 | J21: 25000000 | K21: 25000000 | L21: =SUM(G21:K21) -> 125000000
C22: Electricity | G22: 36000000 | H22: 36000000 | I22: 36000000 | J22: 36000000 | K22: 36000000 | L22: =SUM(G22:K22) -> 180000000
C23: Maintenance | G23: 32160000 | H23: =G23 -> 32160000 | I23: =H23 -> 32160000 | J23: =I23 -> 32160000 | K23: =J23 -> 32160000 | L23: =SUM(G23:K23) -> 160800000
C24: SG&A | G24: =G18*$F$5 -> 6772800 | H24: =H18*$F$5 -> 6772800 | I24: =I18*$F$5 -> 6772800 | J24: =J18*$F$5 -> 6772800 | K24: =K18*$F$5 -> 6772800 | L24: =SUM(G24:K24) -> 33864000
B25: Total OPEX | G25: =SUM(G21:G24) -> 99932800 | H25: =SUM(H21:H24) -> 99932800 | I25: =SUM(I21:I24) -> 99932800 | J25: =SUM(J21:J24) -> 99932800 | K25: =SUM(K21:K24) -> 99932800 | L25: =SUM(L21:L24) -> 499664000
B26: Total EBITDA | G26: =G18-G25 -> 35523200 | H26: =H18-H25 -> 35523200 | I26: =I18-I25 -> 35523200 | J26: =J18-J25 -> 35523200 | K26: =K18-K25 -> 35523200 | L26: =L18-L25 -> 177616000
B27: Ebitda margin | G27: 0 | H27: =H26/H18 -> 0.262249 | I27: =I26/I18 -> 0.262249 | J27: =J26/J18 -> 0.262249 | K27: =K26/K18 -> 0.262249 | L27: =L26/L18 -> 0.262249
B28: Depreciation Expense | G28: =G50 -> 10835017 | H28: =H50 -> 10835017 | I28: =I50 -> 10835017 | J28: =J50 -> 10835017 | K28: =K50 -> 10835017 | L28: =SUM(G28:K28) -> 54175085
B29: Total EBIT | G29: =G26-G28 -> 24688183 | H29: =H26-H28 -> 24688183 | I29: =I26-I28 -> 24688183 | J29: =J26-J28 -> 24688183 | K29: =K26-K28 -> 24688183 | L29: =L26-L28 -> 1.2344091e+08
B30: Interest Expense | G30: =PARAMETER!B27 -> 6108754.3 | H30: =PARAMETER!C27 -> 10995758 | I30: =PARAMETER!D27 -> 8552256 | J30: =PARAMETER!E27 -> 6108754.3 | K30: =PARAMETER!F27 -> 3665252.6 | L30: =SUM(G30:K30) -> 35430775
B31: EBT | G31: =G29-G30 -> 18579429 | H31: =H29-H30 -> 13692425 | I31: =I29-I30 -> 16135927 | J31: =J29-J30 -> 18579429 | K31: =K29-K30 -> 21022930 | L31: =SUM(G31:K31) -> 88010140
B32: Tax Expense | G32: =IF(G31<0,0,G31*$F$3) -> 371588.57 | H32: =IF(H31<0,0,H31*$F$3) -> 273848.51 | I32: =IF(I31<0,0,I31*$F$3) -> 322718.54 | J32: =IF(J31<0,0,J31*$F$3) -> 371588.57 | K32: =IF(K31<0,0,K31*$F$3) -> 420458.61 | L32: =SUM(G32:K32) -> 1760202.8
B33: Net Income | G33: =G31-G32 -> 18207840 | H33: =H31-H32 -> 13418577 | I33: =I31-I32 -> 15813209 | J33: =J31-J32 -> 18207840 | K33: =K31-K32 -> 20602472 | L33: =L31-L32 -> 86249938
B35: Capex | F35: =-G9+-G10 -> -54175085 | G35: =-H9+-H10 -> 0 | H35: =-I9+-I10 -> 0 | I35: =-J9+-J10 -> 0 | J35: =-K9+-K10 -> 0 | K35: =-L9+-L10 -> 0
B36: FCFF | F36: =F35 -> -54175085 | G36: =G35+G33+G28 -> 29042857 | H36: =H35+H33+H28 -> 24253594 | I36: =I35+I33+I28 -> 26648226 | J36: =J35+J33+J28 -> 29042857 | K36: =K35+K33+K28 -> 31437489 | L36: =SUM(F36:K36) -> 86249938
B37: Accumulated FCF | F37: =F36 -> -54175085 | G37: =F37+G36 -> -25132228 | H37: =G37+H36 -> -878633.99 | I37: =H37+I36 -> 25769592 | J37: =I37+J36 -> 54812449 | K37: =J37+K36 -> 86249938
B38: PBP | G38: =IF(AND(F37<0,G37>0),G43-(G37/G36),0) -> 0 | H38: =IF(AND(G37<0,H37>0),H43-(H37/H36),0) -> 0 | I38: =IF(AND(H37<0,I37>0),I43-(I37/I36),0) -> 2.0329716 | J38: =IF(AND(I37<0,J37>0),J43-(J37/J36),0) -> 0 | K38: =IF(AND(J37<0,K37>0),K43-(K37/K36),0) -> 0
B39: IRR | F39: =IRR(F36:K36) -> 0.42223146
B40: NPV | F40: =NPV(F4,G36:K36)+F36 -> 51649880
B41: EBITDA margin | F41: =L27 -> 0.262249
B42: Payback | F42: =SUM(F38:K38) -> 2.0329716
G43: 1 | H43: 2 | I43: 3 | J43: 4 | K43: 5
B44: Depreciation Calculation | E44: no of Year depreciated | G44: =G12 -> Year 1 | H44: =H12 -> Year 2 | I44: =I12 -> Year 3 | J44: =J12 -> Year 4 | K44: =K12 -> Year 5
...

Sheet Summary (2)
C1: 0010/IRR/IBC/IV/2024 | M1: St Regis Office and Hotel
C2: Product : | D2: IBS / DAS | J2: Tanggal P&L: | M2: 45398
C3: Status P&L | D3: Renewal
B5: Site Information | E5: Technical Information | J5: Financial Summary
B6: Site Name | D6: St Regis | E6: IBC | K6: Capex DAS Office | M6: =2865432672+880023937 -> 3745456609
B7: Address | D7: Jl. Gatot Subroto No.18, RT.6/RW.1, Daerah Khusus Ibukota Jakarta 12710 | E7: Antena PKS BM | H7: 0 | K7: Capex /antenna Office | M7: =M6/(H8+H9) -> 4556516.6
E8: Antena Asset Office | H8: 638 | K8: Contract Period (thn) | M8: 5
E9: Antena Asset Hotel | H9: 184
B10: Area building | D10: DKI Jakarta | E10: Jumlah Pole Makro | K10: Interest rate /year | M10: =[2]IRR!F3 -> 0.1
B11: Type of building | D11: Office dan Hotel | E11: OPENET | K11: Total Capex New CME
B12: Status | D12: Renewal | E12: Cable FO (Core) | H12: 0 | K12: Total Capex BV 31DEs21 | M12: ='IRR (2)'!G10+'IRR (2)'!G9 -> 1.8999822e+09
B13: Total floor | D13: 4 | E13: Cable FO (meter) | H13: 0 | K13: Total COGS Rent | M13: ='IRR (2)'!L23 -> 500000000
B14: No of building tower | D14: 2 | E14: Drop Wire (meter) | H14: 0 | K14: Total COGS Others | M14: ='IRR (2)'!L24+'IRR (2)'!L26+'IRR (2)'!L27 -> 5.9324411e+08
K15: Total Revenue | M15: ='IRR (2)'!L20 -> 6.1648823e+09
E16: OTHERS | K16: IRR | M16: ='IRR (2)'!F42 -> 0.33722382
K17: NPV | M17: ='IRR (2)'!F43 -> 1.4041538e+09
K18: EBITDA margin | M18: ='IRR (2)'!F44 -> 0.74967176
K19: Payback (year) | M19: ='IRR (2)'!F45 -> 2.4095568
B21: Target Achieved by Commercial: | L21: Prepared by
B22: Revenue | L22: Citra K
B28: Approved by

Sheet IRR (2)
B1: No. | C1: 0010/IRR/IBC/IV/2024 | L1: St Regis Office and Hotel
B2: General
C3: Tax Rate | F3: 0.02 | I3: Operator join | J3: Rev.Change
C4: Interest Rate | F4: 0.1 | I4: 2025 IOH | J4: -0.15
C5: SG&A | F5: 0.05 | G5: from Revenues
C6: BHPUSO | F6: 0 | G6: from Revenues | J6: -
C7: Erosion | F7: 0.15 | J7: -
G8: Y1 | H8: Y2 | I8: Y3 | J8: Y4 | K8: Y5
B9: Total CAPEX | E9: BV 31DEs2021 Hotel | G9: 4.4917888e+08
E10: BV 31DEs2021 Office | G10: 1.4508034e+09 | H10: 0 | I10: 0 | J10: 0
G12: 2022 | H12: 2023 | I12: 2024 | J12: 2025 | K12: 2026
B13: IRR Calculation | G13: Year 1 | H13: Year 2 | I13: Year 3 | J13: Year 4 | K13: Year 5 | L13: Total
B14: Months of Service | G14: 12 | H14: 12 | I14: 12 | J14: 12 | K14: 12
B16: Revenues
C17: Operator TSEL Office & Hotel | H17: 731160000 | I17: 731160000 | J17: 731160000 | K17: =J17 -> 731160000 | L17: =SUM(G17:K17) -> 2924640000
C18: Operator XL Office Only | G18: 400000000 | I18: =200000000*(1-5%) -> 190000000 | J18: =I18 -> 190000000 | K18: =J18 -> 190000000 | L18: =SUM(G18:K18) -> 970000000
C19: Operator IOH Office & Hotel | G19: 516432258 | H19: 501600000 | I19: 486767742 | J19: =I19*85% -> 4.1375258e+08 | K19: =J19*85% -> 3.5168969e+08 | L19: =SUM(G19:K19) -> 2.2702423e+09
B20: Total Revenues (SF) | G20: =SUM(G17:G19) -> 916432258 | H20: =SUM(H17:H19) -> 1232760000 | I20: =SUM(I17:I19) -> 1407927742 | J20: =SUM(J17:J19) -> 1.3349126e+09 | K20: =SUM(K17:K19) -> 1.2728497e+09 | L20: =SUM(G20:K20) -> 6.1648823e+09
B22: OPEX
C23: Lease to BM | I23: 500000000 | L23: =SUM(H23:K23) -> 500000000
C24: Electricity | G24: 36000000 | H24: 36000000 | I24: 36000000 | J24: 36000000 | K24: 36000000 | L24: =SUM(G24:K24) -> 180000000
C25: BW Tsel 100Mbps | G25: 90000000 | H25: 90000000 | I25: 90000000 | J25: 90000000 | K25: 90000000 | L25: =SUM(G25:K25) -> 450000000
C26: Maintenance | G26: =PARAMETER!B56*3 -> 21000000 | H26: =G26 -> 21000000 | I26: =H26 -> 21000000 | J26: =I26 -> 21000000 | K26: =J26 -> 21000000 | L26: =SUM(G26:K26) -> 105000000
C27: SG&A | G27: =G20*$F$5 -> 45821613 | H27: =H20*$F$5 -> 61638000 | I27: =I20*$F$5 -> 70396387 | J27: =J20*$F$5 -> 66745629 | K27: =K20*$F$5 -> 63642485 | L27: =SUM(G27:K27) -> 3.0824411e+08
B28: Total OPEX | G28: =SUM(G23:G27) -> 1.9282161e+08 | H28: =SUM(H23:H27) -> 208638000 | I28: =SUM(I23:I27) -> 7.1739639e+08 | J28: =SUM(J23:J27) -> 2.1374563e+08 | K28: =SUM(K23:K27) -> 2.1064248e+08 | L28: =SUM(L23:L27) -> 1.5432441e+09
B29: Total EBITDA | G29: =G20-G28 -> 7.2361065e+08 | H29: =H20-H28 -> 1024122000 | I29: =I20-I28 -> 6.9053135e+08 | J29: =J20-J28 -> 1.121167e+09 | K29: =K20-K28 -> 1.0622072e+09 | L29: =L20-L28 -> 4.6216382e+09
B30: Ebitda margin | G30: 0 | H30: =H29/H20 -> 0.83075538 | I30: =I29/I20 -> 0.49045937 | J30: =J29/J20 -> 0.83988043 | K30: =K29/K20 -> 0.83451111 | L30: =L29/L20 -> 0.74967176
B31: Depreciation Expense | G31: =G53 -> 3.7999645e+08 | H31: =H53 -> 3.7999645e+08 | I31: =I53 -> 3.7999645e+08 | J31: =J53 -> 3.7999645e+08 | K31: =K53 -> 3.7999645e+08 | L31: =SUM(G31:K31) -> 1.8999822e+09
B32: Total EBIT | G32: =G29-G31 -> 3.436142e+08 | H32: =H29-H31 -> 6.4412555e+08 | I32: =I29-I31 -> 3.1053491e+08 | J32: =J29-J31 -> 7.411705e+08 | K32: =K29-K31 -> 6.8221076e+08 | L32: =L29-L31 -> 2.7216559e+09
B33: Interest Expense | G33: =PARAMETER!H20 -> 79738818 | H33: =PARAMETER!I20 -> 26415199 | I33: =PARAMETER!J20 -> 10546145 | J33: =PARAMETER!K20 -> 4676899.2 | K33: =PARAMETER!L20 -> 1171030.1 | L33: =SUM(G33:K33) -> 1.2254809e+08
B34: EBT | G34: =G32-G33 -> 2.6387538e+08 | H34: =H32-H33 -> 6.1771035e+08 | I34: =I32-I33 -> 2.9998876e+08 | J34: =J32-J33 -> 7.364936e+08 | K34: =K32-K33 -> 6.8103973e+08 | L34: =SUM(G34:K34) -> 2.5991078e+09
B35: Tax Expense | G35: =IF(G34<0,0,G34*$F$3) -> 5277507.6 | H35: =IF(H34<0,0,H34*$F$3) -> 12354207 | I35: =IF(I34<0,0,I34*$F$3) -> 5999775.2 | J35: =IF(J34<0,0,J34*$F$3) -> 14729872 | K35: =IF(K34<0,0,K34*$F$3) -> 13620795 | L35: =SUM(G35:K35) -> 51982156
B36: Net Income | G36: =G34-G35 -> 2.5859787e+08 | H36: =H34-H35 -> 6.0535614e+08 | I36: =I34-I35 -> 2.9398899e+08 | J36: =J34-J35 -> 7.2176373e+08 | K36: =K34-K35 -> 6.6741893e+08 | L36: =L34-L35 -> 2.5471257e+09
B38: Capex | F38: =-G10-G9 -> -1.8999822e+09 | G38: 0 | H38: =-I10+-I11 -> 0 | I38: =-J10+-J11 -> 0 | J38: =-K10+-K11 -> 0 | K38: =-L10+-L11 -> 0
B39: FCFF | F39: =F38 -> -1.8999822e+09 | G39: =G38+G36+G31 -> 6.3859432e+08 | H39: =H38+H36+H31 -> 9.8535259e+08 | I39: =I38+I36+I31 -> 6.7398543e+08 | J39: =J38+J36+J31 -> 1.1017602e+09 | K39: =K38+K36+K31 -> 1.0474154e+09 | L39: =SUM(F39:K39) -> 2.5471257e+09
B40: Accumulated FCF | F40: =F39 -> -1.8999822e+09 | G40: =F40+G39 -> -1.2613879e+09 | H40: =G40+H39 -> -2.7603533e+08 | I40: =H40+I39 -> 3.979501e+08 | J40: =I40+J39 -> 1.4997103e+09 | K40: =J40+K39 -> 2.5471257e+09
B41: PBP | G41: =IF(AND(F40<0,G40>0),G46-(G40/G39),0) -> 0 | H41: =IF(AND(G40<0,H40>0),H46-(H40/H39),0) -> 0 | I41: =IF(AND(H40<0,I40>0),I46-(I40/I39),0) -> 2.4095568 | J41: =IF(AND(I40<0,J40>0),J46-(J40/J39),0) -> 0 | K41: =IF(AND(J40<0,K40>0),K46-(K40/K39),0) -> 0
B42: IRR | F42: =IRR(F39:K39) -> 0.33722382
B43: NPV | F43: =NPV(F4,G39:K39)+F39 -> 1.4041538e+09
B44: EBITDA margin | F44: =L30 -> 0.74967176
...

Sheet PARAMETER
A1: PERHITUNGAN INTEREST EXPENSE based CAPEX
A2: Capex tahun | B2: 5 | C2: 2017 | D2: =C2+1 -> 2018 | E2: =D2+1 -> 2019 | F2: =E2+1 -> 2020 | G2: =F2+1 -> 2021 | H2: =G2+1 -> 2022 | I2: =H2+1 -> 2023 | J2: =I2+1 -> 2024 | K2: =J2+1 -> 2025 | ... O2: =N2+1 -> 2029
A3: 2017 | B3: loan | C3: 2865432672 | D3: =C3-C4 -> 2.2923461e+09 | E3: =D3-C4 -> 1.7192596e+09 | F3: =E3-C4 -> 1.1461731e+09 | G3: =F3-C4 -> 5.7308653e+08 | H3: =G3-C4 -> 0 | V3: 2013 | W3: 1.7266708e+09
B4: Installment/thn | C4: =C3/B2 -> 5.7308653e+08 | V4: 2014 | W4: 422342499
B5: Interest | C5: =(($C$3*'IRR (2)'!F4*6)/12) -> 1.4327163e+08 | D5: =AVERAGE(C3:D3)*'IRR (2)'!$F$4 -> 2.5788894e+08 | E5: =AVERAGE(D3:E3)*'IRR (2)'!$F$4 -> 2.0058029e+08 | F5: =AVERAGE(E3:F3)*'IRR (2)'!$F$4 -> 1.4327163e+08 | G5: =AVERAGE(F3:G3)*'IRR (2)'!$F$4 -> 85962980 | H5: =AVERAGE(G3:H3)*'IRR (2)'!$F$4 -> 28654327 | V5: 2016 | W5: 10773000
A6: 2018 | B6: loan | D6: 880023937 | E6: =D6-D7 -> 7.0401915e+08 | F6: =E6-D7 -> 5.2801436e+08 | G6: =F6-D7 -> 3.5200957e+08 | H6: =G6-D7 -> 1.7600479e+08 | I6: =H6-D7 -> 0 | V6: 2017 | W6: 102210600
B7: Installment/thn | D7: =D6/B2 -> 1.7600479e+08
B8: Interest | D8: =(($D$6*'IRR (2)'!F4*6)/12) -> 44001197 | E8: =AVERAGE(D6:E6)*'IRR (2)'!$F$4 -> 79202154 | F8: =AVERAGE(E6:F6)*'IRR (2)'!$F$4 -> 61601676 | G8: =AVERAGE(F6:G6)*'IRR (2)'!$F$4 -> 44001197 | H8: =AVERAGE(G6:H6)*'IRR (2)'!$F$4 -> 26400718 | I8: =AVERAGE(H6:I6)*'IRR (2)'!$F$4 -> 8800239.4 | J8: =AVERAGE(I6:J6)*'IRR (2)'!$F$4 -> 0
A9: 2019 | B9: loan | E9: 119956800 | F9: =E9-E10 -> 95965440 | G9: =F9-E10 -> 71974080 | H9: =G9-E10 -> 47982720 | I9: =H9-E10 -> 23991360 | J9: =I9-E10 -> 0
B10: Installment/thn | E10: =E9/B2 -> 23991360
B11: Interest | E11: =((E9*'IRR (2)'!F4*6)/12) -> 5997840 | F11: =AVERAGE(E9:F9)*'IRR (2)'!$F$4 -> 10796112 | G11: =AVERAGE(F9:G9)*'IRR (2)'!$F$4 -> 8396976 | H11: =AVERAGE(G9:H9)*'IRR (2)'!$F$4 -> 5997840 | I11: =AVERAGE(H9:I9)*'IRR (2)'!$F$4 -> 3598704 | J11: =AVERAGE(I9:J9)*'IRR (2)'!$F$4 -> 1199568
A12: 2020 | B12: loan | F12: 116380891 | G12: =F12-F13 -> 93104713 | H12: =G12-F13 -> 69828535 | I12: =H12-F13 -> 46552356 | J12: =I12-F13 -> 23276178 | K12: =J12-F13 -> 0
B13: Installment/thn | F13: =F12/B2 -> 23276178
B14: Interest | F14: =((F12*'IRR (2)'!F4*6)/12) -> 5819044.6 | G14: =AVERAGE(F12:G12)*'IRR (2)'!$F$4 -> 10474280 | H14: =AVERAGE(G12:H12)*'IRR (2)'!$F$4 -> 8146662.4 | I14: =AVERAGE(H12:I12)*'IRR (2)'!$F$4 -> 5819044.5 | J14: =AVERAGE(I12:J12)*'IRR (2)'!$F$4 -> 3491426.7 | K14: =AVERAGE(J12:K12)*'IRR (2)'!$F$4 -> 1163808.9 | L14: =AVERAGE(K12:L12)*'IRR (2)'!$F$4 -> 0
A15: 2021 | B15: loan | G15: 117103010 | H15: =G15-G16 -> 93682408 | I15: =H15-G16 -> 70261806 | J15: =I15-G16 -> 46841204 | K15: =J15-G16 -> 23420602 | L15: =K15-G16 -> 0
B16: Installment/thn | G16: =G15/B2 -> 23420602
B17: Interest | G17: =((G15*'IRR (2)'!F4*6)/12) -> 5855150.5 | H17: =AVERAGE(G15:H15)*'IRR (2)'!$F$4 -> 10539271 | I17: =AVERAGE(H15:I15)*'IRR (2)'!$F$4 -> 8197210.7 | J17: =AVERAGE(I15:J15)*'IRR (2)'!$F$4 -> 5855150.5 | K17: =AVERAGE(J15:K15)*'IRR (2)'!$F$4 -> 3513090.3 | L17: =AVERAGE(K15:L15)*'IRR (2)'!$F$4 -> 1171030.1 | M17: =AVERAGE(L15:M15)*'IRR (2)'!$F$4 -> 0
B20: Interest Exp | C20: =C5+C8+C11+C14+C17 -> 1.4327163e+08 | D20: =D5+D8+D11+D14+D17 -> 3.0189014e+08 | E20: =E5+E8+E11+E14+E17 -> 2.8578028e+08 | F20: =F5+F8+F11+F14+F17 -> 2.2148847e+08 | G20: =G5+G8+G11+G14+G17 -> 1.5469058e+08 | H20: =H5+H8+H11+H14+H17 -> 79738818 | I20: =I5+I8+I11+I14+I17 -> 26415199 | J20: =J5+J8+J11+J14+J17 -> 10546145 | ... S20: =S5+S8+S11+S14+S17 -> 0
B23: Year 1 | C23: Year 2 | D23: Year 3 | E23: Year 4 | F23: Year 5 | G23: Year 6 | H23: Year 7 | I23: Year 8 | J23: Year 9 | K23: Year 10
A24: loan | B24: =IRR!G9+68000000 -> 1.2217509e+08 | C24: =$B$24-$B$26 -> 97740068 | D24: =$C$24-$B$26 -> 73305051 | E24: =$D$24-$B$26 -> 48870034 | F24: =$E$24-$B$26 -> 24435017 | G24: =$F$24-$B$26 -> 0 | H24: =$G$24-$B$26 -> -24435017 | I24: =$H$24-$B$26 -> -48870034 | J24: =$I$24-$B$26 -> -73305051 | K24: =$J$24-$B$26 -> -97740068
A25: Period (thn) | B25: 5
A26: Installment/thn | B26: =$B$24/$B$25 -> 24435017
A27: Interest | B27: =(($B$24*IRR!$F$4)*6)/12 -> 6108754.3 | C27: =AVERAGE(B24:C24)*IRR!$F$4 -> 10995758 | D27: =AVERAGE(C24:D24)*IRR!$F$4 -> 8552256 | E27: =AVERAGE(D24:E24)*IRR!$F$4 -> 6108754.3 | F27: =AVERAGE(E24:F24)*IRR!$F$4 -> 3665252.6 | G27: =AVERAGE(F24:G24)*IRR!$F$4 -> 1221750.9 | H27: =AVERAGE($G$24:$H$24)*[3]IRR!$G$4 -> -1221750.9 | I27: =AVERAGE($H$24:$I$24)*[3]IRR!$G$4 -> -3665252.6 | J27: =AVERAGE($I$24:$J$24)*[3]IRR!$G$4 -> -6108754.3 | K27: =AVERAGE($J$24:$K$24)*[3]IRR!$G$4 -> -8552256
F32: person | G32: trip | H32: kamar | I32: Days by Omni | J32: Biaya walktest inhouse/visit | K32: Biaya walktest inhouse/thn
E33: Diisikan | F33: 1 | G33: 1 | H33: 1 | I33: 40
B34: Transport | C34: Pesawat | D34: =C47 -> 2000000 | E34: person | F34: =F33 -> 1 | J34: =F34*D34 -> 2000000
C35: Bandara | D35: 600000 | E35: person | F35: =F33 -> 1 | I35: =IF($I$32<=120,2,IF($I$32>220,4,3)) -> 4 | J35: =D35*F35 -> 600000
C36: Transport | D36: 200000 | E36: Trip | G36: =G33 -> 1 | J36: =G36*D36 -> 200000
B37: Hotel | C37: Hotel | D37: 450000 | E37: kamar | F37: =F33 -> 1 | H37: =H33 -> 1 | I37: =IF($I$32<=120,2,IF($I$32>220,4,3)) -> 4 | J37: =H37*D37*I37 -> 1800000
B38: Uang Saku | C38: Uang Saku | D38: 120000 | E38: person | F38: =F33 -> 1 | I38: =IF($I$32<=120,2,IF($I$32>220,4,3)) -> 4 | J38: =I38*D38*F38 -> 480000
J39: =SUM(J34:J38) -> 5080000 | K39: =J39*2 -> 10160000
K41: =B47 -> 15000000
K42: 7000000
B43: PM/Year/Site | C43: Pesawat | E43: Asumsi:
A44: Sulut | B44: 16800000 | C44: 4000000 | E44: Walktest 4x dalam setahun semua operator sekaligus
A45: Makasar | C45: 3000000 | E45: Walktest pertama oleh vendor | I45: 10000000 | K45: =K42+K41+K39 -> 32160000
A46: Bali | B46: 15600000 | C46: 2500000 | E46: Walktest pertama oleh vendor | H46: Pekanbaru | I46: 12000000
A47: Jatim | B47: 15000000 | C47: 2000000 | E47: Walktest pertama oleh vendor | H47: Sumut | I47: 14000000
A48: Jateng | B48: 15000000 | C48: 1850000 | E48: Walktest pertama oleh vendor | H48: Sulsel | I48: 14000000
A49: Jabar | B49: 12000000 | C49: 1200000 | E49: Walktest pertama oleh vendor | H49: Sulut | I49: 17000000
...

Sheet SummaryBR
C1: SUMMARY REVIEW
A3: Nama Site | B3: Capital Place/ St. Regis
A4: Nama Pemilik | B4: PT. Mora Telematika Indonesia
A5: Alamat Pemilik | B5: Jl. Panataran no.9
A6: Telp
A7: Objek Sewa | B7: Omni+Pole+RBS
A9: No | B9: Keterangan | C9: Existing | D9: Renewal
A10: 1 | B10: Scoper of Lease | C10: IBC | D10: IBC
A11: 2 | B11: Obyek Sewa | C11: Area roof Toop | D11: Area roof Toop
A12: 3 | B12: Periode Sewa | C12: 27Okt2016 sd 26Okt21 (5th) | D12: 27Okt21 sd 26Okt2026 (5thn)
A13: 4 | B13: Harga sewa/ masa | C13: 1900000000 | D13: 500000000
B14: Harga Sewa/ thn | C14: =C13/5 -> 380000000 | D14: =D13/5 -> 100000000
A15: 5 | B15: Operator Join | C15: Tsel 12Jul'18 sd 11Jul'23 | D15: Tsel 12Jul'23 sd 11Jul'28
C16: Isat 12Jan'17 sd 11Jan'22 Drop | D16: IOH 21Des'21 sd 20Des'24
C17: XL 1Jan'19 sd 7Des'20 | D17: XL Office Only 8Des'20 sd 7Des'25
A18: 6 | B18: Kenaikan/Penurunan Harga | C18: Penurunan Harga 73,68%

Sheet Analisa
A2: St. Regis Office and Hotel
A3: Periode | B3: Start | C3: End
A4: Rev IOH | B4: 44551 | C4: 45646
A5: Rev Tsel | B5: 45119 | C5: 46945
A6: Rev XL | B6: 44173 | C6: 45998
A7: Sewa BM | B7: 44496 | C7: 46321
B9: Start | C9: End | D9: Days
A10: Optimis >> Jika Sewa BM diperpanjang 5 th, Operator tetap pada Periode Existing MAsing2, maka:
A11: Rev IOH | B11: 44551 | C11: 45646 | D11: =C11-B11 -> 1095 | E11: 501600000 | F11: =E11/365*D11 -> 1504800000
A12: Rev Tsel | B12: 45119 | C12: 46321 | D12: =C12-B12 -> 1202 | E12: 731160000 | F12: =E12/365*D12 -> 2.4078201e+09
A13: Rev XL | B13: 44496 | C13: 45998 | D13: =C13-B13 -> 1502 | E13: 200000000 | F13: =E13/365*D13 -> 8.230137e+08
A14: Sewa BM | B14: 44496 | C14: 46321 | D14: =C14-B14 -> 1825 | E14: 100000000 | F14: =-E14/365*D14 -> -500000000
A15: OM-IOH | B15: 44551 | C15: 45646 | D15: =C15-B15 -> 1095 | E15: 7000000 | F15: =-E15/365*D15 -> -21000000
A16: OM-Tsel | B16: 45119 | C16: 46321 | D16: =C16-B16 -> 1202 | E16: 7000000 | F16: =-E16/365*D16 -> -23052055
A17: OM-XL | B17: 44496 | C17: 45998 | D17: =C17-B17 -> 1502 | E17: 7000000 | F17: =-E17/365*D17 -> -28805479
A18: Listrik-Tsel | B18: 44496 | C18: 46321 | D18: =C18-B18 -> 1825 | E18: 36000000 | F18: =-E18/365*D18 -> -180000000
A19: Antisipasi Add Capex and Pole | E19: 100000000
A20: Profit | F20: =SUM(F11:F19) -> 3.9827762e+09
