Workbook
Name _AAL2: '[2]AAL2 Site List - All'!$A$2:$B$134
Name _ISP2: [3]install!$I$6
Name _ISP3: [3]install!$I$7
Name _OSP1: [3]install!$I$8
Name _OSP2: [3]install!$I$9
Name _Regression_Int: 1
Name _sek1: 1.108
Name _sek2: 1.1
Name _sek3: 1.1
Name _sm10: [4]Input!$BA$90
Name _sm11: [4]Input!$BF$90
Name _sm12: [4]Input!$BK$90
Name _sm13: [4]Input!$BP$90
Name _sm14: [4]Input!$BU$90
Name _sm15: [4]Input!$BZ$90
Name _sm16: [4]Input!$CE$90
Name _sm17: [4]Input!$CJ$90
Name _sm18: [4]Input!$CO$90
Name _sm19: [4]Input!$CT$90
Name _sm2: [4]Input!$M$90
Name _sm20: [4]Input!$CY$90
Name _sm3: [4]Input!$R$90
Name _sm4: [4]Input!$W$90
Name _sm5: [4]Input!$AB$90
Name _sm6: [4]Input!$AG$90
Name _sm7: [4]Input!$AL$90
Name _sm8: [4]Input!$AQ$90
Name _sm9: [4]Input!$AV$90
Name _SUB1: [3]para!$G$65
Name _SUB10: [3]para!$G$74
Name _SUB12: [3]para!$G$76
Name _SUB13: [3]para!$G$77
Name _SUB15: [3]para!$G$79
Name _SUB2: [3]para!$G$66
Name _SUB3: [3]para!$G$67
Name _SUB4: [3]para!$G$68
Name _SUB5: [3]para!$G$69
Name _SUB6: [3]para!$G$70
Name _SUB8: [3]para!$G$72
Name _SUB9: [3]para!$G$73
Name _Syn1: [4]Input!$H$91
Name _Syn10: [4]Input!$BA$91
Name _Syn11: [4]Input!$BF$91
Name _Syn12: [4]Input!$BK$91
Name _Syn13: [4]Input!$BP$91
Name _Syn14: [4]Input!$BU$91
Name _Syn15: [4]Input!$BZ$91
Name _Syn16: [4]Input!$CE$91
Name _Syn17: [4]Input!$CJ$91
Name _Syn18: [4]Input!$CO$91
Name _Syn19: [4]Input!$CT$91
Name _Syn2: [4]Input!$M$91
Name _Syn20: [4]Input!$CY$91
Name _Syn3: [4]Input!$R$91
Name _Syn4: [4]Input!$W$91
Name _Syn5: [4]Input!$AB$91
Name _Syn6: [4]Input!$AG$91
Name _Syn7: [4]Input!$AL$91
Name _Syn8: [4]Input!$AQ$91
Name _Syn9: [4]Input!$AV$91

Sheet Summary.
C2: 0007/IRR/Open/X/2024 | N2: CAPITOL PARK APARTEMENT
C3: Product : | D3: Opennet | J3: Tanggal P&L: | M3: 45573
C4: Status P&L | D4: Renewal
B6: Site Information | E6: Technical Information | J6: Financial Summary
B7: Site Name | D7: Capitol Park Apartement | E7: IBC | K7: Capex /antenna | M7: 0
B8: Address | E8: Antena PKS BM | K8: Contract Period (thn) | M8: 5
E9: Antena Asset | H9: 577 | K9: Interest rate /year | M9: ='PnL (D)'!C22 -> 0.1 | P9: =H9*125000 -> 72125000 | Q9: =P9*12 -> 865500000
B10: Area building | D10: Salemba | E10: Jumlah Pole Makro | K10: Kurs 1USD | M10: 0
B11: Type of building | E11: OPENET | K11: Total Revenue | M11: =IRR!R18 -> 2061404860
B12: Status | D12: Renewal | E12: Total Homepass | H12: 410 | K12: Total Investment | M12: =IRR!R12 -> 7339954
B13: Total floor | E13: Cable FO (Core) | H13: 0 | K13: Total CoGS Rev Share | M13: =IRR!R23 -> 618421458
B14: No of building tower | D14: 2 | E14: Cable FO (meter) | H14: 0 | K14: Total CoGS Others | M14: =SUM(IRR!R24:R27) -> 47100092
E15: Drop Wire (meter)
E16: OTHERS | K16: IRR | M16: =IRR!F44 -> Positip
K17: ROIC | M17: =IRR!F45 -> 33.402899
K18: NPV | M18: =IRR!F46 -> 9.1090819e+08
K19: EBITDA margin | M19: =IRR!F47 -> 0.67715146
K20: Payback (year) | M20: =IRR!F48 -> 0
B22: Target Achieved by Commercial: | L22: Prepared by
L23: Citra Kartika
B31: Approved by

Sheet Summary
D4: 10 Years | F4: 15 Years | H4: 20 Years
B5: Contract Length (Year)
B7: Total Revenue | D7: =SUM(#REF!) -> #REF! | F7: =SUM(#REF!) -> #REF! | H7: =SUM(#REF!) -> #REF!
B8: CAPEX | D8: =#REF! -> #REF! | F8: =D8 -> #REF! | H8: =D8 -> #REF!
B9: EBITDA | D9: 0.64986115 | F9: 0.64986115 | H9: 0.64986115
B10: IRR | D10: 0.26692664 | F10: 0.26692664 | H10: 0.26692664
B11: ROIC | D11: 0.37221936 | F11: 0.37221936 | H11: 0.37221936
B12: BEP | D12: 4.6481409 | F12: 4.6481409 | H12: 4.6481409

Sheet Simulation
C2: Contract Term | D2: 10
C4: Revenue
C5: Services | D5: MRC | E5: OTC | F5: Unitary | H5: Total Revenue During Contract
C6: FTTH | D6: 150000 | E6: 0 | F6: per HC Subscription pe rmonth | G6: =H6/H$11 -> #REF! | H6: =SUM(#REF!) -> #REF!
C7: Backhaul Lease | D7: 20000 | F7: per Mbps pe rmonth | G7: =H7/H$11 -> #REF! | H7: =SUM(#REF!) -> #REF!
C8: Local Loop | D8: 1700000 | E8: 2500000 | F8: per month for 20 Mbps capacity | G8: =H8/H$11 -> #REF! | H8: =SUM(#REF!) -> #REF!
C9: Anyfi | D9: 75000 | F9: per Operator per month | G9: =H9/H$11 -> #REF! | H9: =SUM(#REF!) -> #REF!
C10: AnyFi Operator | D10: 1
C11: Total | H11: =SUM(H6:H10) -> #REF!
D14: Calendar of Booking | H14: Year of Booking
C15: OPEX | D15: 0.12 | H15: 0.12
C16: BHP/USO | D16: 0.0175 | H16: =D16 -> 0.0175
C17: HC OM | D17: 350000 | H17: =D17 -> 350000
C18: Other OPEX | D18: =#REF! -> #REF! | H18: =#REF! -> #REF!
C19: Rev% to Developer | D19: 0.15 | H19: =D19 -> 0.15
C20: Rev% Starts in | D20: 1 | H20: =D20 -> 1
D23: P/L Booking Method & CAPEX Posting
D24: A | F24: B | H24: C
C25: P/L Parameters | D25: Calendar of Booking - CAPEX Upfront | F25: Calendar of Booking - CAPEX HC OTG | H25: Year of Booking - CAPEX Upfront
C26: CAPEX Upfront | D26: =#REF! -> #REF! | F26: =-#REF! -> #REF! | H26: =-#REF! -> #REF!
C27: CAPEX OTG | D27: 0 | F27: =-SUM(#REF!) -> #REF! | H27: 0
C28: EBITDA | D28: =#REF! -> #REF! | F28: =#REF! -> #REF! | H28: =#REF! -> #REF!
C29: IRR | D29: =#REF! -> #REF! | F29: =#REF! -> #REF! | H29: =#REF! -> #REF!
C30: ROIC | D30: =#REF! -> #REF! | F30: =#REF! -> #REF! | H30: =#REF! -> #REF!
C31: BEP | D31: =#REF! -> #REF! | F31: =#REF! -> #REF! | H31: =#REF! -> #REF!

Sheet IRR
B1: 0007/IRR/Open/X/2024 | R1: Capitol Park Apartement
B2: General Asumption | L2: % inc (dec)
C3: Tax Rate | F3: 0.02
C4: Interest Rate | F4: 0.1
C5: SG&A | F5: 0.05 | G5: from Revenues
C6: BHPUSO | G6: from Revenues
C7: Price Adjustment after 5 year | F7: 0.15
B9: Investment | G9: Y0 | H9: Y1 | I9: Y2 | J9: Y3 | K9: Y4 | L9: Y5 | M9: Y6 | N9: Y7 | O9: Y8 | P9: Y9 | Q9: Y10 | R9: Total
B10: Total Investment
E11: BV 31 Dec 24 OPENET | H11: 7339954 | R11: =SUM(G11:Q11) -> 7339954
H12: =SUM(H11:H11) -> 7339954 | I12: =SUM(I11:I11) -> 0 | J12: =SUM(J11:J11) -> 0 | K12: =SUM(K11:K11) -> 0 | L12: =SUM(L11:L11) -> 0 | R12: =SUM(R11:R11) -> 7339954
B14: IRR Calculation | G14: Year 0 | H14: 2025 | I14: =H14+1 -> 2026 | J14: =I14+1 -> 2027 | K14: =J14+1 -> 2028 | L14: =K14+1 -> 2029 | M14: =L14+1 -> 2030 | N14: =M14+1 -> 2031 | O14: =N14+1 -> 2032 | P14: =O14+1 -> 2033 | Q14: =P14+1 -> 2034 | R14: Total
B15: Months of Service | G15: 12 | H15: 12 | I15: 12 | J15: 12 | K15: 12 | L15: 12 | M15: 12 | N15: 12 | O15: 12 | P15: 12 | Q15: 12
B16: % increase (decrease) | M16: 0.1
B17: Revenues
C18: GPON Revenue | H18: ='Revenue capitol'!D14 -> 412280972 | I18: =H18 -> 412280972 | J18: =I18 -> 412280972 | K18: =J18 -> 412280972 | L18: =K18 -> 412280972 | M18: =$K$3*0 -> 0 | N18: =$K$3*(1-$L$3)*0 -> 0 | O18: =$K$3*(1-$L$3)*0 -> 0 | P18: =$K$3*(1-$L$3)*0 -> 0 | Q18: =$K$3*(1-$L$3)*0 -> 0 | R18: =SUM($G18:Q18) -> 2061404860
C19: Revenue XL | H19: =150000000*0 -> 0 | I19: =H19 -> 0 | J19: =I19 -> 0 | K19: =J19 -> 0 | L19: =K19 -> 0 | R19: =SUM($G19:Q19) -> 0
B20: Total Revenues | G20: =SUM(G18:G18) -> 0 | H20: =SUM(H18:H19) -> 412280972 | I20: =SUM(I18:I19) -> 412280972 | J20: =SUM(J18:J19) -> 412280972 | K20: =SUM(K18:K19) -> 412280972 | L20: =SUM(L18:L19) -> 412280972 | M20: =SUM(M18:M18) -> 0 | N20: =SUM(N18:N18) -> 0 | O20: =SUM(O18:O18) -> 0 | P20: =SUM(P18:P18) -> 0 | Q20: =SUM(Q18:Q18) -> 0 | R20: =SUM(R18:R19) -> 2061404860 | S20: =SUM(G20:Q20)-R20 -> 0
B22: OPEX
C23: Rev. Share to BM | F23: 30% per tahun | G23: from Revenues | H23: =30%*H20 -> 1.2368429e+08 | I23: =30%*I20 -> 1.2368429e+08 | J23: =30%*J20 -> 1.2368429e+08 | K23: =30%*K20 -> 1.2368429e+08 | L23: =30%*L20 -> 1.2368429e+08 | R23: =SUM($H23:Q23) -> 618421458
C24: Fixed Maintanance cost | F24: 0.05 | G24: from capex | H24: =F24*'Parameter Interest'!E8 -> 1174399.1 | I24: =H24 -> 1174399.1 | J24: =I24 -> 1174399.1 | K24: =J24 -> 1174399.1 | L24: =K24 -> 1174399.1 | M24: =200000000*0.5*0 -> 0 | N24: =200000000*0.5*0 -> 0 | O24: =200000000*0.5*0 -> 0 | P24: =200000000*0.5*0 -> 0 | Q24: =200000000*0.5*0 -> 0 | R24: =SUM($H24:Q24) -> 5871995.2
C25: Maintatnce Cost IBC | H25: =7000000*0 -> 0 | I25: =H25 -> 0 | J25: =I25 -> 0 | K25: =J25 -> 0 | L25: =K25 -> 0 | R25: =SUM($H25:Q25) -> 0
C26: electricity | H26: =42000000*0 -> 0 | I26: =H26 -> 0 | J26: =I26 -> 0 | K26: =J26 -> 0 | L26: =K26 -> 0 | R26: =SUM($H26:Q26) -> 0
C27: SG&A (inhouse resources) | F27: 0.02 | G27: of total revenues | H27: =$F$27*H20 -> 8245619.4 | I27: =$F$27*I20 -> 8245619.4 | J27: =$F$27*J20 -> 8245619.4 | K27: =$F$27*K20 -> 8245619.4 | L27: =$F$27*L20 -> 8245619.4 | M27: =[75]PARAMETER!G10*0 -> 0 | N27: =[75]PARAMETER!H10*0 -> 0 | O27: =[75]PARAMETER!I10*0 -> 0 | P27: =[75]PARAMETER!J10*0 -> 0 | Q27: =[75]PARAMETER!K10*0 -> 0 | R27: =SUM($G27:Q27) -> 41228097
B28: Total OPEX | G28: =SUM(G23:G27) -> 0 | H28: =SUM(H23:H27) -> 1.3310431e+08 | I28: =SUM(I23:I27) -> 1.3310431e+08 | J28: =SUM(J23:J27) -> 1.3310431e+08 | K28: =SUM(K23:K27) -> 1.3310431e+08 | L28: =SUM(L23:L27) -> 1.3310431e+08 | M28: =SUM(M23:M27) -> 0 | N28: =SUM(N23:N27) -> 0 | ... R28: =SUM(R23:R27) -> 6.6552155e+08 | S28: =R28/R20 -> 0.32284854
B29: Total EBITDA | G29: =G20-G28 -> 0 | H29: =H20-H28 -> 2.7917666e+08 | I29: =I20-I28 -> 2.7917666e+08 | J29: =J20-J28 -> 2.7917666e+08 | K29: =K20-K28 -> 2.7917666e+08 | L29: =L20-L28 -> 2.7917666e+08 | M29: =M20-M28 -> 0 | N29: =N20-N28 -> 0 | ... R29: =R20-R28 -> 1.3958833e+09 | S29: =SUM(G29:Q29)-R29 -> 0
B30: Ebitda margin | H30: =H29/H20 -> 0.67715146 | I30: =I29/I20 -> 0.67715146 | J30: =J29/J20 -> 0.67715146 | K30: =K29/K20 -> 0.67715146 | L30: =L29/L20 -> 0.67715146 | M30: =M29/M20 -> #DIV/0! | N30: =N29/N20 -> #DIV/0! | O30: =O29/O20 -> #DIV/0! | ... R30: =R29/R20 -> 0.67715146
B32: Depreciation Expense | H32: =H61 -> 1467990.8 | I32: =I61 -> 1467990.8 | J32: =J61 -> 1467990.8 | K32: =K61 -> 1467990.8 | L32: =L61 -> 1467990.8 | M32: =M61*0 -> 0 | Q32: =Q61*0 -> 0 | R32: =SUM($G32:Q32) -> 7339954
B33: Total EBIT | G33: =G29-G32 -> 0 | H33: =H29-H32 -> 2.7770867e+08 | I33: =I29-I32 -> 2.7770867e+08 | J33: =J29-J32 -> 2.7770867e+08 | K33: =K29-K32 -> 2.7770867e+08 | L33: =L29-L32 -> 2.7770867e+08 | M33: =M29-M32 -> 0 | N33: =N29-N32 -> 0 | ... R33: =R29-R32 -> 1.3885434e+09 | S33: =SUM(G33:Q33)-R33 -> 0
B34: Interest Expense | H34: ='Parameter Interest'!G18 -> 1.0206064e+08 | I34: ='Parameter Interest'!H18 -> 34646559 | J34: ='Parameter Interest'!I18 -> 704639.43 | K34: ='Parameter Interest'!J18 -> 234879.81 | L34: ='Parameter Interest'!K18 -> 0 | M34: =[75]PARAMETER!G$5*0 -> 0 | R34: =SUM($G34:Q34) -> 1.3764672e+08
B35: EBT | G35: =G33-G34 -> 0 | H35: =H33-H34 -> 1.7564803e+08 | I35: =I33-I34 -> 2.4306211e+08 | J35: =J33-J34 -> 2.7700403e+08 | K35: =K33-K34 -> 2.7747379e+08 | L35: =L33-L34 -> 2.7770867e+08 | M35: =M33-M34 -> 0 | N35: =N33-N34 -> 0 | ... Q35: =Q33-Q34 -> 0 | R35: =SUM($G35:Q35) -> 1.2508966e+09 | S35: =SUM(G35:Q35)-R35 -> 0
B36: Tax Expense | G36: =IF(G35<0,0,G35*$F$3) -> 0 | H36: =IF(H35<0,0,H35*$F$3) -> 3512960.6 | I36: =IF(I35<0,0,I35*$F$3) -> 4861242.2 | J36: =IF(J35<0,0,J35*$F$3) -> 5540080.6 | K36: =IF(K35<0,0,K35*$F$3) -> 5549475.8 | L36: =IF(L35<0,0,L35*$F$3) -> 5554173.4 | M36: =IF(M35<0,0,M35*$F$3) -> 0 | N36: =IF(N35<0,0,N35*$F$3) -> 0 | ... Q36: =IF(Q35<0,0,Q35*$F$3) -> 0 | R36: =SUM($G36:Q36) -> 25017933
B37: Net Income | G37: =G35-G36 -> 0 | H37: =H35-H36 -> 1.7213507e+08 | I37: =I35-I36 -> 2.3820087e+08 | J37: =J35-J36 -> 2.7146395e+08 | K37: =K35-K36 -> 2.7192432e+08 | L37: =L35-L36 -> 2.721545e+08 | M37: =M35-M36 -> 0 | N37: =N35-N36 -> 0 | ... R37: =R35-R36 -> 1.2258787e+09 | S37: =SUM(G37:Q37)-R37 -> 0
B39: Capex | H39: =-H12 -> -7339954 | I39: =-I12 -> 0 | J39: =-J12 -> 0 | K39: =-K12 -> 0 | L39: =-L12 -> 0 | R39: =SUM($G$39:Q39) -> -7339954
B40: FCFF | H40: =H39+H37+H32 -> 1.6626311e+08 | I40: =I39+I37+I32 -> 2.3966886e+08 | J40: =J39+J37+J32 -> 2.7293194e+08 | K40: =K39+K37+K32 -> 2.7339231e+08 | L40: =L39+L37+L32 -> 2.7362249e+08 | M40: =M39+M37+M32 -> 0 | N40: =N39+N37+N32 -> 0 | O40: =O39+O37+O32 -> 0 | ... Q40: =Q39+Q37+Q32 -> 0 | R40: =SUM($G$40:Q40) -> 1.2258787e+09
B41: Accumulated FCF | G41: =F41+G40 -> 0 | H41: =G41+H40 -> 1.6626311e+08 | I41: =H41+I40 -> 4.0593197e+08 | J41: =I41+J40 -> 6.7886391e+08 | K41: =J41+K40 -> 9.5225622e+08 | L41: =K41+L40 -> 1.2258787e+09 | M41: =(L41+M40)*0 -> 0 | N41: =M41+N40 -> 0 | O41: =N41+O40 -> 0 | P41: =O41+P40 -> 0 | Q41: =P41+Q40 -> 0
B42: PBP | G42: =IF(AND(F41<0,G41>0),H49-(G41/G40),0) -> 0 | H42: =IF(AND(G41<0,H41>0),H49-(H41/H40),0) -> 0 | I42: =IF(AND(H41<0,I41>0),I49-(I41/I40),0) -> 0 | J42: =IF(AND(I41<0,J41>0),J49-(J41/J40),0) -> 0 | K42: =IF(AND(J41<0,K41>0),K49-(K41/K40),0) -> 0 | L42: =IF(AND(K41<0,L41>0),L49-(L41/L40),0) -> 0 | M42: =IF(AND(L41<0,M41>0),N49-(M41/M40),0) -> 0 | N42: =IF(AND(M41<0,N41>0),O49-(N41/N40),0) -> 0 | O42: =IF(AND(N41<0,O41>0),P49-(O41/O40),0) -> 0 | Q42: =IF(AND(O41<0,Q41>0),R49-(Q41/Q40),0) -> 0
B44: IRR | F44: Positip
B45: ROIC | F45: =AVERAGE(H37:L37)/R12 -> 33.402899
B46: NPV | F46: =NPV(F4,H40:Q40) -> 9.1090819e+08
...

Sheet PnL (D)
B1: PROJECTION
B2: Contract Term | C2: 5 | D2: year
B3: Total Room | C3: 360
D5: Growth | E5: 1 | F5: 2 | G5: 3 | H5: 4 | I5: 5
B6: Tenancy rate | E6: =#REF! -> #REF! | F6: =#REF! -> #REF! | G6: =#REF! -> #REF! | H6: =#REF! -> #REF! | I6: =#REF! -> #REF!
B7: Total Tenancy | E7: =$C$3 -> 360 | F7: =$C$3 -> 360 | G7: =$C$3 -> 360 | H7: =$C$3 -> 360 | I7: =$C$3 -> 360
B8: Total Occupancy | E8: =E7*E6 -> #REF! | F8: =F7*F6 -> #REF! | G8: =G7*G6 -> #REF! | H8: =H7*H6 -> #REF! | I8: =I7*I6 -> #REF!
B10: IBS's REVENUE PROJECTION | E10: =#REF!/12/E7/(1-#REF!) -> #REF! | F10: =#REF!/12/F7/(1-#REF!) -> #REF! | G10: =#REF!/12/G7/(1-#REF!) -> #REF! | H10: =#REF!/12/H7/(1-#REF!) -> #REF! | I10: =#REF!/12/I7/(1-#REF!) -> #REF!
B11: TOTAL REVENUE | C11: =SUM(E11:I11) -> #REF! | D11: IDR | E11: =#REF! -> #REF! | F11: =#REF! -> #REF! | G11: =#REF! -> #REF! | H11: =#REF! -> #REF! | I11: =#REF! -> #REF! | K11: =E11*2 -> #REF!
J12: ISP | K12: =K11*50% -> #REF!
J13: IBS | K13: =K11*25% -> #REF!
B14: P&L ANALYSIS | J14: BM | K14: =K11*25% -> #REF!
B15: Product | C15: Last Mile (FTTB Access)
B16: Conditions | C16: Deployment & Operation | K16: =K12*25% -> #REF!
B17: Name of Location
B19: Commercial Terms
B20: Contract Length (year) | C20: 5
B21: Total Contract Revenue
B22: Interest Rate Expense | C22: 0.1
B23: Internet Cost per month (IDR) | C23: 0
B24: Monthly EOS Cost (IDR) | C24: 0
B25: Capex (IDR) | C25: =(500000*147) -> 73500000
B26: Share Cost Backbone (IDR) | C26: 0
B29: CAPEX SCHEDULE | C29: Year | E29: Year 1 | F29: Year 2 | G29: Year 3 | H29: Year 4 | I29: Year 5
C30: Year | E30: 1 | F30: 2 | G30: 3 | H30: 4 | I30: 5
C31: Month | E31: 12 | F31: 12 | G31: 12 | H31: 12 | I31: 12
B33: Home Connected - IKR | C33: 1000000 | D33: per unit/HC | E33: =$C$33*147 -> 147000000
B34: GPON | E34: =$C$25+40000000 -> 113500000 | G34: 200000000
B35: Tech Refresh | C35: 0.17 | E35: =C35*C25 -> 12495000
B37: TOTAL CAPEX | C37: =SUM(E37:I37) -> 472995000 | E37: =SUM(E33:E36) -> 272995000 | F37: =SUM(F33:F36) -> 0 | G37: =SUM(G33:G36) -> 200000000 | H37: =SUM(H33:H36) -> 0 | I37: =SUM(I33:I36) -> 0
B39: Depreciation calculation | C39: No. of year depreciated
B40: Year 1 | C40: 5 | E40: =E37/$C$40 -> 54599000 | F40: =E40 -> 54599000 | G40: =F40 -> 54599000 | H40: =G40 -> 54599000 | I40: =H40 -> 54599000
B41: Year 2 | C41: 4 | E41: 0 | F41: =F37/$C$41 -> 0 | G41: =F41 -> 0 | H41: =G41 -> 0 | I41: =H41 -> 0
B42: Year 3 | C42: 3 | E42: 0 | F42: 0 | G42: =G37/$C$42 -> 66666667 | H42: =G42 -> 66666667 | I42: =H42 -> 66666667
B43: Year 4 | C43: 2 | E43: 0 | F43: 0 | G43: 0 | H43: =H37/$C$43 -> 0 | I43: =H43 -> 0
B44: Year 5 | C44: 1 | E44: 0 | F44: 0 | G44: 0 | H44: 0 | I44: =I37/$C$44 -> 0
B45: Total Depreciation calculation | E45: =SUM(E40:E44) -> 54599000 | F45: =SUM(F40:F44) -> 54599000 | G45: =SUM(G40:G44) -> 1.2126567e+08 | H45: =SUM(H40:H44) -> 1.2126567e+08 | I45: =SUM(I40:I44) -> 1.2126567e+08
B47: OPEX
B48: Rev Share to BM | C48: 0.4 | D48: of total revenues | E48: =$C$48*E11 -> #REF! | F48: =$C$48*F11 -> #REF! | G48: =$C$48*G11 -> #REF! | H48: =30%*H11 -> #REF! | I48: =30%*I11 -> #REF!
B49: EOS | C49: 10000000 | D49: Montly cost | E49: =($C$49*E31+C49) -> 130000000 | F49: =$C$49*F31+C49 -> 130000000 | G49: =$C$49*G31+C49 -> 130000000 | H49: =$C$49*H31+C49 -> 130000000 | I49: =$C$49*I31+C49 -> 130000000
...

Sheet PnL (B)
B1: PROJECTION
B2: Contract Term | C2: 5 | D2: year
B3: Total Room | C3: 360
D5: Growth | E5: 1 | F5: 2 | G5: 3 | H5: 4 | I5: 5
B6: Tenancy rate | E6: =#REF! -> #REF! | F6: =#REF! -> #REF! | G6: =#REF! -> #REF! | H6: =#REF! -> #REF! | I6: =#REF! -> #REF!
B7: Total Tenancy | E7: =$C$3 -> 360 | F7: =$C$3 -> 360 | G7: =$C$3 -> 360 | H7: =$C$3 -> 360 | I7: =$C$3 -> 360
B8: Total Occupancy | E8: =E7*E6 -> #REF! | F8: =F7*F6 -> #REF! | G8: =G7*G6 -> #REF! | H8: =H7*H6 -> #REF! | I8: =I7*I6 -> #REF!
B10: IBS's REVENUE PROJECTION | E10: =#REF!/12/E7/(1-#REF!) -> #REF! | F10: =#REF!/12/F7/(1-#REF!) -> #REF! | G10: =#REF!/12/G7/(1-#REF!) -> #REF! | H10: =#REF!/12/H7/(1-#REF!) -> #REF! | I10: =#REF!/12/I7/(1-#REF!) -> #REF!
B11: TOTAL REVENUE | C11: =SUM(E11:I11) -> #REF! | D11: IDR | E11: =#REF! -> #REF! | F11: =#REF! -> #REF! | G11: =#REF! -> #REF! | H11: =#REF! -> #REF! | I11: =#REF! -> #REF!
B14: P&L ANALYSIS
B15: Product | C15: Last Mile (FTTB Access)
B16: Conditions | C16: Deployment & Operation
B17: Name of Location
B19: Commercial Terms
B20: Contract Length (year) | C20: 5
B21: Total Contract Revenue
B22: Interest Rate Expense | C22: 0.1
B23: Internet Cost per month (IDR) | C23: 0
B24: Monthly EOS Cost (IDR) | C24: 0
B25: Capex (IDR) | C25: =500000*147 -> 73500000
B26: Share Cost Backbone (IDR) | C26: 0
B29: CAPEX SCHEDULE | C29: Year | E29: Year 1 | F29: Year 2 | G29: Year 3 | H29: Year 4 | I29: Year 5
C30: Year | E30: 1 | F30: 2 | G30: 3 | H30: 4 | I30: 5
C31: Month | E31: 12 | F31: 12 | G31: 12 | H31: 12 | I31: 12
B33: Home Connected - IKR | C33: 1000000 | D33: per unit/HC | E33: =$C$33*E8 -> #REF! | F33: =$C$33*(F8-E8) -> #REF! | G33: =$C$33*(G8-F8) -> #REF! | H33: =$C$33*(H8-G8) -> #REF! | I33: =$C$33*(I8-H8) -> #REF!
B34: GPON | E34: =$C$25 -> 73500000
B35: Tech Refresh | C35: 0.2 | E35: =C35*C25 -> 14700000
B37: TOTAL CAPEX | C37: =SUM(E37:I37) -> #REF! | E37: =SUM(E33:E36) -> #REF! | F37: =SUM(F33:F36) -> #REF! | G37: =SUM(G33:G36) -> #REF! | H37: =SUM(H33:H36) -> #REF! | I37: =SUM(I33:I36) -> #REF!
B39: Depreciation calculation | C39: No. of year depreciated
B40: Year 1 | C40: 5 | E40: =E37/$C$40 -> #REF! | F40: =E40 -> #REF! | G40: =F40 -> #REF! | H40: =G40 -> #REF! | I40: =H40 -> #REF!
B41: Year 2 | C41: 4 | E41: 0 | F41: =F37/$C$41 -> #REF! | G41: =F41 -> #REF! | H41: =G41 -> #REF! | I41: =H41 -> #REF!
B42: Year 3 | C42: 3 | E42: 0 | F42: 0 | G42: =G37/$C$42 -> #REF! | H42: =G42 -> #REF! | I42: =H42 -> #REF!
B43: Year 4 | C43: 2 | E43: 0 | F43: 0 | G43: 0 | H43: =H37/$C$43 -> #REF! | I43: =H43 -> #REF!
B44: Year 5 | C44: 1 | E44: 0 | F44: 0 | G44: 0 | H44: 0 | I44: =I37/$C$44 -> #REF!
B45: Total Depreciation calculation | E45: =SUM(E40:E44) -> #REF! | F45: =SUM(F40:F44) -> #REF! | G45: =SUM(G40:G44) -> #REF! | H45: =SUM(H40:H44) -> #REF! | I45: =SUM(I40:I44) -> #REF!
B47: OPEX
B48: Rev Share to BM | C48: 0.25 | D48: of total revenues | E48: =$C$48*E11 -> #REF! | F48: =$C$48*F11 -> #REF! | G48: =$C$48*G11 -> #REF! | H48: =$C$48*H11 -> #REF! | I48: =$C$48*I11 -> #REF!
B49: EOS | C49: 15000000 | D49: Montly cost | E49: =$C$49*E31+C49 -> 195000000 | F49: =$C$49*F31+C49 -> 195000000 | G49: =$C$49*G31+C49 -> 195000000 | H49: =$C$49*H31+C49 -> 195000000 | I49: =$C$49*I31+C49 -> 195000000
B50: Fixed Operational Cost | C50: 0.1 | D50: of total revenues | E50: =$C$50*E11 -> #REF! | F50: =$C$50*F11 -> #REF! | G50: =$C$50*G11 -> #REF! | H50: =$C$50*H11 -> #REF! | I50: =$C$50*I11 -> #REF!
B51: Electricity | C51: 0.03 | D51: of total revenues | E51: =$C$51*E11 -> #REF! | F51: =$C$51*F11 -> #REF! | G51: =$C$51*G11 -> #REF! | H51: =$C$51*H11 -> #REF! | I51: =$C$51*I11 -> #REF!
...

Sheet PnL (C)
B1: PROJECTION
B2: Contract Term | C2: 5 | D2: year
B3: Total Room | C3: 360
D5: Growth | E5: 1 | F5: 2 | G5: 3 | H5: 4 | I5: 5
B6: Tenancy rate | E6: =#REF! -> #REF! | F6: =#REF! -> #REF! | G6: =#REF! -> #REF! | H6: =#REF! -> #REF! | I6: =#REF! -> #REF!
B7: Total Tenancy | E7: =$C$3 -> 360 | F7: =$C$3 -> 360 | G7: =$C$3 -> 360 | H7: =$C$3 -> 360 | I7: =$C$3 -> 360
B8: Total Occupancy | E8: =E7*E6 -> #REF! | F8: =F7*F6 -> #REF! | G8: =G7*G6 -> #REF! | H8: =H7*H6 -> #REF! | I8: =I7*I6 -> #REF!
B10: IBS's REVENUE PROJECTION | E10: =#REF!/12/E7/(1-#REF!) -> #REF! | F10: =#REF!/12/F7/(1-#REF!) -> #REF! | G10: =#REF!/12/G7/(1-#REF!) -> #REF! | H10: =#REF!/12/H7/(1-#REF!) -> #REF! | I10: =#REF!/12/I7/(1-#REF!) -> #REF!
B11: TOTAL REVENUE | C11: =SUM(E11:I11) -> #REF! | D11: IDR | E11: =#REF! -> #REF! | F11: =#REF! -> #REF! | G11: =#REF! -> #REF! | H11: =#REF! -> #REF! | I11: =#REF! -> #REF!
B14: P&L ANALYSIS
B15: Product | C15: Last Mile (FTTB Access)
B16: Conditions | C16: Deployment & Operation
B17: Name of Location
B19: Commercial Terms
B20: Contract Length (year) | C20: 5
B21: Total Contract Revenue
B22: Interest Rate Expense | C22: 0.1
B23: Internet Cost per month (IDR) | C23: 0
B24: Monthly EOS Cost (IDR) | C24: 0
B25: Capex (IDR) | C25: =500000*147 -> 73500000
B26: Share Cost Backbone (IDR) | C26: 0
B29: CAPEX SCHEDULE | C29: Year | E29: Year 1 | F29: Year 2 | G29: Year 3 | H29: Year 4 | I29: Year 5
C30: Year | E30: 1 | F30: 2 | G30: 3 | H30: 4 | I30: 5
C31: Month | E31: 12 | F31: 12 | G31: 12 | H31: 12 | I31: 12
B33: Home Connected - IKR | C33: 1000000 | D33: per unit/HC | E33: =$C$33*147 -> 147000000
B34: GPON | E34: =$C$25 -> 73500000
B35: Tech Refresh | C35: 0.17 | E35: =C35*C25 -> 12495000
B37: TOTAL CAPEX | C37: =SUM(E37:I37) -> 232995000 | E37: =SUM(E33:E36) -> 232995000 | F37: =SUM(F33:F36) -> 0 | G37: =SUM(G33:G36) -> 0 | H37: =SUM(H33:H36) -> 0 | I37: =SUM(I33:I36) -> 0
B39: Depreciation calculation | C39: No. of year depreciated
B40: Year 1 | C40: 5 | E40: =E37/$C$40 -> 46599000 | F40: =E40 -> 46599000 | G40: =F40 -> 46599000 | H40: =G40 -> 46599000 | I40: =H40 -> 46599000
B41: Year 2 | C41: 4 | E41: 0 | F41: =F37/$C$41 -> 0 | G41: =F41 -> 0 | H41: =G41 -> 0 | I41: =H41 -> 0
B42: Year 3 | C42: 3 | E42: 0 | F42: 0 | G42: =G37/$C$42 -> 0 | H42: =G42 -> 0 | I42: =H42 -> 0
B43: Year 4 | C43: 2 | E43: 0 | F43: 0 | G43: 0 | H43: =H37/$C$43 -> 0 | I43: =H43 -> 0
B44: Year 5 | C44: 1 | E44: 0 | F44: 0 | G44: 0 | H44: 0 | I44: =I37/$C$44 -> 0
B45: Total Depreciation calculation | E45: =SUM(E40:E44) -> 46599000 | F45: =SUM(F40:F44) -> 46599000 | G45: =SUM(G40:G44) -> 46599000 | H45: =SUM(H40:H44) -> 46599000 | I45: =SUM(I40:I44) -> 46599000
B47: OPEX
B48: Rev Share to BM | C48: 0.25 | D48: of total revenues | E48: =$C$48*E11 -> #REF! | F48: =$C$48*F11 -> #REF! | G48: =$C$48*G11 -> #REF! | H48: =$C$48*H11 -> #REF! | I48: =$C$48*I11 -> #REF!
B49: EOS | C49: 15000000 | D49: Montly cost | E49: =$C$49*E31+C49 -> 195000000 | F49: =$C$49*F31+C49 -> 195000000 | G49: =$C$49*G31+C49 -> 195000000 | H49: =$C$49*H31+C49 -> 195000000 | I49: =$C$49*I31+C49 -> 195000000
B50: Fixed Operational Cost | C50: 0.1 | D50: of total revenues | E50: =$C$50*E11 -> #REF! | F50: =$C$50*F11 -> #REF! | G50: =$C$50*G11 -> #REF! | H50: =$C$50*H11 -> #REF! | I50: =$C$50*I11 -> #REF!
B51: Electricity | C51: 0.03 | D51: of total revenues | E51: =$C$51*E11 -> #REF! | F51: =$C$51*F11 -> #REF! | G51: =$C$51*G11 -> #REF! | H51: =$C$51*H11 -> #REF! | I51: =$C$51*I11 -> #REF!
...

Sheet Parameter Interest
A1: Capex tahun | B1: 5 | C1: 2020 | D1: =C1+1 -> 2021 | E1: =D1+1 -> 2022 | F1: =E1+1 -> 2023 | G1: =F1+1 -> 2024 | H1: =G1+1 -> 2025 | I1: =H1+1 -> 2026 | J1: =I1+1 -> 2027 | K1: =J1+1 -> 2028 | ... R1: =Q1+1 -> 2035
A2: =C1 -> 2020 | B2: loan IBC | C2: 3347216027 | D2: =C2-C3 -> 2.6777728e+09 | E2: =D2-C3 -> 2.0083296e+09 | F2: =E2-C3 -> 1.3388864e+09 | G2: =F2-C3 -> 6.6944321e+08 | H2: =G2-$C$3 -> 0 | T2: 2013 | U2: 1.7266708e+09
B3: Installment/thn | C3: =C2/B1 -> 6.6944321e+08 | T3: 2014 | U3: 422342499
B4: Interest | C4: =(($C$2*IRR!$F$4*6)/12) -> 1.673608e+08 | D4: =AVERAGE(C2:D2)*IRR!$F$4 -> 3.0124944e+08 | E4: =AVERAGE(D2:E2)*IRR!$F$4 -> 2.3430512e+08 | F4: =AVERAGE(E2:F2)*IRR!$F$4 -> 1.673608e+08 | G4: =AVERAGE(F2:G2)*IRR!$F$4 -> 1.0041648e+08 | H4: =AVERAGE(G2:H2)*IRR!$F$4 -> 33472160 | I4: =AVERAGE(H2:I2)*IRR!$F$4 -> 0 | T4: 2016 | U4: 10773000
A5: =A2+1 -> 2021 | B5: loan IBC | E5: =D5-D6 -> 0 | F5: =E5-D6 -> 0 | G5: =F5-D6 -> 0 | H5: =G5-D6 -> 0 | I5: =H5-D6 -> 0 | T5: 2017 | U5: 102210600
B6: Installment/thn | D6: =D5/B1 -> 0
B7: Interest | D7: =(($D$5*IRR!$F$4*6)/12) -> 0 | E7: =AVERAGE(D5:E5)*IRR!$F$4 -> 0 | F7: =AVERAGE(E5:F5)*IRR!$F$4 -> 0 | G7: =AVERAGE(F5:G5)*IRR!$F$4 -> 0 | H7: =AVERAGE(G5:H5)*IRR!$F$4 -> 0 | I7: =AVERAGE(H5:I5)*IRR!$F$4 -> 0 | J7: =AVERAGE(I5:J5)*IRR!$F$4 -> 0
A8: =A5+1 -> 2022 | B8: loan IBC | E8: 23487981 | F8: =E8-E9 -> 18790385 | G8: =F8-E9 -> 14092789 | H8: =G8-E9 -> 9395192.4 | I8: =H8-E9 -> 4697596.2 | J8: =I8-E9 -> 0
B9: Installment/thn | E9: =E8/B1 -> 4697596.2
B10: Interest | E10: =(($E$8*IRR!$F$4*6)/12) -> 1174399.1 | F10: =AVERAGE(E8:F8)*IRR!$F$4 -> 2113918.3 | G10: =AVERAGE(F8:G8)*IRR!$F$4 -> 1644158.7 | H10: =AVERAGE(G8:H8)*IRR!$F$4 -> 1174399.1 | I10: =AVERAGE(H8:I8)*IRR!$F$4 -> 704639.43 | J10: =AVERAGE(I8:J8)*IRR!$F$4 -> 234879.81 | K10: =AVERAGE(J8:K8)*IRR!$F$4 -> 0
A11: =A8+1 -> 2023 | B11: loan IBC | G11: =F11-$F$12 -> 0 | H11: =G11-$F$12 -> 0 | I11: =H11-$F$12 -> 0 | J11: =I11-$F$12 -> 0 | K11: =J11-$F$12 -> 0
B12: Installment/thn | F12: =F11/B1 -> 0
B13: Interest | F13: =(($F$11*IRR!$F$4*6)/12) -> 0 | G13: =AVERAGE(F11:G11)*IRR!$F$4 -> 0 | H13: =AVERAGE(G11:H11)*IRR!$F$4 -> 0 | I13: =AVERAGE(H11:I11)*IRR!$F$4 -> 0 | J13: =AVERAGE(I11:J11)*IRR!$F$4 -> 0 | K13: =AVERAGE(J11:K11)*IRR!$F$4 -> 0 | L13: =AVERAGE(K11:L11)*IRR!$F$4 -> 0
A14: =A11+1 -> 2024 | B14: loan IBC | H14: =G14-$G$15 -> 0 | I14: =H14-$G$15 -> 0 | J14: =I14-$G$15 -> 0 | K14: =J14-$G$15 -> 0 | L14: =K14-$G$15 -> 0
B15: Installment/thn | G15: =G14/B1 -> 0
B16: Interest | G16: =(($G$14*IRR!$F$4*6)/12) -> 0 | H16: =AVERAGE(G14:H14)*IRR!$F$4 -> 0 | I16: =AVERAGE(H14:I14)*IRR!$F$4 -> 0 | J16: =AVERAGE(I14:J14)*IRR!$F$4 -> 0 | K16: =AVERAGE(J14:K14)*IRR!$F$4 -> 0 | L16: =AVERAGE(K14:L14)*IRR!$F$4 -> 0 | M16: =AVERAGE(L14:M14)*IRR!$F$4 -> 0
B18: Interest Exp | C18: =C10+C7+C4+C13+C16 -> 1.673608e+08 | D18: =D10+D7+D4+D13+D16 -> 3.0124944e+08 | E18: =E10+E7+E4+E13+E16 -> 2.3547952e+08 | F18: =F10+F7+F4+F13+F16 -> 1.6947472e+08 | G18: =G10+G7+G4+G13+G16 -> 1.0206064e+08 | H18: =H10+H7+H4+H13+H16 -> 34646559 | I18: =I10+I7+I4+I13+I16 -> 704639.43 | J18: =J10+J7+J4+J13+J16 -> 234879.81 | ... L18: =L10+L7+L4+L13+L16 -> 0 | M18: =M10+M7+M4 -> 0 | N18: =N10+N7+N4 -> 0 | O18: =#REF!+#REF!+#REF!+#REF!+O10+O7+R4+#REF!+#REF!+#REF!+#REF! -> #REF! | P18: =#REF!+#REF!+#REF!+#REF!+P10+P7+S4+#REF!+#REF!+#REF!+#REF! -> #REF! | Q18: =#REF!+#REF!+#REF!+#REF!+Q10+Q7+T4+#REF!+#REF!+#REF!+#REF! -> #REF! | R18: =R10+R7+R4 -> 0
F27: person | G27: trip | H27: kamar | I27: Days by Omni | J27: Biaya walktest inhouse/visit | K27: Biaya walktest inhouse/thn
E28: Diisikan | F28: 1 | G28: 1 | H28: 1 | I28: =157+58 -> 215
B29: Transport | C29: Pesawat | D29: =C46 -> 3500000 | E29: person | F29: =F28 -> 1 | J29: =F29*D29 -> 3500000
C30: Bandara | D30: 600000 | E30: person | F30: =F28 -> 1 | I30: =IF($I$27<=120,2,IF($I$27>220,4,3)) -> 4 | J30: =D30*F30 -> 600000
C31: Transport | D31: 200000 | E31: Trip | G31: =G28 -> 1 | J31: =G31*D31 -> 200000
B32: Hotel | C32: Hotel | D32: 450000 | E32: kamar | F32: =F28 -> 1 | H32: =H28 -> 1 | I32: =IF($I$27<=120,2,IF($I$27>220,4,3)) -> 4 | J32: =H32*D32*I32 -> 1800000
B33: Uang Saku | C33: Uang Saku | D33: 120000 | E33: person | F33: =F28 -> 1 | I33: =IF($I$27<=120,2,IF($I$27>220,4,3)) -> 4 | J33: =I33*D33*F33 -> 480000
J34: =SUM(J29:J33) -> 6580000 | K34: =J34*4 -> 26320000
B38: PM/Year/Site | C38: Pesawat | E38: Asumsi:
A39: Sulut | B39: 16800000 | C39: 4000000 | E39: Walktest 4x dalam setahun semua operator sekaligus
A40: Makasar | C40: 3000000 | E40: Walktest pertama oleh vendor | I40: 10000000
A41: Bali | B41: 15600000 | C41: 2500000 | E41: Walktest pertama oleh vendor | H41: Pekanbaru | I41: 12000000
A42: Jatim | B42: 15000000 | C42: 2000000 | E42: Walktest pertama oleh vendor | H42: Sumut | I42: 14000000
A43: Jateng | B43: 15000000 | C43: 1850000 | E43: Walktest pertama oleh vendor | H43: Sulsel | I43: 14000000
A44: Jabar | B44: 12000000 | C44: 1200000 | E44: Walktest pertama oleh vendor | H44: Sulut | I44: 17000000
A45: Kalimantan | B45: 16800000 | C45: 2000000 | E45: Walktest pertama oleh vendor | H45: Kalimantan | I45: 14000000
A46: Sumatera | B46: 15720000 | C46: 3500000
A47: Palembang | C47: 2800000
A48: Jabodetabek | B48: 0 | C48: 0 | D48: Inhouse
B50: CM /Year/Oprt
B51: 7000000
A53: LISTRIK
A54: Listrik/Oprt/year DAS+1Pole 3sektor
...

Sheet Revenue capitol
B1: 2022 | C1: 2023 | D1: 2024
B2: 333305190 | C2: 408249616 | D2: 29350410 | E2: jan
D3: 39091644 | E3: feb
D4: 31698592 | E4: mar
D5: 34112495 | E5: apr
D6: 35429502 | E6: may
D7: 34766774 | E7: jun
D8: 32115865 | E8: jul
D9: 35143138 | E9: aug
D10: 35143138 | E10: sep
D11: 35143138 | E11: okt
D12: 35143138 | E12: nov
D13: 35143138 | E13: dec
D14: =SUM(D2:D13) -> 412280972
C15: =(C2-B2)/B2 -> 0.22485226 | D15: =(D14-C2)/C2 -> 0.0098747331

Sheet Summary Review new
C1: SUMMARY REVIEW
A3: Nama Site | C3: : Apartement Capitol Park
A4: Nama Pemilik | C4: : Perhimpunan Pemilik & Penghuni Satuan Sementara Rumah Susun
A5: Alamat Pemilik | C5: : Jl. Salemba Raya No. 16
A6: Telp | C6: :
A8: No. | B8: Keterangan | C8: Existing | D8: Renewal
A10: 1 | B10: Scope Of Lease | C10: Opennet | D10: Opennet
A11: 2 | B11: Periode Sewa | C11: 20 Desember 2019 s/d 19 Desember 2024 (5 tahun) | D11: 20 Desember 2024 s/d 19 Desember 2025 (5 tahun)
A12: 3 | B12: Persentase Revshare IBS to BM | C12: 0.2 | D12: 0.3
A13: 4 | B13: Nama ISP Join | C13: Moratel | D13: Moratel
A14: 5 | B14: Periode ISP Join | C14: 20 Desember 2019 s/d 19 Desember 2024 (5 tahun) | D14: 20 Desember 2024 s/d 19 Desember 2025 (5 tahun)
A15: 6 | B15: Revenue ISP / tahun | C15: 399016944 | D15: 399016944
A16: 7 | B16: Jumlah Tenant ISP | C16: 410 | D16: 410
A17: 8 | B17: Persentase Revshare ISP | C17: IBS 50 % Mora 50 % | D17: IBS 50 % Mora 50 %
B18: OLT & ONT | C18: OLT dari BM | D18: OLT dari BM
