Workbook
Name jk: #REF!
Name jk: #REF!
Name jk: #REF!
Name jk: #REF!
Name jk: #REF!
Name years_contract: [1]Kerlink!$D$5

Sheet Summary
B2: No. | C2: 0036/IRR/IBC/XI/2024 | N2: Kemen. Kelautan&Perikanan
C3: Product : | D3: IBS / DAS | J3: Tanggal P&L: | M3: 45610
C4: Status P&L | D4: Extend
B6: Site Information | E6: Technical Information | J6: Financial Summary
B7: Site Name | D7: Kemen, Kelautan & Perikanan | E7: IBC | K7: Capex DAS | M7: =Parameter!C3 -> 954188000
B8: Address | D8: Jakarta | E8: Antena PKS BM | K8: Capex /antenna | M8: =M7/H9 -> 9541880
E9: Antena Asset | H9: 100 | K9: Contract Period (thn) | M9: 5
B10: Area building | D10: Jakarta | E10: Jumlah Pole Makro | H10: 0 | K10: Interest rate /year | M10: =[2]IRR!F3 -> 0.1
B11: Type of building | D11: Office | E11: OPENET | K11: Total Revenue | M11: =IRR!Q19 -> 1504210000
B12: Status | D12: Renewal | E12: Cable FO (Core) | H12: 0 | K12: Total Capex BV | M12: =IRR!G9 -> 53447207
B13: Total floor | E13: Cable FO (meter) | H13: 0 | K13: Total Opex Sewa | M13: =IRR!Q22 -> 314771000
B14: No of building tower | E14: Drop Wire (meter) | H14: 0 | K14: Total Opex Other | M14: =IRR!Q23+IRR!Q24+IRR!Q25 -> 480210500
B15: Sitac Tahun
E16: OTHERS | K16: IRR | M16: =IRR!F40 -> 1.2579712
K17: NPV | M17: =IRR!F41 -> 4.751242e+08
K18: EBITDA margin | M18: =IRR!F42 -> 0.47149567
K19: Payback (year) | M19: =IRR!F43 -> 1.7407284
B21: Target Achieved by Commercial: | L21: Prepared by
B22: Revenue | D22: : | L22: Citra Kartika
D23: :
D24: :
B28: Approved by

Sheet IRR
B1: No, | C1: 0036/IRR/IBC/XI/2024 | Q1: Kemen. Kelautan&Perikanan
B2: General | H2: Operator join | I2: Rev.Change
C3: Tax Rate | E3: 0.02 | H3: TSEL
C4: Interest Rate | E4: 0.1 | H4: XL
C5: SG&A | E5: 0.05 | F5: from Revenues | H5: IOH 2027 | I5: -0.1
C6: BHPUSO | E6: 0 | F6: from Revenues | I6: -
G8: Y1 | H8: Y2 | I8: Y3 | J8: Y4 | K8: Y5 | L8: Y6 | M8: Y7 | N8: Y8 | O8: Y9 | P8: Y10
B9: Total CAPEX | E9: DAS BV 31 Jan25 | G9: 53447207 | H9: 0 | I9: 0 | J9: 0
G11: 2025 | H11: =G11+1 -> 2026 | I11: =H11+1 -> 2027 | J11: =I11+1 -> 2028 | K11: =J11+1 -> 2029 | L11: =K11+1 -> 2030 | M11: =L11+1 -> 2031 | N11: =M11+1 -> 2032 | O11: =N11+1 -> 2033 | P11: =O11+1 -> 2034
B12: IRR Calculation | F12: Year 0 | G12: Year 1 | H12: Year 2 | I12: Year 3 | J12: Year 4 | K12: Year 5 | L12: Year 6 | M12: Year 7 | N12: Year 8 | O12: Year 9 | P12: Year 10 | Q12: Total
B13: Months of Service | G13: 12 | H13: 12 | I13: 12 | J13: 12 | K13: 12
B15: Revenues
C16: XL | H16: =G16 -> 0 | I16: =H16 -> 0 | J16: =I16 -> 0 | K16: =J16 -> 0 | Q16: =SUM(G16:K16) -> 0
C17: TSEL | G17: 142640000 | H17: =G17 -> 142640000 | I17: =H17 -> 142640000 | J17: =I17 -> 142640000 | K17: =J17 -> 142640000 | Q17: =SUM(G17:K17) -> 713200000
C18: IOH | G18: 168300000 | H18: =G18 -> 168300000 | I18: =H18*90% -> 151470000 | J18: =I18 -> 151470000 | K18: =J18 -> 151470000 | Q18: =SUM(G18:K18) -> 791010000
B19: Total Revenues (SF) | G19: =SUM(G16:G18) -> 310940000 | H19: =SUM(H16:H18) -> 310940000 | I19: =SUM(I16:I18) -> 294110000 | J19: =SUM(J16:J18) -> 294110000 | K19: =SUM(K16:K18) -> 294110000 | Q19: =SUM(Q16:Q18) -> 1504210000
B21: OPEX
C22: Lease to BM | G22: =314771000 -> 314771000 | K22: =J22 -> 0 | Q22: =SUM(G22:K22) -> 314771000
C23: Electricity | G23: =5000000*12 -> 60000000 | H23: =G23 -> 60000000 | I23: =H23 -> 60000000 | J23: =I23 -> 60000000 | K23: =J23 -> 60000000 | Q23: =SUM(G23:K23) -> 300000000
C24: Maintenance | G24: =7000000*3 -> 21000000 | H24: =G24 -> 21000000 | I24: =H24 -> 21000000 | J24: =I24 -> 21000000 | K24: =J24 -> 21000000 | Q24: =SUM(G24:K24) -> 105000000
C25: SG&A | G25: =G19*$E$5 -> 15547000 | H25: =H19*$E$5 -> 15547000 | I25: =I19*$E$5 -> 14705500 | J25: =J19*$E$5 -> 14705500 | K25: =K19*$E$5 -> 14705500 | Q25: =SUM(G25:K25) -> 75210500
B26: Total OPEX | G26: =SUM(G22:G25) -> 411318000 | H26: =SUM(H22:H25) -> 96547000 | I26: =SUM(I22:I25) -> 95705500 | J26: =SUM(J22:J25) -> 95705500 | K26: =SUM(K22:K25) -> 95705500 | Q26: =SUM(Q22:Q25) -> 794981500
B27: Total EBITDA | G27: =G19-G26 -> -100378000 | H27: =H19-H26 -> 214393000 | I27: =I19-I26 -> 198404500 | J27: =J19-J26 -> 198404500 | K27: =K19-K26 -> 198404500 | Q27: =Q19-Q26 -> 709228500
B28: Ebitda margin | G28: 0 | H28: =H27/H19 -> 0.68949958 | I28: =I27/I19 -> 0.67459284 | J28: =J27/J19 -> 0.67459284 | K28: =K27/K19 -> 0.67459284 | Q28: =Q27/Q19 -> 0.47149567
B29: Depreciation Expense | G29: =G51 -> 10689441 | H29: =H51 -> 10689441 | I29: =I51 -> 10689441 | J29: =J51 -> 10689441 | K29: =K51 -> 10689441 | Q29: =SUM(G29:K29) -> 53447207
B30: Total EBIT | G30: =G27-G29 -> -1.1106744e+08 | H30: =H27-H29 -> 2.0370356e+08 | I30: =I27-I29 -> 1.8771506e+08 | J30: =J27-J29 -> 1.8771506e+08 | K30: =K27-K29 -> 1.8771506e+08 | Q30: =Q27-Q29 -> 655781293
B31: Interest Expense | G31: =Parameter!P39 -> 1649467.3 | H31: =Parameter!Q39 -> 433278.5 | I31: =Parameter!R39 -> 259967.1 | J31: =Parameter!S39 -> 86655.7 | K31: =Parameter!T39 -> 0 | Q31: =SUM(G31:K31) -> 2429368.6
B32: EBT | G32: =G30-G31 -> -1.1271691e+08 | H32: =H30-H31 -> 2.0327028e+08 | I32: =I30-I31 -> 1.8745509e+08 | J32: =J30-J31 -> 1.876284e+08 | K32: =K30-K31 -> 1.8771506e+08 | Q32: =SUM(G32:K32) -> 6.5335192e+08
B33: Tax Expense | G33: =IF(G32<0,0,G32*$E$3) -> 0 | H33: =IF(H32<0,0,H32*$E$3) -> 4065405.6 | I33: =IF(I32<0,0,I32*$E$3) -> 3749101.8 | J33: =IF(J32<0,0,J32*$E$3) -> 3752568.1 | K33: =IF(K32<0,0,K32*$E$3) -> 3754301.2 | Q33: =SUM(G33:K33) -> 15321377
B34: Net Income | G34: =G32-G33 -> -1.1271691e+08 | H34: =H32-H33 -> 1.9920487e+08 | I34: =I32-I33 -> 1.8370599e+08 | J34: =J32-J33 -> 1.8387583e+08 | K34: =K32-K33 -> 1.8396076e+08 | Q34: =Q32-Q33 -> 6.3803055e+08
B36: Capex | G36: =-G9 -> -53447207 | H36: =-I9+-I10 -> 0 | I36: =-J9+-J10 -> 0 | J36: =-K9+-K10 -> 0 | K36: =-Q9+-Q10 -> 0
B37: FCFF | F37: =F36 -> 0 | G37: =G36+G34+G29 -> -1.5547467e+08 | H37: =H36+H34+H29 -> 2.0989432e+08 | I37: =I36+I34+I29 -> 1.9439543e+08 | J37: =J36+J34+J29 -> 1.9456528e+08 | K37: =K36+K34+K29 -> 1.946502e+08 | Q37: =SUM(F37:K37) -> 6.3803055e+08
B38: Accumulated FCF | F38: =F37 -> 0 | G38: =F38+G37 -> -1.5547467e+08 | H38: =G38+H37 -> 54419642 | I38: =(H38+I37) -> 2.4881507e+08 | J38: =I38+J37 -> 4.4338035e+08 | K38: =J38+K37 -> 6.3803055e+08
B39: PBP | G39: =IF(AND(F38<0,G38>0),G44-(G38/G37),0) -> 0 | H39: =IF(AND(G38<0,H38>0),H44-(H38/H37),0) -> 1.7407284 | I39: =IF(AND(H38<0,I38>0),I44-(I38/I37),0) -> 0 | J39: =IF(AND(I38<0,J38>0),J44-(J38/J37),0) -> 0 | K39: =IF(AND(J38<0,K38>0),K44-(K38/K37),0) -> 0
B40: IRR | F40: =IRR(G37:K37) -> 1.2579712
B41: NPV | F41: =NPV(E4,H37:K37)+G37 -> 4.751242e+08
B42: EBITDA margin | F42: =Q28 -> 0.47149567
B43: Payback | F43: =SUM(F39:K39) -> 1.7407284
G44: 1 | H44: 2 | I44: 3 | J44: 4 | K44: 5
B45: Depreciation Calculation | E45: no of Year depreciated | G45: =G12 -> Year 1 | H45: =H12 -> Year 2 | I45: =I12 -> Year 3 | J45: =J12 -> Year 4 | K45: =K12 -> Year 5
...

Sheet Parameter
A1: PERHITUNGAN INTEREST EXPENSE based CAPEX
A2: Capex tahun | B2: 5 | C2: 2012 | D2: =C2+1 -> 2013 | E2: =D2+1 -> 2014 | F2: =E2+1 -> 2015 | G2: =F2+1 -> 2016 | H2: =G2+1 -> 2017 | I2: =H2+1 -> 2018 | J2: =I2+1 -> 2019 | K2: =J2+1 -> 2020 | ... S2: =R2+1 -> 2028
A3: 2012 | B3: loan | C3: 954188000 | D3: =C3-C4 -> 763350400 | E3: =D3-C4 -> 572512800 | F3: =E3-C4 -> 381675200 | G3: =F3-C4 -> 190837600 | H3: =G3-C4 -> 0 | I3: =H3-$E$4 -> 0 | J3: =I3-$E$4 -> 0
B4: Installment/thn | C4: =C3/B2 -> 190837600
B5: Interest | C5: =(($C$3*IRR!E4*6)/12) -> 47709400 | D5: =AVERAGE(C3:D3)*IRR!$E$4 -> 85876920 | E5: =AVERAGE(D3:E3)*IRR!$E$4 -> 66793160 | F5: =AVERAGE(E3:F3)*IRR!$E$4 -> 47709400 | G5: =AVERAGE(F3:G3)*IRR!$E$4 -> 28625640 | H5: =AVERAGE(G3:H3)*IRR!$E$4 -> 9541880 | I5: =AVERAGE($H$3:$I$3)*[3]IRR!$G$4 -> 0 | J5: =AVERAGE($I$3:$J$3)*[3]IRR!$G$4 -> 0
A6: =A3+1 -> 2013 | B6: loan | D6: 116688500 | E6: =D6-D7 -> 93350800 | F6: =E6-D7 -> 70013100 | G6: =F6-D7 -> 46675400 | H6: =G6-D7 -> 23337700 | I6: =H6-D7 -> 0
B7: Installment/thn | D7: =D6/B2 -> 23337700
B8: Interest | D8: =((D6*IRR!$E$4*6)/12) -> 5834425 | E8: =AVERAGE(D6:E6)*IRR!$E$4 -> 10501965 | F8: =AVERAGE(E6:F6)*IRR!$E$4 -> 8168195 | G8: =AVERAGE(F6:G6)*IRR!$E$4 -> 5834425 | H8: =AVERAGE(G6:H6)*IRR!$E$4 -> 3500655 | I8: =AVERAGE(H6:I6)*IRR!$E$4 -> 1166885
A9: =A6+1 -> 2014 | B9: loan | F9: =E9-E10 -> 0 | G9: =F9-E10 -> 0 | H9: =G9-E10 -> 0 | I9: =H9-E10 -> 0 | J9: =I9-E10 -> 0
B10: Installment/thn | E10: =E9/B2 -> 0
B11: Interest | E11: =((E9*IRR!$E$4*6)/12) -> 0 | F11: =AVERAGE(E9:F9)*IRR!$E$4 -> 0 | G11: =AVERAGE(F9:G9)*IRR!$E$4 -> 0 | H11: =AVERAGE(G9:H9)*IRR!$E$4 -> 0 | I11: =AVERAGE(H9:I9)*IRR!$E$4 -> 0 | J11: =AVERAGE(I9:J9)*IRR!$E$4 -> 0 | K11: =AVERAGE(J9:K9)*IRR!$E$4 -> 0
A12: =A9+1 -> 2015 | B12: loan | F12: 254534111 | G12: =F12-F13 -> 2.0362729e+08 | H12: =G12-F13 -> 1.5272047e+08 | I12: =H12-F13 -> 1.0181364e+08 | J12: =I12-F13 -> 50906822 | K12: =J12-F13 -> 0
B13: Installment/thn | F13: =F12/B2 -> 50906822
B14: Interest | F14: =((F12*IRR!$E$4*6)/12) -> 12726706 | G14: =AVERAGE(F12:G12)*IRR!$E$4 -> 22908070 | H14: =AVERAGE(G12:H12)*IRR!$E$4 -> 17817388 | I14: =AVERAGE(H12:I12)*IRR!$E$4 -> 12726706 | J14: =AVERAGE(I12:J12)*IRR!$E$4 -> 7636023.3 | K14: =AVERAGE(J12:K12)*IRR!$E$4 -> 2545341.1 | L14: =AVERAGE(K12:L12)*IRR!$E$4 -> 0
A15: =A12+1 -> 2016 | B15: loan
B16: Installment/thn
B17: Interest
A18: =A15+1 -> 2017 | B18: loan | H18: 14623500 | I18: =H18-H19 -> 11698800 | J18: =I18-H19 -> 8774100 | K18: =J18-H19 -> 5849400 | L18: =K18-H19 -> 2924700 | M18: =L18-H19 -> 0
B19: Installment/thn | H19: =H18/$B$2 -> 2924700
B20: Interest | H20: =((H18*IRR!$E$4*6)/12) -> 731175 | I20: =AVERAGE(H18:I18)*IRR!$E$4 -> 1316115 | J20: =AVERAGE(I18:J18)*IRR!$E$4 -> 1023645 | K20: =AVERAGE(J18:K18)*IRR!$E$4 -> 731175 | L20: =AVERAGE(K18:L18)*IRR!$E$4 -> 438705 | M20: =AVERAGE(L18:M18)*IRR!$E$4 -> 146235 | N20: =AVERAGE(M18:N18)*IRR!$E$4 -> 0
A21: =A18+1 -> 2018 | B21: loan | I21: 7926000 | J21: =I21-I22 -> 6340800 | K21: =J21-I22 -> 4755600 | L21: =K21-I22 -> 3170400 | M21: =L21-I22 -> 1585200 | N21: =M21-I22 -> 0
B22: Installment/thn | I22: =I21/B2 -> 1585200
B23: Interest | I23: =((I21*IRR!$E$4*6)/12) -> 396300 | J23: =AVERAGE(I21:J21)*IRR!$E$4 -> 713340 | K23: =AVERAGE(J21:K21)*IRR!$E$4 -> 554820 | L23: =AVERAGE(K21:L21)*IRR!$E$4 -> 396300 | M23: =AVERAGE(L21:M21)*IRR!$E$4 -> 237780 | N23: =AVERAGE(M21:N21)*IRR!$E$4 -> 79260 | O23: =AVERAGE(N21:O21)*IRR!$E$4 -> 0
A24: =A21+1 -> 2019 | B24: loan
B25: Installment/thn
B26: Interest
A27: =A24+1 -> 2020 | B27: loan | K27: 104287743 | L27: =K27-K28 -> 83430194 | M27: =L27-K28 -> 62572646 | N27: =M27-K28 -> 41715097 | O27: =N27-K28 -> 20857549 | P27: =O27-K28 -> 0
B28: Installment/thn | K28: =K27/B2 -> 20857549
B29: Interest | K29: =((K27*IRR!$E$4*6)/12) -> 5214387.2 | L29: =AVERAGE(K27:L27)*IRR!$E$4 -> 9385896.9 | M29: =AVERAGE(L27:M27)*IRR!$E$4 -> 7300142 | N29: =AVERAGE(M27:N27)*IRR!$E$4 -> 5214387.2 | O29: =AVERAGE(N27:O27)*IRR!$E$4 -> 3128632.3 | P29: =AVERAGE(O27:P27)*IRR!$E$4 -> 1042877.4 | Q29: =AVERAGE(P27:Q27)*IRR!$E$4 -> 0
A30: =A27+1 -> 2021 | B30: loan | M30: =L30-L31 -> 0 | N30: =M30-L31 -> 0 | O30: =N30-L31 -> 0 | P30: =O30-L31 -> 0 | Q30: =P30-L31 -> 0
B31: Installment/thn | L31: =L30/B2 -> 0
B32: Interest | L32: =((L30*IRR!$E$4*6)/12) -> 0 | M32: =AVERAGE(L30:M30)*IRR!$E$4 -> 0 | N32: =AVERAGE(M30:N30)*IRR!$E$4 -> 0 | O32: =AVERAGE(N30:O30)*IRR!$E$4 -> 0 | P32: =AVERAGE(O30:P30)*IRR!$E$4 -> 0 | Q32: =AVERAGE(P30:Q30)*IRR!$E$4 -> 0 | R32: =AVERAGE(Q30:R30)*IRR!$E$4 -> 0
A33: =A30+1 -> 2022 | B33: loan
B34: Installment/thn
B35: Interest
A36: =A33+1 -> 2023 | B36: loan | N36: 8665570 | O36: =N36-N37 -> 6932456 | P36: =O36-N37 -> 5199342 | Q36: =P36-N37 -> 3466228 | R36: =Q36-N37 -> 1733114 | S36: =R36-N37 -> 0
B37: Installment/thn | N37: =N36/$B$2 -> 1733114
B38: Interest | N38: =((N36*IRR!$E$4*6)/12) -> 433278.5 | O38: =AVERAGE(N36:O36)*IRR!$E$4 -> 779901.3 | P38: =AVERAGE(O36:P36)*IRR!$E$4 -> 606589.9 | Q38: =AVERAGE(P36:Q36)*IRR!$E$4 -> 433278.5 | R38: =AVERAGE(Q36:R36)*IRR!$E$4 -> 259967.1 | S38: =AVERAGE(R36:S36)*IRR!$E$4 -> 86655.7 | T38: =AVERAGE(S36:T36)*IRR!$E$4 -> 0
B39: Interest Exp | C39: =C32+C29+C26+C23+C17+C20+C14+C11+C8+C5+C35+C38 -> 47709400 | D39: =D32+D29+D26+D23+D17+D20+D14+D11+D8+D5+D35+D38 -> 91711345 | E39: =E32+E29+E26+E23+E17+E20+E14+E11+E8+E5+E35+E38 -> 77295125 | F39: =F32+F29+F26+F23+F17+F20+F14+F11+F8+F5+F35+F38 -> 68604301 | G39: =G32+G29+G26+G23+G17+G20+G14+G11+G8+G5+G35+G38 -> 57368135 | H39: =H32+H29+H26+H23+H17+H20+H14+H11+H8+H5+H35+H38 -> 31591098 | I39: =I32+I29+I26+I23+I17+I20+I14+I11+I8+I5+I35+I38 -> 15606006 | J39: =J32+J29+J26+J23+J17+J20+J14+J11+J8+J5+J35+J38 -> 9373008.3 | ... T39: =T32+T29+T26+T23+T17+T20+T14+T11+T8+T5+T35+T38 -> 0
A42: PERHITUNGAN SG&A
...

Sheet Summary Review new
C1: SUMMARY REVIEW
A3: Nama Site : | C3: Kementrian Kelautan & Perikanan Republik Indonesia
A4: Nama Pemilik : | C4: Kementrian Kelautan & Perikanan Republik Indonesia
A5: Alamat Pemilik : | C5: Jl. Medan Merdeka Timur No.16
A6: Telp : | C6: (021) 3519070
A7: Obyek Sewa : | C7: 100 titik antenna omni, 8 Unit Pole , RBS Room 52,7m2
A9: No. | B9: Keterangan | C9: Existing | D9: Renewal
A11: 1 | B11: Scope Of Lease | C11: IBC | D11: IBC
A12: 2 | B12: Obyek Sewa | C12: =C7 -> 100 titik antenna omni, 8 Unit Pole , RBS Room 52,7m2 | D12: =C7 -> 100 titik antenna omni, 8 Unit Pole , RBS Room 52,7m2
A13: 3 | B13: Periode Sewa | C13: 20 Februari 2020 - 19 Februari 2025 | D13: 20 Februari 2025 - 19 Februari 2030 ( Ketentuan Masa Sewa Bergantung PadaPenetapan DKP)
A14: 4 | B14: Harga Sewa | C14: Rp. 272.761.000/ 5 Tahun | D14: Rp. 314.771.000/ 5 Tahun
A15: 5 | B15: Rincian Harga Sewa | C15: Rp. 54.552.200 /Tahun | D15: Rp. 62.954.200 /Tahun
A16: 6 | B16: Operator Join | C16: XL (06 Juli 2016 s/d 05 Juli 2021)
C17: Telkomsel ( 15 Agustus 2016 s/d 14 Agustus 2021) | D17: Telkomsel ( 15 September 2024 s/d 14 September 2029)
C18: Indosat (12 Juni 2017 s/d 11 Juni 2022) | D18: Indosat (IOH) (12 Juni 2022 s/d 11 Juni 2027)
C19: Smartfren | D19: Smartfren
A20: 7 | B20: Kenaikan/ Penurunan Harga | C20: Mengalami Kenaikan Harga Sebesar 15%

Sheet Analisa
A2: SITE DKP
A3: Periode | B3: Start | C3: End
A4: Rev Tsel | B4: 45550 | C4: 47375
A5: Rev IOH | B5: 44724 | C5: 46549
A6: Sewa BM | B6: 45708 | C6: 11008
B8: Start | C8: End | D8: Days
A9: Worse >> Jika Sewa BM diperpanjang 5 tahun dan Operator sesuai eksisting, maka:
A10: Rev Tsel | B10: 45708 | C10: 47375 | D10: =C10-B10 -> 1667 | E10: 142640000 | F10: =E10/365*D10 -> 6.5145447e+08
A11: Rev IOH | B11: 45708 | C11: 46549 | D11: =C11-B11 -> 841 | E11: 151470000 | F11: =E11/365*D11 -> 3.4900348e+08
A12: Sewa BM | B12: 45708 | C12: 47533 | D12: =C12-B12 -> 1825 | E12: =314771000/5 -> 62954200 | F12: =-E12/365*D12 -> -314771000
A13: OM Tsel | B13: 45708 | C13: 47375 | D13: =C13-B13 -> 1667 | E13: 7000000 | F13: =-E13/365*D13 -> -31969863
A14: OM IOH | B14: 45708 | C14: 46549 | D14: =C14-B14 -> 841 | E14: 7000000 | F14: =-E14/365*D14 -> -16128767
A15: Listrik Tsel | B15: 45708 | C15: 47375 | D15: =C15-B15 -> 1667 | E15: 36000000 | F15: =-E15/365*D15 -> -1.6441644e+08
A16: Listrik IOH | B16: 45708 | C16: 46549 | D16: =C16-B16 -> 841 | E16: 24000000 | F16: =-E16/365*D16 -> -55298630
A17: Antisipasi Add Capex and Pole | E17: 100000000
A18: Profit | F18: =SUM(F10:F17) -> 4.1787325e+08
