Workbook
Name jk: #REF!
Name jk: #REF!
Name jk: #REF!
Name jk: #REF!
Name jk: #REF!
Name years_contract: [1]Kerlink!$D$5

Sheet Summary
B2: No. | C2: 0034/IRR/IBC/X/2024 | M2: =D7 -> Mall Season City
C3: Product : | D3: IBS / DAS | J3: Tanggal P&L: | M3: 45567
C4: Status P&L | D4: Extent
B6: Site Information | E6: Technical Information | J6: Financial Summary
B7: Site Name | D7: Mall Season City | E7: IBC | K7: Capex DAS | M7: 6896100395
B8: Address | D8: Jl. Dr. Latumenten No. 33 Jembaan Besi Jakarta Barat | E8: Antena PKS BM | H8: 345 | K8: Capex /antenna | M8: =M7/H9 -> 18340693
E9: Antena Asset | H9: =345+31 -> 376 | K9: Contract Period (thn) | M9: 5
B10: Area building | D10: Banten | E10: Jumlah Pole Makro | H10: BTS dan Pole | K10: Interest rate /year | M10: =[2]IRR!F3 -> 0.1
B11: Type of building | D11: Mall | K11: Total Revenue | M11: =IRR!Q20 -> 6.4214343e+09
B12: Status | D12: Renewal | E12: OPENET | K12: Total Capex BV 30Jun25 | M12: =IRR!G9 -> 147019380
B13: Total floor | E13: Cable FO (Core) | H13: 0 | K13: Total Opex Sewa | M13: =IRR!Q23 -> 2000000000
B14: No of building tower | E14: Cable FO (meter) | H14: 0 | K14: Total Opex Other | M14: =SUM(IRR!Q24:Q26) -> 1.4260717e+09
B15: Sitac Tahun | E15: Drop Wire (meter) | H15: 0
E16: OTHERS | K16: IRR | M16: =IRR!F41 -> 0.80443723
K17: NPV | M17: =IRR!F42 -> 1.971182e+09
K18: EBITDA margin | M18: =IRR!F43 -> 0.46646317
K19: Payback (year) | M19: =IRR!F44 -> 2.114011
B21: Target Achieved by Commercial: | K21: Prepared by
C22: Cost sewa: nego agar kenaikan dibawah 50% | L22: Citra Kartika
C23: Negosiasi Tarif Listrik Gedung agar menjadi tarif PLN
B28: Approved by

Sheet IRR
B1: No | C1: 0034/IRR/IBC/X/2024 | Q1: =Summary!M2 -> Mall Season City
B2: General | H2: Operator join | I2: Rev.Change
C3: Tax Rate | E3: 0.02
C4: Interest Rate | E4: 0.1
C5: SG&A | E5: 0.05 | F5: from Revenues
C6: BHPUSO | E6: 0 | F6: from Revenues
B8: Total CAPEX | G8: Y1 | H8: Y2 | I8: Y3 | J8: Y4 | K8: Y5 | L8: Y6 | M8: Y7 | N8: Y8 | O8: Y9 | P8: Y10
D9: BV 30Jun2025 | G9: 147019380 | H9: 0 | I9: 0 | J9: 0 | Q9: =SUM(G9:K9) -> 147019380
Q10: =G10 -> 0
G11: =SUM(G9:G10) -> 147019380 | Q11: =Q10+Q9 -> 147019380
G12: 2025 | H12: =G12+1 -> 2026 | I12: =H12+1 -> 2027 | J12: =I12+1 -> 2028 | K12: =J12+1 -> 2029 | L12: =K12+1 -> 2030 | M12: =L12+1 -> 2031 | N12: =M12+1 -> 2032 | O12: =N12+1 -> 2033 | P12: =O12+1 -> 2034
B13: IRR Calculation | F13: Year 0 | G13: Year 1 | H13: Year 2 | I13: Year 3 | J13: Year 4 | K13: Year 5 | L13: Year 6 | M13: Year 7 | N13: Year 8 | O13: Year 9 | P13: Year 10 | Q13: Total
B14: Months of Service | G14: 12 | H14: 12 | I14: 12 | J14: 12 | K14: 12
B16: Revenues
C17: TSEL | G17: 464640000 | H17: =G17 -> 464640000 | I17: =H17*95% -> 441408000 | J17: =I17 -> 441408000 | K17: =J17 -> 441408000 | Q17: =SUM(G17:K17) -> 2253504000
C18: XL | G18: 522571500 | H18: =G18*95% -> 496442925 | I18: =H18 -> 496442925 | J18: =I18 -> 496442925 | K18: =J18*95% -> 4.7162078e+08 | Q18: =SUM(G18:K18) -> 2.4835211e+09
C19: IOH | G19: 350918592 | H19: =G19*95% -> 3.3337266e+08 | I19: =H19 -> 3.3337266e+08 | J19: =I19 -> 3.3337266e+08 | K19: =J19 -> 3.3337266e+08 | Q19: =SUM(G19:K19) -> 1.6844092e+09
B20: Total Revenues (SF) | G20: =SUM(G17:G19) -> 1338130092 | H20: =SUM(H17:H19) -> 1.2944556e+09 | I20: =SUM(I17:I19) -> 1.2712236e+09 | J20: =SUM(J17:J19) -> 1.2712236e+09 | K20: =SUM(K17:K19) -> 1.2464014e+09 | Q20: =SUM(G20:K20) -> 6.4214343e+09
B22: OPEX
C23: Lease to BM | G23: 2000000000 | Q23: =SUM(G23:K23) -> 2000000000
C24: Electricity | G24: 200000000 | H24: =G24 -> 200000000 | I24: =H24 -> 200000000 | J24: =I24 -> 200000000 | K24: =J24 -> 200000000 | Q24: =SUM(G24:K24) -> 1000000000
C25: Maintenance | G25: =7000000*3 -> 21000000 | H25: =G25 -> 21000000 | I25: =H25 -> 21000000 | J25: =I25 -> 21000000 | K25: =J25 -> 21000000 | Q25: =SUM(G25:K25) -> 105000000
C26: SG&A | G26: =G20*$E$5 -> 66906505 | H26: =H20*$E$5 -> 64722779 | I26: =I20*$E$5 -> 63561179 | J26: =J20*$E$5 -> 63561179 | K26: =K20*$E$5 -> 62320072 | Q26: =SUM(G26:K26) -> 3.2107171e+08
B27: Total OPEX | G27: =SUM(G23:G26) -> 2.2879065e+09 | H27: =SUM(H23:H26) -> 2.8572278e+08 | I27: =SUM(I23:I26) -> 2.8456118e+08 | J27: =SUM(J23:J26) -> 2.8456118e+08 | K27: =SUM(K23:K26) -> 2.8332007e+08 | Q27: =SUM(Q23:Q26) -> 3.4260717e+09
B28: Total EBITDA | G28: =G20-G27 -> -9.4977641e+08 | H28: =H20-H27 -> 1.0087328e+09 | I28: =I20-I27 -> 9.8666241e+08 | J28: =J20-J27 -> 9.8666241e+08 | K28: =K20-K27 -> 9.6308137e+08 | Q28: =Q20-Q27 -> 2.9953626e+09
B29: Ebitda margin | G29: 0 | H29: =H28/H20 -> 0.77927186 | I29: =I28/I20 -> 0.77615175 | J29: =J28/J20 -> 0.77615175 | K29: =K28/K20 -> 0.77268955 | Q29: =Q28/Q20 -> 0.46646317
B30: Depreciation Expense | G30: =G52 -> 29403876 | H30: =H52 -> 29403876 | I30: =I52 -> 29403876 | J30: =J52 -> 29403876 | K30: =K52 -> 29403876 | Q30: =SUM(G30:K30) -> 147019380
B31: Total EBIT | G31: =G28-G30 -> -9.7918029e+08 | H31: =H28-H30 -> 9.7932893e+08 | I31: =I28-I30 -> 9.5725853e+08 | J31: =J28-J30 -> 9.5725853e+08 | K31: =K28-K30 -> 9.3367749e+08 | Q31: =Q28-Q30 -> 2.8483432e+09
B32: Interest Expense | G32: =Parameter!P47 -> 1650610.8 | H32: =Parameter!Q47 -> 990366.45 | I32: =Parameter!R47 -> 330122.15 | J32: =Parameter!S47 -> 0 | K32: =Parameter!T47 -> 0 | Q32: =SUM(G32:K32) -> 2971099.4
B33: EBT | G33: =G31-G32 -> -9.808309e+08 | H33: =H31-H32 -> 9.7833857e+08 | I33: =I31-I32 -> 9.5692841e+08 | J33: =J31-J32 -> 9.5725853e+08 | K33: =K31-K32 -> 9.3367749e+08 | Q33: =SUM(G33:K33) -> 2.8453721e+09
B34: Tax Expense | G34: =IF(G33<0,0,G33*$E$3) -> 0 | H34: =IF(H33<0,0,H33*$E$3) -> 19566771 | I34: =IF(I33<0,0,I33*$E$3) -> 19138568 | J34: =IF(J33<0,0,J33*$E$3) -> 19145171 | K34: =IF(K33<0,0,K33*$E$3) -> 18673550 | Q34: =SUM(G34:K34) -> 76524060
B35: Net Income | G35: =G33-G34 -> -9.808309e+08 | H35: =H33-H34 -> 9.5877179e+08 | I35: =I33-I34 -> 9.3778984e+08 | J35: =J33-J34 -> 9.3811336e+08 | K35: =K33-K34 -> 9.1500394e+08 | Q35: =Q33-Q34 -> 2.768848e+09
B37: Capex | G37: =-G11 -> -147019380 | H37: =-I9+-I11 -> 0 | I37: =-J9+-J11 -> 0 | J37: =-K9+-K11 -> 0 | K37: =-L9+-L11 -> 0
B38: FCFF | F38: =F37 -> 0 | G38: =G37+G35+G30 -> -1.0984464e+09 | H38: =H37+H35+H30 -> 9.8817567e+08 | I38: =I37+I35+I30 -> 9.6719372e+08 | J38: =J37+J35+J30 -> 9.6751724e+08 | K38: =K37+K35+K30 -> 9.4440782e+08 | Q38: =SUM(F38:K38) -> 2.768848e+09
B39: Accumulated FCF | F39: =F38 -> 0 | G39: =F39+G38 -> -1.0984464e+09 | H39: =G39+H38 -> -1.1027073e+08 | I39: =H39+I38 -> 8.5692298e+08 | J39: =I39+J38 -> 1.8244402e+09 | K39: =J39+K38 -> 2.768848e+09
B40: PBP | G40: =IF(AND(F39<0,G39>0),G45-(G39/G38),0) -> 0 | H40: =IF(AND(G39<0,H39>0),H45-(H39/H38),0) -> 0 | I40: =IF(AND(H39<0,I39>0),I45-(I39/I38),0) -> 2.114011 | J40: =IF(AND(I39<0,J39>0),J45-(J39/J38),0) -> 0 | K40: =IF(AND(J39<0,K39>0),K45-(K39/K38),0) -> 0
B41: IRR | F41: =IRR(G38:K38) -> 0.80443723
B42: NPV | F42: =NPV(E4,H38:K38)+G38 -> 1.971182e+09
B43: EBITDA margin | F43: =Q29 -> 0.46646317
B44: Payback | F44: =SUM(F40:K40) -> 2.114011
...

Sheet Summary Review 
C1: SUMMARY REVIEW
A3: Nama Site | C3: : Mall Season City
A4: Nama Pemilik | C4: : PT. Cakra Kelola Lestari
A5: Alamat Pemilik | C5: : Jl. Dr. Latumenten No. 33 Jembaan Besi Jakarta Barat
A6: Telp | C6: :
A7: Obyek Sewa | C7: : Antenna omni 345, BTS dan Pole
A9: No. | B9: Keterangan | C9: Existing | D9: Renewal
A11: 1 | B11: Scope Of Lease | C11: IBC | D11: IBC
A12: 2 | B12: Obyek Sewa | C12: 345 antenna Omni, BTS dan Pole | D12: =C12 -> 345 antenna Omni, BTS dan Pole
A13: 3 | B13: Periode Sewa | C13: 09 July 2020 s/d 08 Juli 2025 | D13: 09 July 2025 - 08 July 2030
A14: 4 | B14: Harga Sewa | C14: 1200000000 | D14: 2000000000
A15: 6 | B15: Harga Sewa / Yearly | C15: =C14/5 -> 240000000 | D15: =D14/5 -> 400000000
A16: 7 | B16: Operator Joint | C16: IOH : 05 July 21 s/d 04 July 26 Rp. 350.918.596 | D16: IOH : 05 July 21 s/d 04 July 26
C17: Telkomsel : 02 Apr 22 s/d 01 apr 27 Rp. 464.640.000 | D17: Telkomsel : 02 Apr 22 s/d 01 apr 27
C18: XL : 22 Sep 21 s/d 21 Sep 26 Rp. 522.571.500 | D18: XL : 22 Sep 21 s/d 21 Sep 26
B19: Penurunan Harga | C19: mengalami kenaikan 33,33%

Sheet Parameter
A1: PERHITUNGAN INTEREST EXPENSE based CAPEX
A2: Capex tahun | B2: 5 | C2: 2012 | D2: =C2+1 -> 2013 | E2: =D2+1 -> 2014 | F2: =E2+1 -> 2015 | G2: =F2+1 -> 2016 | H2: =G2+1 -> 2017 | I2: =H2+1 -> 2018 | J2: =I2+1 -> 2019 | K2: =J2+1 -> 2020 | ... R2: =Q2+1 -> 2027
A3: 2012 | B3: loan | C3: 6896100395 | D3: =C3-C4 -> 5516880316 | E3: =D3-C4 -> 4137660237 | F3: =E3-C4 -> 2758440158 | G3: =F3-C4 -> 1379220079 | H3: =G3-C4 -> 0 | I3: =H3-$E$4 -> 0 | J3: =I3-$E$4 -> 0
B4: Installment/thn | C4: =C3/B2 -> 1379220079
B5: Interest | C5: =(($C$3*IRR!E4*6)/12) -> 3.4480502e+08 | D5: =AVERAGE(C3:D3)*IRR!$E$4 -> 6.2064904e+08 | E5: =AVERAGE(D3:E3)*IRR!$E$4 -> 4.8272703e+08 | F5: =AVERAGE(E3:F3)*IRR!$E$4 -> 3.4480502e+08 | G5: =AVERAGE(F3:G3)*IRR!$E$4 -> 2.0688301e+08 | H5: =AVERAGE(G3:H3)*IRR!$E$4 -> 68961004 | I5: =AVERAGE(H3:I3)*IRR!$E$4 -> 0 | J5: =AVERAGE($I$3:$J$3)*[3]IRR!$G$4 -> 0
A6: =A3+1 -> 2013 | B6: loan | D6: 420150441 | E6: =D6-D7 -> 3.3612035e+08 | F6: =E6-D7 -> 2.5209026e+08 | G6: =F6-D7 -> 1.6806018e+08 | H6: =G6-D7 -> 84030088 | I6: =H6-D7 -> 0
B7: Installment/thn | D7: =D6/B2 -> 84030088
B8: Interest | D8: =((D6*IRR!$E$4*6)/12) -> 21007522 | E8: =AVERAGE(D6:E6)*IRR!$E$4 -> 37813540 | F8: =AVERAGE(E6:F6)*IRR!$E$4 -> 29410531 | G8: =AVERAGE(F6:G6)*IRR!$E$4 -> 21007522 | H8: =AVERAGE(G6:H6)*IRR!$E$4 -> 12604513 | I8: =AVERAGE(H6:I6)*IRR!$E$4 -> 4201504.4 | J8: =AVERAGE(I6:J6)*IRR!$E$4 -> 0
A9: =A6+1 -> 2014 | B9: loan | E9: 327253826 | F9: =E9-E10 -> 2.6180306e+08 | G9: =F9-E10 -> 1.963523e+08 | H9: =G9-E10 -> 1.3090153e+08 | I9: =H9-E10 -> 65450765 | J9: =I9-E10 -> 0
B10: Installment/thn | E10: =E9/B2 -> 65450765
B11: Interest | E11: =((E9*IRR!$E$4*6)/12) -> 16362691 | F11: =AVERAGE(E9:F9)*IRR!$E$4 -> 29452844 | G11: =AVERAGE(F9:G9)*IRR!$E$4 -> 22907768 | H11: =AVERAGE(G9:H9)*IRR!$E$4 -> 16362691 | I11: =AVERAGE(H9:I9)*IRR!$E$4 -> 9817614.8 | J11: =AVERAGE(I9:J9)*IRR!$E$4 -> 3272538.3 | K11: =AVERAGE(J9:K9)*IRR!$E$4 -> 0
A12: =A9+1 -> 2015 | B12: loan | F12: 465383768 | G12: =F12-F13 -> 3.7230701e+08 | H12: =G12-F13 -> 2.7923026e+08 | I12: =H12-F13 -> 1.8615351e+08 | J12: =I12-F13 -> 93076754 | K12: =J12-F13 -> 0
B13: Installment/thn | F13: =F12/B2 -> 93076754
B14: Interest | F14: =((F12*IRR!$E$4*6)/12) -> 23269188 | G14: =AVERAGE(F12:G12)*IRR!$E$4 -> 41884539 | H14: =AVERAGE(G12:H12)*IRR!$E$4 -> 32576864 | I14: =AVERAGE(H12:I12)*IRR!$E$4 -> 23269188 | J14: =AVERAGE(I12:J12)*IRR!$E$4 -> 13961513 | K14: =AVERAGE(J12:K12)*IRR!$E$4 -> 4653837.7 | L14: =AVERAGE(K12:L12)*IRR!$E$4 -> 0
A15: =A12+1 -> 2016 | B15: loan | G15: 47504038 | H15: =G15-G16 -> 38003230 | I15: =H15-G16 -> 28502423 | J15: =I15-G16 -> 19001615 | K15: =J15-G16 -> 9500807.6 | L15: =K15-G16 -> 0
B16: Installment/thn | G16: =G15/B2 -> 9500807.6
B17: Interest | G17: =((G15*IRR!$E$4*6)/12) -> 2375201.9 | H17: =AVERAGE(G15:H15)*IRR!$E$4 -> 4275363.4 | I17: =AVERAGE(H15:I15)*IRR!$E$4 -> 3325282.7 | J17: =AVERAGE(I15:J15)*IRR!$E$4 -> 2375201.9 | K17: =AVERAGE(J15:K15)*IRR!$E$4 -> 1425121.1 | L17: =AVERAGE(K15:L15)*IRR!$E$4 -> 475040.38 | M17: =AVERAGE(L15:M15)*IRR!$E$4 -> 0
A18: =A15+1 -> 2017 | B18: loan | H18: 105737276 | I18: =H18-H19 -> 84589821 | J18: =I18-H19 -> 63442366 | K18: =J18-H19 -> 42294910 | L18: =K18-H19 -> 21147455 | M18: =L18-H19 -> 0
B19: Installment/thn | H19: =H18/B2 -> 21147455
B20: Interest | H20: =((H18*IRR!$E$4*6)/12) -> 5286863.8 | I20: =AVERAGE(H18:I18)*IRR!$E$4 -> 9516354.8 | J20: =AVERAGE(I18:J18)*IRR!$E$4 -> 7401609.3 | K20: =AVERAGE(J18:K18)*IRR!$E$4 -> 5286863.8 | L20: =AVERAGE(K18:L18)*IRR!$E$4 -> 3172118.3 | M20: =AVERAGE(L18:M18)*IRR!$E$4 -> 1057372.8 | N20: =AVERAGE(M18:N18)*IRR!$E$4 -> 0
A21: =A18+1 -> 2018 | B21: loan | I21: 24869000 | J21: =I21-I22 -> 19895200 | K21: =J21-I22 -> 14921400 | L21: =K21-I22 -> 9947600 | M21: =L21-I22 -> 4973800 | N21: =M21-I22 -> 0
B22: Installment/thn | I22: =I21/B2 -> 4973800
B23: Interest | I23: =((I21*IRR!$E$4*6)/12) -> 1243450 | J23: =AVERAGE(I21:J21)*IRR!$E$4 -> 2238210 | K23: =AVERAGE(J21:K21)*IRR!$E$4 -> 1740830 | L23: =AVERAGE(K21:L21)*IRR!$E$4 -> 1243450 | M23: =AVERAGE(L21:M21)*IRR!$E$4 -> 746070 | N23: =AVERAGE(M21:N21)*IRR!$E$4 -> 248690 | O23: =AVERAGE(N21:O21)*IRR!$E$4 -> 0
A24: =A21+1 -> 2019 | B24: loan | K24: =J24-J25 -> 0 | L24: =K24-J25 -> 0 | M24: =L24-J25 -> 0 | N24: =M24-J25 -> 0 | O24: =N24-J25 -> 0
B25: Installment/thn | J25: =J24/B2 -> 0
B26: Interest | J26: =((J24*IRR!$E$4*6)/12) -> 0 | K26: =AVERAGE(J24:K24)*IRR!$E$4 -> 0 | L26: =AVERAGE(K24:L24)*IRR!$E$4 -> 0 | M26: =AVERAGE(L24:M24)*IRR!$E$4 -> 0 | N26: =AVERAGE(M24:N24)*IRR!$E$4 -> 0 | O26: =AVERAGE(N24:O24)*IRR!$E$4 -> 0 | P26: =AVERAGE(O24:P24)*IRR!$E$4 -> 0
A27: =A24+1 -> 2020 | B27: loan | L27: =K27-K28 -> 0 | M27: =L27-$K$28 -> 0 | N27: =M27-$K$28 -> 0 | O27: =N27-$K$28 -> 0 | P27: =O27-$K$28 -> 0
B28: Installment/thn | K28: =K27/B2 -> 0
B29: Interest | K29: =((K27*IRR!$E$4*6)/12) -> 0 | L29: =AVERAGE(K27:L27)*IRR!$E$4 -> 0 | M29: =AVERAGE(L27:M27)*IRR!$E$4 -> 0 | N29: =AVERAGE(M27:N27)*IRR!$E$4 -> 0 | O29: =AVERAGE(N27:O27)*IRR!$E$4 -> 0 | P29: =AVERAGE(O27:P27)*IRR!$E$4 -> 0 | Q29: =AVERAGE(P27:Q27)*IRR!$E$4 -> 0
A30: 2021 | B30: loan | M30: =L30-$L$31 -> 0 | N30: =M30-$L$31 -> 0 | O30: =N30-$L$31 -> 0 | P30: =O30-$L$31 -> 0 | Q30: =P30-$L$31 -> 0 | R30: =Q30-M31 -> 0
B31: Installment/thn | L31: =L30/B2 -> 0
B32: Interest | L32: =((L30*IRR!$E$4*6)/12) -> 0 | M32: =AVERAGE(L30:M30)*IRR!$E$4 -> 0 | N32: =AVERAGE(M30:N30)*IRR!$E$4 -> 0 | O32: =AVERAGE(N30:O30)*IRR!$E$4 -> 0 | P32: =AVERAGE(O30:P30)*IRR!$E$4 -> 0 | Q32: =AVERAGE(P30:Q30)*IRR!$E$4 -> 0 | R32: =AVERAGE(Q30:R30)*IRR!$E$4 -> 0
A33: =A30+1 -> 2022 | B33: loan | M33: 33012215 | N33: =M33-M34 -> 26409772 | O33: =N33-M34 -> 19807329 | P33: =O33-M34 -> 13204886 | Q33: =P33-M34 -> 6602443 | R33: =Q33-M34 -> 0
B34: Installment/thn | M34: =M33/B2 -> 6602443
B35: Interest | M35: =((M33*IRR!$E$4*6)/12) -> 1650610.8 | N35: =AVERAGE(M33:N33)*IRR!$E$4 -> 2971099.4 | O35: =AVERAGE(N33:O33)*IRR!$E$4 -> 2310855.1 | P35: =AVERAGE(O33:P33)*IRR!$E$4 -> 1650610.8 | Q35: =AVERAGE(P33:Q33)*IRR!$E$4 -> 990366.45 | R35: =AVERAGE(Q33:R33)*IRR!$E$4 -> 330122.15 | S35: =AVERAGE(R33:S33)*IRR!$E$4 -> 0
A36: =A33+1 -> 2023 | B36: loan
B37: Installment/thn
B38: Interest
A39: =A36+1 -> 2024 | B39: loan
B40: Installment/thn
...

Sheet Analisa
A2: SITE Mall Seasons City
A3: Periode | B3: Start | C3: End
A4: Rev IOH | B4: 44382 | C4: 46207
A5: Rev Tsel | B5: 44653 | C5: 46478
A6: Rev XL | B6: 44461 | C6: 46286
A7: Sewa BM | B7: 45847 | C7: 11147
B9: Start | C9: End | D9: Days
A10: Worse >> Jika Sewa BM diperpanjang 5 tahun dan Operator sesuai periode existing, maka:
A11: Rev IOH | B11: 44382 | C11: 46207 | D11: =C11-B11 -> 1825 | E11: 350918592 | F11: =E11/365*D11 -> 1754592960
A12: Rev Tsel | B12: 45847 | C12: 46478 | D12: =C12-B12 -> 631 | E12: 464640000 | F12: =E12/365*D12 -> 8.0325436e+08
A13: Rev XL | B13: 45847 | C13: 46286 | D13: =C13-B13 -> 439 | E13: 522571500 | F13: =E13/365*D13 -> 6.285175e+08
A14: Sewa BM | B14: 45847 | C14: 47672 | D14: =C14-B14 -> 1825 | E14: ='Summary Review '!D15 -> 400000000 | F14: =-E14/365*D14 -> -2000000000
A15: Listrik IOH | B15: 45847 | C15: 46207 | D15: =C15-B15 -> 360 | E15: 100000000 | F15: =-E15/365*D15 -> -98630137
A16: LISTRIk Tsel | B16: 45847 | C16: 46478 | D16: =C16-B16 -> 631 | E16: 100000000 | F16: =-E16/365*D16 -> -1.7287671e+08
A17: OM IOH | B17: 45847 | C17: 46207 | D17: =C17-B17 -> 360 | E17: 7000000 | F17: =-E17/365*D17 -> -6904109.6
A18: OM Tsel | B18: 45847 | C18: 46478 | D18: =C18-B18 -> 631 | E18: 7000000 | F18: =-E18/365*D18 -> -12101370
A19: OM XL | B19: 45847 | C19: 46286 | D19: =C19-B19 -> 439 | E19: 7000000 | F19: =-E19/365*D19 -> -8419178.1
A20: Antisipasi Add Capex and Pole | E20: 100000000
A21: Profit | F21: =SUM(F11:F20) -> 8.8743331e+08
