Workbook
Name jk: #REF!
Name jk: #REF!
Name jk: #REF!
Name jk: #REF!
Name jk: #REF!
Name jk: #REF!
Name jk: #REF!
Name years_contract: [1]Kerlink!$D$5

Sheet Summary
B2: No. | C2: 0040/IRR/IBC/XI/2024 | N2: RSUP Fatmawati
C3: Product : | D3: IBS / DAS | J3: Tanggal P&L: | M3: 40853
C4: Status P&L | D4: Extend
B6: Site Information | E6: Technical Information | J6: Financial Summary
B7: Site Name | D7: RS Graha Kedoya | E7: IBC | K7: Capex DAS | M7: 628667131
B8: Address | D8: Jakarta | E8: Antena PKS BM | H8: 82 | K8: Capex /antenna | M8: =M7/H9 -> 8854466.6
E9: Antena Asset | H9: 71 | K9: Contract Period (thn) | M9: 5
B10: Area building | D10: Jakarta | E10: Jumlah Pole Makro | H10: 0 | K10: Interest rate /year | M10: 0.1
B11: Type of building | D11: Office | E11: OPENET | K11: Total Revenue | M11: =IRR!Q19 -> 1.39492e+09
B12: Status | D12: Renewal | E12: Cable FO (Core) | H12: 0 | K12: Total Capex BV | M12: =IRR!G9 -> 6752491
B13: Total floor | E13: Cable FO (meter) | H13: 0 | K13: Total Opex Sewa | M13: =IRR!Q22 -> 1050000000
B14: No of building tower | E14: Drop Wire (meter) | H14: 0 | K14: Total Opex Other | M14: =IRR!Q23+IRR!Q24+IRR!Q25 -> 2.978984e+08
B15: Sitac Tahun
E16: OTHERS | K16: IRR | M16: =IRR!F40 -> 0.031360612
K17: NPV | M17: =IRR!F41 -> -44817211
K18: EBITDA margin | M18: =IRR!F42 -> 0.033709175
K19: Payback (year) | M19: =IRR!F43 -> 4.8745546
B21: Target Achieved by Commercial: | L21: Prepared by
B22: Revenue | D22: : | L22: Citra Kartika
D23: :
D24: :
B28: Approved by

Sheet IRR
B1: No, | C1: 0040/IRR/IBC/XI/2024 | Q1: RSUP Fatmawati
B2: General | H2: Operator join | I2: Rev.Change
C3: Tax Rate | E3: 0.02 | H3: TSEL | I3: -0.079259257
C4: Interest Rate | E4: 0.1 | H4: XL
C5: SG&A | E5: 0.02 | F5: from Revenues | H5: IOH
C6: BHPUSO | E6: 0 | F6: from Revenues | I6: -
G8: Y1 | H8: Y2 | I8: Y3 | J8: Y4 | K8: Y5 | L8: Y6 | M8: Y7 | N8: Y8 | O8: Y9 | P8: Y10
B9: Total CAPEX | E9: DAS BV 30 Nov 24 | G9: =6752491 -> 6752491 | H9: 0 | I9: 0 | J9: 0
G11: 2025 | H11: =G11+1 -> 2026 | I11: =H11+1 -> 2027 | J11: =I11+1 -> 2028 | K11: =J11+1 -> 2029 | L11: =K11+1 -> 2030 | M11: =L11+1 -> 2031 | N11: =M11+1 -> 2032 | O11: =N11+1 -> 2033 | P11: =O11+1 -> 2034
B12: IRR Calculation | F12: Year 0 | G12: Year 1 | H12: Year 2 | I12: Year 3 | J12: Year 4 | K12: Year 5 | L12: Year 6 | M12: Year 7 | N12: Year 8 | O12: Year 9 | P12: Year 10 | Q12: Total
B13: Months of Service | G13: 12 | H13: 12 | I13: 12 | J13: 12 | K13: 12
B15: Revenues
C16: XL | I16: =H16 -> 0 | J16: =I16 -> 0 | K16: =J16 -> 0 | Q16: =SUM(G16:K16) -> 0
C17: TSEL | G17: 216000000 | H17: =(G17*(100%+I3)) -> 1.9888e+08 | I17: =H17 -> 1.9888e+08 | J17: =I17 -> 1.9888e+08 | K17: =J17 -> 1.9888e+08 | Q17: =SUM(G17:K17) -> 1.01152e+09
C18: IOH | G18: 76680000 | H18: =G18 -> 76680000 | I18: =H18 -> 76680000 | J18: =I18 -> 76680000 | K18: =J18 -> 76680000 | Q18: =SUM(G18:K18) -> 383400000
B19: Total Revenues (SF) | G19: =SUM(G16:G18) -> 292680000 | H19: =SUM(H16:H18) -> 2.7556e+08 | I19: =SUM(I16:I18) -> 2.7556e+08 | J19: =SUM(J16:J18) -> 2.7556e+08 | K19: =SUM(K16:K18) -> 2.7556e+08 | Q19: =SUM(Q16:Q18) -> 1.39492e+09
B21: OPEX
C22: Lease to BM | G22: =210000000*3 -> 630000000 | J22: =210000000*2 -> 420000000 | Q22: =SUM(G22:K22) -> 1050000000
C23: Electricity | G23: 36000000 | H23: =G23 -> 36000000 | I23: =H23 -> 36000000 | J23: =I23 -> 36000000 | K23: =J23 -> 36000000 | Q23: =SUM(G23:K23) -> 180000000
C24: Maintenance | G24: =7000000*2+20000000 -> 34000000 | H24: =14000000 -> 14000000 | I24: =H24 -> 14000000 | J24: =I24 -> 14000000 | K24: =J24 -> 14000000 | Q24: =SUM(G24:K24) -> 90000000
C25: SG&A | G25: =G19*$E$5 -> 5853600 | H25: =H19*$E$5 -> 5511200 | I25: =I19*$E$5 -> 5511200 | J25: =J19*$E$5 -> 5511200 | K25: =K19*$E$5 -> 5511200 | L25: =L19*J5 -> 0 | M25: =M19*K5 -> 0 | N25: =N19*L5 -> 0 | O25: =O19*M5 -> 0 | P25: =P19*N5 -> 0 | Q25: =SUM(G25:K25) -> 27898400
B26: Total OPEX | G26: =SUM(G22:G25) -> 705853600 | H26: =SUM(H22:H25) -> 55511200 | I26: =SUM(I22:I25) -> 55511200 | J26: =SUM(J22:J25) -> 4.755112e+08 | K26: =SUM(K22:K25) -> 55511200 | Q26: =SUM(Q22:Q25) -> 1.3478984e+09
B27: Total EBITDA | G27: =G19-G26 -> -413173600 | H27: =H19-H26 -> 2.200488e+08 | I27: =I19-I26 -> 2.200488e+08 | J27: =J19-J26 -> -1.999512e+08 | K27: =K19-K26 -> 2.200488e+08 | Q27: =Q19-Q26 -> 47021602
B28: Ebitda margin | G28: 0 | H28: =H27/H19 -> 0.79855131 | I28: =I27/I19 -> 0.79855131 | J28: =J27/J19 -> -0.72561765 | K28: =K27/K19 -> 0.79855131 | Q28: =Q27/Q19 -> 0.033709175
B29: Depreciation Expense | G29: =G51 -> 1350498.2 | H29: =H51 -> 1350498.2 | I29: =I51 -> 1350498.2 | J29: =J51 -> 1350498.2 | K29: =K51 -> 1350498.2 | Q29: =SUM(G29:K29) -> 6752491
B30: Total EBIT | G30: =G27-G29 -> -4.145241e+08 | H30: =H27-H29 -> 2.186983e+08 | I30: =I27-I29 -> 2.186983e+08 | J30: =J27-J29 -> -2.013017e+08 | K30: =K27-K29 -> 2.186983e+08 | Q30: =Q27-Q29 -> 40269111
B31: Interest Expense | G31: =Parameter!P39 -> 91806.32 | H31: =Parameter!Q39 -> 0 | I31: =Parameter!R39 -> 0 | J31: =Parameter!S39 -> 0 | K31: =Parameter!T39 -> 0 | Q31: =SUM(G31:K31) -> 91806.32
B32: EBT | G32: =G30-G31 -> -4.146159e+08 | H32: =H30-H31 -> 2.186983e+08 | I32: =I30-I31 -> 2.186983e+08 | J32: =J30-J31 -> -2.013017e+08 | K32: =K30-K31 -> 2.186983e+08 | Q32: =SUM(G32:K32) -> 40177305
B33: Tax Expense | G33: =IF(G32<0,0,G32*$E$3) -> 0 | H33: =IF(H32<0,0,H32*$E$3) -> 4373966 | I33: =IF(I32<0,0,I32*$E$3) -> 4373966 | J33: =IF(J32<0,0,J32*$E$3) -> 0 | K33: =IF(K32<0,0,K32*$E$3) -> 4373966 | Q33: =SUM(G33:K33) -> 13121898
B34: Net Income | G34: =G32-G33 -> -4.146159e+08 | H34: =H32-H33 -> 2.1432434e+08 | I34: =I32-I33 -> 2.1432434e+08 | J34: =J32-J33 -> -2.013017e+08 | K34: =K32-K33 -> 2.1432434e+08 | Q34: =Q32-Q33 -> 27055406
B36: Capex | F36: =-G9 -> -6752491 | H36: =-I9+-I10 -> 0 | I36: =-J9+-J10 -> 0 | J36: =-K9+-K10 -> 0 | K36: =-Q9+-Q10 -> 0
B37: FCFF | F37: =F36 -> -6752491 | G37: =G36+G34+G29 -> -4.1326541e+08 | H37: =H36+H34+H29 -> 2.1567483e+08 | I37: =I36+I34+I29 -> 2.1567483e+08 | J37: =J36+J34+J29 -> -1.999512e+08 | K37: =K36+K34+K29 -> 2.1567483e+08 | Q37: =SUM(F37:K37) -> 27055406
B38: Accumulated FCF | F38: =F37 -> -6752491 | G38: =F38+G37 -> -4.200179e+08 | H38: =G38+H37 -> -2.0434306e+08 | I38: =(H38+I37) -> 11331772 | J38: =I38+J37 -> -1.8861943e+08 | K38: =J38+K37 -> 27055406
B39: PBP | G39: =IF(AND(F38<0,G38>0),G44-(G38/G37),0) -> 0 | H39: =IF(AND(G38<0,H38>0),H44-(H38/H37),0) -> 0 | I39: =IF(AND(H38<0,I38>0),I44-(I38/I37),0) -> 2.947459 | J39: =IF(AND(I38<0,J38>0),J44-(J38/J37),0) -> 0 | K39: =IF(AND(J38<0,K38>0),K44-(K38/K37),0) -> 4.8745546
B40: IRR | F40: =IRR(F37:K37) -> 0.031360612
B41: NPV | F41: =NPV(E4,G37:K37)+F37 -> -44817211
B42: EBITDA margin | F42: =Q28 -> 0.033709175
B43: Payback | F43: =K39 -> 4.8745546
G44: 1 | H44: 2 | I44: 3 | J44: 4 | K44: 5
B45: Depreciation Calculation | E45: no of Year depreciated | G45: =G12 -> Year 1 | H45: =H12 -> Year 2 | I45: =I12 -> Year 3 | J45: =J12 -> Year 4 | K45: =K12 -> Year 5
...

Sheet Analisa
A2: SITE RSUP Fatmawati
A3: Periode | B3: Start | C3: End
A4: Rev H3I | B4: 44954 | C4: 46779
A5: Rev TSEL | B5: 45760 | C5: 47585
A6: Sewa BM | B6: 45636 | C6: 46732
B8: Start | C8: End | D8: Days
A9: Worse >> Jika Sewa BM diperpanjang 3 tahun dan XL sesuai periodenya XL, maka:
A10: Rev H3I | B10: 45636 | C10: 46732 | D10: =C10-B10 -> 1096 | E10: 76680000 | F10: =E10/365*D10 -> 2.3025008e+08
A11: Rev TSEL | B11: 45636 | C11: 46732 | D11: =C11-B11 -> 1096 | E11: 198880000 | F11: =E11/365*D11 -> 5.9718488e+08
A12: Sewa BM | B12: 45636 | C12: 46732 | D12: =C12-B12 -> 1096 | E12: 210000000 | F12: =-E12/365*D12 -> -6.3057534e+08
A13: Listrik Tsel | B13: 45636 | C13: 46732 | D13: =C13-B13 -> 1096 | E13: 36000000 | F13: =-E13/365*D13 -> -1.0809863e+08
A14: OM | B14: 45636 | C14: 46732 | D14: =C14-B14 -> 1096 | E14: 14000000 | F14: =-E14/365*D14 -> -42038356
A15: Antisipasi Add Capex and Pole | E15: 100000000
A16: Profit selama sewa BM 3 tahun | F16: =SUM(F10:F15) -> 46722630

Sheet Summary Review 
C1: SUMMARY REVIEW
A3: Nama Site | C3: : RSUP Fatmawati
A4: Nama Pemilik
A5: Alamat Pemilik | C5: : Jl. Fatmawati raya, cilandak baru jakarta Selatan
A6: Telp | C6: :
A7: Obyek Sewa | C7: 71 antenna Omni, BTS dan Pole
A9: No. | B9: Keterangan | C9: Existing | D9: Renewal
A11: 1 | B11: Scope Of Lease | C11: IBC | D11: IBC
A12: 2 | B12: Obyek Sewa | C12: 71 antenna Omni, BTS dan Pole | D12: =C12 -> 71 antenna Omni, BTS dan Pole
A13: 3 | B13: Periode Sewa | C13: 11 Des 2022 s/d 10 Des 2024 | D13: 10 Des 2024 - 11 des 2027
A14: 4 | B14: Harga Sewa | C14: 480000000 | D14: =210000000*3 -> 630000000
A15: 6 | B15: Harga Sewa / Yearly | C15: =C14/3 -> 160000000 | D15: 210000000
A16: 7 | B16: Operator Joint | C16: IOH : 28 Jan 18 - 27-Jan-23 Rp. 5.565484 | D16: IOH : 28 Jan 23 - 27-Jan-28 Rp. 76.680.000
C17: Telkomsel : 13-April-20 - 12-Apr-25 Rp. 216.000.000 | D17: Telkomsel : 13-April-20 - 12-Apr-25 Rp. 216.000.000
B19: Penurunan Harga

Sheet IRR (2)
B1: No, | C1: 0040/IRR/IBC/XI/2024 | Q1: RSUP Fatmawati
B2: General | H2: Operator join | I2: Rev.Change | Q2: =5000000*71 -> 355000000
C3: Tax Rate | E3: 0.02 | H3: TSEL | I3: -0.1
C4: Interest Rate | E4: 0.1 | H4: XL | I4: -0.1
C5: SG&A | E5: 0.05 | F5: from Revenues | H5: IOH | I5: 0
C6: BHPUSO | E6: 0 | F6: from Revenues | I6: -
G8: Y1 | H8: Y2 | I8: Y3 | J8: Y4 | K8: Y5 | L8: Y6 | M8: Y7 | N8: Y8 | O8: Y9 | P8: Y10
B9: Total CAPEX | E9: DAS BV 30 Nov 24 | G9: 400000000 | H9: 0 | I9: 0 | J9: 0
G11: 2025 | H11: =G11+1 -> 2026 | I11: =H11+1 -> 2027 | J11: =I11+1 -> 2028 | K11: =J11+1 -> 2029 | L11: =K11+1 -> 2030 | M11: =L11+1 -> 2031 | N11: =M11+1 -> 2032 | O11: =N11+1 -> 2033 | P11: =O11+1 -> 2034
B12: IRR Calculation | F12: Year 0 | G12: Year 1 | H12: Year 2 | I12: Year 3 | J12: Year 4 | K12: Year 5 | L12: Year 6 | M12: Year 7 | N12: Year 8 | O12: Year 9 | P12: Year 10 | Q12: Total
B13: Months of Service | G13: 12 | H13: 12 | I13: 12 | J13: 12 | K13: 12
B15: Revenues
C16: XL | G16: 150000000 | H16: =G16 -> 150000000 | I16: =H16 -> 150000000 | J16: =I16 -> 150000000 | K16: =J16 -> 150000000 | Q16: =SUM(G16:K16) -> 750000000
C17: TSEL | G17: 216000000 | H17: =(G17*92%)+160000 -> 198880000 | I17: =H17 -> 198880000 | J17: =I17 -> 198880000 | K17: =J17 -> 198880000 | Q17: =SUM(G17:K17) -> 1011520000
C18: IOH | G18: 76680000 | H18: =G18 -> 76680000 | I18: =H18 -> 76680000 | J18: =I18 -> 76680000 | K18: =J18 -> 76680000 | Q18: =SUM(G18:K18) -> 383400000
B19: Total Revenues (SF) | G19: =SUM(G16:G18) -> 442680000 | H19: =SUM(H16:H18) -> 425560000 | I19: =SUM(I16:I18) -> 425560000 | J19: =SUM(J16:J18) -> 425560000 | K19: =SUM(K16:K18) -> 425560000 | Q19: =SUM(Q16:Q18) -> 2144920000
B21: OPEX
C22: Lease to BM | G22: =210000000*3 -> 630000000 | J22: =210000000*2 -> 420000000 | Q22: =SUM(G22:K22) -> 1050000000 | R22: =210000000*5 -> 1050000000
C23: Electricity | G23: 36000000 | H23: =G23 -> 36000000 | I23: =H23 -> 36000000 | J23: =I23 -> 36000000 | K23: =J23 -> 36000000 | Q23: =SUM(G23:K23) -> 180000000 | R23: =210000000*3 -> 630000000
C24: Maintenance | G24: 7000000 | H24: =G24 -> 7000000 | I24: =H24 -> 7000000 | J24: =I24 -> 7000000 | K24: =J24 -> 7000000 | Q24: =SUM(G24:K24) -> 35000000
C25: SG&A | Q25: =SUM(G25:K25) -> 0
B26: Total OPEX | G26: =SUM(G22:G25) -> 673000000 | H26: =SUM(H22:H25) -> 43000000 | I26: =SUM(I22:I25) -> 43000000 | J26: =SUM(J22:J25) -> 463000000 | K26: =SUM(K22:K25) -> 43000000 | Q26: =SUM(Q22:Q25) -> 1265000000
B27: Total EBITDA | G27: =G19-G26 -> -230320000 | H27: =H19-H26 -> 382560000 | I27: =I19-I26 -> 382560000 | J27: =J19-J26 -> -37440000 | K27: =K19-K26 -> 382560000 | Q27: =Q19-Q26 -> 879920000
B28: Ebitda margin | G28: 0 | H28: =H27/H19 -> 0.89895667 | I28: =I27/I19 -> 0.89895667 | J28: =J27/J19 -> -0.087978193 | K28: =K27/K19 -> 0.89895667 | Q28: =Q27/Q19 -> 0.41023441
B29: Depreciation Expense | G29: =G51 -> 80000000 | H29: =H51 -> 80000000 | I29: =I51 -> 80000000 | J29: =J51 -> 80000000 | K29: =K51 -> 80000000 | Q29: =SUM(G29:K29) -> 400000000
B30: Total EBIT | G30: =G27-G29 -> -310320000 | H30: =H27-H29 -> 302560000 | I30: =I27-I29 -> 302560000 | J30: =J27-J29 -> -117440000 | K30: =K27-K29 -> 302560000 | Q30: =Q27-Q29 -> 479920000
B31: Interest Expense | G31: ='Parameter (2)'!P39 -> 45000000 | H31: ='Parameter (2)'!Q39 -> 81000000 | I31: ='Parameter (2)'!R39 -> 63000000 | J31: ='Parameter (2)'!S39 -> 45000000 | K31: ='Parameter (2)'!T39 -> 27000000 | L31: ='Parameter (2)'!U39 -> 9000000 | M31: ='Parameter (2)'!V39 -> 0 | N31: ='Parameter (2)'!W39 -> 0 | ... P31: ='Parameter (2)'!Y39 -> 0 | Q31: =SUM(G31:K31) -> 261000000
B32: EBT | G32: =G30-G31 -> -355320000 | H32: =H30-H31 -> 221560000 | I32: =I30-I31 -> 239560000 | J32: =J30-J31 -> -162440000 | K32: =K30-K31 -> 275560000 | Q32: =SUM(G32:K32) -> 218920000
B33: Tax Expense | G33: =IF(G32<0,0,G32*$E$3) -> 0 | H33: =IF(H32<0,0,H32*$E$3) -> 4431200 | I33: =IF(I32<0,0,I32*$E$3) -> 4791200 | J33: =IF(J32<0,0,J32*$E$3) -> 0 | K33: =IF(K32<0,0,K32*$E$3) -> 5511200 | Q33: =SUM(G33:K33) -> 14733600
B34: Net Income | G34: =G32-G33 -> -355320000 | H34: =H32-H33 -> 217128800 | I34: =I32-I33 -> 234768800 | J34: =J32-J33 -> -162440000 | K34: =K32-K33 -> 270048800 | Q34: =Q32-Q33 -> 204186400
B36: Capex | F36: =-G9 -> -400000000 | H36: =-I9+-I10 -> 0 | I36: =-J9+-J10 -> 0 | J36: =-K9+-K10 -> 0 | K36: =-Q9+-Q10 -> 0
B37: FCFF | F37: =F36 -> -400000000 | G37: =G36+G34+G29 -> -275320000 | H37: =H36+H34+H29 -> 297128800 | I37: =I36+I34+I29 -> 314768800 | J37: =J36+J34+J29 -> -82440000 | K37: =K36+K34+K29 -> 350048800 | Q37: =SUM(F37:K37) -> 204186400
B38: Accumulated FCF | F38: =F37 -> -400000000 | G38: =F38+G37 -> -675320000 | H38: =G38+H37 -> -378191200 | I38: =(H38+I37) -> -63422400 | J38: =I38+J37 -> -145862400 | K38: =J38+K37 -> 204186400
B39: PBP | G39: =IF(AND(F38<0,G38>0),G44-(G38/G37),0) -> 0 | H39: =IF(AND(G38<0,H38>0),H44-(H38/H37),0) -> 0 | I39: =IF(AND(H38<0,I38>0),I44-(I38/I37),0) -> 0 | J39: =IF(AND(I38<0,J38>0),J44-(J38/J37),0) -> 0 | K39: =IF(AND(J38<0,K38>0),K44-(K38/K37),0) -> 4.4166916
B40: IRR | F40: =IRR(F37:K37) -> 0.095675728
B41: NPV | F41: =NPV(E4,G37:K37)+F37 -> -7194324.3
B42: EBITDA margin | F42: =Q28 -> 0.41023441
B43: Payback | F43: =K39 -> 4.4166916
G44: 1 | H44: 2 | I44: 3 | J44: 4 | K44: 5
B45: Depreciation Calculation | E45: no of Year depreciated | G45: =G12 -> Year 1 | H45: =H12 -> Year 2 | I45: =I12 -> Year 3 | J45: =J12 -> Year 4 | K45: =K12 -> Year 5
...

Sheet IRR (3)
B1: No, | C1: 0040/IRR/IBC/XI/2024 | Q1: RSUP Fatmawati
B2: General | H2: Operator join | I2: Rev.Change
C3: Tax Rate | E3: 0.02 | H3: TSEL | I3: -0.1
C4: Interest Rate | E4: 0.1 | H4: XL | I4: -0.1
C5: SG&A | E5: 0.05 | F5: from Revenues | H5: IOH | I5: 0
C6: BHPUSO | E6: 0 | F6: from Revenues | I6: -
G8: Y1 | H8: Y2 | I8: Y3 | J8: Y4 | K8: Y5 | L8: Y6 | M8: Y7 | N8: Y8 | O8: Y9 | P8: Y10
B9: Total CAPEX | E9: DAS BV 30 Nov 24 | G9: 800000000 | H9: 0 | I9: 0 | J9: 0
G11: 2025 | H11: =G11+1 -> 2026 | I11: =H11+1 -> 2027 | J11: =I11+1 -> 2028 | K11: =J11+1 -> 2029 | L11: =K11+1 -> 2030 | M11: =L11+1 -> 2031 | N11: =M11+1 -> 2032 | O11: =N11+1 -> 2033 | P11: =O11+1 -> 2034
B12: IRR Calculation | F12: Year 0 | G12: Year 1 | H12: Year 2 | I12: Year 3 | J12: Year 4 | K12: Year 5 | L12: Year 6 | M12: Year 7 | N12: Year 8 | O12: Year 9 | P12: Year 10 | Q12: Total
B13: Months of Service | G13: 12 | H13: 12 | I13: 12 | J13: 12 | K13: 12
B15: Revenues
C16: XL | Q16: =SUM(G16:P16) -> 0
C17: TSEL | G17: 216000000 | H17: =(G17*92%)+160000 -> 198880000 | I17: =H17 -> 198880000 | J17: =I17 -> 198880000 | K17: =J17 -> 198880000 | L17: =K17 -> 198880000 | M17: =L17 -> 198880000 | N17: =M17 -> 198880000 | O17: =N17 -> 198880000 | P17: =O17 -> 198880000 | Q17: =SUM(G17:P17) -> 2005920000
C18: IOH | G18: 76680000 | H18: =G18 -> 76680000 | I18: =H18 -> 76680000 | J18: =I18 -> 76680000 | K18: =J18 -> 76680000 | L18: =K18 -> 76680000 | M18: =L18 -> 76680000 | N18: =M18 -> 76680000 | O18: =N18 -> 76680000 | P18: =O18 -> 76680000 | Q18: =SUM(G18:P18) -> 766800000
B19: Total Revenues (SF) | G19: =SUM(G16:G18) -> 292680000 | H19: =SUM(H16:H18) -> 275560000 | I19: =SUM(I16:I18) -> 275560000 | J19: =SUM(J16:J18) -> 275560000 | K19: =SUM(K16:K18) -> 275560000 | L19: =SUM(L16:L18) -> 275560000 | M19: =SUM(M16:M18) -> 275560000 | N19: =SUM(N16:N18) -> 275560000 | ... Q19: =SUM(Q16:Q18) -> 2772720000
B21: OPEX
C22: Lease to BM | G22: 200000000 | H22: =G22 -> 200000000 | I22: =H22 -> 200000000 | J22: =I22 -> 200000000 | K22: =J22 -> 200000000 | L22: =K22 -> 200000000 | M22: =L22 -> 200000000 | N22: =M22 -> 200000000 | O22: =N22 -> 200000000 | P22: =O22 -> 200000000 | Q22: =SUM(G22:P22) -> 2000000000
C23: Electricity | G23: 36000000 | H23: =G23 -> 36000000 | I23: =H23 -> 36000000 | J23: =I23 -> 36000000 | K23: =J23 -> 36000000 | L23: =K23 -> 36000000 | M23: =L23 -> 36000000 | N23: =M23 -> 36000000 | O23: =N23 -> 36000000 | P23: =O23 -> 36000000 | Q23: =SUM(G23:P23) -> 360000000
C24: Maintenance | G24: 7000000 | H24: =G24 -> 7000000 | I24: =H24 -> 7000000 | J24: =I24 -> 7000000 | K24: =J24 -> 7000000 | L24: =K24 -> 7000000 | M24: =L24 -> 7000000 | N24: =M24 -> 7000000 | O24: =N24 -> 7000000 | P24: =O24 -> 7000000 | Q24: =SUM(G24:P24) -> 70000000
C25: SG&A | Q25: =SUM(G25:P25) -> 0
B26: Total OPEX | G26: =SUM(G22:G25) -> 243000000 | H26: =SUM(H22:H25) -> 243000000 | I26: =SUM(I22:I25) -> 243000000 | J26: =SUM(J22:J25) -> 243000000 | K26: =SUM(K22:K25) -> 243000000 | L26: =SUM(L22:L25) -> 243000000 | M26: =SUM(M22:M25) -> 243000000 | N26: =SUM(N22:N25) -> 243000000 | ... Q26: =SUM(Q22:Q25) -> 2430000000
B27: Total EBITDA | G27: =G19-G26 -> 49680000 | H27: =H19-H26 -> 32560000 | I27: =I19-I26 -> 32560000 | J27: =J19-J26 -> 32560000 | K27: =K19-K26 -> 32560000 | L27: =L19-L26 -> 32560000 | M27: =M19-M26 -> 32560000 | N27: =N19-N26 -> 32560000 | ... Q27: =Q19-Q26 -> 342720000
B28: Ebitda margin | G28: 0 | H28: =H27/H19 -> 0.11815938 | I28: =I27/I19 -> 0.11815938 | J28: =J27/J19 -> 0.11815938 | K28: =K27/K19 -> 0.11815938 | L28: =L27/L19 -> 0.11815938 | M28: =M27/M19 -> 0.11815938 | N28: =N27/N19 -> 0.11815938 | O28: =O27/O19 -> 0.11815938 | ... Q28: =Q27/Q19 -> 0.12360426
B29: Depreciation Expense | G29: =G51 -> 160000000 | H29: =H51 -> 160000000 | I29: =I51 -> 160000000 | J29: =J51 -> 160000000 | K29: =K51 -> 160000000 | L29: =L51 -> 0 | M29: =M51 -> 0 | N29: =N51 -> 0 | ... P29: =P51 -> 0 | Q29: =SUM(G29:K29) -> 800000000
B30: Total EBIT | G30: =G27-G29 -> -110320000 | H30: =H27-H29 -> -127440000 | I30: =I27-I29 -> -127440000 | J30: =J27-J29 -> -127440000 | K30: =K27-K29 -> -127440000 | L30: =L27-L29 -> 32560000 | M30: =M27-M29 -> 32560000 | N30: =N27-N29 -> 32560000 | ... Q30: =Q27-Q29 -> -457280000
B31: Interest Expense | G31: ='Parameter (2)'!P39 -> 45000000 | H31: ='Parameter (2)'!Q39 -> 81000000 | I31: ='Parameter (2)'!R39 -> 63000000 | J31: ='Parameter (2)'!S39 -> 45000000 | K31: ='Parameter (2)'!T39 -> 27000000 | L31: ='Parameter (2)'!U39 -> 9000000 | M31: ='Parameter (2)'!V39 -> 0 | N31: ='Parameter (2)'!W39 -> 0 | ... P31: ='Parameter (2)'!Y39 -> 0 | Q31: =SUM(G31:P31) -> 270000000
B32: EBT | G32: =G30-G31 -> -155320000 | H32: =H30-H31 -> -208440000 | I32: =I30-I31 -> -190440000 | J32: =J30-J31 -> -172440000 | K32: =K30-K31 -> -154440000 | L32: =L30-L31 -> 23560000 | M32: =M30-M31 -> 32560000 | N32: =N30-N31 -> 32560000 | ... P32: =P30-P31 -> 32560000 | Q32: =SUM(G32:P32) -> -727280000
B33: Tax Expense | G33: =IF(G32<0,0,G32*$E$3) -> 0 | H33: =IF(H32<0,0,H32*$E$3) -> 0 | I33: =IF(I32<0,0,I32*$E$3) -> 0 | J33: =IF(J32<0,0,J32*$E$3) -> 0 | K33: =IF(K32<0,0,K32*$E$3) -> 0 | L33: =IF(L32<0,0,L32*$E$3) -> 471200 | M33: =IF(M32<0,0,M32*$E$3) -> 651200 | N33: =IF(N32<0,0,N32*$E$3) -> 651200 | ... P33: =IF(P32<0,0,P32*$E$3) -> 651200 | Q33: =SUM(G33:P33) -> 3076000
B34: Net Income | G34: =G32-G33 -> -155320000 | H34: =H32-H33 -> -208440000 | I34: =I32-I33 -> -190440000 | J34: =J32-J33 -> -172440000 | K34: =K32-K33 -> -154440000 | L34: =L32-L33 -> 23088800 | M34: =M32-M33 -> 31908800 | N34: =N32-N33 -> 31908800 | ... Q34: =Q32-Q33 -> -730356000
B36: Capex | F36: =-G9 -> -800000000 | H36: =-I9+-I10 -> 0 | I36: =-J9+-J10 -> 0 | J36: =-K9+-K10 -> 0 | K36: =-Q9+-Q10 -> 0 | L36: =-R9+-R10 -> 0 | M36: =-S9+-S10 -> 0 | N36: =-T9+-T10 -> 0 | O36: =-U9+-U10 -> 0 | P36: =-V9+-V10 -> 0
B37: FCFF | F37: =F36 -> -800000000 | G37: =G36+G34+G29 -> 4680000 | H37: =H36+H34+H29 -> -48440000 | I37: =I36+I34+I29 -> -30440000 | J37: =J36+J34+J29 -> -12440000 | K37: =K36+K34+K29 -> 5560000 | L37: =L36+L34+L29 -> 23088800 | M37: =M36+M34+M29 -> 31908800 | N37: =N36+N34+N29 -> 31908800 | ... P37: =P36+P34+P29 -> 31908800 | Q37: =SUM(F37:P37) -> -730356000
B38: Accumulated FCF | F38: =F37 -> -800000000 | G38: =F38+G37 -> -795320000 | H38: =G38+H37 -> -843760000 | I38: =(H38+I37) -> -874200000 | J38: =I38+J37 -> -886640000 | K38: =J38+K37 -> -881080000 | L38: =K38+L37 -> -857991200 | M38: =L38+M37 -> -826082400 | N38: =M38+N37 -> -794173600 | O38: =N38+O37 -> -762264800 | P38: =O38+P37 -> -730356000
B39: PBP | G39: =IF(AND(F38<0,G38>0),G44-(G38/G37),0) -> 0 | H39: =IF(AND(G38<0,H38>0),H44-(H38/H37),0) -> 0 | I39: =IF(AND(H38<0,I38>0),I44-(I38/I37),0) -> 0 | J39: =IF(AND(I38<0,J38>0),J44-(J38/J37),0) -> 0 | K39: =IF(AND(J38<0,K38>0),K44-(K38/K37),0) -> 0 | L39: =IF(AND(K38<0,L38>0),L44-(L38/L37),0) -> 0 | M39: =IF(AND(L38<0,M38>0),M44-(M38/M37),0) -> 0 | N39: =IF(AND(M38<0,N38>0),N44-(N38/N37),0) -> 0 | ... P39: =IF(AND(O38<0,P38>0),P44-(P38/P37),0) -> 0
B40: IRR | F40: =IRR(F37:P37) -> -0.19766361
B41: NPV | F41: =NPV(E4,G37:P37)+F37 -> -7.9356525e+08
B42: EBITDA margin | F42: =Q28 -> 0.12360426
B43: Payback | F43: =K39 -> 0
G44: 1 | H44: 2 | I44: 3 | J44: 4 | K44: 5 | L44: 6 | M44: 7 | N44: 8 | O44: 9 | P44: 10
B45: Depreciation Calculation | E45: no of Year depreciated | G45: =G12 -> Year 1 | H45: =H12 -> Year 2 | I45: =I12 -> Year 3 | J45: =J12 -> Year 4 | K45: =K12 -> Year 5
...

Sheet Parameter
A1: PERHITUNGAN INTEREST EXPENSE based CAPEX
A2: Capex tahun | B2: 5 | C2: 2012 | D2: =C2+1 -> 2013 | E2: =D2+1 -> 2014 | F2: =E2+1 -> 2015 | G2: =F2+1 -> 2016 | H2: =G2+1 -> 2017 | I2: =H2+1 -> 2018 | J2: =I2+1 -> 2019 | K2: =J2+1 -> 2020 | ... S2: =R2+1 -> 2028
A3: 2012 | B3: loan | D3: =C3-C4 -> 0 | E3: =D3-C4 -> 0 | F3: =E3-C4 -> 0 | G3: =F3-C4 -> 0 | H3: =G3-C4 -> 0 | I3: =H3-$E$4 -> 0 | J3: =I3-$E$4 -> 0
B4: Installment/thn | C4: =C3/B2 -> 0
B5: Interest | C5: =(($C$3*IRR!E4*6)/12) -> 0 | D5: =AVERAGE(C3:D3)*IRR!$E$4 -> 0 | E5: =AVERAGE(D3:E3)*IRR!$E$4 -> 0 | F5: =AVERAGE(E3:F3)*IRR!$E$4 -> 0 | G5: =AVERAGE(F3:G3)*IRR!$E$4 -> 0 | H5: =AVERAGE(G3:H3)*IRR!$E$4 -> 0 | I5: =AVERAGE($H$3:$I$3)*[2]IRR!$G$4 -> 0 | J5: =AVERAGE($I$3:$J$3)*[2]IRR!$G$4 -> 0
A6: =A3+1 -> 2013 | B6: loan | D6: 158218258 | E6: =D6-D7 -> 1.2657461e+08 | F6: =E6-D7 -> 94930955 | G6: =F6-D7 -> 63287303 | H6: =G6-D7 -> 31643652 | I6: =H6-D7 -> 0
B7: Installment/thn | D7: =D6/B2 -> 31643652
B8: Interest | D8: =((D6*IRR!$E$4*6)/12) -> 7910912.9 | E8: =AVERAGE(D6:E6)*IRR!$E$4 -> 14239643 | F8: =AVERAGE(E6:F6)*IRR!$E$4 -> 11075278 | G8: =AVERAGE(F6:G6)*IRR!$E$4 -> 7910912.9 | H8: =AVERAGE(G6:H6)*IRR!$E$4 -> 4746547.7 | I8: =AVERAGE(H6:I6)*IRR!$E$4 -> 1582182.6
A9: =A6+1 -> 2014 | B9: loan | E9: 816538066 | F9: =E9-E10 -> 6.5323045e+08 | G9: =F9-E10 -> 4.8992284e+08 | H9: =G9-E10 -> 3.2661523e+08 | I9: =H9-E10 -> 1.6330761e+08 | J9: =I9-E10 -> 0
B10: Installment/thn | E10: =E9/B2 -> 1.6330761e+08
B11: Interest | E11: =((E9*IRR!$E$4*6)/12) -> 40826903 | F11: =AVERAGE(E9:F9)*IRR!$E$4 -> 73488426 | G11: =AVERAGE(F9:G9)*IRR!$E$4 -> 57157665 | H11: =AVERAGE(G9:H9)*IRR!$E$4 -> 40826903 | I11: =AVERAGE(H9:I9)*IRR!$E$4 -> 24496142 | J11: =AVERAGE(I9:J9)*IRR!$E$4 -> 8165380.7 | K11: =AVERAGE(J9:K9)*IRR!$E$4 -> 0
A12: =A9+1 -> 2015 | B12: loan | G12: =F12-F13 -> 0 | H12: =G12-F13 -> 0 | I12: =H12-F13 -> 0 | J12: =I12-F13 -> 0 | K12: =J12-F13 -> 0
B13: Installment/thn | F13: =F12/B2 -> 0
B14: Interest | F14: =((F12*IRR!$E$4*6)/12) -> 0 | G14: =AVERAGE(F12:G12)*IRR!$E$4 -> 0 | H14: =AVERAGE(G12:H12)*IRR!$E$4 -> 0 | I14: =AVERAGE(H12:I12)*IRR!$E$4 -> 0 | J14: =AVERAGE(I12:J12)*IRR!$E$4 -> 0 | K14: =AVERAGE(J12:K12)*IRR!$E$4 -> 0 | L14: =AVERAGE(K12:L12)*IRR!$E$4 -> 0
A15: =A12+1 -> 2016 | B15: loan | G15: 120433746 | H15: =G15-G16 -> 96346997 | I15: =H15-G16 -> 72260248 | J15: =I15-G16 -> 48173498 | K15: =J15-G16 -> 24086749 | L15: =K15-G16 -> 0
B16: Installment/thn | G16: =G15/$B$2 -> 24086749
B17: Interest | G17: =((G15*IRR!$E$4*6)/12) -> 6021687.3 | H17: =AVERAGE(G15:H15)*IRR!$E$4 -> 10839037 | I17: =AVERAGE(H15:I15)*IRR!$E$4 -> 8430362.2 | J17: =AVERAGE(I15:J15)*IRR!$E$4 -> 6021687.3 | K17: =AVERAGE(J15:K15)*IRR!$E$4 -> 3613012.4 | L17: =AVERAGE(K15:L15)*IRR!$E$4 -> 1204337.5 | M17: =AVERAGE(L15:M15)*IRR!$E$4 -> 0
A18: =A15+1 -> 2017 | B18: loan | I18: =H18-H19 -> 0 | J18: =I18-H19 -> 0 | K18: =J18-H19 -> 0 | L18: =K18-H19 -> 0 | M18: =L18-H19 -> 0
B19: Installment/thn | H19: =H18/$B$2 -> 0
B20: Interest | H20: =((H18*IRR!$E$4*6)/12) -> 0 | I20: =AVERAGE(H18:I18)*IRR!$E$4 -> 0 | J20: =AVERAGE(I18:J18)*IRR!$E$4 -> 0 | K20: =AVERAGE(J18:K18)*IRR!$E$4 -> 0 | L20: =AVERAGE(K18:L18)*IRR!$E$4 -> 0 | M20: =AVERAGE(L18:M18)*IRR!$E$4 -> 0 | N20: =AVERAGE(M18:N18)*IRR!$E$4 -> 0
A21: =A18+1 -> 2018 | B21: loan | I21: 15842000 | J21: =I21-I22 -> 12673600 | K21: =J21-I22 -> 9505200 | L21: =K21-I22 -> 6336800 | M21: =L21-I22 -> 3168400 | N21: =M21-I22 -> 0
B22: Installment/thn | I22: =I21/B2 -> 3168400
B23: Interest | I23: =((I21*IRR!$E$4*6)/12) -> 792100 | J23: =AVERAGE(I21:J21)*IRR!$E$4 -> 1425780 | K23: =AVERAGE(J21:K21)*IRR!$E$4 -> 1108940 | L23: =AVERAGE(K21:L21)*IRR!$E$4 -> 792100 | M23: =AVERAGE(L21:M21)*IRR!$E$4 -> 475260 | N23: =AVERAGE(M21:N21)*IRR!$E$4 -> 158420 | O23: =AVERAGE(N21:O21)*IRR!$E$4 -> 0
A24: =A21+1 -> 2019 | B24: loan
B25: Installment/thn
B26: Interest
A27: =A24+1 -> 2020 | B27: loan | K27: 9180632 | L27: =K27-K28 -> 7344505.6 | M27: =L27-K28 -> 5508379.2 | N27: =M27-K28 -> 3672252.8 | O27: =N27-K28 -> 1836126.4 | P27: =O27-K28 -> 0
B28: Installment/thn | K28: =K27/B2 -> 1836126.4
B29: Interest | K29: =((K27*IRR!$E$4*6)/12) -> 459031.6 | L29: =AVERAGE(K27:L27)*IRR!$E$4 -> 826256.88 | M29: =AVERAGE(L27:M27)*IRR!$E$4 -> 642644.24 | N29: =AVERAGE(M27:N27)*IRR!$E$4 -> 459031.6 | O29: =AVERAGE(N27:O27)*IRR!$E$4 -> 275418.96 | P29: =AVERAGE(O27:P27)*IRR!$E$4 -> 91806.32 | Q29: =AVERAGE(P27:Q27)*IRR!$E$4 -> 0
A30: =A27+1 -> 2021 | B30: loan | M30: =L30-L31 -> 0 | N30: =M30-L31 -> 0 | O30: =N30-L31 -> 0 | P30: =O30-L31 -> 0 | Q30: =P30-L31 -> 0
B31: Installment/thn | L31: =L30/B2 -> 0
B32: Interest | L32: =((L30*IRR!$E$4*6)/12) -> 0 | M32: =AVERAGE(L30:M30)*IRR!$E$4 -> 0 | N32: =AVERAGE(M30:N30)*IRR!$E$4 -> 0 | O32: =AVERAGE(N30:O30)*IRR!$E$4 -> 0 | P32: =AVERAGE(O30:P30)*IRR!$E$4 -> 0 | Q32: =AVERAGE(P30:Q30)*IRR!$E$4 -> 0 | R32: =AVERAGE(Q30:R30)*IRR!$E$4 -> 0
A33: =A30+1 -> 2022 | B33: loan
B34: Installment/thn
B35: Interest
A36: =A33+1 -> 2023 | B36: loan | O36: =N36-N37 -> 0 | P36: =O36-N37 -> 0 | Q36: =P36-N37 -> 0 | R36: =Q36-N37 -> 0 | S36: =R36-N37 -> 0
B37: Installment/thn | N37: =N36/$B$2 -> 0
B38: Interest | N38: =((N36*IRR!$E$4*6)/12) -> 0 | O38: =AVERAGE(N36:O36)*IRR!$E$4 -> 0 | P38: =AVERAGE(O36:P36)*IRR!$E$4 -> 0 | Q38: =AVERAGE(P36:Q36)*IRR!$E$4 -> 0 | R38: =AVERAGE(Q36:R36)*IRR!$E$4 -> 0 | S38: =AVERAGE(R36:S36)*IRR!$E$4 -> 0 | T38: =AVERAGE(S36:T36)*IRR!$E$4 -> 0
B39: Interest Exp | C39: =C32+C29+C26+C23+C17+C20+C14+C11+C8+C5+C35+C38 -> 0 | D39: =D32+D29+D26+D23+D17+D20+D14+D11+D8+D5+D35+D38 -> 7910912.9 | E39: =E32+E29+E26+E23+E17+E20+E14+E11+E8+E5+E35+E38 -> 55066547 | F39: =F32+F29+F26+F23+F17+F20+F14+F11+F8+F5+F35+F38 -> 84563704 | G39: =G32+G29+G26+G23+G17+G20+G14+G11+G8+G5+G35+G38 -> 71090265 | H39: =H32+H29+H26+H23+H17+H20+H14+H11+H8+H5+H35+H38 -> 56412488 | I39: =I32+I29+I26+I23+I17+I20+I14+I11+I8+I5+I35+I38 -> 35300787 | J39: =J32+J29+J26+J23+J17+J20+J14+J11+J8+J5+J35+J38 -> 15612848 | ... T39: =T32+T29+T26+T23+T17+T20+T14+T11+T8+T5+T35+T38 -> 0
A42: PERHITUNGAN SG&A
...

Sheet Parameter (2)
A1: PERHITUNGAN INTEREST EXPENSE based CAPEX
A2: Capex tahun | B2: 5 | C2: 2012 | D2: =C2+1 -> 2013 | E2: =D2+1 -> 2014 | F2: =E2+1 -> 2015 | G2: =F2+1 -> 2016 | H2: =G2+1 -> 2017 | I2: =H2+1 -> 2018 | J2: =I2+1 -> 2019 | K2: =J2+1 -> 2020 | ... S2: =R2+1 -> 2028
A3: 2012 | B3: loan | D3: =C3-C4 -> 0 | E3: =D3-C4 -> 0 | F3: =E3-C4 -> 0 | G3: =F3-C4 -> 0 | H3: =G3-C4 -> 0 | I3: =H3-$E$4 -> 0 | J3: =I3-$E$4 -> 0
B4: Installment/thn | C4: =C3/B2 -> 0
B5: Interest | C5: =(($C$3*IRR!E4*6)/12) -> 0 | D5: =AVERAGE(C3:D3)*IRR!$E$4 -> 0 | E5: =AVERAGE(D3:E3)*IRR!$E$4 -> 0 | F5: =AVERAGE(E3:F3)*IRR!$E$4 -> 0 | G5: =AVERAGE(F3:G3)*IRR!$E$4 -> 0 | H5: =AVERAGE(G3:H3)*IRR!$E$4 -> 0 | I5: =AVERAGE($H$3:$I$3)*[2]IRR!$G$4 -> 0 | J5: =AVERAGE($I$3:$J$3)*[2]IRR!$G$4 -> 0
A6: =A3+1 -> 2013 | B6: loan | D6: 0 | E6: =D6-D7 -> 0 | F6: =E6-D7 -> 0 | G6: =F6-D7 -> 0 | H6: =G6-D7 -> 0 | I6: =H6-D7 -> 0
B7: Installment/thn | D7: =D6/B2 -> 0
B8: Interest | D8: =((D6*IRR!$E$4*6)/12) -> 0 | E8: =AVERAGE(D6:E6)*IRR!$E$4 -> 0 | F8: =AVERAGE(E6:F6)*IRR!$E$4 -> 0 | G8: =AVERAGE(F6:G6)*IRR!$E$4 -> 0 | H8: =AVERAGE(G6:H6)*IRR!$E$4 -> 0 | I8: =AVERAGE(H6:I6)*IRR!$E$4 -> 0
A9: =A6+1 -> 2014 | B9: loan | E9: 0 | F9: =E9-E10 -> 0 | G9: =F9-E10 -> 0 | H9: =G9-E10 -> 0 | I9: =H9-E10 -> 0 | J9: =I9-E10 -> 0
B10: Installment/thn | E10: =E9/B2 -> 0
B11: Interest | E11: =((E9*IRR!$E$4*6)/12) -> 0 | F11: =AVERAGE(E9:F9)*IRR!$E$4 -> 0 | G11: =AVERAGE(F9:G9)*IRR!$E$4 -> 0 | H11: =AVERAGE(G9:H9)*IRR!$E$4 -> 0 | I11: =AVERAGE(H9:I9)*IRR!$E$4 -> 0 | J11: =AVERAGE(I9:J9)*IRR!$E$4 -> 0 | K11: =AVERAGE(J9:K9)*IRR!$E$4 -> 0
A12: =A9+1 -> 2015 | B12: loan | G12: =F12-F13 -> 0 | H12: =G12-F13 -> 0 | I12: =H12-F13 -> 0 | J12: =I12-F13 -> 0 | K12: =J12-F13 -> 0
B13: Installment/thn | F13: =F12/B2 -> 0
B14: Interest | F14: =((F12*IRR!$E$4*6)/12) -> 0 | G14: =AVERAGE(F12:G12)*IRR!$E$4 -> 0 | H14: =AVERAGE(G12:H12)*IRR!$E$4 -> 0 | I14: =AVERAGE(H12:I12)*IRR!$E$4 -> 0 | J14: =AVERAGE(I12:J12)*IRR!$E$4 -> 0 | K14: =AVERAGE(J12:K12)*IRR!$E$4 -> 0 | L14: =AVERAGE(K12:L12)*IRR!$E$4 -> 0
A15: =A12+1 -> 2016 | B15: loan | G15: 0 | H15: =G15-G16 -> 0 | I15: =H15-G16 -> 0 | J15: =I15-G16 -> 0 | K15: =J15-G16 -> 0 | L15: =K15-G16 -> 0
B16: Installment/thn | G16: =G15/$B$2 -> 0
B17: Interest | G17: =((G15*IRR!$E$4*6)/12) -> 0 | H17: =AVERAGE(G15:H15)*IRR!$E$4 -> 0 | I17: =AVERAGE(H15:I15)*IRR!$E$4 -> 0 | J17: =AVERAGE(I15:J15)*IRR!$E$4 -> 0 | K17: =AVERAGE(J15:K15)*IRR!$E$4 -> 0 | L17: =AVERAGE(K15:L15)*IRR!$E$4 -> 0 | M17: =AVERAGE(L15:M15)*IRR!$E$4 -> 0
A18: =A15+1 -> 2017 | B18: loan | I18: =H18-H19 -> 0 | J18: =I18-H19 -> 0 | K18: =J18-H19 -> 0 | L18: =K18-H19 -> 0 | M18: =L18-H19 -> 0
B19: Installment/thn | H19: =H18/$B$2 -> 0
B20: Interest | H20: =((H18*IRR!$E$4*6)/12) -> 0 | I20: =AVERAGE(H18:I18)*IRR!$E$4 -> 0 | J20: =AVERAGE(I18:J18)*IRR!$E$4 -> 0 | K20: =AVERAGE(J18:K18)*IRR!$E$4 -> 0 | L20: =AVERAGE(K18:L18)*IRR!$E$4 -> 0 | M20: =AVERAGE(L18:M18)*IRR!$E$4 -> 0 | N20: =AVERAGE(M18:N18)*IRR!$E$4 -> 0
A21: =A18+1 -> 2018 | B21: loan | I21: 0 | J21: =I21-I22 -> 0 | K21: =J21-I22 -> 0 | L21: =K21-I22 -> 0 | M21: =L21-I22 -> 0 | N21: =M21-I22 -> 0
B22: Installment/thn | I22: =I21/B2 -> 0
B23: Interest | I23: =((I21*IRR!$E$4*6)/12) -> 0 | J23: =AVERAGE(I21:J21)*IRR!$E$4 -> 0 | K23: =AVERAGE(J21:K21)*IRR!$E$4 -> 0 | L23: =AVERAGE(K21:L21)*IRR!$E$4 -> 0 | M23: =AVERAGE(L21:M21)*IRR!$E$4 -> 0 | N23: =AVERAGE(M21:N21)*IRR!$E$4 -> 0 | O23: =AVERAGE(N21:O21)*IRR!$E$4 -> 0
A24: =A21+1 -> 2019 | B24: loan
B25: Installment/thn
B26: Interest
A27: =A24+1 -> 2020 | B27: loan | K27: 0 | L27: =K27-K28 -> 0 | M27: =L27-K28 -> 0 | N27: =M27-K28 -> 0 | O27: =N27-K28 -> 0 | P27: 900000000 | Q27: =P27-P28 -> 720000000 | R27: =Q27-P28 -> 540000000 | S27: =R27-P28 -> 360000000 | T27: =S27-P28 -> 180000000 | U27: =T27-P28 -> 0
B28: Installment/thn | K28: =K27/B2 -> 0 | P28: =P27/B2 -> 180000000
B29: Interest | K29: =((K27*IRR!$E$4*6)/12) -> 0 | L29: =AVERAGE(K27:L27)*IRR!$E$4 -> 0 | M29: =AVERAGE(L27:M27)*IRR!$E$4 -> 0 | N29: =AVERAGE(M27:N27)*IRR!$E$4 -> 0 | O29: =AVERAGE(N27:O27)*IRR!$E$4 -> 0 | P29: =((P27*IRR!$E$4*6)/12) -> 45000000 | Q29: =AVERAGE(P27:Q27)*IRR!$E$4 -> 81000000 | R29: =AVERAGE(Q27:R27)*IRR!$E$4 -> 63000000 | S29: =AVERAGE(R27:S27)*IRR!$E$4 -> 45000000 | T29: =AVERAGE(S27:T27)*IRR!$E$4 -> 27000000 | U29: =AVERAGE(T27:U27)*IRR!$E$4 -> 9000000
A30: =A27+1 -> 2021 | B30: loan | M30: =L30-L31 -> 0 | N30: =M30-L31 -> 0 | O30: =N30-L31 -> 0 | P30: =O30-L31 -> 0 | Q30: =P30-L31 -> 0
B31: Installment/thn | L31: =L30/B2 -> 0
B32: Interest | L32: =((L30*IRR!$E$4*6)/12) -> 0 | M32: =AVERAGE(L30:M30)*IRR!$E$4 -> 0 | N32: =AVERAGE(M30:N30)*IRR!$E$4 -> 0 | O32: =AVERAGE(N30:O30)*IRR!$E$4 -> 0 | P32: =AVERAGE(O30:P30)*IRR!$E$4 -> 0 | Q32: =AVERAGE(P30:Q30)*IRR!$E$4 -> 0 | R32: =AVERAGE(Q30:R30)*IRR!$E$4 -> 0
A33: =A30+1 -> 2022 | B33: loan
B34: Installment/thn
B35: Interest
A36: =A33+1 -> 2023 | B36: loan | O36: =N36-N37 -> 0 | P36: =O36-N37 -> 0 | Q36: =P36-N37 -> 0 | R36: =Q36-N37 -> 0 | S36: =R36-N37 -> 0
B37: Installment/thn | N37: =N36/$B$2 -> 0
B38: Interest | N38: =((N36*IRR!$E$4*6)/12) -> 0 | O38: =AVERAGE(N36:O36)*IRR!$E$4 -> 0 | P38: =AVERAGE(O36:P36)*IRR!$E$4 -> 0 | Q38: =AVERAGE(P36:Q36)*IRR!$E$4 -> 0 | R38: =AVERAGE(Q36:R36)*IRR!$E$4 -> 0 | S38: =AVERAGE(R36:S36)*IRR!$E$4 -> 0 | T38: =AVERAGE(S36:T36)*IRR!$E$4 -> 0
B39: Interest Exp | C39: =C32+C29+C26+C23+C17+C20+C14+C11+C8+C5+C35+C38 -> 0 | D39: =D32+D29+D26+D23+D17+D20+D14+D11+D8+D5+D35+D38 -> 0 | E39: =E32+E29+E26+E23+E17+E20+E14+E11+E8+E5+E35+E38 -> 0 | F39: =F32+F29+F26+F23+F17+F20+F14+F11+F8+F5+F35+F38 -> 0 | G39: =G32+G29+G26+G23+G17+G20+G14+G11+G8+G5+G35+G38 -> 0 | H39: =H32+H29+H26+H23+H17+H20+H14+H11+H8+H5+H35+H38 -> 0 | I39: =I32+I29+I26+I23+I17+I20+I14+I11+I8+I5+I35+I38 -> 0 | J39: =J32+J29+J26+J23+J17+J20+J14+J11+J8+J5+J35+J38 -> 0 | ... U39: =U32+U29+U26+U23+U17+U20+U14+U11+U8+U5+U35+U38 -> 9000000
A42: PERHITUNGAN SG&A
...
