Workbook
Name jk: #REF!
Name jk: #REF!
Name jk: #REF!
Name jk: #REF!
Name years_contract: [1]Kerlink!$D$5

Sheet Summary
B2: No. | C2: 0043/IRR/IBC/XII/2024 | N2: =IRR!L1 -> RS EKA HOSPITAL PEKANBARU
C3: Product : | D3: IBS / DAS | J3: Tanggal P&L: | M3: 45645
C4: Status P&L | D4: New
B6: Site Information | E6: Technical Information | J6: Financial Summary
B7: Site Name | D7: RS Eka Hosp. Pekanbaru | E7: IBC | K7: Capex DAS | M7: 1.6197141e+09
B8: Address | D8: Riau | E8: Antena PKS BM | H8: 205 | K8: Capex /antenna | M8: =M7/H9 -> 7901044.3
E9: Antena Asset | H9: 205 | K9: Contract Period (thn) | M9: 5
B10: Area building | D10: Riau | E10: Jumlah Pole Makro | H10: 0 | K10: Interest rate /year | M10: =[2]IRR!F3 -> 0.1
B11: Type of building | D11: RS | E11: OPENET | K11: Total Revenue | M11: =IRR!L18 -> 2244450000
B12: Status | D12: Renewal | E12: Cable FO (Core) | H12: 0 | K12: Total Capex BV 31Des24 | M12: =IRR!G9 -> 55629626
B13: Total floor | E13: Cable FO (meter) | H13: 0 | K13: Total Opex Sewa | M13: =IRR!L21 -> 812500000
B14: No of building tower | E14: Drop Wire (meter) | H14: 0 | K14: Total Opex Other | M14: =IRR!L22+IRR!L23+IRR!L24 -> 500922500
B15: Sitac Tahun
E16: OTHERS | K16: IRR | M16: =IRR!F39 -> 0.49939523
K17: NPV | M17: =IRR!F40 -> 5.0611052e+08
K18: EBITDA margin | M18: =IRR!F41 -> 0.41481321
K19: Payback (year) | M19: =IRR!F42 -> 2.5255761
B21: Target Achieved by Commercial: | L21: Prepared by
B22: Revenue | D22: : | L22: Citra Kartika
D23: :
D24: :
B28: Approved by

Sheet IRR
B1: No, | C1: 0043/IRR/IBC/XII/2024 | L1: RS EKA HOSPITAL PEKANBARU
B2: General | H2: Operator join | I2: Rev.Change
C3: Tax Rate | E3: 0.02 | H3: 2023 Tsel | I3: -0.1
C4: Interest Rate | E4: 0.1 | H4: 2021 IOH
C5: SG&A | E5: 0.05 | F5: from Revenues | H5: 2020 XL | I5: -
C6: BHPUSO | E6: 0 | F6: from Revenues | H6: 2019 SF | I6: -
G8: Y1 | H8: Y2 | I8: Y3 | J8: Y4 | K8: Y5
B9: Total CAPEX | E9: DAS BV 31Des24 | G9: 55629626 | H9: 0 | I9: 0 | J9: 0
E10: BTS
G11: 2025 | H11: =G11+1 -> 2026 | I11: =H11+1 -> 2027 | J11: =I11+1 -> 2028 | K11: =J11+1 -> 2029
B12: IRR Calculation | F12: Year 0 | G12: Year 1 | H12: Year 2 | I12: Year 3 | J12: Year 4 | K12: Year 5 | L12: Total
B13: Months of Service | G13: 12 | H13: 12 | I13: 12 | J13: 12 | K13: 12
B15: Revenues
C16: TSEL | G16: =332100000*90% -> 298890000 | H16: =G16 -> 298890000 | I16: =H16 -> 298890000 | J16: =I16 -> 298890000 | K16: =J16 -> 298890000 | L16: =SUM(G16:K17) -> 2244450000
C17: XL | G17: 150000000 | H17: =G17 -> 150000000 | I17: =H17 -> 150000000 | J17: =I17 -> 150000000 | K17: =J17 -> 150000000 | L17: =SUM(G17:K18) -> 2994450000
B18: Total Revenues (SF) | G18: =SUM(G16:G17) -> 448890000 | H18: =SUM(H16:H17) -> 448890000 | I18: =SUM(I16:I17) -> 448890000 | J18: =SUM(J16:J17) -> 448890000 | K18: =SUM(K16:K17) -> 448890000 | L18: =SUM(G18:K18) -> 2244450000
B20: OPEX
C21: Lease to BM | G21: 812500000 | L21: =SUM(G21:K21) -> 812500000
C22: Electricity | G22: 36000000 | H22: =G22 -> 36000000 | I22: =H22 -> 36000000 | J22: =I22 -> 36000000 | K22: =J22 -> 36000000 | L22: =SUM(G22:K22) -> 180000000
C23: Maintenance | G23: =Parameter!L60 -> 41740000 | H23: =G23 -> 41740000 | I23: =H23 -> 41740000 | J23: =I23 -> 41740000 | K23: =J23 -> 41740000 | L23: =SUM(G23:K23) -> 208700000
C24: SG&A | G24: =G18*$E$5 -> 22444500 | H24: =H18*$E$5 -> 22444500 | I24: =I18*$E$5 -> 22444500 | J24: =J18*$E$5 -> 22444500 | K24: =K18*$E$5 -> 22444500 | L24: =SUM(G24:K24) -> 112222500
B25: Total OPEX | G25: =SUM(G21:G24) -> 912684500 | H25: =SUM(H21:H24) -> 100184500 | I25: =SUM(I21:I24) -> 100184500 | J25: =SUM(J21:J24) -> 100184500 | K25: =SUM(K21:K24) -> 100184500 | L25: =SUM(L21:L24) -> 1313422500
B26: Total EBITDA | G26: =G18-G25 -> -463794500 | H26: =H18-H25 -> 348705500 | I26: =I18-I25 -> 348705500 | J26: =J18-J25 -> 348705500 | K26: =K18-K25 -> 348705500 | L26: =L18-L25 -> 931027500
B27: Ebitda margin | G27: 0 | H27: =H26/H18 -> 0.77681726 | I27: =I26/I18 -> 0.77681726 | J27: =J26/J18 -> 0.77681726 | K27: =K26/K18 -> 0.77681726 | L27: =L26/L18 -> 0.41481321
B28: Depreciation Expense | G28: =G50 -> 11125925 | H28: =H50 -> 11125925 | I28: =I50 -> 11125925 | J28: =J50 -> 11125925 | K28: =K50 -> 11125925 | L28: =SUM(G28:K28) -> 55629626
B29: Total EBIT | G29: =G26-G28 -> -4.7492043e+08 | H29: =H26-H28 -> 3.3757957e+08 | I29: =I26-I28 -> 3.3757957e+08 | J29: =J26-J28 -> 3.3757957e+08 | K29: =K26-K28 -> 3.3757957e+08 | L29: =L26-L28 -> 8.7539787e+08
B30: Interest Expense | G30: =Parameter!M19 -> 1619223.7 | H30: =Parameter!N19 -> 606689.3 | I30: =Parameter!O19 -> 75316.56 | J30: =Parameter!P19 -> 25105.52 | K30: =Parameter!Q19 -> 0 | L30: =SUM(G30:K30) -> 2326335.1
B31: EBT | G31: =G29-G30 -> -4.7653965e+08 | H31: =H29-H30 -> 3.3697289e+08 | I31: =I29-I30 -> 3.3750426e+08 | J31: =J29-J30 -> 3.3755447e+08 | K31: =K29-K30 -> 3.3757957e+08 | L31: =SUM(G31:K31) -> 8.7307154e+08
B32: Tax Expense | G32: =IF(G31<0,0,G31*$E$3) -> 0 | H32: =IF(H31<0,0,H31*$E$3) -> 6739457.7 | I32: =IF(I31<0,0,I31*$E$3) -> 6750085.2 | J32: =IF(J31<0,0,J31*$E$3) -> 6751089.4 | K32: =IF(K31<0,0,K31*$E$3) -> 6751591.5 | L32: =SUM(G32:K32) -> 26992224
B33: Net Income | G33: =G31-G32 -> -4.7653965e+08 | H33: =H31-H32 -> 3.3023343e+08 | I33: =I31-I32 -> 3.3075417e+08 | J33: =J31-J32 -> 3.3080338e+08 | K33: =K31-K32 -> 3.3082798e+08 | L33: =L31-L32 -> 8.4607932e+08
B35: Capex | F35: =-G9+-G10 -> -55629626 | G35: =-H9+-H10 -> 0 | H35: =-I9+-I10 -> 0 | I35: =-J9+-J10 -> 0 | J35: =-K9+-K10 -> 0 | K35: =-L9+-L10 -> 0
B36: FCFF | F36: =F35 -> -55629626 | G36: =G35+G33+G28 -> -4.6541372e+08 | H36: =H35+H33+H28 -> 3.4135935e+08 | I36: =I35+I33+I28 -> 3.418801e+08 | J36: =J35+J33+J28 -> 3.4192931e+08 | K36: =K35+K33+K28 -> 3.4195391e+08 | L36: =SUM(F36:K36) -> 8.4607932e+08
B37: Accumulated FCF | F37: =F36 -> -55629626 | G37: =F37+G36 -> -5.2104335e+08 | H37: =G37+H36 -> -1.79684e+08 | I37: =H37+I36 -> 1.621961e+08 | J37: =I37+J36 -> 5.0412541e+08 | K37: =J37+K36 -> 8.4607932e+08
B38: PBP | G38: =IF(AND(F37<0,G37>0),G43-(G37/G36),0) -> 0 | H38: =IF(AND(G37<0,H37>0),H43-(H37/H36),0) -> 0 | I38: =IF(AND(H37<0,I37>0),I43-(I37/I36),0) -> 2.5255761 | J38: =IF(AND(I37<0,J37>0),J43-(J37/J36),0) -> 0 | K38: =IF(AND(J37<0,K37>0),K43-(K37/K36),0) -> 0
B39: IRR | F39: =IRR(F36:K36) -> 0.49939523
B40: NPV | F40: =NPV(E4,G36:K36)+F36 -> 5.0611052e+08
B41: EBITDA margin | F41: =L27 -> 0.41481321
B42: Payback | F42: =SUM(F38:K38) -> 2.5255761
G43: 1 | H43: 2 | I43: 3 | J43: 4 | K43: 5
B44: Depreciation Calculation | E44: no of Year depreciated | G44: =G12 -> Year 1 | H44: =H12 -> Year 2 | I44: =I12 -> Year 3 | J44: =J12 -> Year 4 | K44: =K12 -> Year 5
...

Sheet SummaryBR
A2: SUMMARY REVIEW
A4: Nama Site | C4: : RS Eka Hospital Pekanbaru
A5: Nama Pemilik | C5: : PT. Ekamas International Hospital
A6: Alamat Pemilik | C6: : Jl. Soekarno Hatta Km. 6.5 Pekanbaru
A7: Object Sewa | C7: : 205 + Pole Antenna + RBS m2
A9: No. | B9: Keterangan | C9: Existing | E9: Renewal
A11: 1 | B11: Scope Of Lease | C11: IBC, antenna 205 +pole dan BTS | E11: IBC, antenna 205 +pole dan BTS
A12: 2 | B12: Periode Sewa | C12: 01 Jan 2020 s/d 31 Des 2024 | E12: 01 Jan 2025 s/d 31 Des 2029
B13: Harga Sewa / masa sewa | C13: 650000000 | E13: 812500000 | G13: =(E13-C13)/C13 -> 0.25
B14: Harga sewa / tahun | C14: =C13/5 -> 130000000 | E14: =E13/5 -> 162500000
A15: 3 | B15: Operator Joint: | C15: Tsel : 30 Mar 20 s/d 29 Mar 25 Rp. 332.100.000 | E15: Tsel : 30 Mar 20 s/d 29 Mar 25
C16: XL : 04 Agst 21 s/d 03 Agst 26 Rp. 150.000.000 | E16: XL : 04 Agst 21 s/d 03 Agst 26
A18: 4 | B18: Periode Sewa | C18: 08 November 2013 s/d d 07 November 2023 | E18: 07 November 2023 s/d d 08 November 2028
A19: 4 | B19: Kenaikan/Penurunan Harga | C19: Mengalami kenaikan 53,84%
B21: Noted:
B22: Termin pembayaran 100% dimuka
F24: =C13*25% -> 162500000
F25: =C13+F24 -> 812500000
F27: =C14*25% -> 32500000

Sheet Analisa
A2: SITE RS Eka Hospital Pekanbaru
A3: Periode | B3: Start | C3: End
A4: Rev Tsel | B4: 43920 | C4: 45745
A5: Rev XL | B5: 44412 | C5: 46237
A6: Sewa BM | B6: 45658 | C6: 47483
B8: Start | C8: End | D8: Days
A9: Worse >> Jika Sewa BM diperpanjang 5 tahun dan Operator sesuai periodenya Exist, maka:
A10: Rev Tsel | B10: 45658 | C10: 45745 | D10: =C10-B10 -> 87 | E10: 332100000 | F10: =E10/365*D10 -> 79158082
A11: Rev XL | B11: 45658 | C11: 46237 | D11: =C11-B11 -> 579 | E11: 150000000 | F11: =E11/365*D11 -> 2.3794521e+08
A12: Sewa BM | B12: 45658 | C12: 47483 | D12: =C12-B12 -> 1825 | E12: 200000000 | F12: =-E12/365*D12 -> -1000000000
A13: Listrik Tsel | B13: 45658 | C13: 45745 | D13: =C13-B13 -> 87 | E13: 36000000 | F13: =-E13/365*D13 -> -8580821.9
A14: OM Tsel | B14: 45658 | C14: 45745 | D14: =C14-B14 -> 87 | E14: 20870000 | F14: =-E14/365*D14 -> -4974493.2
A15: OM XL | B15: 45658 | C15: 46237 | D15: =C15-B15 -> 579 | E15: 20870000 | F15: =-E15/365*D15 -> -33106110
A16: Antisipasi Add Capex and Pole | E16: 100000000
A17: Profit | F17: =SUM(F10:F16) -> -7.2955814e+08
A20: Worse >> Jika Sewa BM diperpanjang 5 tahun dan Operator mengikuti periode BM, maka:
A21: Rev Tsel | B21: 45658 | C21: 45745 | D21: =C21-B21 -> 87 | E21: 332100000 | F21: =E21/365*D21 -> 79158082
B22: 45746 | C22: 47483 | D22: =C22-B22 -> 1737 | E22: =E21*90% -> 298890000 | F22: =E22/365*D22 -> 1.4223888e+09
A23: Rev XL | B23: 45658 | C23: 47483 | D23: =C23-B23 -> 1825 | E23: 150000000 | F23: =E23/365*D23 -> 750000000
A24: Sewa BM | B24: 45658 | C24: 47483 | D24: =C24-B24 -> 1825 | E24: 200000000 | F24: =-E24/365*D24 -> -1000000000
A25: Listrik Tsel | B25: 45658 | C25: 47483 | D25: =C25-B25 -> 1825 | E25: 36000000 | F25: =-E25/365*D25 -> -180000000
A26: OM Tsel | B26: 45658 | C26: 47483 | D26: =C26-B26 -> 1825 | E26: 20870000 | F26: =-E26/365*D26 -> -104350000
A27: OM XL | B27: 45658 | C27: 47483 | D27: =C27-B27 -> 1825 | E27: 20870000 | F27: =-E27/365*D27 -> -104350000
A28: Antisipasi Add Capex and Pole | E28: 100000000
A29: Profit | F29: =SUM(F21:F28) -> 8.6284693e+08

Sheet Parameter
A1: PERHITUNGAN INTEREST EXPENSE based CAPEX
A2: Capex tahun | B2: 5 | C2: 2015 | D2: =C2+1 -> 2016 | E2: =D2+1 -> 2017 | F2: =E2+1 -> 2018 | G2: =F2+1 -> 2019 | H2: =G2+1 -> 2020 | I2: =H2+1 -> 2021 | J2: =I2+1 -> 2022 | K2: =J2+1 -> 2023 | ... P2: =O2+1 -> 2028
A3: 2015 | B3: loan | C3: 1.6197141e+09 | D3: =C3-C4 -> 1.2957713e+09 | E3: =D3-C4 -> 9.7182844e+08 | F3: =E3-C4 -> 6.4788563e+08 | G3: =F3-C4 -> 3.2394281e+08 | H3: =G3-C4 -> 0 | I3: =H3-$E$4 -> 0 | J3: =I3-$E$4 -> 0 | Q3: 2013 | R3: 1.7266708e+09
B4: Installment/thn | C4: =C3/B2 -> 3.2394281e+08 | Q4: 2014 | R4: 422342499
B5: Interest | C5: =(($C$3*IRR!$E$4*6)/12) -> 80985704 | D5: =AVERAGE(C3:D3)*IRR!$E$4 -> 1.4577427e+08 | E5: =AVERAGE(D3:E3)*IRR!$E$4 -> 1.1337999e+08 | F5: =AVERAGE(E3:F3)*IRR!$E$4 -> 80985704 | G5: =AVERAGE(F3:G3)*IRR!$E$4 -> 48591422 | H5: =AVERAGE(G3:H3)*IRR!$E$4 -> 16197141 | I5: =AVERAGE($H$3:$I$3)*[3]IRR!$G$4 -> 0 | J5: =AVERAGE($I$3:$J$3)*[3]IRR!$G$4 -> 0 | Q5: 2016 | R5: 10773000
A6: 2016 | B6: loan | D6: 38092400 | E6: =D6-D7 -> 30473920 | F6: =E6-D7 -> 22855440 | G6: =F6-D7 -> 15236960 | H6: =G6-D7 -> 7618480 | Q6: 2017 | R6: 102210600
B7: Installment/thn | D7: =D6/B2 -> 7618480
B8: Interest | D8: =((D6*IRR!E4*6)/12) -> 1904620 | E8: =AVERAGE(D6:E6)*IRR!$E$4 -> 3428316 | F8: =AVERAGE(E6:F6)*IRR!$E$4 -> 2666468 | G8: =AVERAGE(F6:G6)*IRR!$E$4 -> 1904620 | H8: =AVERAGE(G6:H6)*IRR!$E$4 -> 1142772 | I8: =AVERAGE(H6:I6)*IRR!$E$4 -> 761848
A9: 2018 | B9: loan | F9: 117423416 | G9: =F9-F10 -> 93938733 | H9: =G9-F10 -> 70454050 | I9: =H9-F10 -> 46969366 | J9: =I9-F10 -> 23484683 | K9: =J9-F10 -> 0
B10: Installment/thn | F10: =F9/B2 -> 23484683
B11: Interest | F11: =((F9*[4]IRR!$F$3)*6)/12 -> 5871170.8 | G11: =AVERAGE(F9:G9)*IRR!$E$4 -> 10568107 | H11: =AVERAGE(G9:H9)*IRR!$E$4 -> 8219639.1 | I11: =AVERAGE(H9:I9)*IRR!$E$4 -> 5871170.8 | J11: =AVERAGE(I9:J9)*IRR!$E$4 -> 3522702.5 | K11: =AVERAGE(J9:K9)*IRR!$E$4 -> 1174234.2
A12: 2021 | B12: loan | I12: 48116170 | J12: =I12-I13 -> 38492936 | K12: =J12-I13 -> 28869702 | L12: =K12-I13 -> 19246468 | M12: =L12-I13 -> 9623234 | N12: =M12-I13 -> 0
B13: Installment/thn | I13: =I12/B2 -> 9623234
B14: Interest | I14: =((I12*IRR!E4*6)/12) -> 2405808.5 | J14: =AVERAGE(I12:J12)*IRR!$E$4 -> 4330455.3 | K14: =AVERAGE(J12:K12)*IRR!$E$4 -> 3368131.9 | L14: =AVERAGE(K12:L12)*IRR!$E$4 -> 2405808.5 | M14: =AVERAGE(L12:M12)*IRR!$E$4 -> 1443485.1 | N14: =AVERAGE(M12:N12)*IRR!$E$4 -> 481161.7
A15: 2023 | B15: loan | K15: 2510552 | L15: =K15-K16 -> 2008441.6 | M15: =L15-K16 -> 1506331.2 | N15: =M15-K16 -> 1004220.8 | O15: =N15-K16 -> 502110.4 | P15: =O15-K16 -> 0
B16: Installment/thn | K16: =K15/B2 -> 502110.4
B17: Interest | K17: =((K15*IRR!E4*6)/12) -> 125527.6 | L17: =AVERAGE(K15:L15)*IRR!$E$4 -> 225949.68 | M17: =AVERAGE(L15:M15)*IRR!$E$4 -> 175738.64 | N17: =AVERAGE(M15:N15)*IRR!$E$4 -> 125527.6 | O17: =AVERAGE(N15:O15)*IRR!$E$4 -> 75316.56 | P17: =AVERAGE(O15:P15)*IRR!$E$4 -> 25105.52
B19: Interest Exp | C19: =C17+C14+C11+C8+C5 -> 80985704 | D19: =D17+D14+D11+D8+D5 -> 1.4767889e+08 | E19: =E17+E14+E11+E8+E5 -> 1.168083e+08 | F19: =F17+F14+F11+F8+F5 -> 89523342 | G19: =G17+G14+G11+G8+G5 -> 61064150 | H19: =H17+H14+H11+H8+H5 -> 25559552 | I19: =I17+I14+I11+I8+I5 -> 9038827.3 | J19: =J17+J14+J11+J8+J5 -> 7853157.8 | ... P19: =P17+P14+P11+P8+P5 -> 25105.52
A22: PERHITUNGAN SG&A
A23: Untuk IBC | B23: Start tahun pertama | C23: 50000000
A24: Untuk Opennet | B24: Start tahun pertama | C24: 20000000
A25: Untuk IBC Ext | B25: tiap tahun = Rev x 5%
A26: Untuk Opennet Ext | B26: tiap tahun = Rev x 5%
A28: SG&A | B28: =C23 -> 50000000 | C28: =B28+C29 -> 51000000 | D28: =C28+D30 -> 52020000 | E28: =D28+E30 -> 53060400 | F28: =E28+F30 -> 54121608 | G28: =F28+G30 -> 55204040 | H28: =G28+H30 -> 56308121 | I28: =H28+I30 -> 57434283 | J28: =I28+J30 -> 58582969 | K28: =J28+K30 -> 59754628
A29: 0.02 | C29: =C30 -> 1000000 | D29: =C29+D30 -> 2020000 | E29: =D29+E30 -> 3060400 | F29: =E29+F30 -> 4121608 | G29: =F29+G30 -> 5204040.2 | H29: =G29+H30 -> 6308121 | I29: =H29+I30 -> 7434283.4 | J29: =I29+J30 -> 8582969.1 | K29: =J29+K30 -> 9754628.4
C30: =B28*$A$29 -> 1000000 | D30: =C28*$A$29 -> 1020000 | E30: =D28*$A$29 -> 1040400 | F30: =E28*$A$29 -> 1061208 | G30: =F28*$A$29 -> 1082432.2 | H30: =G28*$A$29 -> 1104080.8 | I30: =H28*$A$29 -> 1126162.4 | J30: =I28*$A$29 -> 1148685.7 | K30: =J28*$A$29 -> 1171659.4
A33: PERHITUNGAN MAINTENANCE (PM,CM,WT)
A34: PM by Vendor
A35: CM by Vendor/Inhouse
A36: WT by Inhouse
A37: WT New by Vendor/Operator
A38: MAINTENANCE = (PM + CM + WT New + WT by Inhouse )
A40: PM | B40: PM/Year/Site | D40: CM | E40: CM /Year/Oprt | G40: WT New by Vendor/Operator | J40: Pesawat | K40: Tiket PP
A41: Sulut | B41: 16800000 | D41: All | E41: 7000000 | G41: Jawa/Bali | H41: 10000000 | J41: Sulut | K41: 4000000
A42: Makasar | G42: Pekanbaru | H42: 12000000 | J42: Makasar | K42: 3000000
A43: Bali | B43: 15600000 | G43: Sumut | H43: 14000000 | J43: Bali | K43: 2500000
A44: Jatim | B44: 15000000 | G44: Sulsel | H44: 14000000 | J44: Jatim | K44: 2000000
A45: Jateng | B45: 15000000 | G45: Sulut | H45: 17000000 | J45: Jateng | K45: 1850000
A46: Jabar | B46: 12000000 | G46: Kalimantan | H46: 14000000 | J46: Jabar | K46: 1200000
A47: Kalimantan | B47: 16800000 | J47: Kalimantan | K47: 2000000
...
