Workbook
Name _AAL2: '[2]AAL2 Site List - All'!$A$2:$B$134
Name _ISP2: [3]install!$I$6
Name _ISP3: [3]install!$I$7
Name _OSP1: [3]install!$I$8
Name _OSP2: [3]install!$I$9
Name _Regression_Int: 1
Name _sek1: 1.108
Name _sek2: 1.1
Name _sek3: 1.1
Name _sm10: [4]Input!$BA$90
Name _sm11: [4]Input!$BF$90
Name _sm12: [4]Input!$BK$90
Name _sm13: [4]Input!$BP$90
Name _sm14: [4]Input!$BU$90
Name _sm15: [4]Input!$BZ$90
Name _sm16: [4]Input!$CE$90
Name _sm17: [4]Input!$CJ$90
Name _sm18: [4]Input!$CO$90
Name _sm19: [4]Input!$CT$90
Name _sm2: [4]Input!$M$90
Name _sm20: [4]Input!$CY$90
Name _sm3: [4]Input!$R$90
Name _sm4: [4]Input!$W$90
Name _sm5: [4]Input!$AB$90
Name _sm6: [4]Input!$AG$90
Name _sm7: [4]Input!$AL$90
Name _sm8: [4]Input!$AQ$90
Name _sm9: [4]Input!$AV$90
Name _SUB1: [3]para!$G$65
Name _SUB10: [3]para!$G$74
Name _SUB12: [3]para!$G$76
Name _SUB13: [3]para!$G$77
Name _SUB15: [3]para!$G$79
Name _SUB2: [3]para!$G$66
Name _SUB3: [3]para!$G$67
Name _SUB4: [3]para!$G$68
Name _SUB5: [3]para!$G$69
Name _SUB6: [3]para!$G$70
Name _SUB8: [3]para!$G$72
Name _SUB9: [3]para!$G$73
Name _Syn1: [4]Input!$H$91
Name _Syn10: [4]Input!$BA$91
Name _Syn11: [4]Input!$BF$91
Name _Syn12: [4]Input!$BK$91
Name _Syn13: [4]Input!$BP$91
Name _Syn14: [4]Input!$BU$91
Name _Syn15: [4]Input!$BZ$91
Name _Syn16: [4]Input!$CE$91
Name _Syn17: [4]Input!$CJ$91
Name _Syn18: [4]Input!$CO$91
Name _Syn19: [4]Input!$CT$91
Name _Syn2: [4]Input!$M$91
Name _Syn20: [4]Input!$CY$91
Name _Syn3: [4]Input!$R$91
Name _Syn4: [4]Input!$W$91
Name _Syn5: [4]Input!$AB$91
Name _Syn6: [4]Input!$AG$91
Name _Syn7: [4]Input!$AL$91
Name _Syn8: [4]Input!$AQ$91
Name _Syn9: [4]Input!$AV$91

Sheet Summary
C1: No. | D1: 0044/IRR/IBC/XII/2024 | M1: HOTEL ALILA SEMINNYAK
C2: Product : | D2: IBS / DAS
C3: Status P&L | D3: Eksisting | J3: Tanggal P&L: | M3: 45653
B5: Site Information | E5: Technical Information | J5: Financial Summary
B6: Site Name | D6: Hotel Alila Seminyak | E6: IBC | K6: Capex /antenna | M6: =M11/H8 -> 5687218.4
B7: Address | D7: Jl. Taman Ganesha Jl. Petitenget No.9, Seminyak, Kec. Kuta Utara, Kabupaten Badung | E7: Antena PKS BM | H7: 175 | K7: Contract Period (thn) | M7: 5
D8: Jl. Petitenget No.9, Seminyak, | E8: Antena Asset | H8: 202 | K8: Interest rate /year | M8: ='[75]IRR Approved'!$F$4 -> 0.1
D9: Kuta Utara Badung | E9: Jumlah Pole Makro | H9: 12 unit pole antena + RBS 60 m2 | K9: Kurs 1USD | M9: 0
B10: Area building | D10: Bali | K10: Total Revenue | M10: =IRR!R20 -> 1793400000
B11: Type of building | D11: Hotel | K11: Total Capex DAS | M11: 1148818108
B12: Status | D12: Renewal | E12: OPENET | K12: Total Capex DAS BV 31DES24 | M12: =IRR!G12 -> 1.4081324e+08
B13: Total floor | D13: 4 | E13: Cable FO (Core) | H13: 0 | K13: Total COGS Rent | M13: =IRR!R22 -> 250000000
B14: No of building tower | D14: 1 | E14: Cable FO (meter) | H14: 0 | K14: Total COGS Other | M14: =IRR!R23+IRR!R24+IRR!R25 -> 612770000
K15: IRR | M15: =IRR!F41 -> 0.82262399
E16: Drop Wire (meter) | H16: 0 | K16: NPV | M16: =IRR!F42 -> 5.190694e+08
E17: OTHERS | K17: EBITDA margin | M17: =IRR!F43 -> 0.51891937
K18: Payback (year) | M18: =IRR!F44 -> 1.5843606
B20: Target to Achieve by Commercial: | L20: Prepared by
B21: Revenue | D21: : Operator XL Tetap perpanjang tanpa penurunan nilai | L21: Citra K.
B26: Approved by

Sheet IRR
B1: No | C1: 0044/IRR/IBC/XII/2024 | R1: =[75]Summary!$D$6 -> Hotel Alila Seminyak
B2: General Asumption | L2: % inc (dec)
C3: Tax Rate | F3: 0.02 | J3: Rev/month - TSEL | K3: 2026 | L3: -0.1
C4: Interest Rate | F4: 0.1 | J4: Rev/month - XL | L4: 0
C5: SG&A | F5: 0.05 | G5: Increase every year | J5: Rev/month - IOH
C6: BHPUSO | F6: 0 | G6: from Revenues | J6: Rev/month - SF
C7: Capex per antenna | F7: =Summary!M6 -> 5687218.4
C8: Migrasi per operator | F8: 150000000
G10: Y0 | H10: Y1 | I10: Y2 | J10: Y3 | K10: Y4 | L10: Y5 | M10: Y6 | N10: Y7 | O10: Y8 | P10: Y9 | Q10: Y10 | R10: Total
B11: CAPEX
B12: Total CAPEX | E12: DAS (BV 31Des2024) | G12: 1.4081324e+08 | H12: 0 | I12: 0 | J12: 0 | R12: =SUM(G12:Q12) -> 1.4081324e+08
E13: BTS migrasi | I13: =$F$8*0 -> 0 | J13: =$F$8*0 -> 0 | K13: =$F$8*0 -> 0 | R13: =SUM(G13:Q13) -> 0
B14: IRR Calculation | G14: Year 0 | H14: 2025 | I14: =H14+1 -> 2026 | J14: =I14+1 -> 2027 | K14: =J14+1 -> 2028 | L14: =K14+1 -> 2029 | M14: =L14+1 -> 2030 | N14: =M14+1 -> 2031 | O14: =N14+1 -> 2032 | P14: =O14+1 -> 2033 | Q14: =P14+1 -> 2034 | R14: Total
B15: Months of Service | G15: 12 | H15: 12 | I15: 12 | J15: 12 | K15: 12 | L15: 12 | M15: 12 | N15: 12 | O15: 12 | P15: 12 | Q15: 12
B16: % increase (decrease) | M16: 0.1
B17: Revenues
C18: Telkomsel | H18: 222000000 | I18: =H18 -> 222000000 | J18: =H18*90% -> 199800000 | K18: =J18 -> 199800000 | L18: =K18 -> 199800000 | M18: =$K$3*0 -> 0 | N18: =$K$3*(1-$L$3)*0 -> 0 | O18: =$K$3*(1-$L$3)*0 -> 0 | P18: =$K$3*(1-$L$3)*0 -> 0 | Q18: =$K$3*(1-$L$3)*0 -> 0 | R18: =SUM($G18:Q18) -> 1043400000
C19: XL | H19: 150000000 | I19: =H19 -> 150000000 | J19: =I19 -> 150000000 | K19: =J19 -> 150000000 | L19: =K19 -> 150000000 | M19: =$K$4*0 -> 0 | N19: =$K$4*0 -> 0 | O19: =$K$4*0 -> 0 | P19: =$K$4*(1-$L$4)*0 -> 0 | Q19: =$K$4*(1-$L$4)*0 -> 0 | R19: =SUM($G19:Q19) -> 750000000
B20: Total Revenues | G20: =SUM(G18:G19) -> 0 | H20: =SUM(H18:H19) -> 372000000 | I20: =SUM(I18:I19) -> 372000000 | J20: =SUM(J18:J19) -> 349800000 | K20: =SUM(K18:K19) -> 349800000 | L20: =SUM(L18:L19) -> 349800000 | M20: =SUM(M18:M19) -> 0 | N20: =SUM(N18:N19) -> 0 | ... R20: =SUM(R18:R19) -> 1793400000 | S20: =SUM(G20:Q20)-R20 -> 0
B21: OPEX
C22: Lease to BM | H22: =50000000*5 -> 250000000 | M22: =800000000*10%*0 -> 0 | N22: =800000000*30%*0 -> 0 | O22: =800000000*20%*0 -> 0 | P22: =O22 -> 0 | Q22: =P22 -> 0 | R22: =SUM($G22:Q22) -> 250000000
C23: Electricity | H23: 65000000 | I23: =H23 -> 65000000 | J23: =I23 -> 65000000 | K23: =J23 -> 65000000 | L23: =K23 -> 65000000 | M23: =200000000*0.5*0 -> 0 | N23: =200000000*0.5*0 -> 0 | O23: =200000000*0.5*0 -> 0 | P23: =200000000*0.5*0 -> 0 | Q23: =200000000*0.5*0 -> 0 | R23: =SUM($G23:Q23) -> 325000000
C24: Maintenance | H24: =PARAMETER!K40+PARAMETER!B47+PARAMETER!B57*2 -> 39620000 | I24: =H24 -> 39620000 | J24: =I24 -> 39620000 | K24: =J24 -> 39620000 | L24: =K24 -> 39620000 | R24: =SUM($G24:Q24) -> 198100000
C25: SG&A (inhouse resources) | F25: =H25/K20 -> 0.053173242 | G25: =$F$5*G20 -> 0 | H25: =H20*$F$5 -> 18600000 | I25: =I20*$F$5 -> 18600000 | J25: =J20*$F$5 -> 17490000 | K25: =K20*$F$5 -> 17490000 | L25: =L20*$F$5 -> 17490000 | M25: =[75]PARAMETER!G10*0 -> 0 | N25: =[75]PARAMETER!H10*0 -> 0 | O25: =[75]PARAMETER!I10*0 -> 0 | P25: =[75]PARAMETER!J10*0 -> 0 | Q25: =[75]PARAMETER!K10*0 -> 0 | R25: =SUM($G25:Q25) -> 89670000
B26: Total OPEX | G26: =SUM(G22:G25) -> 0 | H26: =SUM(H22:H25) -> 373220000 | I26: =SUM(I22:I25) -> 123220000 | J26: =SUM(J22:J25) -> 122110000 | K26: =SUM(K22:K25) -> 122110000 | L26: =SUM(L22:L25) -> 122110000 | M26: =SUM(M22:M25) -> 0 | N26: =SUM(N22:N25) -> 0 | ... R26: =SUM(R22:R25) -> 862770000 | S26: =SUM(G26:Q26)-R26 -> 0
B27: Total EBITDA | G27: =G20-G26 -> 0 | H27: =H20-H26 -> -1220000 | I27: =I20-I26 -> 248780000 | J27: =J20-J26 -> 227690000 | K27: =K20-K26 -> 227690000 | L27: =L20-L26 -> 227690000 | M27: =M20-M26 -> 0 | N27: =N20-N26 -> 0 | ... R27: =R20-R26 -> 930630000 | S27: =SUM(G27:Q27)-R27 -> 0
B28: Ebitda margin | H28: =H27/H20 -> -0.0032795699 | I28: =I27/I20 -> 0.66876344 | J28: =J27/J20 -> 0.65091481 | K28: =K27/K20 -> 0.65091481 | L28: =L27/L20 -> 0.65091481 | M28: =M27/M20 -> #DIV/0! | N28: =N27/N20 -> #DIV/0! | O28: =O27/O20 -> #DIV/0! | ... R28: =R27/R20 -> 0.51891937
B29: Depreciation Expense | H29: =H57 -> 28162647 | I29: =I57 -> 28162647 | J29: =J57 -> 28162647 | K29: =K57 -> 28162647 | L29: =L57 -> 28162647 | M29: =M57*0 -> 0 | N29: =N57*0 -> 0 | O29: =O57*0 -> 0 | P29: =P57*0 -> 0 | Q29: =Q57*0 -> 0 | R29: =SUM($G29:Q29) -> 1.4081324e+08
B30: Total EBIT | G30: =G27-G29 -> 0 | H30: =H27-H29 -> -29382647 | I30: =I27-I29 -> 2.2061735e+08 | J30: =J27-J29 -> 1.9952735e+08 | K30: =K27-K29 -> 1.9952735e+08 | L30: =L27-L29 -> 1.9952735e+08 | M30: =M27-M29 -> 0 | N30: =N27-N29 -> 0 | ... R30: =R27-R29 -> 7.8981676e+08 | S30: =SUM(G30:Q30)-R30 -> 0
B31: Interest Expense | H31: =PARAMETER!L24 -> 711674.2 | I31: =PARAMETER!M24 -> 94140 | M31: =[75]PARAMETER!G$5*0 -> 0 | R31: =SUM($G31:Q31) -> 805814.2
B32: EBT | G32: =G30-G31 -> 0 | H32: =H30-H31 -> -30094321 | I32: =I30-I31 -> 2.2052321e+08 | J32: =J30-J31 -> 1.9952735e+08 | K32: =K30-K31 -> 1.9952735e+08 | L32: =L30-L31 -> 1.9952735e+08 | M32: =M30-M31 -> 0 | N32: =N30-N31 -> 0 | ... Q32: =Q30-Q31 -> 0 | R32: =SUM($G32:Q32) -> 7.8901095e+08 | S32: =SUM(G32:Q32)-R32 -> 0
B33: Tax Expense | G33: =IF(G32<0,0,G32*$F$3) -> 0 | H33: =IF(H32<0,0,H32*$F$3) -> 0 | I33: =IF(I32<0,0,I32*$F$3) -> 4410464.3 | J33: =IF(J32<0,0,J32*$F$3) -> 3990547.1 | K33: =IF(K32<0,0,K32*$F$3) -> 3990547.1 | L33: =IF(L32<0,0,L32*$F$3) -> 3990547.1 | M33: =IF(M32<0,0,M32*$F$3) -> 0 | N33: =IF(N32<0,0,N32*$F$3) -> 0 | ... Q33: =IF(Q32<0,0,Q32*$F$3) -> 0 | R33: =SUM($G33:Q33) -> 16382105
B34: Net Income | G34: =G32-G33 -> 0 | H34: =H32-H33 -> -30094321 | I34: =I32-I33 -> 2.1611275e+08 | J34: =J32-J33 -> 1.9553681e+08 | K34: =K32-K33 -> 1.9553681e+08 | L34: =L32-L33 -> 1.9553681e+08 | M34: =M32-M33 -> 0 | N34: =N32-N33 -> 0 | ... R34: =R32-R33 -> 7.7262884e+08 | S34: =SUM(G34:Q34)-R34 -> 0
B36: Capex | G36: =-G12+-G13 -> -1.4081324e+08 | H36: =-H13 -> 0 | I36: =-I13 -> 0 | J36: =-J13 -> 0 | K36: =-K13 -> 0 | L36: =-L13 -> 0 | M36: =-M13 -> 0 | N36: =-N13 -> 0 | O36: =-O13 -> 0 | ... Q36: =-Q13 -> 0 | R36: =SUM($G$36:Q36) -> -1.4081324e+08
B37: FCFF | G37: =G36+G34+G29 -> -1.4081324e+08 | H37: =H36+H34+H29 -> -1931674.2 | I37: =I36+I34+I29 -> 2.442754e+08 | J37: =J36+J34+J29 -> 2.2369945e+08 | K37: =K36+K34+K29 -> 2.2369945e+08 | L37: =L36+L34+L29 -> 2.2369945e+08 | M37: =M36+M34+M29 -> 0 | N37: =N36+N34+N29 -> 0 | ... Q37: =Q36+Q34+Q29 -> 0 | R37: =SUM($G$37:Q37) -> 7.7262884e+08
B38: Accumulated FCF | G38: =F38+G37 -> -1.4081324e+08 | H38: =G38+H37 -> -1.4274491e+08 | I38: =H38+I37 -> 1.0153049e+08 | J38: =I38+J37 -> 3.2522994e+08 | K38: =J38+K37 -> 5.4892939e+08 | L38: =K38+L37 -> 7.7262884e+08 | M38: =(L38+M37)*0 -> 0 | N38: =M38+N37 -> 0 | O38: =N38+O37 -> 0 | P38: =O38+P37 -> 0 | Q38: =P38+Q37 -> 0
B39: PBP | G39: =IF(AND(F38<0,G38>0),H45-(G38/G37),0) -> 0 | H39: =IF(AND(G38<0,H38>0),H45-(H38/H37),0) -> 0 | I39: =IF(AND(H38<0,I38>0),I45-(I38/I37),0) -> 1.5843606 | J39: =IF(AND(I38<0,J38>0),J45-(J38/J37),0) -> 0 | K39: =IF(AND(J38<0,K38>0),K45-(K38/K37),0) -> 0 | L39: =IF(AND(K38<0,L38>0),L45-(L38/L37),0) -> 0 | M39: =IF(AND(L38<0,M38>0),N45-(M38/M37),0) -> 0 | N39: =IF(AND(M38<0,N38>0),O45-(N38/N37),0) -> 0 | O39: =IF(AND(N38<0,O38>0),P45-(O38/O37),0) -> 0 | Q39: =IF(AND(O38<0,Q38>0),R45-(Q38/Q37),0) -> 0
B41: IRR | F41: =IRR(G37:Q37) -> 0.82262399
B42: NPV | F42: =NPV(F4,H37:Q37)+G37 -> 5.190694e+08
B43: EBITDA margin | F43: =R28 -> 0.51891937
...

Sheet PARAMETER
B1: 2015 | C1: =B1+1 -> 2016 | D1: =C1+1 -> 2017 | E1: =D1+1 -> 2018 | F1: =E1+1 -> 2019 | G1: =F1+1 -> 2020 | H1: =G1+1 -> 2021 | I1: =H1+1 -> 2022 | J1: =I1+1 -> 2023 | ... V1: =U1+1 -> 2035
A2: loan | B2: 28366000 | C2: =$B$2-$B$4 -> 22692800 | D2: =$C$2-$B$4 -> 17019600 | E2: =$D$2-$B$4 -> 11346400 | F2: =$E$2-$B$4 -> 5673200 | G2: =$F$2-$B$4 -> 0
A3: Period (thn) | B3: 5
A4: Installment/thn | B4: =$B$2/$B$3 -> 5673200
A5: Interest | B5: =(($B$2*IRR!$F$4*6)/12) -> 1418300 | C5: =AVERAGE($B$2:$C$2)*IRR!$F$4 -> 2552940 | D5: =AVERAGE($B$2:$C$2)*IRR!$F$4 -> 2552940 | E5: =AVERAGE($B$2:$C$2)*IRR!$F$4 -> 2552940 | F5: =AVERAGE($B$2:$C$2)*IRR!$F$4 -> 2552940 | G5: =AVERAGE($B$2:$C$2)*IRR!$F$4 -> 2552940 | H5: =AVERAGE($G$2:$H$2)*'[75]IRR Approved'!$F$4 -> 0
A6: loan | D6: 1148818108 | E6: =D6-$D$8 -> 9.1905449e+08 | F6: =E6-$D$8 -> 6.8929086e+08 | G6: =F6-$D$8 -> 4.5952724e+08 | H6: =G6-$D$8 -> 2.2976362e+08 | I6: =H6-$D$8 -> 0
A7: Period (thn) | D7: 5
A8: Installment/thn | D8: =D6/D7 -> 2.2976362e+08
A9: Interest | D9: =((D6*IRR!$F$4*6)/12) -> 57440905 | E9: =AVERAGE(D6:E6)*IRR!$F$4 -> 1.0339363e+08 | F9: =AVERAGE(E6:F6)*IRR!$F$4 -> 80417268 | G9: =AVERAGE(F6:G6)*IRR!$F$4 -> 57440905 | H9: =AVERAGE(G6:H6)*IRR!$F$4 -> 34464543 | I9: =AVERAGE(H6:I6)*IRR!$F$4 -> 11488181 | J9: =AVERAGE($G$2:$H$2)*'[75]IRR Approved'!$F$4 -> 0
A10: loan | F10: 1148818108 | G10: =F10-$F$12 -> 9.1905449e+08 | H10: =G10-$F$12 -> 6.8929086e+08 | I10: =H10-$F$12 -> 4.5952724e+08 | J10: =I10-$F$12 -> 2.2976362e+08 | K10: =J10-$F$12 -> 0
A11: Period (thn) | F11: 5
A12: Installment/thn | F12: =F10/F11 -> 2.2976362e+08
A13: Interest | F13: =((F10*IRR!$F$4*6)/12) -> 57440905 | G13: =AVERAGE(F10:G10)*IRR!$F$4 -> 1.0339363e+08 | H13: =AVERAGE(G10:H10)*IRR!$F$4 -> 80417268 | I13: =AVERAGE(H10:I10)*IRR!$F$4 -> 57440905 | J13: =AVERAGE(I10:J10)*IRR!$F$4 -> 34464543 | K13: =AVERAGE(J10:K10)*IRR!$F$4 -> 11488181 | L13: =AVERAGE($G$2:$H$2)*'[75]IRR Approved'!$F$4 -> 0
A14: loan | G14: 42925420 | H14: =G14-G16 -> 34340336 | I14: =H14-$G$16 -> 25755252 | J14: =I14-$G$16 -> 17170168 | K14: =J14-$G$16 -> 8585084 | L14: =K14-$G$16 -> 0
A15: Period (thn) | G15: 5
A16: Installment/thn | G16: =G14/G15 -> 8585084
A17: Interest | G17: =((G14*IRR!$F$4*6)/12) -> 2146271 | H17: =AVERAGE(G14:H14)*IRR!$F$4 -> 3863287.8 | I17: =AVERAGE(H14:I14)*IRR!$F$4 -> 3004779.4 | J17: =AVERAGE(I14:J14)*IRR!$F$4 -> 2146271 | K17: =AVERAGE(J14:K14)*IRR!$F$4 -> 1287762.6 | L17: =AVERAGE(K14:L14)*IRR!$F$4 -> 429254.2 | M17: =AVERAGE($G$2:$H$2)*'[75]IRR Approved'!$F$4 -> 0
A18: loan | H18: 9414000 | I18: =H18-H20 -> 7531200 | J18: =I18-$H$20 -> 5648400 | K18: =J18-$H$20 -> 3765600 | L18: =K18-$H$20 -> 1882800 | M18: =L18-$H$20 -> 0
A19: Period (thn) | H19: 5
A20: Installment/thn | H20: =H18/H19 -> 1882800
A21: Interest | H21: =((H18*IRR!$F$4*6)/12) -> 470700 | I21: =AVERAGE(H18:I18)*IRR!$F$4 -> 847260 | J21: =AVERAGE(I18:J18)*IRR!$F$4 -> 658980 | K21: =AVERAGE(J18:K18)*IRR!$F$4 -> 470700 | L21: =AVERAGE(K18:L18)*IRR!$F$4 -> 282420 | M21: =AVERAGE(L18:M18)*IRR!$F$4 -> 94140 | N21: =AVERAGE($G$2:$H$2)*'[75]IRR Approved'!$F$4 -> 0
B24: =B21+B17+B13+B9+B5 -> 1418300 | C24: =C21+C17+C13+C9+C5 -> 2552940 | D24: =D21+D17+D13+D9+D5 -> 59993845 | E24: =E21+E17+E13+E9+E5 -> 1.0594657e+08 | F24: =F21+F17+F13+F9+F5 -> 1.4041111e+08 | G24: =G21+G17+G13+G9+G5 -> 1.6553375e+08 | H24: =H21+H17+H13+H9+H5 -> 1.192158e+08 | I24: =I21+I17+I13+I9+I5 -> 72781126 | ... M24: =M21+M17+M13+M9+M5 -> 94140
A26: SG&A | B26: 50000000 | C26: =B26+C27 -> 51000000 | D26: =C26+D28 -> 52020000 | E26: =D26+E28 -> 53060400 | F26: =E26+F28 -> 54121608 | G26: =F26+G28 -> 55204040 | H26: =G26+H28 -> 56308121 | I26: =H26+I28 -> 57434283 | J26: =I26+J28 -> 58582969 | K26: =J26+K28 -> 59754628
A27: 0.02 | C27: =C28 -> 1000000 | D27: =C27+D28 -> 2020000 | E27: =D27+E28 -> 3060400 | F27: =E27+F28 -> 4121608 | G27: =F27+G28 -> 5204040.2 | H27: =G27+H28 -> 6308121 | I27: =H27+I28 -> 7434283.4 | J27: =I27+J28 -> 8582969.1 | K27: =J27+K28 -> 9754628.4
C28: =B26*$A$27 -> 1000000 | D28: =C26*$A$27 -> 1020000 | E28: =D26*$A$27 -> 1040400 | F28: =E26*$A$27 -> 1061208 | G28: =F26*$A$27 -> 1082432.2 | H28: =G26*$A$27 -> 1104080.8 | I28: =H26*$A$27 -> 1126162.4 | J28: =I26*$A$27 -> 1148685.7 | K28: =J26*$A$27 -> 1171659.4
F33: person | G33: trip | H33: kamar | I33: Days by Omni | J33: Biaya walktest inhouse/visit | K33: Biaya walktest inhouse/thn
E34: Diisikan | F34: 1 | G34: 1 | H34: 1 | I34: 175
B35: Transport | C35: Pesawat | D35: 2500000 | E35: person | F35: =F34 -> 1 | J35: =F35*D35 -> 2500000
C36: Bandara | D36: 600000 | E36: person | F36: =F34 -> 1 | I36: =IF($I$34<=120,2,IF($I$34>220,4,3)) -> 3 | J36: =D36*F36 -> 600000
C37: Transport | D37: 200000 | E37: Trip | G37: =G34 -> 1 | J37: =G37*D37 -> 200000
B38: Hotel | C38: Hotel | D38: 450000 | E38: kamar | F38: =F34 -> 1 | H38: =H34 -> 1 | I38: =IF($I$34<=120,2,IF($I$34>220,4,3)) -> 3 | J38: =H38*D38*I38 -> 1350000
B39: Uang Saku | C39: Uang Saku | D39: 120000 | E39: person | F39: =F34 -> 1 | I39: =IF($I$34<=120,2,IF($I$34>220,4,3)) -> 3 | J39: =I39*D39*F39 -> 360000
J40: =SUM(J35:J39) -> 5010000 | K40: =J40*2 -> 10020000 | L40: =K40+7000000*2+B47 -> 39620000
B44: PM/Year/Site | C44: Pesawat | E44: Asumsi:
A45: Sulut | B45: 16800000 | C45: 4000000 | E45: Walktest 4x dalam setahun semua operator sekaligus
A46: Makasar | C46: 3000000 | E46: Walktest pertama oleh vendor | I46: 10000000
A47: Bali | B47: 15600000 | C47: 2500000 | E47: Walktest pertama oleh vendor | H47: Pekanbaru | I47: 12000000
A48: Jatim | B48: 15000000 | C48: 2000000 | E48: Walktest pertama oleh vendor | H48: Sumut | I48: 14000000
A49: Jateng | B49: 15000000 | C49: 1850000 | E49: Walktest pertama oleh vendor | H49: Sulsel | I49: 14000000
A50: Jabar | B50: 12000000 | C50: 1200000 | E50: Walktest pertama oleh vendor | H50: Sulut | I50: 17000000
...

Sheet Summary BR
E1: SUMMARY REVIEW
A3: Nama Site | E3: : Hotel Alila Seminyak
A4: Nama Pemilik | E4: : PT. Anaamaya Resort Seminyak
A5: Alamat Pemilik | E5: : Gd. BEI Tower 1 lt.2 Suite 22
A6: Telp | E6: : 021-5151535
A7: Obyek Sewa | E7: : 175 Omni + 12 Unit Pole Antenna + RBS 60 m²
A9: No. | B9: Keterangan | C9: Existing | D9: Existing | E9: Eksisting | F9: Renewal
A11: 1 | B11: Scope Of Lease | C11: IBC | D11: IBC | E11: IBC | F11: IBC
A12: 2 | B12: Obyek Sewa | C12: =E7 -> : 175 Omni + 12 Unit Pole Antenna + RBS 60 m² | D12: =E7 -> : 175 Omni + 12 Unit Pole Antenna + RBS 60 m² | E12: : 175 Omni + 12 Unit Pole Antenna + RBS 60 m² | F12: : 175 Omni + 12 Unit Pole Antenna + RBS 60 m²
A13: 3 | B13: Periode Sewa | C13: 08 Januari 2021 s/d 07 Januari 2023 (2 tahun) | D13: 08 Januari 2023 s/d 07 Januari 2024 (1 tahun) | E13: 08 Januari 2024 s/d 07 Januari 2025 (1tahun) | F13: 08 Januari 2025 s/d 07 Januari 2030 (1tahun)
A14: 4 | B14: Harga Sewa | C14: Rp. 120.000.000/ 2 Tahun atau Rp.60.000.000/ Tahun | D14: Rp.55.000.000/ 1 Tahun | E14: Rp.55.000.000/ 1 Tahun | F14: Rp.50.000.000/ 1 Tahun
A15: 6 | B15: Operator Join | C15: Smartfren | D15: Smartfren | E15: Smartfren | F15: Smartfren
C16: Telkomsel (28 Maret 2021 s/d 27 Maret 2026) | D16: Telkomsel (28 Maret 2021 s/d 27 Maret 2026) | E16: Telkomsel (28 Maret 2021 s/d 27 Maret 2026) | F16: Telkomsel (28 Maret 2021 s/d 27 Maret 2026)
C17: XL (09 Febuari 2019 s/d 08 Febuari 2024) | D17: XL (09 Febuari 2019 s/d 08 Febuari 2024) | E17: XL (09 Febuari 2019 s/d 08 Febuari 2024) | F17: XL (09 Febuari 2024 s/d 08 Febuari 2027)
A18: 7 | B18: Kenaikan/ Penurunan Harga | C18: Mengalami Penurunan Harga Sebesar 8,3% | D18: Mengalami penurunan nilai 9,09%

Sheet Analisa
A2: Site ALILA
A3: Periode | B3: Start | C3: End
A4: Rev Tsel | B4: 44283 | C4: 46108
A5: Rev XL | B5: 45331 | C5: 46426
A6: Sewa BM | B6: 45665 | C6: 47490
B8: Start | C8: End | D8: Days
A9: Worse >> Jika Sewa BM diperpanjang 5 tahun dan Operator sesuai eksisting , maka:
A10: Rev XL | B10: =B6 -> 45665 | C10: 46426 | D10: =C10-B10 -> 761 | E10: 150000000 | F10: =E10/365*D10 -> 3.1273973e+08
A11: Rev Tsel | B11: =B6 -> 45665 | C11: 46108 | D11: =C11-B11 -> 443 | E11: 222000000 | F11: =E11/365*D11 -> 2.694411e+08
A12: Sewa BM | B12: =B6 -> 45665 | C12: 47490 | D12: =C12-B12 -> 1825 | E12: 50000000 | F12: =-E12/365*D12 -> -250000000
A13: Listrik | B13: =B6 -> 45665 | C13: 46108 | D13: =C13-B13 -> 443 | E13: 65000000 | F13: =-E13/365*D13 -> -78890411
A14: OM Tsel & XL | B14: =B6 -> 45665 | C14: 46108 | D14: =C14-B14 -> 443 | E14: 39620000 | F14: =-E14/365*D14 -> -48086740
A15: Antisipasi Add Capex and Pole | E15: 100000000
A16: Profit | F16: =SUM(F10:F15) -> 2.0520367e+08
