Workbook
Name jk: #REF!
Name jk: #REF!
Name jk: #REF!
Name jk: #REF!
Name jk: #REF!
Name years_contract: [1]Kerlink!$D$5

Sheet Summary
B2: No. | C2: 0003/IRR/IBC/III/2025 | N2: =D7 -> Hotel Atria Magelang
C3: Product : | D3: IBS / DAS | J3: Tanggal P&L: | M3: 3Maret2025
C4: Status P&L | D4: Extent
B6: Site Information | E6: Technical Information | J6: Financial Summary
B7: Site Name | D7: Hotel Atria Magelang | E7: IBC | K7: Capex DAS | M7: 5.4211606e+08
B8: Address | E8: Antena PKS BM | H8: 85 | K8: Capex /antenna | M8: =M7/H9 -> 6231219.1
E9: Antena Asset | H9: 87 | K9: Contract Period (thn) | M9: 5
B10: Area building | E10: Jumlah Pole Makro | K10: Interest rate /year | M10: =[2]IRR!F3 -> 0.1
B11: Type of building | D11: Hotel | K11: Total Revenue | M11: ='IRR (2)'!Q21 -> 630000000
B12: Status | D12: Renewal | E12: OPENET | K12: Total Capex BV 28 Feb 25 | M12: =IRR!G11 -> 2.8979107e+08
B13: Total floor | E13: Cable FO (Core) | H13: 0 | K13: Total Opex Sewa | M13: ='IRR (2)'!Q24 -> 575000000
B14: No of building tower | E14: Cable FO (meter) | H14: 0 | K14: Total Opex Other | M14: ='IRR (2)'!Q26 -> 35000000
B15: Sitac Tahun | E15: Drop Wire (meter) | H15: 0
E16: OTHERS | K16: IRR | M16: ='IRR (2)'!F42 -> -0.18638952
K17: NPV | M17: ='IRR (2)'!F43 -> -3.1381886e+08
K18: EBITDA margin | M18: ='IRR (2)'!F44 -> 0.031746032
K19: Payback (year) | M19: =IRR!F45 -> 0
B21: Target Achieved by Commercial: | K21: Prepared by
B22: Revenue | L22: Citra Kartika
C23: IRR Negatif karena BV masih besar nilainya, jika tidak ada BV maka IRR 2 % Positip
C24: Sewa ke SF Sewa Outdoor Free Indoor
B28: Approved by

Sheet IRR
B1: No | Q1: =Summary!D7 -> Hotel Atria Magelang
B2: General | H2: Operator join | I2: Rev.Change
C3: Tax Rate | E3: 0.02
C4: Interest Rate | E4: 0.1
C5: SG&A | E5: 0.05 | F5: from Revenues
C6: BHPUSO | E6: 0 | F6: from Revenues
B8: Total CAPEX | G8: Y1 | H8: Y2 | I8: Y3 | J8: Y4 | K8: Y5 | L8: Y6 | M8: Y7 | N8: Y8 | O8: Y9 | P8: Y10
D9: BV 28 Feb 25 | F9: 108 | G9: 2.8979107e+08 | H9: 0 | I9: 0 | J9: 0 | Q9: =SUM(G9:K9) -> 2.8979107e+08
Q10: =G10 -> 0
G11: =SUM(G9:G10) -> 2.8979107e+08 | Q11: =Q10+Q9 -> 2.8979107e+08
G12: 2025 | H12: =G12+1 -> 2026 | I12: =H12+1 -> 2027 | J12: =I12+1 -> 2028 | K12: =J12+1 -> 2029 | L12: =K12+1 -> 2030 | M12: =L12+1 -> 2031 | N12: =M12+1 -> 2032 | O12: =N12+1 -> 2033 | P12: =O12+1 -> 2034
B13: IRR Calculation | F13: Year 0 | G13: Year 1 | H13: Year 2 | I13: Year 3 | J13: Year 4 | K13: Year 5 | L13: Year 6 | M13: Year 7 | N13: Year 8 | O13: Year 9 | P13: Year 10 | Q13: Total
B14: Months of Service | G14: 12 | H14: 12 | I14: 12 | J14: 12 | K14: 12
B16: Revenues
C17: TSEL | Q17: =SUM(G17:K17) -> 0
C18: XL | Q18: =SUM(G18:K18) -> 0
C19: IOH | Q19: =SUM(G19:K19) -> 0
C20: SF | G20: =10500000*12 -> 126000000 | H20: =G20 -> 126000000 | I20: =H20 -> 126000000 | J20: =I20 -> 126000000 | K20: =J20 -> 126000000 | Q20: =SUM(G20:K20) -> 630000000
B21: Total Revenues (SF) | G21: =SUM(G17:G20) -> 126000000 | H21: =SUM(H17:H20) -> 126000000 | I21: =SUM(I17:I20) -> 126000000 | J21: =SUM(J17:J20) -> 126000000 | K21: =SUM(K17:K20) -> 126000000 | Q21: =SUM(G21:K21) -> 630000000
B23: OPEX
C24: Lease to BM | G24: 500000000 | Q24: =SUM(G24:K24) -> 500000000
C25: Electricity | G25: 0 | H25: =G25 -> 0 | I25: =H25 -> 0 | J25: =I25 -> 0 | K25: =J25 -> 0 | Q25: =SUM(G25:K25) -> 0
C26: Maintenance | G26: =Parameter!L76 -> 29580000 | H26: =G26 -> 29580000 | I26: =H26 -> 29580000 | J26: =I26 -> 29580000 | K26: =J26 -> 29580000 | Q26: =SUM(G26:K26) -> 147900000
C27: SG&A | G27: =G21*$E$5 -> 6300000 | H27: =H21*$E$5 -> 6300000 | I27: =I21*$E$5 -> 6300000 | J27: =J21*$E$5 -> 6300000 | K27: =K21*$E$5 -> 6300000 | Q27: =SUM(G27:K27) -> 31500000
B28: Total OPEX | G28: =SUM(G24:G27) -> 535880000 | H28: =SUM(H24:H27) -> 35880000 | I28: =SUM(I24:I27) -> 35880000 | J28: =SUM(J24:J27) -> 35880000 | K28: =SUM(K24:K27) -> 35880000 | Q28: =SUM(Q24:Q27) -> 679400000
B29: Total EBITDA | G29: =G21-G28 -> -409880000 | H29: =H21-H28 -> 90120000 | I29: =I21-I28 -> 90120000 | J29: =J21-J28 -> 90120000 | K29: =K21-K28 -> 90120000 | Q29: =Q21-Q28 -> -49400000
B30: Ebitda margin | G30: 0 | H30: =H29/H21 -> 0.7152381 | I30: =I29/I21 -> 0.7152381 | J30: =J29/J21 -> 0.7152381 | K30: =K29/K21 -> 0.7152381 | Q30: =Q29/Q21 -> -0.078412698
B31: Depreciation Expense | G31: =G53 -> 57958213 | H31: =H53 -> 57958213 | I31: =I53 -> 57958213 | J31: =J53 -> 57958213 | K31: =K53 -> 57958213 | Q31: =SUM(G31:K31) -> 2.8979107e+08
B32: Total EBIT | G32: =G29-G31 -> -4.6783821e+08 | H32: =H29-H31 -> 32161787 | I32: =I29-I31 -> 32161787 | J32: =J29-J31 -> 32161787 | K32: =K29-K31 -> 32161787 | Q32: =Q29-Q31 -> -3.3919107e+08
B33: Interest Expense | G33: =Parameter!M34 -> 0 | H33: =Parameter!N34 -> 0 | I33: =Parameter!O34 -> 0 | J33: =Parameter!P34 -> 0 | K33: =Parameter!Q34 -> 0 | Q33: =SUM(G33:K33) -> 0
B34: EBT | G34: =G32-G33 -> -4.6783821e+08 | H34: =H32-H33 -> 32161787 | I34: =I32-I33 -> 32161787 | J34: =J32-J33 -> 32161787 | K34: =K32-K33 -> 32161787 | Q34: =SUM(G34:K34) -> -3.3919107e+08
B35: Tax Expense | G35: =IF(G34<0,0,G34*$E$3) -> 0 | H35: =IF(H34<0,0,H34*$E$3) -> 643235.73 | I35: =IF(I34<0,0,I34*$E$3) -> 643235.73 | J35: =IF(J34<0,0,J34*$E$3) -> 643235.73 | K35: =IF(K34<0,0,K34*$E$3) -> 643235.73 | Q35: =SUM(G35:K35) -> 2572942.9
B36: Net Income | G36: =G34-G35 -> -4.6783821e+08 | H36: =H34-H35 -> 31518551 | I36: =I34-I35 -> 31518551 | J36: =J34-J35 -> 31518551 | K36: =K34-K35 -> 31518551 | Q36: =Q34-Q35 -> -3.4176401e+08
B38: Capex | G38: =-G11 -> -2.8979107e+08 | H38: =-I9+-I11 -> 0 | I38: =-J9+-J11 -> 0 | J38: =-K9+-K11 -> 0 | K38: =-L9+-L11 -> 0
B39: FCFF | F39: =F38 -> 0 | G39: =G38+G36+G31 -> -6.9967107e+08 | H39: =H38+H36+H31 -> 89476764 | I39: =I38+I36+I31 -> 89476764 | J39: =J38+J36+J31 -> 89476764 | K39: =K38+K36+K31 -> 89476764 | Q39: =SUM(F39:K39) -> -3.4176401e+08
B40: Accumulated FCF | F40: =F39 -> 0 | G40: =F40+G39 -> -6.9967107e+08 | H40: =G40+H39 -> -6.101943e+08 | I40: =H40+I39 -> -5.2071754e+08 | J40: =I40+J39 -> -4.3124077e+08 | K40: =J40+K39 -> -3.4176401e+08
B41: PBP | G41: =IF(AND(F40<0,G40>0),G46-(G40/G39),0) -> 0 | H41: =IF(AND(G40<0,H40>0),H46-(H40/H39),0) -> 0 | I41: =IF(AND(H40<0,I40>0),I46-(I40/I39),0) -> 0 | J41: =IF(AND(I40<0,J40>0),J46-(J40/J39),0) -> 0 | K41: =IF(AND(J40<0,K40>0),K46-(K40/K39),0) -> 0
B42: IRR | F42: =IRR(F39:K39) -> -0.2230314
B43: NPV | F43: =NPV(E4,G39:K39)+F39 -> -3.7821979e+08
B44: EBITDA margin | F44: =Q30 -> -0.078412698
...

Sheet IRR (2)
B1: No | C1: 0003/IRR/IBC/III/2025 | Q1: =Summary!D7 -> Hotel Atria Magelang
B2: General | H2: Operator join | I2: Rev.Change
C3: Tax Rate | E3: 0.02
C4: Interest Rate | E4: 0.1
C5: SG&A | E5: 0.05 | F5: from Revenues
C6: BHPUSO | E6: 0 | F6: from Revenues
B8: Total CAPEX | G8: Y1 | H8: Y2 | I8: Y3 | J8: Y4 | K8: Y5 | L8: Y6 | M8: Y7 | N8: Y8 | O8: Y9 | P8: Y10
D9: BV 28 Feb 25 | G9: =289791067.085625 -> 2.8979107e+08 | H9: 0 | I9: 0 | J9: 0 | Q9: =SUM(G9:K9) -> 2.8979107e+08
Q10: =G10 -> 0
Q11: =Q10+Q9 -> 2.8979107e+08
G12: 2025 | H12: =G12+1 -> 2026 | I12: =H12+1 -> 2027 | J12: =I12+1 -> 2028 | K12: =J12+1 -> 2029 | L12: =K12+1 -> 2030 | M12: =L12+1 -> 2031 | N12: =M12+1 -> 2032 | O12: =N12+1 -> 2033 | P12: =O12+1 -> 2034
B13: IRR Calculation | F13: Year 0 | G13: Year 1 | H13: Year 2 | I13: Year 3 | J13: Year 4 | K13: Year 5 | L13: Year 6 | M13: Year 7 | N13: Year 8 | O13: Year 9 | P13: Year 10 | Q13: Total
B14: Months of Service | G14: 12 | H14: 12 | I14: 12 | J14: 12 | K14: 12
B16: Revenues
C17: TSEL | Q17: =SUM(G17:K17) -> 0
C18: XL | Q18: =SUM(G18:K18) -> 0
C19: IOH | Q19: =SUM(G19:K19) -> 0
C20: SF | G20: 126000000 | H20: =G20 -> 126000000 | I20: =H20 -> 126000000 | J20: =I20 -> 126000000 | K20: =J20 -> 126000000 | Q20: =SUM(G20:K20) -> 630000000
B21: Total Revenues (SF) | G21: =SUM(G17:G20) -> 126000000 | H21: =SUM(H17:H20) -> 126000000 | I21: =SUM(I17:I20) -> 126000000 | J21: =SUM(J17:J20) -> 126000000 | K21: =SUM(K17:K20) -> 126000000 | Q21: =SUM(G21:K21) -> 630000000
B23: OPEX
C24: Lease to BM | G24: =575000000/2 -> 287500000 | H24: =G24 -> 287500000 | Q24: =SUM(G24:K24) -> 575000000
C25: Electricity | G25: 0 | H25: =G25 -> 0 | I25: =H25 -> 0 | J25: =I25 -> 0 | K25: =J25 -> 0 | Q25: =SUM(G25:K25) -> 0
C26: Maintenance | G26: 7000000 | H26: =G26 -> 7000000 | I26: =H26 -> 7000000 | J26: =I26 -> 7000000 | K26: =J26 -> 7000000 | Q26: =SUM(G26:K26) -> 35000000
C27: SG&A | Q27: =SUM(G27:K27) -> 0
B28: Total OPEX | G28: =SUM(G24:G27) -> 294500000 | H28: =SUM(H24:H27) -> 294500000 | I28: =SUM(I24:I27) -> 7000000 | J28: =SUM(J24:J27) -> 7000000 | K28: =SUM(K24:K27) -> 7000000 | Q28: =SUM(Q24:Q27) -> 610000000
B29: Total EBITDA | G29: =G21-G28 -> -168500000 | H29: =H21-H28 -> -168500000 | I29: =I21-I28 -> 119000000 | J29: =J21-J28 -> 119000000 | K29: =K21-K28 -> 119000000 | Q29: =Q21-Q28 -> 20000000
B30: Ebitda margin | G30: 0 | H30: =H29/H21 -> -1.3373016 | I30: =I29/I21 -> 0.94444444 | J30: =J29/J21 -> 0.94444444 | K30: =K29/K21 -> 0.94444444 | Q30: =Q29/Q21 -> 0.031746032
B31: Depreciation Expense | G31: =G53 -> 57958213 | H31: =H53 -> 57958213 | I31: =I53 -> 57958213 | J31: =J53 -> 57958213 | K31: =K53 -> 57958213 | Q31: =SUM(G31:K31) -> 2.8979107e+08
B32: Total EBIT | G32: =G29-G31 -> -2.2645821e+08 | H32: =H29-H31 -> -2.2645821e+08 | I32: =I29-I31 -> 61041787 | J32: =J29-J31 -> 61041787 | K32: =K29-K31 -> 61041787 | Q32: =Q29-Q31 -> -2.6979107e+08
B33: Interest Expense | G33: =Parameter!M34 -> 0 | H33: =Parameter!N34 -> 0 | I33: =Parameter!O34 -> 0 | J33: =Parameter!P34 -> 0 | K33: =Parameter!Q34 -> 0 | Q33: =SUM(G33:K33) -> 0
B34: EBT | G34: =G32-G33 -> -2.2645821e+08 | H34: =H32-H33 -> -2.2645821e+08 | I34: =I32-I33 -> 61041787 | J34: =J32-J33 -> 61041787 | K34: =K32-K33 -> 61041787 | Q34: =SUM(G34:K34) -> -2.6979107e+08
B35: Tax Expense | G35: =IF(G34<0,0,G34*$E$3) -> 0 | H35: =IF(H34<0,0,H34*$E$3) -> 0 | I35: =IF(I34<0,0,I34*$E$3) -> 1220835.7 | J35: =IF(J34<0,0,J34*$E$3) -> 1220835.7 | K35: =IF(K34<0,0,K34*$E$3) -> 1220835.7 | Q35: =SUM(G35:K35) -> 3662507.2
B36: Net Income | G36: =G34-G35 -> -2.2645821e+08 | H36: =H34-H35 -> -2.2645821e+08 | I36: =I34-I35 -> 59820951 | J36: =J34-J35 -> 59820951 | K36: =K34-K35 -> 59820951 | Q36: =Q34-Q35 -> -2.7345357e+08
B38: Capex | G38: =-G9 -> -2.8979107e+08 | H38: =-I9+-I11 -> 0 | I38: =-J9+-J11 -> 0 | J38: =-K9+-K11 -> 0 | K38: =-L9+-L11 -> 0
B39: FCFF | F39: =F38 -> 0 | G39: =G38+G36+G31 -> -4.5829107e+08 | H39: =H38+H36+H31 -> -168500000 | I39: =I38+I36+I31 -> 1.1777916e+08 | J39: =J38+J36+J31 -> 1.1777916e+08 | K39: =K38+K36+K31 -> 1.1777916e+08 | Q39: =SUM(F39:K39) -> -2.7345357e+08
B40: Accumulated FCF | F40: =F39 -> 0 | G40: =F40+G39 -> -4.5829107e+08 | H40: =G40+H39 -> -6.2679107e+08 | I40: =H40+I39 -> -5.090119e+08 | J40: =I40+J39 -> -3.9123274e+08 | K40: =J40+K39 -> -2.7345357e+08
B41: PBP | G41: =IF(AND(F40<0,G40>0),G46-(G40/G39),0) -> 0 | H41: =IF(AND(G40<0,H40>0),H46-(H40/H39),0) -> 0 | I41: =IF(AND(H40<0,I40>0),I46-(I40/I39),0) -> 0 | J41: =IF(AND(I40<0,J40>0),J46-(J40/J39),0) -> 0 | K41: =IF(AND(J40<0,K40>0),K46-(K40/K39),0) -> 0
B42: IRR | F42: =IRR(F39:K39) -> -0.18638952
B43: NPV | F43: =NPV(E4,G39:K39)+F39 -> -3.1381886e+08
B44: EBITDA margin | F44: =Q30 -> 0.031746032
...

Sheet Parameter
A1: PERHITUNGAN INTEREST EXPENSE based CAPEX
A2: Capex tahun | B2: 5 | C2: 2015 | D2: =C2+1 -> 2016 | E2: =D2+1 -> 2017 | F2: =E2+1 -> 2018 | G2: =F2+1 -> 2019 | H2: =G2+1 -> 2020 | I2: =H2+1 -> 2021 | J2: =I2+1 -> 2022 | K2: =J2+1 -> 2023 | ... R2: =Q2+1 -> 2030
A3: =C2 -> 2015 | B3: loan | C3: 20425000 | D3: =C3-C4 -> 16340000 | E3: =D3-C4 -> 12255000 | F3: =E3-C4 -> 8170000 | G3: =F3-C4 -> 4085000 | H3: =G3-C4 -> 0 | I3: =H3-$E$4 -> 0 | J3: =I3-$E$4 -> 0 | R3: 2013 | S3: 1.7266708e+09
B4: Installment/thn | C4: =C3/B2 -> 4085000 | R4: 2014 | S4: 422342499
B5: Interest | C5: =(($C$3*IRR!E4*6)/12) -> 1021250 | D5: =AVERAGE(C3:D3)*IRR!E4 -> 1838250 | E5: =AVERAGE(D3:E3)*IRR!E4 -> 1429750 | F5: =AVERAGE(E3:F3)*IRR!E4 -> 1021250 | G5: =AVERAGE(F3:G3)*IRR!E4 -> 612750 | H5: =AVERAGE(G3:H3)*IRR!E4 -> 204250 | I5: =AVERAGE($H$3:$I$3)*[3]IRR!$G$4 -> 0 | J5: =AVERAGE($I$3:$J$3)*[3]IRR!$G$4 -> 0 | R5: 2016 | S5: 10773000
A6: =A3+1 -> 2016 | B6: loan | E6: =D6-D7 -> 0 | F6: =E6-D7 -> 0 | G6: =F6-D7 -> 0 | H6: =G6-D7 -> 0 | R6: 2017 | S6: 102210600
B7: Installment/thn | D7: =D6/B2 -> 0
B8: Interest | D8: =((D6*IRR!E4*6)/12) -> 0 | E8: =AVERAGE(D6:E6)*IRR!E4 -> 0 | F8: =AVERAGE(E6:F6)*IRR!E4 -> 0 | G8: =AVERAGE(F6:G6)*IRR!E4 -> 0 | H8: =AVERAGE(G6:H6)*IRR!E4 -> 0 | I8: =AVERAGE(H6:I6)*IRR!E4 -> 0
A9: =A6+1 -> 2017 | B9: loan | F9: =E9-E10 -> 0 | G9: =F9-E10 -> 0 | H9: =G9-E10 -> 0 | I9: =H9-E10 -> 0 | J9: =I9-E10 -> 0
B10: Installment/thn | E10: =E9/B2 -> 0
B11: Interest | E11: =((E9*IRR!E4*6)/12) -> 0 | F11: =AVERAGE(E9:F9)*IRR!$E$4 -> 0 | G11: =AVERAGE(F9:G9)*IRR!$E$4 -> 0 | H11: =AVERAGE(G9:H9)*IRR!$E$4 -> 0 | I11: =AVERAGE(H9:I9)*IRR!$E$4 -> 0 | J11: =AVERAGE(I9:J9)*IRR!$E$4 -> 0
A12: =A9+1 -> 2018 | B12: loan | G12: =F12-F13 -> 0 | H12: =G12-F13 -> 0 | I12: =H12-F13 -> 0 | J12: =I12-F13 -> 0 | K12: =J12-F13 -> 0
B13: Installment/thn | F13: =F12/B2 -> 0
B14: Interest | F14: =((F12*IRR!E4*6)/12) -> 0 | G14: =AVERAGE(F12:G12)*IRR!$E$4 -> 0 | H14: =AVERAGE(G12:H12)*IRR!$E$4 -> 0 | I14: =AVERAGE(H12:I12)*IRR!$E$4 -> 0 | J14: =AVERAGE(I12:J12)*IRR!$E$4 -> 0 | K14: =AVERAGE(J12:K12)*IRR!$E$4 -> 0
A15: =A12+1 -> 2019 | B15: loan | G15: 789370109 | H15: =G15-G16 -> 6.3149609e+08 | I15: =H15-G16 -> 4.7362207e+08 | J15: =I15-G16 -> 3.1574804e+08 | K15: =J15-G16 -> 1.5787402e+08 | L15: =K15-G16 -> 0
B16: Installment/thn | G16: =G15/B2 -> 1.5787402e+08
B17: Interest | G17: =((G15*IRR!E4*6)/12) -> 39468505 | H17: =AVERAGE(G15:H15)*IRR!$E$4 -> 71043310 | I17: =AVERAGE(H15:I15)*IRR!$E$4 -> 55255908 | J17: =AVERAGE(I15:J15)*IRR!$E$4 -> 39468505 | K17: =AVERAGE(J15:K15)*IRR!$E$4 -> 23681103 | L17: =AVERAGE(K15:L15)*IRR!$E$4 -> 7893701.1
A18: =A15+1 -> 2020 | B18: loan | I18: =H18-H19 -> 0 | J18: =I18-H19 -> 0 | K18: =J18-H19 -> 0 | L18: =K18-H19 -> 0 | M18: =L18-H19 -> 0
B19: Installment/thn | H19: =H18/B2 -> 0
B20: Interest | H20: =((H18*IRR!E4*6)/12) -> 0 | I20: =AVERAGE(H18:I18)*IRR!$E$4 -> 0 | J20: =AVERAGE(I18:J18)*IRR!$E$4 -> 0 | K20: =AVERAGE(J18:K18)*IRR!$E$4 -> 0 | L20: =AVERAGE(K18:L18)*IRR!$E$4 -> 0 | M20: =AVERAGE(L18:M18)*IRR!$E$4 -> 0
A21: =A18+1 -> 2021 | B21: loan | J21: =I21-I22 -> 0 | K21: =J21-I22 -> 0 | L21: =K21-I22 -> 0 | M21: =L21-I22 -> 0 | N21: =M21-I22 -> 0
B22: Installment/thn | I22: =I21/B2 -> 0
B23: Interest | I23: =((I21*IRR!E4*6)/12) -> 0 | J23: =AVERAGE(I21:J21)*IRR!$E$4 -> 0 | K23: =AVERAGE(J21:K21)*IRR!$E$4 -> 0 | L23: =AVERAGE(K21:L21)*IRR!$E$4 -> 0 | M23: =AVERAGE(L21:M21)*IRR!$E$4 -> 0 | N23: =AVERAGE(M21:N21)*IRR!$E$4 -> 0
A24: =A21+1 -> 2022 | B24: loan | K24: =J24-J25 -> 0 | L24: =K24-J25 -> 0 | M24: =L24-J25 -> 0 | N24: =M24-J25 -> 0 | O24: =N24-J25 -> 0
B25: Installment/thn | J25: =J24/B2 -> 0
B26: Interest | J26: =((J24*IRR!E4*6)/12) -> 0 | K26: =AVERAGE(J24:K24)*IRR!$E$4 -> 0 | L26: =AVERAGE(K24:L24)*IRR!$E$4 -> 0 | M26: =AVERAGE(L24:M24)*IRR!$E$4 -> 0 | N26: =AVERAGE(M24:N24)*IRR!$E$4 -> 0 | O26: =AVERAGE(N24:O24)*IRR!$E$4 -> 0
A27: =A24+1 -> 2023 | B27: loan | M27: =L27-L28 -> 0 | N27: =M27-L28 -> 0 | O27: =N27-L28 -> 0 | P27: =O27-L28 -> 0 | Q27: =P27-L28 -> 0
B28: Installment/thn | L28: =L27/B2 -> 0
B29: Interest | L29: =((L27*IRR!E4*6)/12) -> 0 | M29: =AVERAGE(L27:M27)*IRR!$E$4 -> 0 | N29: =AVERAGE(M27:N27)*IRR!$E$4 -> 0 | O29: =AVERAGE(N27:O27)*IRR!$E$4 -> 0 | P29: =AVERAGE(O27:P27)*IRR!$E$4 -> 0 | Q29: =AVERAGE(P27:Q27)*IRR!$E$4 -> 0
A30: =A27+1 -> 2024 | B30: loan | N30: =M30-M31 -> 0 | O30: =N30-M31 -> 0 | P30: =O30-M31 -> 0 | Q30: =P30-M31 -> 0 | R30: =Q30-M31 -> 0
B31: Installment/thn | M31: =M30/B2 -> 0
B32: Interest | M32: =((M30*IRR!E4*6)/12) -> 0 | N32: =AVERAGE(M30:N30)*IRR!$E$4 -> 0 | O32: =AVERAGE(N30:O30)*IRR!$E$4 -> 0 | P32: =AVERAGE(O30:P30)*IRR!$E$4 -> 0 | Q32: =AVERAGE(P30:Q30)*IRR!$E$4 -> 0 | R32: =AVERAGE(Q30:R30)*IRR!$E$4 -> 0
B34: Interest Exp | C34: =C5+C8+C11+C14+C17+C20+C23+C26+C29+C32 -> 1021250 | D34: =D5+D8+D11+D14+D17+D20+D23+D26+D29+D32 -> 1838250 | E34: =E5+E8+E11+E14+E17+E20+E23+E26+E29+E32 -> 1429750 | F34: =F5+F8+F11+F14+F17+F20+F23+F26+F29+F32 -> 1021250 | G34: =G5+G8+G11+G14+G17+G20+G23+G26+G29+G32 -> 40081255 | H34: =H5+H8+H11+H14+H17+H20+H23+H26+H29+H32 -> 71247560 | I34: =I5+I8+I11+I14+I17+I20+I23+I26+I29+I32 -> 55255908 | J34: =J5+J8+J11+J14+J17+J20+J23+J26+J29+J32 -> 39468505 | ... R34: =R5+R8+R11+R14+R17+R20+R23+R26+R29+R32 -> 2016
A37: PERHITUNGAN SG&A
A38: Untuk IBC | B38: Start tahun pertama | C38: 50000000
A39: Untuk Opennet | B39: Start tahun pertama | C39: 20000000
A40: Untuk IBC Ext | B40: tiap tahun = Rev x 5%
A41: Untuk Opennet Ext | B41: tiap tahun = Rev x 5%
A43: SG&A | B43: =C38 -> 50000000 | C43: =B43+C44 -> 51000000 | D43: =C43+D45 -> 52020000 | E43: =D43+E45 -> 53060400 | F43: =E43+F45 -> 54121608 | G43: =F43+G45 -> 55204040 | H43: =G43+H45 -> 56308121 | I43: =H43+I45 -> 57434283 | J43: =I43+J45 -> 58582969 | K43: =J43+K45 -> 59754628
A44: 0.02 | C44: =C45 -> 1000000 | D44: =C44+D45 -> 2020000 | E44: =D44+E45 -> 3060400 | F44: =E44+F45 -> 4121608 | G44: =F44+G45 -> 5204040.2 | H44: =G44+H45 -> 6308121 | I44: =H44+I45 -> 7434283.4 | J44: =I44+J45 -> 8582969.1 | K44: =J44+K45 -> 9754628.4
...

Sheet Summary Review new
C1: SUMMARY REVIEW
A3: Nama Site | C3: : Hotel Atria Magelang
A4: Nama Pemilik | C4: : PT. Paramount Enterprise Int.
A5: Alamat Pemilik | C5: : Jl. Jend. Sudirman No. 42 Magelang
A6: Telp | C6: :
A7: Obyek Sewa | C7: : 85 omni, 12 Pole & 40 m2 RBS Room
A9: No. | B9: Keterangan | C9: Existing | D9: Renewal
A11: 1. | B11: Scope Of Lease | C11: IBC | D11: IBC
A12: 2. | B12: Obyek Sewa | C12: 85 omni, 12 Pole & 40 m2 RBS Room | D12: 85 omni, 12 Pole & 40 m2 RBS Room
A13: 3. | B13: Periode Sewa | C13: 07 April 2020 s/d 06 April 2025 (5 tahun) | D13: 07 April 2025 s/d 06 April 2030 (5 tahun)
A14: 4 | B14: Harga Sewa / Masa Sewa | C14: Rp. 450.000.000 | D14: Rp. 600.000.000
B15: Harga Sewa / Tahun | C15: Rp. 90.000.000 | D15: Rp. 120.000.000
A16: 5 | B16: Operator Join | C16: SF | D16: SF
B17: Revenue | C17: Rp. 630.000.000 | D17: Rp. 630.000.000
A20: 6. | B20: Kenaikan/ Penurunan Harga | C20: mengalami kenaikan harga sebesar 33%
B22: Noted Summary Review existing
E24: 82 titik
D25: 2016 | E25: 32122200
D26: 2019 | E26: 663613612
D27: Capex | E27: 495587147
D28: BV 31 Mar 25 | E28: 423267732
