Workbook
Name jk: #REF!
Name jk: #REF!
Name jk: #REF!
Name jk: #REF!
Name jk: #REF!
Name jk: #REF!
Name jk: #REF!
Name years_contract: [1]Kerlink!$D$5

Sheet Summary
B2: No. | C2: 0002/IRR/IBC/II/2025 | N2: =D7 -> Swissbell Batam
C3: Product : | D3: IBS / DAS | J3: Tanggal P&L: | M3: 45742
C4: Status P&L | D4: Extent
B6: Site Information | E6: Technical Information | J6: Financial Summary
B7: Site Name | D7: Swissbell Batam | E7: IBC | K7: Capex DAS | M7: 3294327481
B8: Address | E8: Antena PKS BM | H8: 65 | K8: Capex /antenna | M8: =M7/H9 -> 45754548
E9: Antena Asset | H9: 72 | K9: Contract Period (thn) | M9: 5
B10: Area building | E10: Jumlah Pole Makro | K10: Interest rate /year | M10: 0.1
B11: Type of building | K11: Total Revenue | M11: =IRR!Q21 -> 997920000
B12: Status | D12: Renewal | E12: OPENET | K12: Total Capex BV 30Apr25 | M12: =IRR!G11 -> 0
B13: Total floor | E13: Cable FO (Core) | H13: 0 | K13: Total Opex Sewa | M13: =IRR!Q24 -> 850000000
B14: No of building tower | E14: Cable FO (meter) | H14: 0 | K14: Total Opex Other | M14: =IRR!Q25+IRR!Q26+IRR!Q27 -> 156000000
B15: Sitac Tahun | E15: Drop Wire (meter) | H15: 0
E16: OTHERS | K16: IRR | M16: =IRR!F42 -> -0.016862534
K17: NPV | M17: =IRR!F43 -> -62926386
K18: EBITDA margin | M18: =IRR!F44 -> -0.0080968414
K19: Payback (year) | M19: =IRR!F45 -> 0
B21: Target Achieved by Commercial: | K21: Prepared by
B22: Revenue | D22: : | L22: Citra Kartika
C23: Biaya Akomodasi Operasional WT, PM, Sparepart ditanggung Zest Batam
C24: Swissbell dan Zest satu Management, keduanya jika digabung IRR nya 11%
C25: Jika Book Value kedua site telah habis maka IRR 34%
B28: Approved by

Sheet IRR
B1: No | C1: 0024/IRR/IBC/VIII/2024 | Q1: =Summary!D7 -> Swissbell Batam
B2: General | H2: Operator join | I2: Rev.Change
C3: Tax Rate | E3: 0.02
C4: Interest Rate | E4: 0.1
C5: SG&A | E5: =2.5%*0 -> 0 | F5: from Revenues
C6: BHPUSO | E6: 0 | F6: from Revenues
B8: Total CAPEX | G8: Y1 | H8: Y2 | I8: Y3 | J8: Y4 | K8: Y5 | L8: Y6 | M8: Y7 | N8: Y8 | O8: Y9 | P8: Y10
D9: BV 30Apr25 | G9: 0 | H9: 0 | I9: 0 | J9: 0 | Q9: =SUM(G9:K9) -> 0
Q10: =G10 -> 0
G11: =SUM(G9:G10) -> 0 | Q11: =Q10+Q9 -> 0
G12: 2025 | H12: =G12+1 -> 2026 | I12: =H12+1 -> 2027 | J12: =I12+1 -> 2028 | K12: =J12+1 -> 2029 | L12: =K12+1 -> 2030 | M12: =L12+1 -> 2031 | N12: =M12+1 -> 2032 | O12: =N12+1 -> 2033 | P12: =O12+1 -> 2034
B13: IRR Calculation | F13: Year 0 | G13: Year 1 | H13: Year 2 | I13: Year 3 | J13: Year 4 | K13: Year 5 | L13: Year 6 | M13: Year 7 | N13: Year 8 | O13: Year 9 | P13: Year 10 | Q13: Total
B14: Months of Service | G14: 12 | H14: 12 | I14: 12 | J14: 12 | K14: 12
B16: Revenues
C17: TSEL | G17: =199584000 -> 199584000 | H17: =G17 -> 199584000 | I17: =H17 -> 199584000 | J17: =I17 -> 199584000 | K17: =J17 -> 199584000 | Q17: =SUM(G17:K17) -> 997920000
C18: IOH | Q18: =SUM(G18:K18) -> 0
Q19: =SUM(G19:K19) -> 0
Q20: =SUM(G20:K20) -> 0
B21: Total Revenues (SF) | G21: =SUM(G17:G20) -> 199584000 | H21: =SUM(H17:H20) -> 199584000 | I21: =SUM(I17:I20) -> 199584000 | J21: =SUM(J17:J20) -> 199584000 | K21: =SUM(K17:K20) -> 199584000 | Q21: =SUM(G21:K21) -> 997920000
B23: OPEX
C24: Lease to BM | G24: =170000000*5*40% -> 340000000 | H24: =170000000*5*20% -> 170000000 | I24: =H24 -> 170000000 | J24: =I24 -> 170000000 | Q24: =SUM(G24:K24) -> 850000000
C25: Electricity | G25: =(2600000*12) -> 31200000 | H25: =G25 -> 31200000 | I25: =H25 -> 31200000 | J25: =I25 -> 31200000 | K25: =J25 -> 31200000 | Q25: =SUM(G25:K25) -> 156000000
C26: Maintenance | Q26: =SUM(G26:K26) -> 0
C27: SG&A | G27: =G21*$E$5 -> 0 | H27: =H21*$E$5 -> 0 | I27: =I21*$E$5 -> 0 | J27: =J21*$E$5 -> 0 | K27: =K21*$E$5 -> 0 | Q27: =SUM(G27:K27) -> 0
B28: Total OPEX | G28: =SUM(G24:G27) -> 371200000 | H28: =SUM(H24:H27) -> 201200000 | I28: =SUM(I24:I27) -> 201200000 | J28: =SUM(J24:J27) -> 201200000 | K28: =SUM(K24:K27) -> 31200000 | Q28: =SUM(Q24:Q27) -> 1006000000
B29: Total EBITDA | G29: =G21-G28 -> -171616000 | H29: =H21-H28 -> -1616000 | I29: =I21-I28 -> -1616000 | J29: =J21-J28 -> -1616000 | K29: =K21-K28 -> 168384000 | Q29: =Q21-Q28 -> -8080000
B30: Ebitda margin | G30: 0 | H30: =H29/H21 -> -0.0080968414 | I30: =I29/I21 -> -0.0080968414 | J30: =J29/J21 -> -0.0080968414 | K30: =K29/K21 -> 0.84367484 | Q30: =Q29/Q21 -> -0.0080968414
B31: Depreciation Expense | G31: =G53 -> 0 | H31: =H53 -> 0 | I31: =I53 -> 0 | J31: =J53 -> 0 | K31: =K53 -> 0 | Q31: =SUM(G31:K31) -> 0
B32: Total EBIT | G32: =G29-G31 -> -171616000 | H32: =H29-H31 -> -1616000 | I32: =I29-I31 -> -1616000 | J32: =J29-J31 -> -1616000 | K32: =K29-K31 -> 168384000 | Q32: =Q29-Q31 -> -8080000
B33: Interest Expense | G33: =Parameter!M34 -> 0 | H33: =Parameter!N34 -> 0 | I33: =Parameter!O34 -> 0 | J33: =Parameter!O34 -> 0 | K33: =Parameter!P34 -> 0 | Q33: =SUM(G33:K33) -> 0
B34: EBT | G34: =G32-G33 -> -171616000 | H34: =H32-H33 -> -1616000 | I34: =I32-I33 -> -1616000 | J34: =J32-J33 -> -1616000 | K34: =K32-K33 -> 168384000 | Q34: =SUM(G34:K34) -> -8080000
B35: Tax Expense | G35: =IF(G34<0,0,G34*$E$3) -> 0 | H35: =IF(H34<0,0,H34*$E$3) -> 0 | I35: =IF(I34<0,0,I34*$E$3) -> 0 | J35: =IF(J34<0,0,J34*$E$3) -> 0 | K35: =IF(K34<0,0,K34*$E$3) -> 3367680 | Q35: =SUM(G35:K35) -> 3367680
B36: Net Income | G36: =G34-G35 -> -171616000 | H36: =H34-H35 -> -1616000 | I36: =I34-I35 -> -1616000 | J36: =J34-J35 -> -1616000 | K36: =K34-K35 -> 165016320 | Q36: =Q34-Q35 -> -11447680
B38: Capex | G38: =-G11 -> 0 | H38: =-I9+-I11 -> 0 | I38: =-J9+-J11 -> 0 | J38: =-K9+-K11 -> 0 | K38: =-L9+-L11 -> 0
B39: FCFF | F39: =F38 -> 0 | G39: =G38+G36+G31 -> -171616000 | H39: =H38+H36+H31 -> -1616000 | I39: =I38+I36+I31 -> -1616000 | J39: =J38+J36+J31 -> -1616000 | K39: =K38+K36+K31 -> 165016320 | Q39: =SUM(F39:K39) -> -11447680
B40: Accumulated FCF | F40: =F39 -> 0 | G40: =F40+G39 -> -171616000 | H40: =G40+H39 -> -173232000 | I40: =H40+I39 -> -174848000 | J40: =I40+J39 -> -176464000 | K40: =J40+K39 -> -11447680
B41: PBP | G41: =IF(AND(F40<0,G40>0),G46-(G40/G39),0) -> 0 | H41: =IF(AND(G40<0,H40>0),H46-(H40/H39),0) -> 0 | I41: =IF(AND(H40<0,I40>0),I46-(I40/I39),0) -> 0 | J41: =IF(AND(I40<0,J40>0),J46-(J40/J39),0) -> 0 | K41: =IF(AND(J40<0,K40>0),K46-(K40/K39),0) -> 0
B42: IRR | F42: =IRR(G39:K39) -> -0.016862534
B43: NPV | F43: =NPV(E4,H39:K39)+G39 -> -62926386
B44: EBITDA margin | F44: =Q30 -> -0.0080968414
...

Sheet Parameter
A1: PERHITUNGAN INTEREST EXPENSE based CAPEX
A2: Capex tahun | B2: 5 | C2: 2014 | D2: =C2+1 -> 2015 | E2: =D2+1 -> 2016 | F2: =E2+1 -> 2017 | G2: =F2+1 -> 2018 | H2: =G2+1 -> 2019 | I2: =H2+1 -> 2020 | J2: =I2+1 -> 2021 | K2: =J2+1 -> 2022 | ... R2: =Q2+1 -> 2029
A3: 2014 | B3: loan | C3: 584904475 | D3: =C3-C4 -> 467923580 | E3: =D3-C4 -> 350942685 | F3: =E3-C4 -> 233961790 | G3: =F3-C4 -> 116980895 | H3: =G3-C4 -> 0 | I3: =H3-$E$4 -> 0 | J3: =I3-$E$4 -> 0 | R3: 2013 | S3: 1.7266708e+09
B4: Installment/thn | C4: =C3/B2 -> 116980895 | R4: 2014 | S4: 422342499
B5: Interest | C5: =(($C$3*IRR!E4*6)/12) -> 29245224 | D5: =AVERAGE(C3:D3)*IRR!E4 -> 52641403 | E5: =AVERAGE(D3:E3)*IRR!E4 -> 40943313 | F5: =AVERAGE(E3:F3)*IRR!E4 -> 29245224 | G5: =AVERAGE(F3:G3)*IRR!E4 -> 17547134 | H5: =AVERAGE(G3:H3)*IRR!E4 -> 5849044.8 | I5: =AVERAGE($H$3:$I$3)*[2]IRR!$G$4 -> 0 | J5: =AVERAGE($I$3:$J$3)*[2]IRR!$G$4 -> 0 | R5: 2016 | S5: 10773000
A6: =A3+1 -> 2015 | B6: loan | E6: =D6-D7 -> 0 | F6: =E6-D7 -> 0 | G6: =F6-D7 -> 0 | H6: =G6-D7 -> 0 | R6: 2017 | S6: 102210600
B7: Installment/thn | D7: =D6/B2 -> 0
B8: Interest | D8: =((D6*IRR!E4*6)/12) -> 0 | E8: =AVERAGE(D6:E6)*IRR!E4 -> 0 | F8: =AVERAGE(E6:F6)*IRR!E4 -> 0 | G8: =AVERAGE(F6:G6)*IRR!E4 -> 0 | H8: =AVERAGE(G6:H6)*IRR!E4 -> 0 | I8: =AVERAGE(H6:I6)*IRR!E4 -> 0
A9: =A6+1 -> 2016 | B9: loan | F9: =E9-E10 -> 0 | G9: =F9-E10 -> 0 | H9: =G9-E10 -> 0 | I9: =H9-E10 -> 0 | J9: =I9-E10 -> 0
B10: Installment/thn | E10: =E9/B2 -> 0
B11: Interest | E11: =((E9*IRR!E4*6)/12) -> 0 | F11: =AVERAGE(E9:F9)*IRR!$E$4 -> 0 | G11: =AVERAGE(F9:G9)*IRR!$E$4 -> 0 | H11: =AVERAGE(G9:H9)*IRR!$E$4 -> 0 | I11: =AVERAGE(H9:I9)*IRR!$E$4 -> 0 | J11: =AVERAGE(I9:J9)*IRR!$E$4 -> 0
A12: =A9+1 -> 2017 | B12: loan | G12: =F12-F13 -> 0 | H12: =G12-F13 -> 0 | I12: =H12-F13 -> 0 | J12: =I12-F13 -> 0 | K12: =J12-F13 -> 0
B13: Installment/thn | F13: =F12/B2 -> 0
B14: Interest | F14: =((F12*IRR!E4*6)/12) -> 0 | G14: =AVERAGE(F12:G12)*IRR!$E$4 -> 0 | H14: =AVERAGE(G12:H12)*IRR!$E$4 -> 0 | I14: =AVERAGE(H12:I12)*IRR!$E$4 -> 0 | J14: =AVERAGE(I12:J12)*IRR!$E$4 -> 0 | K14: =AVERAGE(J12:K12)*IRR!$E$4 -> 0
A15: =A12+1 -> 2018 | B15: loan | H15: =G15-G16 -> 0 | I15: =H15-G16 -> 0 | J15: =I15-G16 -> 0 | K15: =J15-G16 -> 0 | L15: =K15-G16 -> 0
B16: Installment/thn | G16: =G15/B2 -> 0
B17: Interest | G17: =((G15*IRR!E4*6)/12) -> 0 | H17: =AVERAGE(G15:H15)*IRR!$E$4 -> 0 | I17: =AVERAGE(H15:I15)*IRR!$E$4 -> 0 | J17: =AVERAGE(I15:J15)*IRR!$E$4 -> 0 | K17: =AVERAGE(J15:K15)*IRR!$E$4 -> 0 | L17: =AVERAGE(K15:L15)*IRR!$E$4 -> 0
A18: =A15+1 -> 2019 | B18: loan | I18: =H18-H19 -> 0 | J18: =I18-H19 -> 0 | K18: =J18-H19 -> 0 | L18: =K18-H19 -> 0 | M18: =L18-H19 -> 0
B19: Installment/thn | H19: =H18/B2 -> 0
B20: Interest | H20: =((H18*IRR!E4*6)/12) -> 0 | I20: =AVERAGE(H18:I18)*IRR!$E$4 -> 0 | J20: =AVERAGE(I18:J18)*IRR!$E$4 -> 0 | K20: =AVERAGE(J18:K18)*IRR!$E$4 -> 0 | L20: =AVERAGE(K18:L18)*IRR!$E$4 -> 0 | M20: =AVERAGE(L18:M18)*IRR!$E$4 -> 0
A21: =A18+1 -> 2020 | B21: loan | J21: =I21-I22 -> 0 | K21: =J21-I22 -> 0 | L21: =K21-I22 -> 0 | M21: =L21-I22 -> 0 | N21: =M21-I22 -> 0
B22: Installment/thn | I22: =I21/B2 -> 0
B23: Interest | I23: =((I21*IRR!E4*6)/12) -> 0 | J23: =AVERAGE(I21:J21)*IRR!$E$4 -> 0 | K23: =AVERAGE(J21:K21)*IRR!$E$4 -> 0 | L23: =AVERAGE(K21:L21)*IRR!$E$4 -> 0 | M23: =AVERAGE(L21:M21)*IRR!$E$4 -> 0 | N23: =AVERAGE(M21:N21)*IRR!$E$4 -> 0
A24: =A21+1 -> 2021 | B24: loan | K24: =J24-J25 -> 0 | L24: =K24-J25 -> 0 | M24: =L24-J25 -> 0 | N24: =M24-J25 -> 0 | O24: =N24-J25 -> 0
B25: Installment/thn | J25: =J24/B2 -> 0
B26: Interest | J26: =((J24*IRR!E4*6)/12) -> 0 | K26: =AVERAGE(J24:K24)*IRR!$E$4 -> 0 | L26: =AVERAGE(K24:L24)*IRR!$E$4 -> 0 | M26: =AVERAGE(L24:M24)*IRR!$E$4 -> 0 | N26: =AVERAGE(M24:N24)*IRR!$E$4 -> 0 | O26: =AVERAGE(N24:O24)*IRR!$E$4 -> 0
A27: =A24+1 -> 2022 | B27: loan | M27: =L27-L28 -> 0 | N27: =M27-L28 -> 0 | O27: =N27-L28 -> 0 | P27: =O27-L28 -> 0 | Q27: =P27-L28 -> 0
B28: Installment/thn | L28: =L27/B2 -> 0
B29: Interest | L29: =((L27*IRR!E4*6)/12) -> 0 | M29: =AVERAGE(L27:M27)*IRR!$E$4 -> 0 | N29: =AVERAGE(M27:N27)*IRR!$E$4 -> 0 | O29: =AVERAGE(N27:O27)*IRR!$E$4 -> 0 | P29: =AVERAGE(O27:P27)*IRR!$E$4 -> 0 | Q29: =AVERAGE(P27:Q27)*IRR!$E$4 -> 0
A30: =A27+1 -> 2023 | B30: loan | N30: =M30-M31 -> 0 | O30: =N30-M31 -> 0 | P30: =O30-M31 -> 0 | Q30: =P30-M31 -> 0 | R30: =Q30-M31 -> 0
B31: Installment/thn | M31: =M30/B2 -> 0
B32: Interest | M32: =((M30*IRR!E4*6)/12) -> 0 | N32: =AVERAGE(M30:N30)*IRR!$E$4 -> 0 | O32: =AVERAGE(N30:O30)*IRR!$E$4 -> 0 | P32: =AVERAGE(O30:P30)*IRR!$E$4 -> 0 | Q32: =AVERAGE(P30:Q30)*IRR!$E$4 -> 0 | R32: =AVERAGE(Q30:R30)*IRR!$E$4 -> 0
B34: Interest Exp | C34: =C5+C8+C11+C14+C17+C20+C23+C26+C29+C32 -> 29245224 | D34: =D5+D8+D11+D14+D17+D20+D23+D26+D29+D32 -> 52641403 | E34: =E5+E8+E11+E14+E17+E20+E23+E26+E29+E32 -> 40943313 | F34: =F5+F8+F11+F14+F17+F20+F23+F26+F29+F32 -> 29245224 | G34: =G5+G8+G11+G14+G17+G20+G23+G26+G29+G32 -> 17547134 | H34: =H5+H8+H11+H14+H17+H20+H23+H26+H29+H32 -> 5849044.8 | I34: =I5+I8+I11+I14+I17+I20+I23+I26+I29+I32 -> 0 | J34: =J5+J8+J11+J14+J17+J20+J23+J26+J29+J32 -> 0 | ... R34: =R5+R8+R11+R14+R17+R20+R23+R26+R29+R32 -> 2016
A37: PERHITUNGAN SG&A
A38: Untuk IBC | B38: Start tahun pertama | C38: 50000000
A39: Untuk Opennet | B39: Start tahun pertama | C39: 20000000
A40: Untuk IBC Ext | B40: tiap tahun = Rev x 5%
A41: Untuk Opennet Ext | B41: tiap tahun = Rev x 5%
A43: SG&A | B43: =C38 -> 50000000 | C43: =B43+C44 -> 51000000 | D43: =C43+D45 -> 52020000 | E43: =D43+E45 -> 53060400 | F43: =E43+F45 -> 54121608 | G43: =F43+G45 -> 55204040 | H43: =G43+H45 -> 56308121 | I43: =H43+I45 -> 57434283 | J43: =I43+J45 -> 58582969 | K43: =J43+K45 -> 59754628
A44: 0.02 | C44: =C45 -> 1000000 | D44: =C44+D45 -> 2020000 | E44: =D44+E45 -> 3060400 | F44: =E44+F45 -> 4121608 | G44: =F44+G45 -> 5204040.2 | H44: =G44+H45 -> 6308121 | I44: =H44+I45 -> 7434283.4 | J44: =I44+J45 -> 8582969.1 | K44: =J44+K45 -> 9754628.4
...

Sheet IRR zest dan swissbell
Q1: Swissbell dan Zest Batam
B2: General | H2: Operator join | I2: Rev.Change
C3: Tax Rate | E3: 0.02
C4: Interest Rate | E4: 0.1
C5: SG&A | E5: =2.5%*0 -> 0 | F5: from Revenues
C6: BHPUSO | E6: 0 | F6: from Revenues
B8: Total CAPEX | G8: Y1 | H8: Y2 | I8: Y3 | J8: Y4 | K8: Y5 | L8: Y6 | M8: Y7 | N8: Y8 | O8: Y9 | P8: Y10
D9: BV 30Apr25 Swissbell Batam | G9: 0 | H9: 0 | I9: 0 | J9: 0 | Q9: =SUM(G9:K9) -> 0
D10: BV 31 May 25 Zest Batam | Q10: =G10 -> 0
G11: =SUM(G9:G10) -> 0 | Q11: =Q10+Q9 -> 0
G12: 2025 | H12: =G12+1 -> 2026 | I12: =H12+1 -> 2027 | J12: =I12+1 -> 2028 | K12: =J12+1 -> 2029 | L12: =K12+1 -> 2030 | M12: =L12+1 -> 2031 | N12: =M12+1 -> 2032 | O12: =N12+1 -> 2033 | P12: =O12+1 -> 2034
B13: IRR Calculation | F13: Year 0 | G13: Year 1 | H13: Year 2 | I13: Year 3 | J13: Year 4 | K13: Year 5 | L13: Year 6 | M13: Year 7 | N13: Year 8 | O13: Year 9 | P13: Year 10 | Q13: Total
B14: Months of Service | G14: 12 | H14: 12 | I14: 12 | J14: 12 | K14: 12
B16: Revenues
C17: TSELSwissbell Batam | G17: =199584000 -> 199584000 | H17: =G17 -> 199584000 | I17: =H17 -> 199584000 | J17: =I17 -> 199584000 | K17: =J17 -> 199584000 | Q17: =SUM(G17:K17) -> 997920000
C18: XL Zest Batam | G18: 140000000 | H18: 140000000 | I18: 140000000 | J18: 140000000 | K18: 140000000 | Q18: =SUM(G18:K18) -> 700000000
Q19: =SUM(G19:K19) -> 0
Q20: =SUM(G20:K20) -> 0
B21: Total Revenues (SF) | G21: =SUM(G17:G20) -> 339584000 | H21: =SUM(H17:H20) -> 339584000 | I21: =SUM(I17:I20) -> 339584000 | J21: =SUM(J17:J20) -> 339584000 | K21: =SUM(K17:K20) -> 339584000 | Q21: =SUM(G21:K21) -> 1697920000
B23: OPEX
C24: Lease to BM Swissbell | G24: =170000000*5*40% -> 340000000 | H24: =850000000*20% -> 170000000 | I24: =H24 -> 170000000 | J24: =I24 -> 170000000 | Q24: =SUM(G24:K24) -> 850000000
C25: Lease to BM Zest | G25: 110000000
C26: Electricity | G26: =(2600000*12)*1 -> 31200000 | H26: =G26 -> 31200000 | I26: =H26 -> 31200000 | J26: =I26 -> 31200000 | K26: =J26 -> 31200000 | Q26: =SUM(G26:K26) -> 156000000
C27: Maintenance | G27: =Parameter!D66+Parameter!E66 -> 56320000 | H27: =G27 -> 56320000 | I27: =H27 -> 56320000 | J27: =I27 -> 56320000 | K27: =J27 -> 56320000 | Q27: =SUM(G27:K27) -> 281600000
C28: SG&A | H28: =H21*$E$5 -> 0 | I28: =I21*$E$5 -> 0 | J28: =J21*$E$5 -> 0 | K28: =K21*$E$5 -> 0 | Q28: =SUM(G28:K28) -> 0
B29: Total OPEX | G29: =SUM(G24:G28) -> 537520000 | H29: =SUM(H24:H28) -> 257520000 | I29: =SUM(I24:I28) -> 257520000 | J29: =SUM(J24:J28) -> 257520000 | K29: =SUM(K24:K28) -> 87520000 | Q29: =SUM(Q24:Q28) -> 1287600000
B30: Total EBITDA | G30: =G21-G29 -> -197936000 | H30: =H21-H29 -> 82064000 | I30: =I21-I29 -> 82064000 | J30: =J21-J29 -> 82064000 | K30: =K21-K29 -> 252064000 | Q30: =Q21-Q29 -> 410320000
B31: Ebitda margin | G31: 0 | H31: =H30/H21 -> 0.24166038 | I31: =I30/I21 -> 0.24166038 | J31: =J30/J21 -> 0.24166038 | K31: =K30/K21 -> 0.7422729 | Q31: =Q30/Q21 -> 0.24166038
B32: Depreciation Expense | G32: =G54 -> 0 | H32: =H54 -> 0 | I32: =I54 -> 0 | J32: =J54 -> 0 | K32: =K54 -> 0 | Q32: =SUM(G32:K32) -> 0
B33: Total EBIT | G33: =G30-G32 -> -197936000 | H33: =H30-H32 -> 82064000 | I33: =I30-I32 -> 82064000 | J33: =J30-J32 -> 82064000 | K33: =K30-K32 -> 252064000 | Q33: =Q30-Q32 -> 410320000
B34: Interest Expense | G34: =[3]Parameter!M34 -> 13372701 | H34: =[3]Parameter!N34 -> 4457567 | I34: =[3]Parameter!O34 -> 0 | J34: =[3]Parameter!O34 -> 0 | K34: =[3]Parameter!P34 -> 0 | Q34: =SUM(G34:K34) -> 17830268
B35: EBT | G35: =G33-G34 -> -2.113087e+08 | H35: =H33-H34 -> 77606433 | I35: =I33-I34 -> 82064000 | J35: =J33-J34 -> 82064000 | K35: =K33-K34 -> 252064000 | Q35: =SUM(G35:K35) -> 2.8248973e+08
B36: Tax Expense | G36: =IF(G35<0,0,G35*$E$3) -> 0 | H36: =IF(H35<0,0,H35*$E$3) -> 1552128.7 | I36: =IF(I35<0,0,I35*$E$3) -> 1641280 | J36: =IF(J35<0,0,J35*$E$3) -> 1641280 | K36: =IF(K35<0,0,K35*$E$3) -> 5041280 | Q36: =SUM(G36:K36) -> 9875968.7
B37: Net Income | G37: =G35-G36 -> -2.113087e+08 | H37: =H35-H36 -> 76054304 | I37: =I35-I36 -> 80422720 | J37: =J35-J36 -> 80422720 | K37: =K35-K36 -> 247022720 | Q37: =Q35-Q36 -> 2.7261376e+08
B39: Capex | G39: =-G11 -> 0 | H39: =-I9+-I11 -> 0 | I39: =-J9+-J11 -> 0 | J39: =-K9+-K11 -> 0 | K39: =-L9+-L11 -> 0
B40: FCFF | F40: =F39 -> 0 | G40: =G39+G37+G32 -> -2.113087e+08 | H40: =H39+H37+H32 -> 76054304 | I40: =I39+I37+I32 -> 80422720 | J40: =J39+J37+J32 -> 80422720 | K40: =K39+K37+K32 -> 247022720 | Q40: =SUM(F40:K40) -> 2.7261376e+08
B41: Accumulated FCF | F41: =F40 -> 0 | G41: =F41+G40 -> -2.113087e+08 | H41: =G41+H40 -> -1.352544e+08 | I41: =H41+I40 -> -54831677 | J41: =I41+J40 -> 25591043 | K41: =J41+K40 -> 2.7261376e+08
B42: PBP | G42: =IF(AND(F41<0,G41>0),G47-(G41/G40),0) -> 0 | H42: =IF(AND(G41<0,H41>0),H47-(H41/H40),0) -> 0 | I42: =IF(AND(H41<0,I41>0),I47-(I41/I40),0) -> 0 | J42: =IF(AND(I41<0,J41>0),J47-(J41/J40),0) -> 3.6817934 | K42: =IF(AND(J41<0,K41>0),K47-(K41/K40),0) -> 0
B43: IRR | F43: =IRR(G40:K40) -> 0.34067222
B44: NPV | F44: =NPV(E4,H40:K40)+G40 -> 1.5343926e+08
...

Sheet IRR zest Menanggung
B1: No | C1: 0024/IRR/IBC/VIII/2024 | Q1: =[3]Summary!D7 -> Swissbell Batam
B2: General | H2: Operator join | I2: Rev.Change
C3: Tax Rate | E3: 0.02 | H3: XL 2027
C4: Interest Rate | E4: 0.1 | H4: IOH 2027
C5: SG&A | E5: =2.5%*0 -> 0 | F5: from Revenues | H5: Tsel 2024
C6: BHPUSO | E6: 0 | F6: from Revenues
B8: Total CAPEX | G8: Y1 | H8: Y2 | I8: Y3 | J8: Y4 | K8: Y5 | L8: Y6 | M8: Y7 | N8: Y8 | O8: Y9 | P8: Y10
D9: BV 30Apr25 Swissbell Batam | G9: 0 | H9: 0 | I9: 0 | J9: 0 | Q9: =SUM(G9:K9) -> 0
D10: BV 31 May 25 Zest Batam | G10: 156380751 | Q10: =G10 -> 156380751
G11: =SUM(G9:G10) -> 156380751 | Q11: =Q10+Q9 -> 156380751
G12: 2025 | H12: =G12+1 -> 2026 | I12: =H12+1 -> 2027 | J12: =I12+1 -> 2028 | K12: =J12+1 -> 2029 | L12: =K12+1 -> 2030 | M12: =L12+1 -> 2031 | N12: =M12+1 -> 2032 | O12: =N12+1 -> 2033 | P12: =O12+1 -> 2034
B13: IRR Calculation | F13: Year 0 | G13: Year 1 | H13: Year 2 | I13: Year 3 | J13: Year 4 | K13: Year 5 | L13: Year 6 | M13: Year 7 | N13: Year 8 | O13: Year 9 | P13: Year 10 | Q13: Total
B14: Months of Service | G14: 12 | H14: 12 | I14: 12 | J14: 12 | K14: 12
B16: Revenues
C17: TSELSwissbell Batam | Q17: =SUM(G17:K17) -> 0
C18: XL Zest Batam | G18: 140000000 | H18: 140000000 | I18: 140000000 | J18: 140000000 | K18: 140000000 | Q18: =SUM(G18:K18) -> 700000000
Q19: =SUM(G19:K19) -> 0
Q20: =SUM(G20:K20) -> 0
B21: Total Revenues (SF) | G21: =SUM(G17:G20) -> 140000000 | H21: =SUM(H17:H20) -> 140000000 | I21: =SUM(I17:I20) -> 140000000 | J21: =SUM(J17:J20) -> 140000000 | K21: =SUM(K17:K20) -> 140000000 | Q21: =SUM(G21:K21) -> 700000000
B23: OPEX
C24: Lease to BM Swissbell | Q24: =SUM(G24:K24) -> 0
C25: Lease to BM Zest | G25: 110000000
C26: Electricity | Q26: =SUM(G26:K26) -> 0
C27: Maintenance | G27: =[3]Parameter!L76 -> 54520000 | H27: =G27 -> 54520000 | I27: =H27 -> 54520000 | J27: =I27 -> 54520000 | K27: =J27 -> 54520000 | Q27: =SUM(G27:K27) -> 272600000
C28: SG&A | H28: =H21*$E$5 -> 0 | I28: =I21*$E$5 -> 0 | J28: =J21*$E$5 -> 0 | K28: =K21*$E$5 -> 0 | Q28: =SUM(G28:K28) -> 0
B29: Total OPEX | G29: =SUM(G24:G28) -> 164520000 | H29: =SUM(H24:H28) -> 54520000 | I29: =SUM(I24:I28) -> 54520000 | J29: =SUM(J24:J28) -> 54520000 | K29: =SUM(K24:K28) -> 54520000 | Q29: =SUM(Q24:Q28) -> 272600000
B30: Total EBITDA | G30: =G21-G29 -> -24520000 | H30: =H21-H29 -> 85480000 | I30: =I21-I29 -> 85480000 | J30: =J21-J29 -> 85480000 | K30: =K21-K29 -> 85480000 | Q30: =Q21-Q29 -> 427400000
B31: Ebitda margin | G31: 0 | H31: =H30/H21 -> 0.61057143 | I31: =I30/I21 -> 0.61057143 | J31: =J30/J21 -> 0.61057143 | K31: =K30/K21 -> 0.61057143 | Q31: =Q30/Q21 -> 0.61057143
B32: Depreciation Expense | G32: =G54 -> 31276150 | H32: =H54 -> 31276150 | I32: =I54 -> 31276150 | J32: =J54 -> 31276150 | K32: =K54 -> 31276150 | Q32: =SUM(G32:K32) -> 156380751
B33: Total EBIT | G33: =G30-G32 -> -55796150 | H33: =H30-H32 -> 54203850 | I33: =I30-I32 -> 54203850 | J33: =J30-J32 -> 54203850 | K33: =K30-K32 -> 54203850 | Q33: =Q30-Q32 -> 271019249
B34: Interest Expense | G34: =[3]Parameter!M34 -> 13372701 | H34: =[3]Parameter!N34 -> 4457567 | I34: =[3]Parameter!O34 -> 0 | J34: =[3]Parameter!O34 -> 0 | K34: =[3]Parameter!P34 -> 0 | Q34: =SUM(G34:K34) -> 17830268
B35: EBT | G35: =G33-G34 -> -69168851 | H35: =H33-H34 -> 49746283 | I35: =I33-I34 -> 54203850 | J35: =J33-J34 -> 54203850 | K35: =K33-K34 -> 54203850 | Q35: =SUM(G35:K35) -> 1.4318898e+08
B36: Tax Expense | G36: =IF(G35<0,0,G35*$E$3) -> 0 | H36: =IF(H35<0,0,H35*$E$3) -> 994925.66 | I36: =IF(I35<0,0,I35*$E$3) -> 1084077 | J36: =IF(J35<0,0,J35*$E$3) -> 1084077 | K36: =IF(K35<0,0,K35*$E$3) -> 1084077 | Q36: =SUM(G36:K36) -> 4247156.6
B37: Net Income | G37: =G35-G36 -> -69168851 | H37: =H35-H36 -> 48751357 | I37: =I35-I36 -> 53119773 | J37: =J35-J36 -> 53119773 | K37: =K35-K36 -> 53119773 | Q37: =Q35-Q36 -> 1.3894182e+08
B39: Capex | G39: =-G11 -> -156380751 | H39: =-I9+-I11 -> 0 | I39: =-J9+-J11 -> 0 | J39: =-K9+-K11 -> 0 | K39: =-L9+-L11 -> 0
B40: FCFF | F40: =F39 -> 0 | G40: =G39+G37+G32 -> -1.9427345e+08 | H40: =H39+H37+H32 -> 80027507 | I40: =I39+I37+I32 -> 84395923 | J40: =J39+J37+J32 -> 84395923 | K40: =K39+K37+K32 -> 84395923 | Q40: =SUM(F40:K40) -> 1.3894182e+08
B41: Accumulated FCF | F41: =F40 -> 0 | G41: =F41+G40 -> -1.9427345e+08 | H41: =G41+H40 -> -1.1424594e+08 | I41: =H41+I40 -> -29850021 | J41: =I41+J40 -> 54545902 | K41: =J41+K40 -> 1.3894182e+08
B42: PBP | G42: =IF(AND(F41<0,G41>0),G47-(G41/G40),0) -> 0 | H42: =IF(AND(G41<0,H41>0),H47-(H41/H40),0) -> 0 | I42: =IF(AND(H41<0,I41>0),I47-(I41/I40),0) -> 0 | J42: =IF(AND(I41<0,J41>0),J47-(J41/J40),0) -> 3.3536903 | K42: =IF(AND(J41<0,K41>0),K47-(K41/K40),0) -> 0
B43: IRR | F43: =IRR(G40:K40) -> 0.25440812
B44: NPV | F44: =NPV(E4,H40:K40)+G40 -> 69278981
...

Sheet Summary Review new (2)
C1: SUMMARY REVIEW
A3: Nama Site | C3: : Hotel Swissbell Batam
A4: Nama Pemilik | C4: : PT. Hotel Citra Batam Investama
A5: Alamat Pemilik | C5: : Harbour Bay Complex, Jl. Duyung Sei Jodoh Batam
A6: Telp | C6: : 0778-7415888
A7: Obyek Sewa | C7: : 65 Omni + 7 Unit Pole Antenna + RBS 40 m²
A9: No. | B9: Keterangan | C9: Existing | D9: Renewal
A11: 1. | B11: Scope Of Lease | C11: IBC & Outdoor Coverage | D11: IBC & Outdoor Coverage
A12: 2. | B12: Obyek Sewa | C12: =C7 -> : 65 Omni + 7 Unit Pole Antenna + RBS 40 m² | D12: =C7 -> : 65 Omni + 7 Unit Pole Antenna + RBS 40 m²
A13: 3. | B13: Periode Sewa | C13: 15 Mei 2019 s/d 14 Mei 2025(6 tahun), setahun grace period | D13: 15 Mei 2025 s/d 14 Mei 2030(5 tahun)
A14: 4 | B14: Harga Sewa / Masa Sewa | C14: 600000000 | D14: 850000000
B15: Harga Sewa / Tahun | C15: 120000000 | D15: 170000000 | E15: =(D15-C15)/C15 -> 0.41666667
A16: 5 | B16: Operator Join | C16: Telkomsel (06 Januari 2019 s/d 05 Januari 2024) | D16: Telkomsel (23 Mei 2024 s/d 22 Mei 2029)
A17: 6. | B17: Kenaikan/ Penurunan Harga | C17: Mengalami kenaikan 41,6%
D20: =250/600 -> 0.41666667

Sheet Analisa
A2: Join SITE Swissbell Batam dan Zest Batam
A3: Periode | B3: Start | C3: End
A4: Rev Tsel Swissbell | B4: 45435 | C4: 47260
A5: Rev XL Zest | B5: 45498 | C5: 46592
A6: Sewa BM Swissbell | B6: 45792 | C6: 11092
A7: Sewa BM Zest | B7: 44336 | C7: 46161
B9: Start | C9: End | D9: Days
A10: Worse >> Jika Sewa BM diperpanjang 5 tahun danOperator sesuai periodenya , maka:
A11: Rev Tsel Swissbell | B11: 45792 | C11: 47260 | D11: =C11-B11 -> 1468 | E11: =221952000*85% -> 188659200 | F11: =E11/365*D11 -> 7.587718e+08
A12: Rev XL Zest | B12: 45792 | C12: 46592 | D12: =C12-B12 -> 800 | E12: 140000000 | F12: =E12/365*D12 -> 3.0684932e+08
A13: Sewa BM Swissbell | B13: 45792 | C13: 47617 | D13: =C13-B13 -> 1825 | E13: 170000000 | F13: =-E13/365*D13 -> -850000000
A14: Sewa BM Zest | B14: 45792 | C14: 46161 | D14: =C14-B14 -> 369 | E14: =110000000/5 -> 22000000 | F14: =-E14/365*D14 -> -22241096
A15: Listrik Tsel Swissbell | B15: 45792 | C15: 47260 | D15: =C15-B15 -> 1468 | E15: 31200000 | F15: =-E15/365*D15 -> -1.2548384e+08
A16: OM Tsel Swissbell | B16: 45792 | C16: 47260 | D16: =C16-B16 -> 1468 | E16: =Parameter!D66 -> 22720000 | F16: =-E16/365*D16 -> -91377973
A17: OM XL Zest Batam | B17: 45792 | C17: 46592 | D17: =C17-B17 -> 800 | E17: =Parameter!E66 -> 33600000 | F17: =-E17/365*D17 -> -73643836
A18: Antisipasi Add Capex and Pole | E18: 100000000 | F18: =-E15/365*D15 -> -1.2548384e+08
A19: Profit | F19: =SUM(F11:F18) -> -2.2260946e+08
A21: Optimist >> Jika Sewa BM diperpanjang 5 tahun danOperator sesuai period BM, maka:
A22: Rev Tsel Swissbell | B22: 45792 | C22: 47617 | D22: =C22-B22 -> 1825 | E22: =221952000*85% -> 188659200 | F22: =E22/365*D22 -> 943296000
A23: Rev XL Zest | B23: 45792 | C23: 47617 | D23: =C23-B23 -> 1825 | E23: 140000000 | F23: =E23/365*D23 -> 700000000
A24: Sewa BM Swissbell | B24: 45792 | C24: 47617 | D24: =C24-B24 -> 1825 | E24: 170000000 | F24: =-E24/365*D24 -> -850000000
A25: Sewa BM Zest | B25: 45792 | C25: 47617 | D25: =C25-B25 -> 1825 | E25: =110000000/5 -> 22000000 | F25: =-E25/365*D25 -> -110000000
A26: Listrik Tsel Swissbell | B26: 45792 | C26: 47617 | D26: =C26-B26 -> 1825 | E26: 31200000 | F26: =-E26/365*D26 -> -156000000
A27: OM Tsel Swissbell | B27: 45792 | C27: 47617 | D27: =C27-B27 -> 1825 | E27: 22720000 | F27: =-E27/365*D27 -> -113600000
A28: OM XL Zest Batam | B28: 45792 | C28: 47617 | D28: =C28-B28 -> 1825 | E28: 33600000 | F28: =-E28/365*D28 -> -168000000
A29: Antisipasi Add Capex and Pole | E29: 100000000 | F29: =-E26/365*D26 -> -156000000
A30: Profit | F30: =SUM(F22:F29) -> 89696000
