Workbook
Name jk: #REF!
Name jk: #REF!
Name jk: #REF!
Name jk: #REF!
Name jk: #REF!
Name years_contract: [1]Kerlink!$D$5

Sheet Summary
B2: No. | C2: 0005/IRR/IBC/III/2025 | N2: =D7 -> : Graha Pena Surabaya
C3: Product : | D3: IBS / DAS | J3: Tanggal P&L: | M3: 45727
C4: Status P&L | D4: Extent
B6: Site Information | E6: Technical Information | J6: Financial Summary
B7: Site Name | D7: ='Summary Review new (2)'!C3 -> : Graha Pena Surabaya | E7: IBC | K7: Capex DAS | M7: 1446597954
B8: Address | E8: Antena PKS BM | H8: 150 | K8: Capex /antenna | M8: =M7/H9 -> 9213999.7
E9: Antena Asset | H9: 157 | K9: Contract Period (thn) | M9: 5
B10: Area building | E10: Jumlah Pole Makro | H10: 2 pole @ 6M | K10: Interest rate /year | M10: =[2]IRR!F3 -> 0.1
B11: Type of building | D11: Office | K11: Total Revenue | M11: =IRR!Q19 -> 1291050000
B12: Status | D12: Renewal | E12: OPENET | K12: Total Capex BV 28 Feb 25 | M12: =IRR!G11 -> 275120350
B13: Total floor | E13: Cable FO (Core) | H13: 0 | K13: Total Opex Sewa | M13: =IRR!Q22 -> 600000000
B14: No of building tower | E14: Cable FO (meter) | H14: 0 | K14: Total Opex Other | M14: =IRR!Q23+IRR!Q24+IRR!Q25 -> 417376250
B15: Sitac Tahun | E15: Drop Wire (meter) | H15: 0
E16: OTHERS | K16: IRR | M16: =IRR!F40 -> -0.0059725578
K17: NPV | M17: =IRR!F41 -> -1.1330909e+08
K18: EBITDA margin | M18: =IRR!F42 -> 0.21197765
K19: Payback (year) | M19: =IRR!F43 -> 0
B21: Target Achieved by Commercial: | K21: Prepared by
L22: Citra Kartika
C23: IRR Negatif (-1%) karena BV masih besar, jika tanpa BV maka IRR menjadi 34%
B28: Approved by

Sheet Parameter
A1: PERHITUNGAN INTEREST EXPENSE based CAPEX
A2: Capex tahun | B2: 5 | C2: 2017 | D2: =C2+1 -> 2018 | E2: =D2+1 -> 2019 | F2: =E2+1 -> 2020 | G2: =F2+1 -> 2021 | H2: =G2+1 -> 2022 | I2: =H2+1 -> 2023 | J2: =I2+1 -> 2024 | K2: =J2+1 -> 2025 | ... R2: =Q2+1 -> 2032
A3: =C2 -> 2017 | B3: loan | C3: 96484300 | D3: =C3-C4 -> 77187440 | E3: =D3-C4 -> 57890580 | F3: =E3-C4 -> 38593720 | G3: =F3-C4 -> 19296860 | H3: =G3-C4 -> 0 | I3: =H3-$E$4 -> 0 | J3: =I3-$E$4 -> 0 | R3: 2013 | S3: 1.7266708e+09
B4: Installment/thn | C4: =C3/B2 -> 19296860 | R4: 2014 | S4: 422342499
B5: Interest | C5: =(($C$3*IRR!E4*6)/12) -> 4824215 | D5: =AVERAGE(C3:D3)*IRR!E4 -> 8683587 | E5: =AVERAGE(D3:E3)*IRR!E4 -> 6753901 | F5: =AVERAGE(E3:F3)*IRR!E4 -> 4824215 | G5: =AVERAGE(F3:G3)*IRR!E4 -> 2894529 | H5: =AVERAGE(G3:H3)*IRR!E4 -> 964843 | I5: =AVERAGE($H$3:$I$3)*[3]IRR!$G$4 -> 0 | J5: =AVERAGE($I$3:$J$3)*[3]IRR!$G$4 -> 0 | R5: 2016 | S5: 10773000
A6: =A3+1 -> 2018 | B6: loan | D6: 1504055493 | E6: =D6-D7 -> 1.2032444e+09 | F6: =E6-D7 -> 9.024333e+08 | G6: =F6-D7 -> 6.016222e+08 | H6: =G6-D7 -> 3.008111e+08 | R6: 2017 | S6: 102210600
B7: Installment/thn | D7: =D6/B2 -> 3.008111e+08
B8: Interest | D8: =((D6*IRR!E4*6)/12) -> 75202775 | E8: =AVERAGE(D6:E6)*IRR!E4 -> 1.3536499e+08 | F8: =AVERAGE(E6:F6)*IRR!E4 -> 1.0528388e+08 | G8: =AVERAGE(F6:G6)*IRR!E4 -> 75202775 | H8: =AVERAGE(G6:H6)*IRR!E4 -> 45121665 | I8: =AVERAGE(H6:I6)*IRR!E4 -> 30081110
A9: =A6+1 -> 2019 | B9: loan | E9: 121155360 | F9: =E9-E10 -> 96924288 | G9: =F9-E10 -> 72693216 | H9: =G9-E10 -> 48462144 | I9: =H9-E10 -> 24231072 | J9: =I9-E10 -> 0
B10: Installment/thn | E10: =E9/B2 -> 24231072
B11: Interest | E11: =((E9*IRR!E4*6)/12) -> 6057768 | F11: =AVERAGE(E9:F9)*IRR!$E$4 -> 10903982 | G11: =AVERAGE(F9:G9)*IRR!$E$4 -> 8480875.2 | H11: =AVERAGE(G9:H9)*IRR!$E$4 -> 6057768 | I11: =AVERAGE(H9:I9)*IRR!$E$4 -> 3634660.8 | J11: =AVERAGE(I9:J9)*IRR!$E$4 -> 1211553.6
A12: =A9+1 -> 2020 | B12: loan | F12: 20145558 | G12: =F12-F13 -> 16116446 | H12: =G12-F13 -> 12087335 | I12: =H12-F13 -> 8058223.2 | J12: =I12-F13 -> 4029111.6 | K12: =J12-F13 -> 0
B13: Installment/thn | F13: =F12/B2 -> 4029111.6
B14: Interest | F14: =((F12*IRR!E4*6)/12) -> 1007277.9 | G14: =AVERAGE(F12:G12)*IRR!$E$4 -> 1813100.2 | H14: =AVERAGE(G12:H12)*IRR!$E$4 -> 1410189.1 | I14: =AVERAGE(H12:I12)*IRR!$E$4 -> 1007277.9 | J14: =AVERAGE(I12:J12)*IRR!$E$4 -> 604366.74 | K14: =AVERAGE(J12:K12)*IRR!$E$4 -> 201455.58
A15: =A12+1 -> 2021 | B15: loan | H15: =G15-G16 -> 0 | I15: =H15-G16 -> 0 | J15: =I15-G16 -> 0 | K15: =J15-G16 -> 0 | L15: =K15-G16 -> 0
B16: Installment/thn | G16: =G15/B2 -> 0
B17: Interest | G17: =((G15*IRR!E4*6)/12) -> 0 | H17: =AVERAGE(G15:H15)*IRR!$E$4 -> 0 | I17: =AVERAGE(H15:I15)*IRR!$E$4 -> 0 | J17: =AVERAGE(I15:J15)*IRR!$E$4 -> 0 | K17: =AVERAGE(J15:K15)*IRR!$E$4 -> 0 | L17: =AVERAGE(K15:L15)*IRR!$E$4 -> 0
A18: =A15+1 -> 2022 | B18: loan | I18: =H18-H19 -> 0 | J18: =I18-H19 -> 0 | K18: =J18-H19 -> 0 | L18: =K18-H19 -> 0 | M18: =L18-H19 -> 0
B19: Installment/thn | H19: =H18/B2 -> 0
B20: Interest | H20: =((H18*IRR!E4*6)/12) -> 0 | I20: =AVERAGE(H18:I18)*IRR!$E$4 -> 0 | J20: =AVERAGE(I18:J18)*IRR!$E$4 -> 0 | K20: =AVERAGE(J18:K18)*IRR!$E$4 -> 0 | L20: =AVERAGE(K18:L18)*IRR!$E$4 -> 0 | M20: =AVERAGE(L18:M18)*IRR!$E$4 -> 0
A21: =A18+1 -> 2023 | B21: loan | J21: =I21-I22 -> 0 | K21: =J21-I22 -> 0 | L21: =K21-I22 -> 0 | M21: =L21-I22 -> 0 | N21: =M21-I22 -> 0
B22: Installment/thn | I22: =I21/B2 -> 0
B23: Interest | I23: =((I21*IRR!E4*6)/12) -> 0 | J23: =AVERAGE(I21:J21)*IRR!$E$4 -> 0 | K23: =AVERAGE(J21:K21)*IRR!$E$4 -> 0 | L23: =AVERAGE(K21:L21)*IRR!$E$4 -> 0 | M23: =AVERAGE(L21:M21)*IRR!$E$4 -> 0 | N23: =AVERAGE(M21:N21)*IRR!$E$4 -> 0
A24: =A21+1 -> 2024 | B24: loan | K24: =J24-J25 -> 0 | L24: =K24-J25 -> 0 | M24: =L24-J25 -> 0 | N24: =M24-J25 -> 0 | O24: =N24-J25 -> 0
B25: Installment/thn | J25: =J24/B2 -> 0
B26: Interest | J26: =((J24*IRR!E4*6)/12) -> 0 | K26: =AVERAGE(J24:K24)*IRR!$E$4 -> 0 | L26: =AVERAGE(K24:L24)*IRR!$E$4 -> 0 | M26: =AVERAGE(L24:M24)*IRR!$E$4 -> 0 | N26: =AVERAGE(M24:N24)*IRR!$E$4 -> 0 | O26: =AVERAGE(N24:O24)*IRR!$E$4 -> 0
A27: =A24+1 -> 2025 | B27: loan | M27: =L27-L28 -> 0 | N27: =M27-L28 -> 0 | O27: =N27-L28 -> 0 | P27: =O27-L28 -> 0 | Q27: =P27-L28 -> 0
B28: Installment/thn | L28: =L27/B2 -> 0
B29: Interest | L29: =((L27*IRR!E4*6)/12) -> 0 | M29: =AVERAGE(L27:M27)*IRR!$E$4 -> 0 | N29: =AVERAGE(M27:N27)*IRR!$E$4 -> 0 | O29: =AVERAGE(N27:O27)*IRR!$E$4 -> 0 | P29: =AVERAGE(O27:P27)*IRR!$E$4 -> 0 | Q29: =AVERAGE(P27:Q27)*IRR!$E$4 -> 0
A30: =A27+1 -> 2026 | B30: loan | N30: =M30-M31 -> 0 | O30: =N30-M31 -> 0 | P30: =O30-M31 -> 0 | Q30: =P30-M31 -> 0 | R30: =Q30-M31 -> 0
B31: Installment/thn | M31: =M30/B2 -> 0
B32: Interest | M32: =((M30*IRR!E4*6)/12) -> 0 | N32: =AVERAGE(M30:N30)*IRR!$E$4 -> 0 | O32: =AVERAGE(N30:O30)*IRR!$E$4 -> 0 | P32: =AVERAGE(O30:P30)*IRR!$E$4 -> 0 | Q32: =AVERAGE(P30:Q30)*IRR!$E$4 -> 0 | R32: =AVERAGE(Q30:R30)*IRR!$E$4 -> 0
B34: Interest Exp | C34: =C5+C8+C11+C14+C17+C20+C23+C26+C29+C32 -> 4824215 | D34: =D5+D8+D11+D14+D17+D20+D23+D26+D29+D32 -> 83886362 | E34: =E5+E8+E11+E14+E17+E20+E23+E26+E29+E32 -> 1.4817666e+08 | F34: =F5+F8+F11+F14+F17+F20+F23+F26+F29+F32 -> 1.2201936e+08 | G34: =G5+G8+G11+G14+G17+G20+G23+G26+G29+G32 -> 88391279 | H34: =H5+H8+H11+H14+H17+H20+H23+H26+H29+H32 -> 53554465 | I34: =I5+I8+I11+I14+I17+I20+I23+I26+I29+I32 -> 34723049 | J34: =J5+J8+J11+J14+J17+J20+J23+J26+J29+J32 -> 1815920.3 | ... R34: =R5+R8+R11+R14+R17+R20+R23+R26+R29+R32 -> 2016
A37: PERHITUNGAN SG&A
A38: Untuk IBC | B38: Start tahun pertama | C38: 50000000
A39: Untuk Opennet | B39: Start tahun pertama | C39: 20000000
A40: Untuk IBC Ext | B40: tiap tahun = Rev x 5%
A41: Untuk Opennet Ext | B41: tiap tahun = Rev x 5%
A43: SG&A | B43: =C38 -> 50000000 | C43: =B43+C44 -> 51000000 | D43: =C43+D45 -> 52020000 | E43: =D43+E45 -> 53060400 | F43: =E43+F45 -> 54121608 | G43: =F43+G45 -> 55204040 | H43: =G43+H45 -> 56308121 | I43: =H43+I45 -> 57434283 | J43: =I43+J45 -> 58582969 | K43: =J43+K45 -> 59754628
A44: 0.02 | C44: =C45 -> 1000000 | D44: =C44+D45 -> 2020000 | E44: =D44+E45 -> 3060400 | F44: =E44+F45 -> 4121608 | G44: =F44+G45 -> 5204040.2 | H44: =G44+H45 -> 6308121 | I44: =H44+I45 -> 7434283.4 | J44: =I44+J45 -> 8582969.1 | K44: =J44+K45 -> 9754628.4
...

Sheet IRR
B1: No | C1: 0005/IRR/IBC/III/2025 | Q1: =Summary!D7 -> : Graha Pena Surabaya
B2: General | H2: Operator join | I2: Rev.Change
C3: Tax Rate | E3: 0.02
C4: Interest Rate | E4: 0.1
C5: SG&A | E5: 0.025 | F5: from Revenues
C6: BHPUSO | E6: 0 | F6: from Revenues
B8: Total CAPEX | G8: Y1 | H8: Y2 | I8: Y3 | J8: Y4 | K8: Y5 | L8: Y6 | M8: Y7 | N8: Y8 | O8: Y9 | P8: Y10
D9: BV 28 Feb 25 | F9: 157 | G9: 275120350 | H9: 0 | I9: 0 | J9: 0 | Q9: =SUM(G9:K9) -> 275120350
Q10: =G10 -> 0
G11: =SUM(G9:G10) -> 275120350 | Q11: =Q10+Q9 -> 275120350
G12: 2025 | H12: =G12+1 -> 2026 | I12: =H12+1 -> 2027 | J12: =I12+1 -> 2028 | K12: =J12+1 -> 2029 | L12: =K12+1 -> 2030 | M12: =L12+1 -> 2031 | N12: =M12+1 -> 2032 | O12: =N12+1 -> 2033 | P12: =O12+1 -> 2034
B13: IRR Calculation | F13: Year 0 | G13: Year 1 | H13: Year 2 | I13: Year 3 | J13: Year 4 | K13: Year 5 | L13: Year 6 | M13: Year 7 | N13: Year 8 | O13: Year 9 | P13: Year 10 | Q13: Total
B14: Months of Service | G14: 12 | H14: 12 | I14: 12 | J14: 12 | K14: 12
B16: Revenues
C17: TSEL | G17: 258210000 | H17: =G17 -> 258210000 | I17: =H17 -> 258210000 | J17: =I17 -> 258210000 | K17: =J17 -> 258210000 | Q17: =SUM(G17:K17) -> 1291050000
B19: Total Revenues (SF) | G19: =SUM(G17:G18) -> 258210000 | H19: =SUM(H17:H18) -> 258210000 | I19: =SUM(I17:I18) -> 258210000 | J19: =SUM(J17:J18) -> 258210000 | K19: =SUM(K17:K18) -> 258210000 | Q19: =SUM(G19:K19) -> 1291050000
B21: OPEX
C22: Lease to BM | G22: 300000000 | H22: 300000000 | Q22: =SUM(G22:K22) -> 600000000
C23: Electricity | G23: 61000000 | H23: =G23 -> 61000000 | I23: =H23 -> 61000000 | J23: =I23 -> 61000000 | K23: =J23 -> 61000000 | Q23: =SUM(G23:K23) -> 305000000
C24: Maintenance | G24: =Parameter!L77 -> 16020000 | H24: =G24 -> 16020000 | I24: =H24 -> 16020000 | J24: =I24 -> 16020000 | K24: =J24 -> 16020000 | Q24: =SUM(G24:K24) -> 80100000
C25: SG&A | G25: =G19*$E$5 -> 6455250 | H25: =H19*$E$5 -> 6455250 | I25: =I19*$E$5 -> 6455250 | J25: =J19*$E$5 -> 6455250 | K25: =K19*$E$5 -> 6455250 | Q25: =SUM(G25:K25) -> 32276250
B26: Total OPEX | G26: =SUM(G22:G25) -> 383475250 | H26: =SUM(H22:H25) -> 383475250 | I26: =SUM(I22:I25) -> 83475250 | J26: =SUM(J22:J25) -> 83475250 | K26: =SUM(K22:K25) -> 83475250 | Q26: =SUM(Q22:Q25) -> 1017376250
B27: Total EBITDA | G27: =G19-G26 -> -125265250 | H27: =H19-H26 -> -125265250 | I27: =I19-I26 -> 174734750 | J27: =J19-J26 -> 174734750 | K27: =K19-K26 -> 174734750 | Q27: =Q19-Q26 -> 273673750
B28: Ebitda margin | G28: 0 | H28: =H27/H19 -> -0.48512935 | I28: =I27/I19 -> 0.67671566 | J28: =J27/J19 -> 0.67671566 | K28: =K27/K19 -> 0.67671566 | Q28: =Q27/Q19 -> 0.21197765
B29: Depreciation Expense | G29: =G51 -> 55024070 | H29: =H51 -> 55024070 | I29: =I51 -> 55024070 | J29: =J51 -> 55024070 | K29: =K51 -> 55024070 | Q29: =SUM(G29:K29) -> 275120350
B30: Total EBIT | G30: =G27-G29 -> -180289320 | H30: =H27-H29 -> -180289320 | I30: =I27-I29 -> 119710680 | J30: =J27-J29 -> 119710680 | K30: =K27-K29 -> 119710680 | Q30: =Q27-Q29 -> -1446600
B31: Interest Expense | G31: =Parameter!N34 -> 0 | H31: =Parameter!O34 -> 0 | I31: =Parameter!P34 -> 0 | J31: =Parameter!Q34 -> 0 | Q31: =SUM(G31:K31) -> 0
B32: EBT | G32: =G30-G31 -> -180289320 | H32: =H30-H31 -> -180289320 | I32: =I30-I31 -> 119710680 | J32: =J30-J31 -> 119710680 | K32: =K30-K31 -> 119710680 | Q32: =SUM(G32:K32) -> -1446600
B33: Tax Expense | G33: =IF(G32<0,0,G32*$E$3) -> 0 | H33: =IF(H32<0,0,H32*$E$3) -> 0 | I33: =IF(I32<0,0,I32*$E$3) -> 2394213.6 | J33: =IF(J32<0,0,J32*$E$3) -> 2394213.6 | K33: =IF(K32<0,0,K32*$E$3) -> 2394213.6 | Q33: =SUM(G33:K33) -> 7182640.8
B34: Net Income | G34: =G32-G33 -> -180289320 | H34: =H32-H33 -> -180289320 | I34: =I32-I33 -> 1.1731647e+08 | J34: =J32-J33 -> 1.1731647e+08 | K34: =K32-K33 -> 1.1731647e+08 | Q34: =Q32-Q33 -> -8629240.8
B36: Capex | G36: =-G11 -> -275120350 | H36: =-I9+-I11 -> 0 | I36: =-J9+-J11 -> 0 | J36: =-K9+-K11 -> 0 | K36: =-L9+-L11 -> 0
B37: FCFF | F37: =F36 -> 0 | G37: =G36+G34+G29 -> -400385600 | H37: =H36+H34+H29 -> -125265250 | I37: =I36+I34+I29 -> 1.7234054e+08 | J37: =J36+J34+J29 -> 1.7234054e+08 | K37: =K36+K34+K29 -> 1.7234054e+08 | Q37: =SUM(F37:K37) -> -8629240.8
B38: Accumulated FCF | F38: =F37 -> 0 | G38: =F38+G37 -> -400385600 | H38: =G38+H37 -> -525650850 | I38: =H38+I37 -> -3.5331031e+08 | J38: =I38+J37 -> -1.8096978e+08 | K38: =J38+K37 -> -8629240.8
B39: PBP | G39: =IF(AND(F38<0,G38>0),G44-(G38/G37),0) -> 0 | H39: =IF(AND(G38<0,H38>0),H44-(H38/H37),0) -> 0 | I39: =IF(AND(H38<0,I38>0),I44-(I38/I37),0) -> 0 | J39: =IF(AND(I38<0,J38>0),J44-(J38/J37),0) -> 0 | K39: =IF(AND(J38<0,K38>0),K44-(K38/K37),0) -> 0
B40: IRR | F40: =IRR(F37:K37) -> -0.0059725578
B41: NPV | F41: =NPV(E4,G37:K37)+F37 -> -1.1330909e+08
B42: EBITDA margin | F42: =Q28 -> 0.21197765
B43: Payback | F43: =SUM(F39:K39) -> 0
G44: 1 | H44: 2 | I44: 3 | J44: 4 | K44: 5
B45: Depreciation Calculation | E45: no of Year depreciated | G45: =G13 -> Year 1 | H45: =H13 -> Year 2 | I45: =I13 -> Year 3 | J45: =J13 -> Year 4 | K45: =K13 -> Year 5
...

Sheet Summary Review new (2)
C1: SUMMARY REVIEW
A3: Nama Site | C3: : Graha Pena Surabaya
A4: Nama Pemilik | C4: : PT. Graha Pena Jawa Pos
A5: Alamat Pemilik | C5: : Jln. Ahmad Yani No. 88
A6: Telp | C6: :
A7: Obyek Sewa | C7: : 61 omni, 30 m2 RBS Room
A9: No. | B9: Keterangan | C9: Existing | D9: Renewal
A11: 1. | B11: Scope Of Lease | C11: IBC | D11: IBC
A12: 2. | B12: Obyek Sewa | C12: 82 omni, 8 Pole & 30 m2 RBS Room | D12: 82 omni, 8 Pole & 30 m2 RBS Room
A13: 3. | B13: Periode Sewa | C13: 27 Maret 2020 s/d 26 Maret 2025 (5 tahun) | D13: 27 Maret 2025 s/d 26 Maret 2030 (5 tahun)
A14: 4 | B14: Harga Sewa / Masa Sewa | C14: Rp. 500.000.000 | D14: 600000000
B15: Harga Sewa / Tahun | C15: Rp. 100.000.000 | D15: 120000000
A16: 5 | B16: Operator Join | C16: TSEL (11/11/2021 s/d 10/11/2026) | D16: TSEL (11/11/2021 s/d 10/11/2026)
C17: Rp. 258.210.000 | D17: Rp. 258.210.000
A18: 6. | B18: Kenaikan/ Penurunan Harga | C18: mengalami kenaikan harga sebesar 20 %

Sheet Analisa
A2: SITE Graha Pena Surabaya
A3: Periode | B3: Start | C3: End
A4: Rev Tsel | B4: 44511 | C4: 46336
A5: Sewa BM | B5: 45743 | C5: 11043
B7: Start | C7: End | D7: Days
A8: Worse >> Jika Sewa BM diperpanjang 5 tahun dan Tsel sesuai periodenya Tsel, maka:
A9: Rev Tsel | B9: 45743 | C9: 46336 | D9: =C9-B9 -> 593 | E9: 258210000 | F9: =E9/365*D9 -> 4.1950282e+08
A10: Sewa BM | B10: 45743 | C10: 47568 | D10: =C10-B10 -> 1825 | E10: 120000000 | F10: =-E10/365*D10 -> -600000000
A11: Listrik | B11: 45743 | C11: 46336 | D11: =C11-B11 -> 593 | E11: 61000000
A12: OM | B12: 45743 | C12: 46336 | D12: =C12-B12 -> 593 | E12: 16020000 | F12: =-E12/365*D12 -> -26027014
A13: Antisipasi Add Capex and Pole | E13: 100000000
A14: Profit | F14: =SUM(F9:F13) -> -2.0652419e+08
A16: Conservative >> Jika Sewa BM diperpanjang sesuai Periode Tsel , maka:
A17: Rev Tsel | B17: 45743 | C17: 46336 | D17: =C17-B17 -> 593 | E17: 258210000 | F17: =E17/365*D17 -> 4.1950282e+08
A18: Sewa BM | B18: 45743 | C18: 46336 | D18: =C18-B18 -> 593 | E18: 120000000 | F18: =-E18/365*D18 -> -1.949589e+08
A19: Listrik | B19: 45743 | C19: 46336 | D19: =C19-B19 -> 593 | E19: 61000000 | F19: =-E19/365*D19 -> -99104110
A20: OM | B20: 45743 | C20: 46336 | D20: =C20-B20 -> 593 | E20: 16020000 | F20: =-E20/365*D20 -> -26027014
A21: Antisipasi Add Capex and Pole | E21: 100000000
A22: Profit | F22: =SUM(F17:F21) -> 99412795
A24: Optimis >> Jika Sewa BM diperpanjang 5thn dan Tsel mengikuti, maka:
A25: Rev Tsel | B25: 45743 | C25: 47568 | D25: 1825 | E25: 258210000 | F25: =E25/365*D25 -> 1291050000
A26: Sewa BM | B26: 45743 | C26: 47568 | D26: 1825 | E26: 120000000 | F26: =-E26/365*D26 -> -600000000
A27: Listrik | B27: 45743 | C27: 47568 | D27: 1825 | E27: 61000000 | F27: =-E27/365*D27 -> -305000000
A28: OM | B28: 45743 | C28: 47568 | D28: 1825 | E28: 16020000 | F28: =-E28/365*D28 -> -80100000
A29: Antisipasi Add Capex and Pole | E29: 100000000 | F29: =SUM(F25:F28) -> 305950000
A30: Profit
