Workbook
Name jk: #REF!
Name jk: #REF!
Name jk: #REF!
Name jk: #REF!
Name years_contract: [1]Kerlink!$D$5

Sheet Summary
B2: No. | N2: =D7 -> QBIG BSD CITY Blok G-03 (ex Court)
C3: Product : | D3: IBS / DAS | J3: Tanggal P&L:
C4: Status P&L | D4: Renewal
B6: Site Information | E6: Technical Information | J6: Financial Summary
B7: Site Name | D7: QBIG BSD CITY Blok G-03 (ex Court) | E7: IBC | K7: Capex DAS | M7: 748946207
B8: Address | E8: Antena PKS BM | H8: 85 | K8: Capex /antenna | M8: =M7/H9 -> 9023448.3
E9: Antena Asset | H9: 83 | K9: Contract Period (thn) | M9: 5
B10: Area building | E10: Jumlah Pole Makro | K10: Interest rate /year | M10: =[2]IRR!F3 -> 0.1
B11: Type of building | K11: Total Revenue | M11: =IRR!Q21 -> 2.0897991e+09
B12: Status | D12: Renewal | E12: OPENET | K12: Total Capex BV 31 jan 25 | M12: =IRR!G11 -> 175741097
B13: Total floor | E13: Cable FO (Core) | H13: 0 | K13: Total Opex Sewa | M13: =IRR!Q24 -> 402050000
B14: No of building tower | E14: Cable FO (meter) | H14: 0 | K14: Total Opex Other | M14: =IRR!Q25+IRR!Q26+IRR!Q27 -> 5.7124498e+08
B15: Sitac Tahun | E15: Drop Wire (meter) | H15: 0
E16: OTHERS | K16: IRR | M16: =IRR!F42 -> 0.99752237
K17: NPV | M17: =IRR!F43 -> 6.6418137e+08
K18: EBITDA margin | M18: =IRR!F44 -> 0.53426386
K19: Payback (year) | M19: =IRR!F45 -> 1.9416659
B21: Target Achieved by Commercial: | K21: Prepared by
B22: Revenue | D22: : | L22: Citra Kartika
D23: :
D24: :
B28: Approved by

Sheet IRR
B1: No | C1: 0024/IRR/IBC/VIII/2024 | Q1: =Summary!D7 -> QBIG BSD CITY Blok G-03 (ex Court)
B2: General | H2: Operator join | I2: Rev.Change
C3: Tax Rate | E3: 0.02
C4: Interest Rate | E4: 0.1
C5: SG&A | E5: =2.5% -> 0.025 | F5: from Revenues
C6: BHPUSO | E6: 0 | F6: from Revenues
B8: Total CAPEX | G8: Y1 | H8: Y2 | I8: Y3 | J8: Y4 | K8: Y5 | L8: Y6 | M8: Y7 | N8: Y8 | O8: Y9 | P8: Y10
D9: BV 31Jan25 | F9: 85 | G9: 175741097 | H9: 0 | I9: 0 | J9: 0 | Q9: =SUM(G9:K9) -> 175741097
Q10: =G10 -> 0
G11: =SUM(G9:G10) -> 175741097 | Q11: =Q10+Q9 -> 175741097
G12: 2025 | H12: =G12+1 -> 2026 | I12: =H12+1 -> 2027 | J12: =I12+1 -> 2028 | K12: =J12+1 -> 2029 | L12: =K12+1 -> 2030 | M12: =L12+1 -> 2031 | N12: =M12+1 -> 2032 | O12: =N12+1 -> 2033 | P12: =O12+1 -> 2034
B13: IRR Calculation | F13: Year 0 | G13: Year 1 | H13: Year 2 | I13: Year 3 | J13: Year 4 | K13: Year 5 | L13: Year 6 | M13: Year 7 | N13: Year 8 | O13: Year 9 | P13: Year 10 | Q13: Total
B14: Months of Service | G14: 12 | H14: 12 | I14: 12 | J14: 12 | K14: 12
B16: Revenues
C17: TSEL | G17: 170335200 | H17: =G17 -> 170335200 | I17: =H17 -> 170335200 | J17: =I17+(I17*I3) -> 170335200 | K17: =J17 -> 170335200 | Q17: =SUM(G17:K17) -> 851676000
C18: IOH 32% sesuai porsi dr Accounting) | G18: =305076961*32% -> 97624628 | H18: =G18 -> 97624628 | I18: =H18 -> 97624628 | J18: =I18 -> 97624628 | K18: =(J18+(J18*I4)) -> 97624628 | Q18: =SUM(G18:K18) -> 4.8812314e+08
C19: XL | G19: =150000000+(150000000*I3) -> 150000000 | H19: =G19 -> 150000000 | I19: =H19 -> 150000000 | J19: =I19 -> 150000000 | K19: =J19 -> 150000000 | Q19: =SUM(G19:K19) -> 750000000
Q20: =SUM(G20:K20) -> 0
B21: Total Revenues (SF) | G21: =SUM(G17:G20) -> 4.1795983e+08 | H21: =SUM(H17:H20) -> 4.1795983e+08 | I21: =SUM(I17:I20) -> 4.1795983e+08 | J21: =SUM(J17:J20) -> 4.1795983e+08 | K21: =SUM(K17:K20) -> 4.1795983e+08 | Q21: =SUM(G21:K21) -> 2.0897991e+09
B23: OPEX
C24: Lease to BM | G24: 402050000 | Q24: =SUM(G24:K24) -> 402050000
C25: Electricity (min40j x68% > IOH di QBIG) | G25: =110000000-(40000000*68%) -> 82800000 | H25: =G25 -> 82800000 | I25: =H25 -> 82800000 | J25: =I25 -> 82800000 | K25: =J25 -> 82800000 | Q25: =SUM(G25:K25) -> 414000000
C26: Maintenance | G26: =7000000*3 -> 21000000 | H26: =G26 -> 21000000 | I26: =H26 -> 21000000 | J26: =I26 -> 21000000 | K26: =J26 -> 21000000 | Q26: =SUM(G26:K26) -> 105000000
C27: SG&A | G27: =G21*$E$5 -> 10448996 | H27: =H21*$E$5 -> 10448996 | I27: =I21*$E$5 -> 10448996 | J27: =J21*$E$5 -> 10448996 | K27: =K21*$E$5 -> 10448996 | Q27: =SUM(G27:K27) -> 52244978
B28: Total OPEX | G28: =SUM(G24:G27) -> 5.16299e+08 | H28: =SUM(H24:H27) -> 1.14249e+08 | I28: =SUM(I24:I27) -> 1.14249e+08 | J28: =SUM(J24:J27) -> 1.14249e+08 | K28: =SUM(K24:K27) -> 1.14249e+08 | Q28: =SUM(Q24:Q27) -> 9.7329498e+08
B29: Total EBITDA | G29: =G21-G28 -> -98339168 | H29: =H21-H28 -> 3.0371083e+08 | I29: =I21-I28 -> 3.0371083e+08 | J29: =J21-J28 -> 3.0371083e+08 | K29: =K21-K28 -> 3.0371083e+08 | Q29: =Q21-Q28 -> 1.1165042e+09
B30: Ebitda margin | G30: 0 | H30: =H29/H21 -> 0.72665077 | I30: =I29/I21 -> 0.72665077 | J30: =J29/J21 -> 0.72665077 | K30: =K29/K21 -> 0.72665077 | Q30: =Q29/Q21 -> 0.53426386
B31: Depreciation Expense | G31: =G53 -> 35148219 | H31: =H53 -> 35148219 | I31: =I53 -> 35148219 | J31: =J53 -> 35148219 | K31: =K53 -> 35148219 | Q31: =SUM(G31:K31) -> 175741097
B32: Total EBIT | G32: =G29-G31 -> -1.3348739e+08 | H32: =H29-H31 -> 2.6856261e+08 | I32: =I29-I31 -> 2.6856261e+08 | J32: =J29-J31 -> 2.6856261e+08 | K32: =K29-K31 -> 2.6856261e+08 | Q32: =Q29-Q31 -> 9.4076306e+08
B33: Interest Expense | G33: =Parameter!K34 -> 5113179.1 | H33: =Parameter!L34 -> 1888503.8 | I33: =Parameter!M34 -> 620424.9 | J33: =Parameter!N34 -> 185433.3 | K33: =Parameter!O34 -> 0 | Q33: =SUM(G33:K33) -> 7807541
B34: EBT | G34: =G32-G33 -> -1.3860057e+08 | H34: =H32-H33 -> 2.6667411e+08 | I34: =I32-I33 -> 2.6794219e+08 | J34: =J32-J33 -> 2.6837718e+08 | K34: =K32-K33 -> 2.6856261e+08 | Q34: =SUM(G34:K34) -> 9.3295552e+08
B35: Tax Expense | G35: =IF(G34<0,0,G34*$E$3) -> 0 | H35: =IF(H34<0,0,H34*$E$3) -> 5333482.2 | I35: =IF(I34<0,0,I34*$E$3) -> 5358843.8 | J35: =IF(J34<0,0,J34*$E$3) -> 5367543.6 | K35: =IF(K34<0,0,K34*$E$3) -> 5371252.2 | Q35: =SUM(G35:K35) -> 21431122
B36: Net Income | G36: =G34-G35 -> -1.3860057e+08 | H36: =H34-H35 -> 2.6134063e+08 | I36: =I34-I35 -> 2.6258334e+08 | J36: =J34-J35 -> 2.6300964e+08 | K36: =K34-K35 -> 2.6319136e+08 | Q36: =Q34-Q35 -> 9.115244e+08
B38: Capex | G38: =-G11 -> -175741097 | H38: =-I9+-I11 -> 0 | I38: =-J9+-J11 -> 0 | J38: =-K9+-K11 -> 0 | K38: =-L9+-L11 -> 0
B39: FCFF | F39: =F38 -> 0 | G39: =G38+G36+G31 -> -2.7919344e+08 | H39: =H38+H36+H31 -> 2.9648885e+08 | I39: =I38+I36+I31 -> 2.9773156e+08 | J39: =J38+J36+J31 -> 2.9815785e+08 | K39: =K38+K36+K31 -> 2.9833958e+08 | Q39: =SUM(F39:K39) -> 9.115244e+08
B40: Accumulated FCF | F40: =F39 -> 0 | G40: =F40+G39 -> -2.7919344e+08 | H40: =G40+H39 -> 17295402 | I40: =H40+I39 -> 3.1502696e+08 | J40: =I40+J39 -> 6.1318482e+08 | K40: =J40+K39 -> 9.115244e+08
B41: PBP | G41: =IF(AND(F40<0,G40>0),G46-(G40/G39),0) -> 0 | H41: =IF(AND(G40<0,H40>0),H46-(H40/H39),0) -> 1.9416659 | I41: =IF(AND(H40<0,I40>0),I46-(I40/I39),0) -> 0 | J41: =IF(AND(I40<0,J40>0),J46-(J40/J39),0) -> 0 | K41: =IF(AND(J40<0,K40>0),K46-(K40/K39),0) -> 0
B42: IRR | F42: =IRR(G39:K39) -> 0.99752237
B43: NPV | F43: =NPV(E4,H39:K39)+G39 -> 6.6418137e+08
B44: EBITDA margin | F44: =Q30 -> 0.53426386
...

Sheet Parameter
A1: PERHITUNGAN INTEREST EXPENSE based CAPEX
A2: Capex tahun | B2: 5 | C2: 2017 | D2: =C2+1 -> 2018 | E2: =D2+1 -> 2019 | F2: =E2+1 -> 2020 | G2: =F2+1 -> 2021 | H2: =G2+1 -> 2022 | I2: =H2+1 -> 2023 | J2: =I2+1 -> 2024 | K2: =J2+1 -> 2025 | ... R2: =Q2+1 -> 2032
A3: =C2 -> 2017 | B3: loan | C3: 746946207 | D3: =C3-C4 -> 5.9755697e+08 | E3: =D3-C4 -> 4.4816772e+08 | F3: =E3-C4 -> 2.9877848e+08 | G3: =F3-C4 -> 1.4938924e+08 | H3: =G3-C4 -> 0 | I3: =H3-$E$4 -> 0 | J3: =I3-$E$4 -> 0 | R3: 2013 | S3: 1.7266708e+09
B4: Installment/thn | C4: =C3/B2 -> 1.4938924e+08 | R4: 2014 | S4: 422342499
B5: Interest | C5: =(($C$3*IRR!E4*6)/12) -> 37347310 | D5: =AVERAGE(C3:D3)*IRR!E4 -> 67225159 | E5: =AVERAGE(D3:E3)*IRR!E4 -> 52286234 | F5: =AVERAGE(E3:F3)*IRR!E4 -> 37347310 | G5: =AVERAGE(F3:G3)*IRR!E4 -> 22408386 | H5: =AVERAGE(G3:H3)*IRR!E4 -> 7469462.1 | I5: =AVERAGE($H$3:$I$3)*[3]IRR!$G$4 -> 0 | J5: =AVERAGE($I$3:$J$3)*[3]IRR!$G$4 -> 0 | R5: 2016 | S5: 10773000
A6: =A3+1 -> 2018 | B6: loan | E6: =D6-D7 -> 0 | F6: =E6-D7 -> 0 | G6: =F6-D7 -> 0 | H6: =G6-D7 -> 0 | R6: 2017 | S6: 102210600
B7: Installment/thn | D7: =D6/B2 -> 0
B8: Interest | D8: =((D6*IRR!E4*6)/12) -> 0 | E8: =AVERAGE(D6:E6)*IRR!E4 -> 0 | F8: =AVERAGE(E6:F6)*IRR!E4 -> 0 | G8: =AVERAGE(F6:G6)*IRR!E4 -> 0 | H8: =AVERAGE(G6:H6)*IRR!E4 -> 0 | I8: =AVERAGE(H6:I6)*IRR!E4 -> 0
A9: =A6+1 -> 2019 | B9: loan | F9: =E9-E10 -> 0 | G9: =F9-E10 -> 0 | H9: =G9-E10 -> 0 | I9: =H9-E10 -> 0 | J9: =I9-E10 -> 0
B10: Installment/thn | E10: =E9/B2 -> 0
B11: Interest | E11: =((E9*IRR!E4*6)/12) -> 0 | F11: =AVERAGE(E9:F9)*IRR!$E$4 -> 0 | G11: =AVERAGE(F9:G9)*IRR!$E$4 -> 0 | H11: =AVERAGE(G9:H9)*IRR!$E$4 -> 0 | I11: =AVERAGE(H9:I9)*IRR!$E$4 -> 0 | J11: =AVERAGE(I9:J9)*IRR!$E$4 -> 0
A12: =A9+1 -> 2020 | B12: loan | F12: 118763419 | G12: =F12-F13 -> 95010735 | H12: =G12-F13 -> 71258051 | I12: =H12-F13 -> 47505368 | J12: =I12-F13 -> 23752684 | K12: =J12-F13 -> 0
B13: Installment/thn | F13: =F12/B2 -> 23752684
B14: Interest | F14: =((F12*IRR!E4*6)/12) -> 5938171 | G14: =AVERAGE(F12:G12)*IRR!$E$4 -> 10688708 | H14: =AVERAGE(G12:H12)*IRR!$E$4 -> 8313439.3 | I14: =AVERAGE(H12:I12)*IRR!$E$4 -> 5938171 | J14: =AVERAGE(I12:J12)*IRR!$E$4 -> 3562902.6 | K14: =AVERAGE(J12:K12)*IRR!$E$4 -> 1187634.2
A15: =A12+1 -> 2021 | B15: loan | G15: 76896226 | H15: =G15-G16 -> 61516981 | I15: =H15-G16 -> 46137736 | J15: =I15-G16 -> 30758490 | K15: =J15-G16 -> 15379245 | L15: =K15-G16 -> 0
B16: Installment/thn | G16: =G15/B2 -> 15379245
B17: Interest | G17: =((G15*IRR!E4*6)/12) -> 3844811.3 | H17: =AVERAGE(G15:H15)*IRR!$E$4 -> 6920660.3 | I17: =AVERAGE(H15:I15)*IRR!$E$4 -> 5382735.8 | J17: =AVERAGE(I15:J15)*IRR!$E$4 -> 3844811.3 | K17: =AVERAGE(J15:K15)*IRR!$E$4 -> 2306886.8 | L17: =AVERAGE(K15:L15)*IRR!$E$4 -> 768962.26
A18: =A15+1 -> 2022 | B18: loan | H18: 6412500 | I18: =H18-H19 -> 5130000 | J18: =I18-H19 -> 3847500 | K18: =J18-H19 -> 2565000 | L18: =K18-H19 -> 1282500 | M18: =L18-H19 -> 0
B19: Installment/thn | H19: =H18/B2 -> 1282500
B20: Interest | H20: =((H18*IRR!E4*6)/12) -> 320625 | I20: =AVERAGE(H18:I18)*IRR!$E$4 -> 577125 | J20: =AVERAGE(I18:J18)*IRR!$E$4 -> 448875 | K20: =AVERAGE(J18:K18)*IRR!$E$4 -> 320625 | L20: =AVERAGE(K18:L18)*IRR!$E$4 -> 192375 | M20: =AVERAGE(L18:M18)*IRR!$E$4 -> 64125
A21: =A18+1 -> 2023 | B21: loan | I21: 18543330 | J21: =I21-I22 -> 14834664 | K21: =J21-I22 -> 11125998 | L21: =K21-I22 -> 7417332 | M21: =L21-I22 -> 3708666 | N21: =M21-I22 -> 0
B22: Installment/thn | I22: =I21/B2 -> 3708666
B23: Interest | I23: =((I21*IRR!E4*6)/12) -> 927166.5 | J23: =AVERAGE(I21:J21)*IRR!$E$4 -> 1668899.7 | K23: =AVERAGE(J21:K21)*IRR!$E$4 -> 1298033.1 | L23: =AVERAGE(K21:L21)*IRR!$E$4 -> 927166.5 | M23: =AVERAGE(L21:M21)*IRR!$E$4 -> 556299.9 | N23: =AVERAGE(M21:N21)*IRR!$E$4 -> 185433.3
A24: =A21+1 -> 2024 | B24: loan | K24: =J24-J25 -> 0 | L24: =K24-J25 -> 0 | M24: =L24-J25 -> 0 | N24: =M24-J25 -> 0 | O24: =N24-J25 -> 0
B25: Installment/thn | J25: =J24/B2 -> 0
B26: Interest | J26: =((J24*IRR!E4*6)/12) -> 0 | K26: =AVERAGE(J24:K24)*IRR!$E$4 -> 0 | L26: =AVERAGE(K24:L24)*IRR!$E$4 -> 0 | M26: =AVERAGE(L24:M24)*IRR!$E$4 -> 0 | N26: =AVERAGE(M24:N24)*IRR!$E$4 -> 0 | O26: =AVERAGE(N24:O24)*IRR!$E$4 -> 0
A27: =A24+1 -> 2025 | B27: loan | M27: =L27-L28 -> 0 | N27: =M27-L28 -> 0 | O27: =N27-L28 -> 0 | P27: =O27-L28 -> 0 | Q27: =P27-L28 -> 0
B28: Installment/thn | L28: =L27/B2 -> 0
B29: Interest | L29: =((L27*IRR!E4*6)/12) -> 0 | M29: =AVERAGE(L27:M27)*IRR!$E$4 -> 0 | N29: =AVERAGE(M27:N27)*IRR!$E$4 -> 0 | O29: =AVERAGE(N27:O27)*IRR!$E$4 -> 0 | P29: =AVERAGE(O27:P27)*IRR!$E$4 -> 0 | Q29: =AVERAGE(P27:Q27)*IRR!$E$4 -> 0
A30: =A27+1 -> 2026 | B30: loan | N30: =M30-M31 -> 0 | O30: =N30-M31 -> 0 | P30: =O30-M31 -> 0 | Q30: =P30-M31 -> 0 | R30: =Q30-M31 -> 0
B31: Installment/thn | M31: =M30/B2 -> 0
B32: Interest | M32: =((M30*IRR!E4*6)/12) -> 0 | N32: =AVERAGE(M30:N30)*IRR!$E$4 -> 0 | O32: =AVERAGE(N30:O30)*IRR!$E$4 -> 0 | P32: =AVERAGE(O30:P30)*IRR!$E$4 -> 0 | Q32: =AVERAGE(P30:Q30)*IRR!$E$4 -> 0 | R32: =AVERAGE(Q30:R30)*IRR!$E$4 -> 0
B34: Interest Exp | C34: =C5+C8+C11+C14+C17+C20+C23+C26+C29+C32 -> 37347310 | D34: =D5+D8+D11+D14+D17+D20+D23+D26+D29+D32 -> 67225159 | E34: =E5+E8+E11+E14+E17+E20+E23+E26+E29+E32 -> 52286234 | F34: =F5+F8+F11+F14+F17+F20+F23+F26+F29+F32 -> 43285481 | G34: =G5+G8+G11+G14+G17+G20+G23+G26+G29+G32 -> 36941905 | H34: =H5+H8+H11+H14+H17+H20+H23+H26+H29+H32 -> 23024187 | I34: =I5+I8+I11+I14+I17+I20+I23+I26+I29+I32 -> 12825198 | J34: =J5+J8+J11+J14+J17+J20+J23+J26+J29+J32 -> 9525488.6 | ... R34: =R5+R8+R11+R14+R17+R20+R23+R26+R29+R32 -> 2016
A37: PERHITUNGAN SG&A
A38: Untuk IBC | B38: Start tahun pertama | C38: 50000000
A39: Untuk Opennet | B39: Start tahun pertama | C39: 20000000
A40: Untuk IBC Ext | B40: tiap tahun = Rev x 5%
A41: Untuk Opennet Ext | B41: tiap tahun = Rev x 5%
A43: SG&A | B43: =C38 -> 50000000 | C43: =B43+C44 -> 51000000 | D43: =C43+D45 -> 52020000 | E43: =D43+E45 -> 53060400 | F43: =E43+F45 -> 54121608 | G43: =F43+G45 -> 55204040 | H43: =G43+H45 -> 56308121 | I43: =H43+I45 -> 57434283 | J43: =I43+J45 -> 58582969 | K43: =J43+K45 -> 59754628
A44: 0.02 | C44: =C45 -> 1000000 | D44: =C44+D45 -> 2020000 | E44: =D44+E45 -> 3060400 | F44: =E44+F45 -> 4121608 | G44: =F44+G45 -> 5204040.2 | H44: =G44+H45 -> 6308121 | I44: =H44+I45 -> 7434283.4 | J44: =I44+J45 -> 8582969.1 | K44: =J44+K45 -> 9754628.4
...

Sheet Summary review QBIG
C4: SUMMARY REVIEW
A5: Nama Site | C5: : QBIG BSD CITY Blok G-03
A6: Nama Pemilik | C6: : PT Garwita Sentra Utama
A7: Alamat Pemilik | C7: : Jl. BSD Raya Utama, Desa Lengkok Kulon, Kec. Pagedangan,Tangerang, Banten, Indonesia
A8: Telp | C8: : 021-50368368
A9: Obyek Sewa | C9: 85 Omni,lahan + 45m2, max 10 Unit Pole (max 6 meter, min 3 meter), terpasang 5 Pole
A11: No. | B11: Keterangan | C11: Existing | D11: Renewal
A13: 1. | B13: Scope Of Lease | C13: IBC | D13: IBC
A14: 2. | B14: Obyek Sewa | C14: =C9 -> 85 Omni,lahan + 45m2, max 10 Unit Pole (max 6 meter, min 3 meter), terpasang 5 Pole | D14: =C9 -> 85 Omni,lahan + 45m2, max 10 Unit Pole (max 6 meter, min 3 meter), terpasang 5 Pole
A15: 3. | B15: Periode Sewa | C15: 1 Feb 2024 s/d 31 Jan 2025 | D15: 1 Feb 2025 s/d 31 Jan 2030
A16: 4 | B16: Harga Sewa / Masa Sewa | C16: 365500000 | D16: 402050000
B17: Harga Sewa / Tahun | C17: =C16/5 -> 73100000 | D17: =D16/5 -> 80410000
A18: 5 | B18: Operator Join | C18: Tsel ( 1 Juli 2022 - 30 Juni 2027 ) | D18: Tsel ( 1 Juli 2022 - 30 Juni 2027 ) Rev Rp. 170 335.200/Th
C19: IOH ( 18 Okt 2023 - 17 Okt 2028) | D19: IOH ( 18 Okt 2023 - 17 Okt 2028) Rev. Rp. 305 076.961
C20: XL ( 16 Jan 2020 - 15 Jan 2025 ) | D20: XL Proses Renewal
A22: 6. | B22: Kenaikan/ Penurunan Harga | C22: Harga Naik 10%
