Workbook
Name jk: #REF!
Name jk: #REF!
Name jk: #REF!
Name jk: #REF!

Sheet Assumption_Apt
B2: REVENUE | L2: COST
B3: No | C3: Parameter | E3: Assumption | L3: No | M3: Parameter | O3: Assumption
B4: 1 | C4: =Summary!C7 -> Grand Dhika City Jatiwarna Tower Emerald | E4: =E10 -> Broadband Apt | F4: 1 | G4: =H10 -> SOHO | H4: 0 | L4: 1 | M4: CAPEX | O4: One time cost, based on BOQ (attached)
B5: 2 | E5: Subs Growth (% of total tenants) | L5: 2 | M5: Electricity | O5: OLT, per year: | R5: 2400000
C6: Skenario | E6: Y1 | F6: Y2 | G6: Y3 | H6: Y4 | I6: Y5 | L6: 3 | M6: Maintenance | O6: % of CAPEX per year, including for EOS: | R6: 0.05
C7: A achievable target | E7: 0.32 | F7: 0.64 | G7: 0.68 | H7: 0.72 | I7: 0.8 | L7: 4 | M7: Revenue share to BM | O7: % of collected IBS Revenue: | R7: 0.1
C8: B stretch target | E8: 0.6 | F8: 0.7 | G8: 0.72 | H8: 0.77 | I8: 0.8 | L8: 5 | M8: Engineers on call | O8: cost included in 5% of capex of maintenance cost
C9: C low target | E9: 0.22 | F9: 0.34 | G9: 0.48 | H9: 0.62 | I9: 0.7 | L9: 6 | M9: Coordination Fee | O9: % of CAPEX, One time | R9: 0
B10: 3 | C10: Product Pricing of ISP (Incl STB) | E10: Broadband Apt | F10: Dist | G10: Price (IDR) | H10: SOHO | I10: Dist | J10: Price (IDR)
E11: ='Gabungan_Calculation Sheet'!E10 -> Oxygen 15 | F11: 0.6 | G11: ='Gabungan_Calculation Sheet'!F10 -> 279000 | H11: ='Gabungan_Calculation Sheet'!E14 -> SOHO 20 | I11: ='Gabungan_Calculation Sheet'!G14 -> 0.6 | J11: ='Gabungan_Calculation Sheet'!F14 -> 1200000 | L11: Other
E12: ='Gabungan_Calculation Sheet'!E11 -> Oxygen 25 | F12: 0.3 | G12: ='Gabungan_Calculation Sheet'!F11 -> 479000 | H12: ='Gabungan_Calculation Sheet'!E15 -> SOHO 30 | I12: ='Gabungan_Calculation Sheet'!G15 -> 0.3 | J12: ='Gabungan_Calculation Sheet'!F15 -> 1800000
E13: ='Gabungan_Calculation Sheet'!E12 -> Oxygen 50 | F13: ='Gabungan_Calculation Sheet'!G12 -> 0.1 | G13: ='Gabungan_Calculation Sheet'!F12 -> 879000 | H13: ='Gabungan_Calculation Sheet'!E16 -> SOHO 50 | I13: ='Gabungan_Calculation Sheet'!G16 -> 0.1 | J13: ='Gabungan_Calculation Sheet'!F16 -> 3000000 | L13: No | M13: Parameter | N13: Assumption
L14: 1 | M14: Bank loan interest rate | N14: 0.125
B15: 4 | C15: Installation charge (One Time) | E15: Broadband: | F15: ='Gabungan_Calculation Sheet'!I10 -> 250000 | H15: SOHO: | I15: ='Gabungan_Calculation Sheet'!I14 -> 1000000 | L15: 2 | M15: Deposit interest rate | N15: 0.06
B16: 5 | C16: Monthly subscriber growth | E16: Linear, calculated by total yearly target subscriber / # of months | R16: =E20*E7 -> 0.224
B17: 6 | C17: Revenue share | E17: based on PKS (see attachment): | H17: 0.5 | L17: REMARK COLOR | R17: =E20*E8 -> 0.42
B18: 7 | C18: ISP Partner | E18: MTI | M18: DEFAULT VALUES
B19: 8 | C19: Sewa CPE | E19: 30000 | F19: per resident/month | M19: INPUT VALUES
B20: 9 | C20: Target Market | E20: 0.7
B21: 10 | C21: Total Unit | E21: 892 | G21: Target Subs | H21: =ROUNDDOWN(E20*I7*E21,0) -> 499
I22: SUBCRIBER BASE
B23: Skenario | C23: Month 1 | F23: Month 2 | I23: Month 3 | L23: Month 4 | O23: Month 5 | R23: Month 6 | U23: Month 7
C24: Percentage | D24: Broadb | E24: SOHO | F24: Percentage | G24: Broadb | H24: SOHO | I24: Percentage | J24: Broadb | K24: SOHO | L24: Percentage | M24: Broadb | N24: SOHO | O24: Percentage | P24: Broadb | Q24: SOHO | R24: Percentage | S24: Broadb | T24: SOHO | U24: Percentage | V24: Broadb | W24: SOHO
C25: Year 1
B26: A | C26: =F26-($O$49/12) -> 0.026666667 | D26: =ROUNDDOWN(C26*$F$4*$E$21*$E$20,0) -> 16 | E26: =ROUNDDOWN(C26*$H$4*$E$21*$E$20,0) -> 0 | F26: =I26-($O$49/12) -> 0.053333333 | G26: =ROUNDDOWN(F26*$F$4*$E$21*$E$20,0) -> 33 | H26: =ROUNDDOWN(F26*$H$4*$E$21*$E$20,0) -> 0 | I26: =L26-($O$49/12) -> 0.08 | J26: =ROUNDDOWN(I26*$F$4*$E$21*$E$20,0) -> 49 | K26: =ROUNDDOWN(I26*$H$4*$E$21*$E$20,0) -> 0 | L26: =O26-($O$49/12) -> 0.10666667 | M26: =ROUNDDOWN(L26*$F$4*$E$21*$E$20,0) -> 66 | N26: =ROUNDDOWN(L26*$H$4*$E$21*$E$20,0) -> 0 | O26: =R26-($O$49/12) -> 0.13333333 | P26: =ROUNDDOWN(O26*$F$4*$E$21*$E$20,0) -> 83 | Q26: =ROUNDDOWN(O26*$H$4*$E$21*$E$20,0) -> 0 | R26: =U26-($O$49/12) -> 0.16 | S26: =ROUNDDOWN(R26*$F$4*$E$21*$E$20,0) -> 99 | T26: =ROUNDDOWN(R26*$H$4*$E$21*$E$20,0) -> 0 | U26: =C49-($O$49/12) -> 0.18666667 | V26: =ROUNDDOWN(U26*$F$4*$E$21*$E$20,0) -> 116 | W26: =ROUNDDOWN(U26*$H$4*$E$21*$E$20,0) -> 0
B27: B | C27: =F27-($O$50/12) -> 0.05 | D27: =ROUNDDOWN(C27*$F$4*$E$21*$E$20,0) -> 31 | E27: =ROUNDDOWN(C27*$H$4*$E$21*$E$20,0) -> 0 | F27: =I27-($O$50/12) -> 0.1 | G27: =ROUNDDOWN(F27*$F$4*$E$21*$E$20,0) -> 62 | H27: =ROUNDDOWN(F27*$H$4*$E$21*$E$20,0) -> 0 | I27: =L27-($O$50/12) -> 0.15 | J27: =ROUNDDOWN(I27*$F$4*$E$21*$E$20,0) -> 93 | K27: =ROUNDDOWN(I27*$H$4*$E$21*$E$20,0) -> 0 | L27: =O27-($O$50/12) -> 0.2 | M27: =ROUNDDOWN(L27*$F$4*$E$21*$E$20,0) -> 124 | N27: =ROUNDDOWN(L27*$H$4*$E$21*$E$20,0) -> 0 | O27: =R27-($O$50/12) -> 0.25 | P27: =ROUNDDOWN(O27*$F$4*$E$21*$E$20,0) -> 156 | Q27: =ROUNDDOWN(O27*$H$4*$E$21*$E$20,0) -> 0 | R27: =U27-($O$50/12) -> 0.3 | S27: =ROUNDDOWN(R27*$F$4*$E$21*$E$20,0) -> 187 | T27: =ROUNDDOWN(R27*$H$4*$E$21*$E$20,0) -> 0 | U27: =C50-($O$50/12) -> 0.35 | V27: =ROUNDDOWN(U27*$F$4*$E$21*$E$20,0) -> 218 | W27: =ROUNDDOWN(U27*$H$4*$E$21*$E$20,0) -> 0
B28: C | C28: =F28-($O$51/12) -> 0.018333333 | D28: =ROUNDDOWN(C28*$F$4*$E$21*$E$20,0) -> 11 | E28: =ROUNDDOWN(C28*$H$4*$E$21*$E$20,0) -> 0 | F28: =I28-($O$51/12) -> 0.036666667 | G28: =ROUNDDOWN(F28*$F$4*$E$21*$E$20,0) -> 22 | H28: =ROUNDDOWN(F28*$H$4*$E$21*$E$20,0) -> 0 | I28: =L28-($O$51/12) -> 0.055 | J28: =ROUNDDOWN(I28*$F$4*$E$21*$E$20,0) -> 34 | K28: =ROUNDDOWN(I28*$H$4*$E$21*$E$20,0) -> 0 | L28: =O28-($O$51/12) -> 0.073333333 | M28: =ROUNDDOWN(L28*$F$4*$E$21*$E$20,0) -> 45 | N28: =ROUNDDOWN(L28*$H$4*$E$21*$E$20,0) -> 0 | O28: =R28-($O$51/12) -> 0.091666667 | P28: =ROUNDDOWN(O28*$F$4*$E$21*$E$20,0) -> 57 | Q28: =ROUNDDOWN(O28*$H$4*$E$21*$E$20,0) -> 0 | R28: =U28-($O$51/12) -> 0.11 | S28: =ROUNDDOWN(R28*$F$4*$E$21*$E$20,0) -> 68 | T28: =ROUNDDOWN(R28*$H$4*$E$21*$E$20,0) -> 0 | U28: =C51-($O$51/12) -> 0.12833333 | V28: =ROUNDDOWN(U28*$F$4*$E$21*$E$20,0) -> 80 | W28: =ROUNDDOWN(U28*$H$4*$E$21*$E$20,0) -> 0
C29: Year 2
B30: A | C30: =F30-(($O$53-$O$49)/12) -> 0.34666667 | D30: =ROUNDDOWN(C30*$F$4*$E$21*$E$20,0) -> 216 | E30: =ROUNDDOWN(C30*$H$4*$E$21*$E$20,0) -> 0 | F30: =I30-(($O$53-$O$49)/12) -> 0.37333333 | G30: =ROUNDDOWN(F30*$F$4*$E$21*$E$20,0) -> 233 | H30: =ROUNDDOWN(F30*$H$4*$E$21*$E$20,0) -> 0 | I30: =L30-(($O$53-$O$49)/12) -> 0.4 | J30: =ROUNDDOWN(I30*$F$4*$E$21*$E$20,0) -> 249 | K30: =ROUNDDOWN(I30*$H$4*$E$21*$E$20,0) -> 0 | L30: =O30-(($O$53-$O$49)/12) -> 0.42666667 | M30: =ROUNDDOWN(L30*$F$4*$E$21*$E$20,0) -> 266 | N30: =ROUNDDOWN(L30*$H$4*$E$21*$E$20,0) -> 0 | O30: =R30-(($O$53-$O$49)/12) -> 0.45333333 | P30: =ROUNDDOWN(O30*$F$4*$E$21*$E$20,0) -> 283 | Q30: =ROUNDDOWN(O30*$H$4*$E$21*$E$20,0) -> 0 | R30: =U30-(($O$53-$O$49)/12) -> 0.48 | S30: =ROUNDDOWN(R30*$F$4*$E$21*$E$20,0) -> 299 | T30: =ROUNDDOWN(R30*$H$4*$E$21*$E$20,0) -> 0 | U30: =C53-(($O$53-$O$49)/12) -> 0.50666667 | V30: =ROUNDDOWN(U30*$F$4*$E$21*$E$20,0) -> 316 | W30: =ROUNDDOWN(U30*$H$4*$E$21*$E$20,0) -> 0
B31: B | C31: =F31-(($O$54-$O$50)/12) -> 0.60833333 | D31: =ROUNDDOWN(C31*$F$4*$E$21*$E$20,0) -> 379 | E31: =ROUNDDOWN(C31*$H$4*$E$21*$E$20,0) -> 0 | F31: =I31-(($O$54-$O$50)/12) -> 0.61666667 | G31: =ROUNDDOWN(F31*$F$4*$E$21*$E$20,0) -> 385 | H31: =ROUNDDOWN(F31*$H$4*$E$21*$E$20,0) -> 0 | I31: =L31-(($O$54-$O$50)/12) -> 0.625 | J31: =ROUNDDOWN(I31*$F$4*$E$21*$E$20,0) -> 390 | K31: =ROUNDDOWN(I31*$H$4*$E$21*$E$20,0) -> 0 | L31: =O31-(($O$54-$O$50)/12) -> 0.63333333 | M31: =ROUNDDOWN(L31*$F$4*$E$21*$E$20,0) -> 395 | N31: =ROUNDDOWN(L31*$H$4*$E$21*$E$20,0) -> 0 | O31: =R31-(($O$54-$O$50)/12) -> 0.64166667 | P31: =ROUNDDOWN(O31*$F$4*$E$21*$E$20,0) -> 400 | Q31: =ROUNDDOWN(O31*$H$4*$E$21*$E$20,0) -> 0 | R31: =U31-(($O$54-$O$50)/12) -> 0.65 | S31: =ROUNDDOWN(R31*$F$4*$E$21*$E$20,0) -> 405 | T31: =ROUNDDOWN(R31*$H$4*$E$21*$E$20,0) -> 0 | U31: =C54-(($O$54-$O$50)/12) -> 0.65833333 | V31: =ROUNDDOWN(U31*$F$4*$E$21*$E$20,0) -> 411 | W31: =ROUNDDOWN(U31*$H$4*$E$21*$E$20,0) -> 0
B32: C | C32: =F32-(($O$55-$O$51)/12) -> 0.23 | D32: =ROUNDDOWN(C32*$F$4*$E$21*$E$20,0) -> 143 | E32: =ROUNDDOWN(C32*$H$4*$E$21*$E$20,0) -> 0 | F32: =I32-(($O$55-$O$51)/12) -> 0.24 | G32: =ROUNDDOWN(F32*$F$4*$E$21*$E$20,0) -> 149 | H32: =ROUNDDOWN(F32*$H$4*$E$21*$E$20,0) -> 0 | I32: =L32-(($O$55-$O$51)/12) -> 0.25 | J32: =ROUNDDOWN(I32*$F$4*$E$21*$E$20,0) -> 156 | K32: =ROUNDDOWN(I32*$H$4*$E$21*$E$20,0) -> 0 | L32: =O32-(($O$55-$O$51)/12) -> 0.26 | M32: =ROUNDDOWN(L32*$F$4*$E$21*$E$20,0) -> 162 | N32: =ROUNDDOWN(L32*$H$4*$E$21*$E$20,0) -> 0 | O32: =R32-(($O$55-$O$51)/12) -> 0.27 | P32: =ROUNDDOWN(O32*$F$4*$E$21*$E$20,0) -> 168 | Q32: =ROUNDDOWN(O32*$H$4*$E$21*$E$20,0) -> 0 | R32: =U32-(($O$55-$O$51)/12) -> 0.28 | S32: =ROUNDDOWN(R32*$F$4*$E$21*$E$20,0) -> 174 | T32: =ROUNDDOWN(R32*$H$4*$E$21*$E$20,0) -> 0 | U32: =C55-(($O$55-$O$51)/12) -> 0.29 | V32: =ROUNDDOWN(U32*$F$4*$E$21*$E$20,0) -> 181 | W32: =ROUNDDOWN(U32*$H$4*$E$21*$E$20,0) -> 0
C33: Year 3
B34: A | C34: =F34-($O$57-$O$53)/12 -> 0.64333333 | D34: =ROUNDDOWN(C34*$F$4*$E$21*$E$20,0) -> 401 | E34: =ROUNDDOWN(C34*$H$4*$E$21*$E$20,0) -> 0 | F34: =I34-($O$57-$O$53)/12 -> 0.64666667 | G34: =ROUNDDOWN(F34*$F$4*$E$21*$E$20,0) -> 403 | H34: =ROUNDDOWN(F34*$H$4*$E$21*$E$20,0) -> 0 | I34: =L34-($O$57-$O$53)/12 -> 0.65 | J34: =ROUNDDOWN(I34*$F$4*$E$21*$E$20,0) -> 405 | K34: =ROUNDDOWN(I34*$H$4*$E$21*$E$20,0) -> 0 | L34: =O34-($O$57-$O$53)/12 -> 0.65333333 | M34: =ROUNDDOWN(L34*$F$4*$E$21*$E$20,0) -> 407 | N34: =ROUNDDOWN(L34*$H$4*$E$21*$E$20,0) -> 0 | O34: =R34-($O$57-$O$53)/12 -> 0.65666667 | P34: =ROUNDDOWN(O34*$F$4*$E$21*$E$20,0) -> 410 | Q34: =ROUNDDOWN(O34*$H$4*$E$21*$E$20,0) -> 0 | R34: =U34-($O$57-$O$53)/12 -> 0.66 | S34: =ROUNDDOWN(R34*$F$4*$E$21*$E$20,0) -> 412 | T34: =ROUNDDOWN(R34*$H$4*$E$21*$E$20,0) -> 0 | U34: =C57-($O$57-$O$53)/12 -> 0.66333333 | V34: =ROUNDDOWN(U34*$F$4*$E$21*$E$20,0) -> 414 | W34: =ROUNDDOWN(U34*$H$4*$E$21*$E$20,0) -> 0
B35: B | C35: =F35-($O$58-$O$54)/12 -> 0.70166667 | D35: =ROUNDDOWN(C35*$F$4*$E$21*$E$20,0) -> 438 | E35: =ROUNDDOWN(C35*$H$4*$E$21*$E$20,0) -> 0 | F35: =I35-($O$58-$O$54)/12 -> 0.70333333 | G35: =ROUNDDOWN(F35*$F$4*$E$21*$E$20,0) -> 439 | H35: =ROUNDDOWN(F35*$H$4*$E$21*$E$20,0) -> 0 | I35: =L35-($O$58-$O$54)/12 -> 0.705 | J35: =ROUNDDOWN(I35*$F$4*$E$21*$E$20,0) -> 440 | K35: =ROUNDDOWN(I35*$H$4*$E$21*$E$20,0) -> 0 | L35: =O35-($O$58-$O$54)/12 -> 0.70666667 | M35: =ROUNDDOWN(L35*$F$4*$E$21*$E$20,0) -> 441 | N35: =ROUNDDOWN(L35*$H$4*$E$21*$E$20,0) -> 0 | O35: =R35-($O$58-$O$54)/12 -> 0.70833333 | P35: =ROUNDDOWN(O35*$F$4*$E$21*$E$20,0) -> 442 | Q35: =ROUNDDOWN(O35*$H$4*$E$21*$E$20,0) -> 0 | R35: =U35-($O$58-$O$54)/12 -> 0.71 | S35: =ROUNDDOWN(R35*$F$4*$E$21*$E$20,0) -> 443 | T35: =ROUNDDOWN(R35*$H$4*$E$21*$E$20,0) -> 0 | U35: =C58-($O$58-$O$54)/12 -> 0.71166667 | V35: =ROUNDDOWN(U35*$F$4*$E$21*$E$20,0) -> 444 | W35: =ROUNDDOWN(U35*$H$4*$E$21*$E$20,0) -> 0
B36: C | C36: =F36-($O$59-$O$55)/12 -> 0.35166667 | D36: =ROUNDDOWN(C36*$F$4*$E$21*$E$20,0) -> 219 | E36: =ROUNDDOWN(C36*$H$4*$E$21*$E$20,0) -> 0 | F36: =I36-($O$59-$O$55)/12 -> 0.36333333 | G36: =ROUNDDOWN(F36*$F$4*$E$21*$E$20,0) -> 226 | H36: =ROUNDDOWN(F36*$H$4*$E$21*$E$20,0) -> 0 | I36: =L36-($O$59-$O$55)/12 -> 0.375 | J36: =ROUNDDOWN(I36*$F$4*$E$21*$E$20,0) -> 234 | K36: =ROUNDDOWN(I36*$H$4*$E$21*$E$20,0) -> 0 | L36: =O36-($O$59-$O$55)/12 -> 0.38666667 | M36: =ROUNDDOWN(L36*$F$4*$E$21*$E$20,0) -> 241 | N36: =ROUNDDOWN(L36*$H$4*$E$21*$E$20,0) -> 0 | O36: =R36-($O$59-$O$55)/12 -> 0.39833333 | P36: =ROUNDDOWN(O36*$F$4*$E$21*$E$20,0) -> 248 | Q36: =ROUNDDOWN(O36*$H$4*$E$21*$E$20,0) -> 0 | R36: =U36-($O$59-$O$55)/12 -> 0.41 | S36: =ROUNDDOWN(R36*$F$4*$E$21*$E$20,0) -> 256 | T36: =ROUNDDOWN(R36*$H$4*$E$21*$E$20,0) -> 0 | U36: =C59-($O$59-$O$55)/12 -> 0.42166667 | V36: =ROUNDDOWN(U36*$F$4*$E$21*$E$20,0) -> 263 | W36: =ROUNDDOWN(U36*$H$4*$E$21*$E$20,0) -> 0
C37: Year 4
B38: A | C38: =F38-($O$61-$O$57)/12 -> 0.68333333 | D38: =ROUNDDOWN(C38*$F$4*$E$21*$E$20,0) -> 426 | E38: =ROUNDDOWN(C38*$H$4*$E$21*$E$20,0) -> 0 | F38: =I38-($O$61-$O$57)/12 -> 0.68666667 | G38: =ROUNDDOWN(F38*$F$4*$E$21*$E$20,0) -> 428 | H38: =ROUNDDOWN(F38*$H$4*$E$21*$E$20,0) -> 0 | I38: =L38-($O$61-$O$57)/12 -> 0.69 | J38: =ROUNDDOWN(I38*$F$4*$E$21*$E$20,0) -> 430 | K38: =ROUNDDOWN(I38*$H$4*$E$21*$E$20,0) -> 0 | L38: =O38-($O$61-$O$57)/12 -> 0.69333333 | M38: =ROUNDDOWN(L38*$F$4*$E$21*$E$20,0) -> 432 | N38: =ROUNDDOWN(L38*$H$4*$E$21*$E$20,0) -> 0 | O38: =R38-($O$61-$O$57)/12 -> 0.69666667 | P38: =ROUNDDOWN(O38*$F$4*$E$21*$E$20,0) -> 434 | Q38: =ROUNDDOWN(O38*$H$4*$E$21*$E$20,0) -> 0 | R38: =U38-($O$61-$O$57)/12 -> 0.7 | S38: =ROUNDDOWN(R38*$F$4*$E$21*$E$20,0) -> 437 | T38: =ROUNDDOWN(R38*$H$4*$E$21*$E$20,0) -> 0 | U38: =C61-($O$61-$O$57)/12 -> 0.70333333 | V38: =ROUNDDOWN(U38*$F$4*$E$21*$E$20,0) -> 439 | W38: =ROUNDDOWN(U38*$H$4*$E$21*$E$20,0) -> 0
B39: B | C39: =F39-($O$62-$O$58)/12 -> 0.72416667 | D39: =ROUNDDOWN(C39*$F$4*$E$21*$E$20,0) -> 452 | E39: =ROUNDDOWN(C39*$H$4*$E$21*$E$20,0) -> 0 | F39: =I39-($O$62-$O$58)/12 -> 0.72833333 | G39: =ROUNDDOWN(F39*$F$4*$E$21*$E$20,0) -> 454 | H39: =ROUNDDOWN(F39*$H$4*$E$21*$E$20,0) -> 0 | I39: =L39-($O$62-$O$58)/12 -> 0.7325 | J39: =ROUNDDOWN(I39*$F$4*$E$21*$E$20,0) -> 457 | K39: =ROUNDDOWN(I39*$H$4*$E$21*$E$20,0) -> 0 | L39: =O39-($O$62-$O$58)/12 -> 0.73666667 | M39: =ROUNDDOWN(L39*$F$4*$E$21*$E$20,0) -> 459 | N39: =ROUNDDOWN(L39*$H$4*$E$21*$E$20,0) -> 0 | O39: =R39-($O$62-$O$58)/12 -> 0.74083333 | P39: =ROUNDDOWN(O39*$F$4*$E$21*$E$20,0) -> 462 | Q39: =ROUNDDOWN(O39*$H$4*$E$21*$E$20,0) -> 0 | R39: =U39-($O$62-$O$58)/12 -> 0.745 | S39: =ROUNDDOWN(R39*$F$4*$E$21*$E$20,0) -> 465 | T39: =ROUNDDOWN(R39*$H$4*$E$21*$E$20,0) -> 0 | U39: =C62-($O$62-$O$58)/12 -> 0.74916667 | V39: =ROUNDDOWN(U39*$F$4*$E$21*$E$20,0) -> 467 | W39: =ROUNDDOWN(U39*$H$4*$E$21*$E$20,0) -> 0
B40: C | C40: =F40-($O$63-$O$59)/12 -> 0.49166667 | D40: =ROUNDDOWN(C40*$F$4*$E$21*$E$20,0) -> 306 | E40: =ROUNDDOWN(C40*$H$4*$E$21*$E$20,0) -> 0 | F40: =I40-($O$63-$O$59)/12 -> 0.50333333 | G40: =ROUNDDOWN(F40*$F$4*$E$21*$E$20,0) -> 314 | H40: =ROUNDDOWN(F40*$H$4*$E$21*$E$20,0) -> 0 | I40: =L40-($O$63-$O$59)/12 -> 0.515 | J40: =ROUNDDOWN(I40*$F$4*$E$21*$E$20,0) -> 321 | K40: =ROUNDDOWN(I40*$H$4*$E$21*$E$20,0) -> 0 | L40: =O40-($O$63-$O$59)/12 -> 0.52666667 | M40: =ROUNDDOWN(L40*$F$4*$E$21*$E$20,0) -> 328 | N40: =ROUNDDOWN(L40*$H$4*$E$21*$E$20,0) -> 0 | O40: =R40-($O$63-$O$59)/12 -> 0.53833333 | P40: =ROUNDDOWN(O40*$F$4*$E$21*$E$20,0) -> 336 | Q40: =ROUNDDOWN(O40*$H$4*$E$21*$E$20,0) -> 0 | R40: =U40-($O$63-$O$59)/12 -> 0.55 | S40: =ROUNDDOWN(R40*$F$4*$E$21*$E$20,0) -> 343 | T40: =ROUNDDOWN(R40*$H$4*$E$21*$E$20,0) -> 0 | U40: =C63-($O$63-$O$59)/12 -> 0.56166667 | V40: =ROUNDDOWN(U40*$F$4*$E$21*$E$20,0) -> 350 | W40: =ROUNDDOWN(U40*$H$4*$E$21*$E$20,0) -> 0
C41: Year 5
...

Sheet Gabungan_Calculation Sheet
C2: REVENUE
C4: Sharing Fee dg ISP | E4: =Assumption_Apt!H17 -> 0.5
C6: Total Unit | E6: =Assumption_Apt!E21 -> 892 | G6: Tenants | H6: =Assumption_Apt!H21 -> 499
C7: Pricing
C9: No | D9: Product | E9: Product Name | F9: Price (IDR) | G9: Distribution | H9: Weighted Price | I9: Instalation Charge
C10: 1 | D10: =Assumption_Apt!E10 -> Broadband Apt | E10: Oxygen 15 | F10: 279000 | G10: 0.6 | H10: =(F10*G10)+(F11*G11)+(F12*G12)+(F13*G13) -> 399000 | I10: 250000
E11: Oxygen 25 | F11: 479000 | G11: 0.3
E12: Oxygen 50 | F12: 879000 | G12: 0.1
C14: 2 | D14: =Assumption_Apt!H10 -> SOHO | E14: SOHO 20 | F14: 1200000 | G14: 0.6 | H14: =(F14*G14)+(F15*G15)+(F16*G16) -> 1560000 | I14: 1000000
E15: SOHO 30 | F15: 1800000 | G15: 0.3
E16: SOHO 50 | F16: 3000000 | G16: 0.1
C17: 3 | D17: TV HD + Internet | E17: IPL
C19: IBS Revenue projection (IDR)
C21: No | D21: 1. Sken A | E21: Year 1 | F21: Year 2 | G21: Year 3 | H21: Year 4 | I21: Year 5
C22: 1 | D22: =D10 -> Broadband Apt | E22: =$E$4*$H$10*(Assumption_Apt!D26+Assumption_Apt!G26+Assumption_Apt!J26+Assumption_Apt!M26+Assumption_Apt!P26+Assumption_Apt!S26+Assumption_Apt!V26+Assumption_Apt!D49+Assumption_Apt!G49+Assumption_Apt!J49+Assumption_Apt!M49+Assumption_Apt!P49+Assumption_Apt!R49) -> 297454500 | F22: =$E$4*$H$10*(Assumption_Apt!D30+Assumption_Apt!G30+Assumption_Apt!J30+Assumption_Apt!M30+Assumption_Apt!P30+Assumption_Apt!S30+Assumption_Apt!V30+Assumption_Apt!D50+Assumption_Apt!G50+Assumption_Apt!J50+Assumption_Apt!M50+Assumption_Apt!P50) -> 682290000 | G22: =$E$4*$H$10*(Assumption_Apt!D34+Assumption_Apt!G34+Assumption_Apt!J34+Assumption_Apt!M34+Assumption_Apt!P34+Assumption_Apt!S34+Assumption_Apt!V34+Assumption_Apt!D57+Assumption_Apt!G57+Assumption_Apt!J57+Assumption_Apt!M57+Assumption_Apt!P57) -> 987924000 | H22: =$E$4*$H$10*(Assumption_Apt!D38+Assumption_Apt!G38+Assumption_Apt!J38+Assumption_Apt!M38+Assumption_Apt!P38+Assumption_Apt!S38+Assumption_Apt!V38+Assumption_Apt!D61+Assumption_Apt!G61+Assumption_Apt!J61+Assumption_Apt!M61+Assumption_Apt!P61) -> 1047574500 | I22: =$E$4*$H$10*(Assumption_Apt!D42+Assumption_Apt!G42+Assumption_Apt!J42+Assumption_Apt!M42+Assumption_Apt!P42+Assumption_Apt!S42+Assumption_Apt!V42+Assumption_Apt!D65+Assumption_Apt!G65+Assumption_Apt!J65+Assumption_Apt!M65+Assumption_Apt!P65) -> 1139943000
C23: 2 | D23: Installation Apt | E23: =(($I$10*Assumption_Apt!R49)+($I$14*Assumption_Apt!S49))*$E$4 -> 24875000 | F23: =(($I$10*Assumption_Apt!R53)+($I$14*Assumption_Apt!S53))*$E$4 -> 25000000 | G23: =(($I$10*Assumption_Apt!R57)+($I$14*Assumption_Apt!S57))*$E$4 -> 3125000 | H23: =(($I$10*Assumption_Apt!R61)+($I$14*Assumption_Apt!S61))*$E$4 -> 3125000 | I23: =(($I$10*Assumption_Apt!R65)+($I$14*Assumption_Apt!S65))*$E$4 -> 6250000
C24: 3 | D24: Sewa CPE | E24: =(Assumption_Apt!E19*Assumption_Apt!D26)+(Assumption_Apt!E19*Assumption_Apt!G26)+(Assumption_Apt!E19*Assumption_Apt!J26)+(Assumption_Apt!E19*Assumption_Apt!M26)+(Assumption_Apt!E19+Assumption_Apt!P26)+(Assumption_Apt!E19*Assumption_Apt!S26)+(Assumption_Apt!E19*Assumption_Apt!V26)+(Assumption_Apt!E19*Assumption_Apt!D49)+(Assumption_Apt!E19*Assumption_Apt!G49)+(Assumption_Apt!E19*Assumption_Apt!J49)+(Assumption_Apt!E19*Assumption_Apt!M49)+(Assumption_Apt!E19*Assumption_Apt!P49) -> 36300083 | F24: =(Assumption_Apt!E19*Assumption_Apt!D30)+(Assumption_Apt!E19*Assumption_Apt!G30)+(Assumption_Apt!E19*Assumption_Apt!J30)+(Assumption_Apt!E19*Assumption_Apt!M30)+(Assumption_Apt!E19+Assumption_Apt!P30)+(Assumption_Apt!E19*Assumption_Apt!S30)+(Assumption_Apt!E19*Assumption_Apt!V30)+(Assumption_Apt!E19*Assumption_Apt!D53)+(Assumption_Apt!E19*Assumption_Apt!G53)+(Assumption_Apt!E19*Assumption_Apt!J53)+(Assumption_Apt!E19*Assumption_Apt!M53)+(Assumption_Apt!E19*Assumption_Apt!P53) -> 102270283 | G24: =(Assumption_Apt!E19*Assumption_Apt!D34)+(Assumption_Apt!E19*Assumption_Apt!G34)+(Assumption_Apt!E19*Assumption_Apt!J34)+(Assumption_Apt!E19*Assumption_Apt!M34)+(Assumption_Apt!E19+Assumption_Apt!P34)+(Assumption_Apt!E19*Assumption_Apt!S34)+(Assumption_Apt!E19*Assumption_Apt!V34)+(Assumption_Apt!E19*Assumption_Apt!D57)+(Assumption_Apt!E19*Assumption_Apt!G57)+(Assumption_Apt!E19*Assumption_Apt!J57)+(Assumption_Apt!E19*Assumption_Apt!M57)+(Assumption_Apt!E19*Assumption_Apt!P57) -> 136290410 | H24: =(Assumption_Apt!E19*Assumption_Apt!D38)+(Assumption_Apt!E19*Assumption_Apt!G38)+(Assumption_Apt!E19*Assumption_Apt!J38)+(Assumption_Apt!E19*Assumption_Apt!M38)+(Assumption_Apt!E19+Assumption_Apt!P38)+(Assumption_Apt!E19*Assumption_Apt!S38)+(Assumption_Apt!E19*Assumption_Apt!V38)+(Assumption_Apt!E19*Assumption_Apt!D61)+(Assumption_Apt!E19*Assumption_Apt!G61)+(Assumption_Apt!E19*Assumption_Apt!J61)+(Assumption_Apt!E19*Assumption_Apt!M61)+(Assumption_Apt!E19*Assumption_Apt!P61) -> 144540434 | I24: =(Assumption_Apt!E19*Assumption_Apt!D42)+(Assumption_Apt!E19*Assumption_Apt!G42)+(Assumption_Apt!E19*Assumption_Apt!J42)+(Assumption_Apt!E19*Assumption_Apt!M42)+(Assumption_Apt!E19+Assumption_Apt!P42)+(Assumption_Apt!E19*Assumption_Apt!S42)+(Assumption_Apt!E19*Assumption_Apt!V42)+(Assumption_Apt!E19*Assumption_Apt!D65)+(Assumption_Apt!E19*Assumption_Apt!G65)+(Assumption_Apt!E19*Assumption_Apt!J65)+(Assumption_Apt!E19*Assumption_Apt!M65)+(Assumption_Apt!E19*Assumption_Apt!P65) -> 157350470
E25: =SUM(E22:E24) -> 358629583 | F25: =SUM(F22:F24) -> 809560283 | G25: =SUM(G22:G24) -> 1127339410 | H25: =SUM(H22:H24) -> 1195239934 | I25: =SUM(I22:I24) -> 1303543470
AB26: Broadb | AC26: SOHO
C27: No | D27: 2. Sken B | E27: Year 1 | F27: Year 2 | G27: Year 3 | H27: Year 4 | I27: Year 5
C28: 1 | D28: =D10 -> Broadband Apt | E28: =$E$4*$H$10*(Assumption_Apt!D27+Assumption_Apt!G27+Assumption_Apt!J27+Assumption_Apt!M27+Assumption_Apt!P27+Assumption_Apt!S27+Assumption_Apt!V27+Assumption_Apt!D50+Assumption_Apt!G50+Assumption_Apt!J50+Assumption_Apt!M50+Assumption_Apt!P50) -> 484585500 | F28: =$E$4*$H$10*(Assumption_Apt!D31+Assumption_Apt!G31+Assumption_Apt!J31+Assumption_Apt!M31+Assumption_Apt!P31+Assumption_Apt!S31+Assumption_Apt!V31+Assumption_Apt!D54+Assumption_Apt!G54+Assumption_Apt!J54+Assumption_Apt!M54+Assumption_Apt!P54) -> 976752000 | G28: =$E$4*$H$10*(Assumption_Apt!D35+Assumption_Apt!G35+Assumption_Apt!J35+Assumption_Apt!M35+Assumption_Apt!P35+Assumption_Apt!S35+Assumption_Apt!V35+Assumption_Apt!D58+Assumption_Apt!G58+Assumption_Apt!J58+Assumption_Apt!M58+Assumption_Apt!P58) -> 1061739000 | H28: =$E$4*$H$10*(Assumption_Apt!D39+Assumption_Apt!G39+Assumption_Apt!J39+Assumption_Apt!M39+Assumption_Apt!P39+Assumption_Apt!S39+Assumption_Apt!V39+Assumption_Apt!D62+Assumption_Apt!G62+Assumption_Apt!J62+Assumption_Apt!M62+Assumption_Apt!P62) -> 1115404500 | I28: =$E$4*$H$10*(Assumption_Apt!D43+Assumption_Apt!G43+Assumption_Apt!J43+Assumption_Apt!M43+Assumption_Apt!P43+Assumption_Apt!S43+Assumption_Apt!V43+Assumption_Apt!D66+Assumption_Apt!G66+Assumption_Apt!J66+Assumption_Apt!M66+Assumption_Apt!P66) -> 1174057500
C29: 2 | D29: Installation Apt | E29: =(($I$10*Assumption_Apt!R50)+($I$14*Assumption_Apt!S50))*$E$4 -> 46750000 | F29: =(($I$10*Assumption_Apt!R54)+($I$14*Assumption_Apt!S54))*$E$4 -> 7875000 | G29: =(($I$10*Assumption_Apt!R58)+($I$14*Assumption_Apt!S58))*$E$4 -> 1500000 | H29: =(($I$10*Assumption_Apt!R62)+($I$14*Assumption_Apt!S62))*$E$4 -> 3875000 | I29: =(($I$10*Assumption_Apt!R66)+($I$14*Assumption_Apt!S66))*$E$4 -> 2375000
C30: 3 | D30: Sewa CPE | E30: =(Assumption_Apt!E19*Assumption_Apt!D27)+(Assumption_Apt!E19*Assumption_Apt!G27)+(Assumption_Apt!E19*Assumption_Apt!J27)+(Assumption_Apt!E19*Assumption_Apt!M27)+(Assumption_Apt!E19+Assumption_Apt!P27)+(Assumption_Apt!E19*Assumption_Apt!S27)+(Assumption_Apt!E19*Assumption_Apt!V27)+(Assumption_Apt!E19*Assumption_Apt!D50)+(Assumption_Apt!E19*Assumption_Apt!G50)+(Assumption_Apt!E19*Assumption_Apt!J50)+(Assumption_Apt!E19*Assumption_Apt!M50)+(Assumption_Apt!E19*Assumption_Apt!P50) -> 68220156 | F30: =(Assumption_Apt!E19*Assumption_Apt!D31)+(Assumption_Apt!E19*Assumption_Apt!G31)+(Assumption_Apt!E19*Assumption_Apt!J31)+(Assumption_Apt!E19*Assumption_Apt!M31)+(Assumption_Apt!E19+Assumption_Apt!P31)+(Assumption_Apt!E19*Assumption_Apt!S31)+(Assumption_Apt!E19*Assumption_Apt!V31)+(Assumption_Apt!E19*Assumption_Apt!D54)+(Assumption_Apt!E19*Assumption_Apt!G54)+(Assumption_Apt!E19*Assumption_Apt!J54)+(Assumption_Apt!E19*Assumption_Apt!M54)+(Assumption_Apt!E19*Assumption_Apt!P54) -> 134910400 | G30: =(Assumption_Apt!E19*Assumption_Apt!D35)+(Assumption_Apt!E19*Assumption_Apt!G35)+(Assumption_Apt!E19*Assumption_Apt!J35)+(Assumption_Apt!E19*Assumption_Apt!M35)+(Assumption_Apt!E19+Assumption_Apt!P35)+(Assumption_Apt!E19*Assumption_Apt!S35)+(Assumption_Apt!E19*Assumption_Apt!V35)+(Assumption_Apt!E19*Assumption_Apt!D58)+(Assumption_Apt!E19*Assumption_Apt!G58)+(Assumption_Apt!E19*Assumption_Apt!J58)+(Assumption_Apt!E19*Assumption_Apt!M58)+(Assumption_Apt!E19*Assumption_Apt!P58) -> 146430442 | H30: =(Assumption_Apt!E19*Assumption_Apt!D39)+(Assumption_Apt!E19*Assumption_Apt!G39)+(Assumption_Apt!E19*Assumption_Apt!J39)+(Assumption_Apt!E19*Assumption_Apt!M39)+(Assumption_Apt!E19+Assumption_Apt!P39)+(Assumption_Apt!E19*Assumption_Apt!S39)+(Assumption_Apt!E19*Assumption_Apt!V39)+(Assumption_Apt!E19*Assumption_Apt!D62)+(Assumption_Apt!E19*Assumption_Apt!G62)+(Assumption_Apt!E19*Assumption_Apt!J62)+(Assumption_Apt!E19*Assumption_Apt!M62)+(Assumption_Apt!E19*Assumption_Apt!P62) -> 153900462 | I30: =(Assumption_Apt!E19*Assumption_Apt!D43)+(Assumption_Apt!E19*Assumption_Apt!G43)+(Assumption_Apt!E19*Assumption_Apt!J43)+(Assumption_Apt!E19*Assumption_Apt!M43)+(Assumption_Apt!E19+Assumption_Apt!P43)+(Assumption_Apt!E19*Assumption_Apt!S43)+(Assumption_Apt!E19*Assumption_Apt!V43)+(Assumption_Apt!E19*Assumption_Apt!D66)+(Assumption_Apt!E19*Assumption_Apt!G66)+(Assumption_Apt!E19*Assumption_Apt!J66)+(Assumption_Apt!E19*Assumption_Apt!M66)+(Assumption_Apt!E19*Assumption_Apt!P66) -> 161940488
E31: =SUM(E28:E30) -> 599555656 | F31: =SUM(F28:F30) -> 1119537400 | G31: =SUM(G28:G30) -> 1209669442 | H31: =SUM(H28:H30) -> 1273179962 | I31: =SUM(I28:I30) -> 1338372988
C33: No | D33: 3. Sken C | E33: Year 1 | F33: Year 2 | G33: Year 3 | H33: Year 4 | I33: Year 5
C34: 1 | D34: =D10 -> Broadband Apt | E34: =$E$4*$H$10*(Assumption_Apt!D28+Assumption_Apt!G28+Assumption_Apt!J28+Assumption_Apt!M28+Assumption_Apt!P28+Assumption_Apt!S28+Assumption_Apt!V28+Assumption_Apt!D51+Assumption_Apt!G51+Assumption_Apt!J51+Assumption_Apt!M51+Assumption_Apt!P51) -> 176956500 | F34: =$E$4*$H$10*(Assumption_Apt!D32+Assumption_Apt!G32+Assumption_Apt!J32+Assumption_Apt!M32+Assumption_Apt!P32+Assumption_Apt!S32+Assumption_Apt!V32+Assumption_Apt!D55+Assumption_Apt!G55+Assumption_Apt!J55+Assumption_Apt!M55+Assumption_Apt!P55) -> 424935000 | G34: =$E$4*$H$10*(Assumption_Apt!D36+Assumption_Apt!G36+Assumption_Apt!J36+Assumption_Apt!M36+Assumption_Apt!P36+Assumption_Apt!S36+Assumption_Apt!V36+Assumption_Apt!D59+Assumption_Apt!G59+Assumption_Apt!J59+Assumption_Apt!M59+Assumption_Apt!P59) -> 620445000 | H34: =$E$4*$H$10*(Assumption_Apt!D40+Assumption_Apt!G40+Assumption_Apt!J40+Assumption_Apt!M40+Assumption_Apt!P40+Assumption_Apt!S40+Assumption_Apt!V40+Assumption_Apt!D63+Assumption_Apt!G63+Assumption_Apt!J63+Assumption_Apt!M63+Assumption_Apt!P63) -> 829521000 | I34: =$E$4*$H$10*(Assumption_Apt!D44+Assumption_Apt!G44+Assumption_Apt!J44+Assumption_Apt!M44+Assumption_Apt!P44+Assumption_Apt!S44+Assumption_Apt!V44+Assumption_Apt!D67+Assumption_Apt!G67+Assumption_Apt!J67+Assumption_Apt!M67+Assumption_Apt!P67) -> 990318000
C35: 2 | D35: Installation Apt | E35: =(($I$10*Assumption_Apt!R51)+($I$14*Assumption_Apt!S51))*$E$4 -> 17125000 | F35: =(($I$10*Assumption_Apt!R55)+($I$14*Assumption_Apt!S55))*$E$4 -> 9375000 | G35: =(($I$10*Assumption_Apt!R59)+($I$14*Assumption_Apt!S59))*$E$4 -> 10875000 | H35: =(($I$10*Assumption_Apt!R63)+($I$14*Assumption_Apt!S63))*$E$4 -> 11000000 | I35: =(($I$10*Assumption_Apt!R67)+($I$14*Assumption_Apt!S67))*$E$4 -> 6250000
C36: 3 | D36: Sewa CPE | E36: =(Assumption_Apt!E19*Assumption_Apt!D28)+(Assumption_Apt!E19*Assumption_Apt!G28)+(Assumption_Apt!E19*Assumption_Apt!J28)+(Assumption_Apt!E19*Assumption_Apt!M28)+(Assumption_Apt!E19+Assumption_Apt!P28)+(Assumption_Apt!E19*Assumption_Apt!S28)+(Assumption_Apt!E19*Assumption_Apt!V28)+(Assumption_Apt!E19*Assumption_Apt!D51)+(Assumption_Apt!E19*Assumption_Apt!G51)+(Assumption_Apt!E19*Assumption_Apt!J51)+(Assumption_Apt!E19*Assumption_Apt!M51)+(Assumption_Apt!E19*Assumption_Apt!P51) -> 24930057 | F36: =(Assumption_Apt!E19*Assumption_Apt!D32)+(Assumption_Apt!E19*Assumption_Apt!G32)+(Assumption_Apt!E19*Assumption_Apt!J32)+(Assumption_Apt!E19*Assumption_Apt!M32)+(Assumption_Apt!E19+Assumption_Apt!P32)+(Assumption_Apt!E19*Assumption_Apt!S32)+(Assumption_Apt!E19*Assumption_Apt!V32)+(Assumption_Apt!E19*Assumption_Apt!D55)+(Assumption_Apt!E19*Assumption_Apt!G55)+(Assumption_Apt!E19*Assumption_Apt!J55)+(Assumption_Apt!E19*Assumption_Apt!M55)+(Assumption_Apt!E19*Assumption_Apt!P55) -> 58890168 | G36: =(Assumption_Apt!E19*Assumption_Apt!D36)+(Assumption_Apt!E19*Assumption_Apt!G36)+(Assumption_Apt!E19*Assumption_Apt!J36)+(Assumption_Apt!E19*Assumption_Apt!M36)+(Assumption_Apt!E19+Assumption_Apt!P36)+(Assumption_Apt!E19*Assumption_Apt!S36)+(Assumption_Apt!E19*Assumption_Apt!V36)+(Assumption_Apt!E19*Assumption_Apt!D59)+(Assumption_Apt!E19*Assumption_Apt!G59)+(Assumption_Apt!E19*Assumption_Apt!J59)+(Assumption_Apt!E19*Assumption_Apt!M59)+(Assumption_Apt!E19*Assumption_Apt!P59) -> 85890248 | H36: =(Assumption_Apt!E19*Assumption_Apt!D40)+(Assumption_Apt!E19*Assumption_Apt!G40)+(Assumption_Apt!E19*Assumption_Apt!J40)+(Assumption_Apt!E19*Assumption_Apt!M40)+(Assumption_Apt!E19+Assumption_Apt!P40)+(Assumption_Apt!E19*Assumption_Apt!S40)+(Assumption_Apt!E19*Assumption_Apt!V40)+(Assumption_Apt!E19*Assumption_Apt!D63)+(Assumption_Apt!E19*Assumption_Apt!G63)+(Assumption_Apt!E19*Assumption_Apt!J63)+(Assumption_Apt!E19*Assumption_Apt!M63)+(Assumption_Apt!E19*Assumption_Apt!P63) -> 114690336 | I36: =(Assumption_Apt!E19*Assumption_Apt!D44)+(Assumption_Apt!E19*Assumption_Apt!G44)+(Assumption_Apt!E19*Assumption_Apt!J44)+(Assumption_Apt!E19*Assumption_Apt!M44)+(Assumption_Apt!E19+Assumption_Apt!P44)+(Assumption_Apt!E19*Assumption_Apt!S44)+(Assumption_Apt!E19*Assumption_Apt!V44)+(Assumption_Apt!E19*Assumption_Apt!D67)+(Assumption_Apt!E19*Assumption_Apt!G67)+(Assumption_Apt!E19*Assumption_Apt!J67)+(Assumption_Apt!E19*Assumption_Apt!M67)+(Assumption_Apt!E19*Assumption_Apt!P67) -> 136740407
E37: =SUM(E34:E36) -> 219011557 | F37: =SUM(F34:F36) -> 493200168 | G37: =SUM(G34:G36) -> 717210248 | H37: =SUM(H34:H36) -> 955211336 | I37: =SUM(I34:I36) -> 1133308407
C39: COST
C41: CAPEX (BOQ)
E42: CPE | F42: 600000
C44: No | D44: Item | E44: Year 1 | F44: Year 2 | G44: Year 3 | H44: Year 4 | I44: Year 5
C45: 1 | D45: Kable + Instalasi Lumpsum | E45: 100000000
C46: 2 | D46: AC | E46: 6050000
C47: 3 | D47: CPE A | E47: =Assumption_Apt!R49*$F$42 -> 119400000 | F47: =Assumption_Apt!R53*$F$42 -> 120000000 | G47: =Assumption_Apt!R57*$F$42 -> 15000000 | H47: =Assumption_Apt!R61*$F$42 -> 15000000 | I47: =Assumption_Apt!R65*$F$42 -> 30000000
C48: 4 | D48: CPE B | E48: =Assumption_Apt!R50*$F$42 -> 224400000 | F48: =Assumption_Apt!R54*$F$42 -> 37800000 | G48: =Assumption_Apt!R58*$F$42 -> 7200000 | H48: =Assumption_Apt!R62*$F$42 -> 18600000 | I48: =Assumption_Apt!R66*$F$42 -> 11400000
C49: 5 | D49: CPE C | E49: =Assumption_Apt!R51*$F$42 -> 82200000 | F49: =Assumption_Apt!R55*$F$42 -> 45000000 | G49: =Assumption_Apt!R59*$F$42 -> 52200000 | H49: =Assumption_Apt!R63*$F$42 -> 52800000 | I49: =Assumption_Apt!R67*$F$42 -> 30000000
D50: TOTAL A | E50: =SUM(E47:I47)+E45+E46 -> 405450000 | F50: Total B | G50: =SUM(E48:I48)+E45+E46 -> 405450000 | H50: Total C | I50: =SUM(E49:I49)+E45+E46 -> 368250000
C52: Revenue share to BM | E52: 0.1
...

Sheet IRR
B2: INTERNAL RATE OF RETURN (IRR)
B5: Building Name | D5: =Summary!C7 -> Grand Dhika City Jatiwarna Tower Emerald
B6: Address | D6: =Summary!C8 -> Jl. Raya Hankam No.1, Jatimelati
B7: Location | D7: Bekasi
B8: Building Type | D8: Superblock
B9: Status | D9: Bangunan Baru
B10: Date | D10: 2018
B11: Status IRR | D11: New
B13: General Param
B14: Deposit Rate | D14: =Assumption_Apt!N15 -> 0.06 | E14: /tahun
B15: Discount Rate | D15: 0.15
B16: Loan Rate | D16: =Assumption_Apt!N14 -> 0.125 | E16: /tahun
B17: Kurs | D17: 14500 | E17: / USD 1 | H17: 0.5
E19: A Achievable Target | G19: IRR: | H19: =IRR(D29:H29,$D$15) -> #NUM!
E20: B Stretch Target | G20: IRR: | H20: =IRR(D37:H37,$D$15) -> #NUM!
E21: C Low Target | G21: IRR: | H21: =IRR(D45:H45,$D$15) -> #NUM!
B24: No | C24: 1. Sken A | D24: Year 1 | E24: Year 2 | F24: Year 3 | G24: Year 4 | H24: Year 5 | I24: TOTAL
B25: 1 | C25: Revenue | D25: ='Gabungan_Calculation Sheet'!E25 -> 358629583 | E25: ='Gabungan_Calculation Sheet'!F25 -> 809560283 | F25: ='Gabungan_Calculation Sheet'!G25 -> 1127339410 | G25: ='Gabungan_Calculation Sheet'!H25 -> 1195239934 | H25: ='Gabungan_Calculation Sheet'!I25 -> 1303543470 | I25: =SUM(D25:H25) -> 4794312680
B26: 2 | C26: Cost | D26: ='Gabungan_Calculation Sheet'!E45+'Gabungan_Calculation Sheet'!E46+'Gabungan_Calculation Sheet'!E47+'Gabungan_Calculation Sheet'!E64 -> 2.5705398e+08 | E26: ='Gabungan_Calculation Sheet'!F64+'Gabungan_Calculation Sheet'!F47 -> 1.8015051e+08 | F26: ='Gabungan_Calculation Sheet'!G64+'Gabungan_Calculation Sheet'!G47 -> 91789470 | G26: ='Gabungan_Calculation Sheet'!H64+'Gabungan_Calculation Sheet'!H47 -> 95934497 | H26: ='Gabungan_Calculation Sheet'!I64+'Gabungan_Calculation Sheet'!I47 -> 1.1784967e+08 | I26: =SUM(D26:H26) -> 742778134
B27: 3 | C27: Net | D27: =D25-D26 -> 1.015756e+08 | E27: =E25-E26 -> 6.2940977e+08 | F27: =F25-F26 -> 1.0355499e+09 | G27: =G25-G26 -> 1.0993054e+09 | H27: =H25-H26 -> 1.1856938e+09 | I27: =SUM(D27:H27) -> 4051534546
B28: 4 | C28: Interest | D28: =IF(D30<1,(D30*70%)*$D$16,D30*$D$14) -> 6094536.2 | E28: =IF(E30<1,(E30*70%)*$D$16,E30*$D$14) -> 43859122 | F28: =IF(F30<1,(F30*70%)*$D$16,F30*$D$14) -> 1.0599212e+08 | G28: =IF(G30<1,(G30*70%)*$D$16,G30*$D$14) -> 1.7195044e+08 | H28: =IF(H30<1,(H30*70%)*$D$16,H30*$D$14) -> 2.4309207e+08 | I28: =SUM(D28:H28) -> 5.709883e+08
C29: TOTAL | D29: =D27+D28 -> 1.0767014e+08 | E29: =E27+E28 -> 6.7326889e+08 | F29: =F27+F28 -> 1.1415421e+09 | G29: =G27+G28 -> 1.2712559e+09 | H29: =H27+H28 -> 1.4287859e+09 | I29: =SUM(D29:H29) -> 4.6225228e+09
D30: =D27 -> 1.015756e+08 | E30: =D30+E27 -> 7.3098537e+08 | F30: =E30+F27 -> 1.7665353e+09 | G30: =F30+G27 -> 2.8658407e+09 | H30: =G30+H27 -> 4051534546
B32: No | C32: 2. Sken B | D32: Year 1 | E32: Year 2 | F32: Year 3 | G32: Year 4 | H32: Year 5 | I32: TOTAL
B33: 1 | C33: Revenue | D33: ='Gabungan_Calculation Sheet'!E31 -> 599555656 | E33: ='Gabungan_Calculation Sheet'!F31 -> 1119537400 | F33: ='Gabungan_Calculation Sheet'!G31 -> 1209669442 | G33: ='Gabungan_Calculation Sheet'!H31 -> 1273179962 | H33: ='Gabungan_Calculation Sheet'!I31 -> 1338372988 | I33: =SUM(D33:H33) -> 5540315448
B34: 2 | C34: Cost | D34: ='Gabungan_Calculation Sheet'!E45+'Gabungan_Calculation Sheet'!E46+'Gabungan_Calculation Sheet'!E48+'Gabungan_Calculation Sheet'!E70 -> 3.7935028e+08 | E34: ='Gabungan_Calculation Sheet'!F70+'Gabungan_Calculation Sheet'!F48 -> 114589370 | F34: ='Gabungan_Calculation Sheet'!G70+'Gabungan_Calculation Sheet'!G48 -> 88855972 | G34: ='Gabungan_Calculation Sheet'!H70+'Gabungan_Calculation Sheet'!H48 -> 1.043615e+08 | H34: ='Gabungan_Calculation Sheet'!I70+'Gabungan_Calculation Sheet'!I48 -> 1.0099115e+08 | I34: =SUM(D34:H34) -> 7.8814827e+08
B35: 3 | C35: Net | D35: =D33-D34 -> 2.2020537e+08 | E35: =E33-E34 -> 1004948030 | F35: =F33-F34 -> 1.1208135e+09 | G35: =G33-G34 -> 1.1688185e+09 | H35: =H33-H34 -> 1.2373818e+09 | I35: =SUM(D35:H35) -> 4.7521672e+09
B36: 4 | C36: Interest | D36: =IF(D38<1,(D38*70%)*$D$16,D38*$D$14) -> 13212322 | E36: =IF(E38<1,(E38*70%)*$D$16,E38*$D$14) -> 73509204 | F36: =IF(F38<1,(F38*70%)*$D$16,F38*$D$14) -> 1.4075801e+08 | G36: =IF(G38<1,(G38*70%)*$D$16,G38*$D$14) -> 2.1088712e+08 | H36: =IF(H38<1,(H38*70%)*$D$16,H38*$D$14) -> 2.8513003e+08 | I36: =SUM(D36:H36) -> 7.2349669e+08
C37: TOTAL | D37: =D35+D36 -> 2.334177e+08 | E37: =E35+E36 -> 1.0784572e+09 | F37: =F35+F36 -> 1.2615715e+09 | G37: =G35+G36 -> 1.3797056e+09 | H37: =H35+H36 -> 1.5225119e+09 | I37: =SUM(D37:H37) -> 5.4756639e+09
D38: =D35 -> 2.2020537e+08 | E38: =D38+E35 -> 1.2251534e+09 | F38: =E38+F35 -> 2.3459669e+09 | G38: =F38+G35 -> 3.5147853e+09 | H38: =G38+H35 -> 4.7521672e+09
B40: No | C40: 3. Sken C | D40: Year 1 | E40: Year 2 | F40: Year 3 | G40: Year 4 | H40: Year 5 | I40: TOTAL
B41: 1 | C41: Revenue | D41: ='Gabungan_Calculation Sheet'!E37 -> 219011557 | E41: ='Gabungan_Calculation Sheet'!F37 -> 493200168 | F41: ='Gabungan_Calculation Sheet'!G37 -> 717210248 | G41: ='Gabungan_Calculation Sheet'!H37 -> 955211336 | H41: ='Gabungan_Calculation Sheet'!I37 -> 1133308407 | I41: =SUM(D41:H41) -> 3517941716
B42: 2 | C42: Cost | D42: ='Gabungan_Calculation Sheet'!E45+'Gabungan_Calculation Sheet'!E46+'Gabungan_Calculation Sheet'!E49+'Gabungan_Calculation Sheet'!E76 -> 2.1101308e+08 | E42: ='Gabungan_Calculation Sheet'!F76+'Gabungan_Calculation Sheet'!F49 -> 83722508 | F42: ='Gabungan_Calculation Sheet'!G76+'Gabungan_Calculation Sheet'!G49 -> 1.0473301e+08 | G42: ='Gabungan_Calculation Sheet'!H76+'Gabungan_Calculation Sheet'!H49 -> 1.1987307e+08 | H42: ='Gabungan_Calculation Sheet'!I76+'Gabungan_Calculation Sheet'!I49 -> 1.0747792e+08 | I42: =SUM(D42:H42) -> 6.2681959e+08
B43: 3 | C43: Net | D43: =D41-D42 -> 7998479.2 | E43: =E41-E42 -> 4.0947766e+08 | F43: =F41-F42 -> 6.1247724e+08 | G43: =G41-G42 -> 8.3533827e+08 | H43: =H41-H42 -> 1.0258305e+09 | I43: =SUM(D43:H43) -> 2.8911221e+09
B44: 4 | C44: Interest | D44: =IF(D46<1,(D46*70%)*$D$16,D46*$D$14) -> 479908.75 | E44: =IF(E46<1,(E46*70%)*$D$16,E46*$D$14) -> 25048568 | F44: =IF(F46<1,(F46*70%)*$D$16,F46*$D$14) -> 61797202 | G44: =IF(G46<1,(G46*70%)*$D$16,G46*$D$14) -> 1.119175e+08 | H44: =IF(H46<1,(H46*70%)*$D$16,H46*$D$14) -> 1.7346733e+08 | I44: =SUM(D44:H44) -> 3.7271051e+08
C45: TOTAL | D45: =D43+D44 -> 8478387.9 | E45: =E43+E44 -> 4.3452623e+08 | F45: =F43+F44 -> 6.7427444e+08 | G45: =G43+G44 -> 9.4725577e+08 | H45: =H43+H44 -> 1.1992978e+09 | I45: =SUM(D45:H45) -> 3.2638326e+09
D46: =D43 -> 7998479.2 | E46: =D46+E43 -> 4.1747614e+08 | F46: =E46+F43 -> 1.0299534e+09 | G46: =F46+G43 -> 1.8652916e+09 | H46: =G46+H43 -> 2.8911221e+09
D51: (Sukmawati) | E51: (Hermina Y) | F51: (Aries W)

Sheet New IRR (5th) OK (A)
G1: IRR COMBINED SCHEME A
B2: INTERNAL RATE OF RETURN (IRR) | P2: No IRR :
B5: Nama Bangunan | E5: : | F5: =Summary!C7 -> Grand Dhika City Jatiwarna Tower Emerald | N5: Jumlah Lantai :
B6: Alamat | E6: : | F6: =Summary!C8 -> Jl. Raya Hankam No.1, Jatimelati | BB6: TSEL | BC6: ISAT | BD6: XL | BE6: HCPT | BF6: FM | BG6: SMARTFREN | BH6: AXIS | BI6: FLEXI | BJ6: ESIA
B7: Lokasi Bangunan | E7: : | F7: Jabodetabek | AC7: Lokasi Bangunan | AD7: Type Bangunan | AE7: Status | AF7: Tanggal | AG7: Bulan | AH7: Tahun | AI7: Status IRR | AJ7: Operator Join | AK7: Masa Sewa | AL7: persentase | AM7: persentase pembayran | AQ7: No | AR7: Operator | AS7: =I10 -> 2019 | AT7: =AS7+1 -> 2020 | AU7: =AT7+1 -> 2021 | AV7: =AU7+1 -> 2022 | AW7: =AV7+1 -> 2023 | AX7: =AW7+1 -> 2024
B8: Type Bangunan | E8: : | F8: Apartement | J8: =VLOOKUP(Q16,BA8:BK759,11,FALSE) -> S | K8: Masa Sewa : | M8: 5 | N8: Tahun | AC8: Jabodetabek | AD8: Mall | AE8: Bangunan Baru | AF8: 1 | AG8: Januari | AH8: 2008 | AI8: Baru | AQ8: 1 | AR8: TSEL | AS8: =E21*$Q$16*E33*60 -> 0 | AT8: =F21*$Q$16*F33*60 -> 0 | AU8: =G21*$Q$16*G33*60 -> 0 | AV8: =H21*$Q$16*H33*60 -> 0 | AW8: =I21*$Q$16*I33*60 -> 0 | AX8: =J21*$Q$16*J33*60 -> 0 | BA8: 1 | BB8: N/A | BC8: 270000 | BD8: 300000 | BE8: 150000 | BF8: 270000 | BK8: S
B9: Status | E9: : | F9: Bangunan Baru | AC9: Jawa Tengah | AD9: Superblok | AE9: Bangunan Lama | AF9: 2 | AG9: Februari | AH9: 2009 | AI9: Revisi I | AJ9: 1 | AK9: 1 | AL9: 0.05 | AM9: 0.05 | AQ9: 2 | AR9: ISAT | AS9: =E22*$Q$16*E34*60 -> 0 | AT9: =F22*$Q$16*F34*60 -> 0 | AU9: =G22*$Q$16*G34*60 -> 0 | AV9: =H22*$Q$16*H34*60 -> 0 | AW9: =I22*$Q$16*I34*60 -> 0 | AX9: =J22*$Q$16*J34*60 -> 0 | BA9: 2 | BB9: N/A | BC9: 270000 | BD9: 300000 | BE9: 150000 | BF9: 270000 | BK9: S
B10: Tanggal | E10: : | G10: Januari | I10: 2019 | AC10: Jawa Timur | AD10: Rumah Sakit | AF10: 3 | AG10: Maret | AH10: 2010 | AI10: Revisi II | AK10: 3 | AL10: 0.1 | AM10: 0.1 | AQ10: 3 | AR10: XL | AS10: =E23*$Q$16*E35*60 -> 0 | AT10: =F23*$Q$16*F35*60 -> 0 | AU10: =G23*$Q$16*G35*60 -> 0 | AV10: =H23*$Q$16*H35*60 -> 0 | AW10: =I23*$Q$16*I35*60 -> 0 | AX10: =J23*$Q$16*J35*60 -> 0 | BA10: 3 | BB10: N/A | BC10: 270000 | BD10: 300000 | BE10: 150000 | BF10: 270000 | BK10: S
B11: Status IRR | E11: : | F11: Baru | AC11: Jawa Barat | AD11: Rusunami | AF11: 4 | AG11: April | AH11: 2011 | AI11: Revisi III | AK11: 5 | AM11: 0.15 | AQ11: 4 | AR11: HCPT | AS11: =E24*$Q$16*E36*60 -> 0 | AT11: =F24*$Q$16*F36*60 -> 0 | AU11: =G24*$Q$16*G36*60 -> 0 | AV11: =H24*$Q$16*H36*60 -> 0 | AW11: =I24*$Q$16*I36*60 -> 0 | AX11: =J24*$Q$16*J36*60 -> 0 | BA11: 4 | BB11: N/A | BC11: 270000 | BD11: 300000 | BE11: 150000 | BF11: 270000 | BK11: S
L12: SUMMARY | AC12: Kalimantan | AD12: Office | AF12: 5 | AG12: Mei | AH12: 2012 | AK12: 10 | AM12: 0.2 | AQ12: 5 | AR12: FM | AS12: =E25*$Q$16*E37*60 -> 0 | AT12: =F25*$Q$16*F37*60 -> 0 | AU12: =G25*$Q$16*G37*60 -> 0 | AV12: =H25*$Q$16*H37*60 -> 0 | AW12: =I25*$Q$16*I37*60 -> 0 | AX12: =J25*$Q$16*J37*60 -> 0 | BA12: 5 | BB12: N/A | BC12: 270000 | BD12: 300000 | BE12: 150000 | BF12: 270000 | BK12: S
B13: Parameter umum | AC13: Sumatra | AD13: Universitas | AF13: 6 | AG13: Juni | AH13: 2013 | AM13: 0.25 | AQ13: 6 | AR13: SMARTFREN | AS13: =E26*$Q$16*E38*60 -> 0 | AT13: =F26*$Q$16*F38*60 -> 0 | AU13: =G26*$Q$16*G38*60 -> 0 | AV13: =H26*$Q$16*H38*60 -> 0 | AW13: =I26*$Q$16*I38*60 -> 0 | AX13: =J26*$Q$16*J38*60 -> 0 | BA13: 6 | BB13: N/A | BC13: 270000 | BD13: 300000 | BE13: 150000 | BF13: 270000 | BK13: S
B14: Tingkat bunga Deposito | D14: : | E14: 0.075 | F14: /tahun | AC14: Sulawesi | AD14: Hotel | AF14: 7 | AG14: Juli | AH14: 2014 | AM14: 0.3 | AQ14: 7 | AR14: AXIS | AS14: =E27*$Q$16*E39*60 -> 0 | AT14: =F27*$Q$16*F39*60 -> 0 | AU14: =G27*$Q$16*G39*60 -> 0 | AV14: =H27*$Q$16*H39*60 -> 0 | AW14: =I27*$Q$16*I39*60 -> 0 | AX14: =J27*$Q$16*J39*60 -> 0 | BA14: 7 | BB14: N/A | BC14: 270000 | BD14: 300000 | BE14: 150000 | BF14: 270000 | BK14: S
B15: Discount Rate | D15: : | E15: 0.15 | M15: Perkiraan Umum | AC15: Bali/Lombok | AD15: Traditional Market | AF15: 8 | AG15: Agustus | AH15: 2015 | AM15: 0.35 | AQ15: 8 | AR15: FLEXI | AS15: =E28*$Q$16*E40*60 -> 0 | AT15: =F28*$Q$16*F40*60 -> 0 | AU15: =G28*$Q$16*G40*60 -> 0 | AV15: =H28*$Q$16*H40*60 -> 0 | AW15: =I28*$Q$16*I40*60 -> 0 | AX15: =J28*$Q$16*J40*60 -> 0 | BA15: 8 | BB15: N/A | BC15: 270000 | BD15: 300000 | BE15: 150000 | BF15: 270000 | BK15: S
B16: Tingkat bunga Pinjaman | D16: : | E16: 0.125 | F16: /tahun | M16: Jumlah Antena | P16: : | Q16: 10 | R16: Antena | AC16: Ind Bg Tim | AD16: Apartement | AF16: 9 | AG16: September | AH16: 2016 | AM16: 0.4 | AQ16: 9 | AR16: ESIA | AS16: =E29*$Q$16*E41*60 -> 0 | AT16: =F29*$Q$16*F41*60 -> 0 | AU16: =G29*$Q$16*G41*60 -> 0 | AV16: =H29*$Q$16*H41*60 -> 0 | AW16: =I29*$Q$16*I41*60 -> 0 | AX16: =J29*$Q$16*J41*60 -> 0 | BA16: 9 | BB16: N/A | BC16: 270000 | BD16: 300000 | BE16: 150000 | BF16: 270000 | BK16: S
B17: Kurs | D17: : | E17: 15000 | F17: / USD 1 | H17: 0.5 | M17: Jumlah Combiner | P17: : | R17: Unit | AD17: Entertaint Area | AF17: 10 | AG17: Oktober | AH17: 2017 | AM17: 0.45 | BA17: 10 | BB17: N/A | BC17: 270000 | BD17: 300000 | BE17: 150000 | BF17: 270000 | BK17: S
M18: Jumlah Shooter | P18: : | Q18: 2 | R18: Pole | AF18: 11 | AG18: November | AH18: 2018 | AM18: 0.5 | AQ18: No | AR18: Operator | AS18: =AS7 -> 2019 | AT18: =AS18+1 -> 2020 | AU18: =AT18+1 -> 2021 | AV18: =AU18+1 -> 2022 | AW18: =AV18+1 -> 2023 | AX18: =AW18+1 -> 2024 | BA18: 11 | BB18: N/A | BC18: 270000 | BD18: 300000 | BE18: 150000 | BF18: 270000 | BK18: S
B19: Parameter Harga Jual/antena/bulan | M19: Pendapatan dari operator | P19: : | Q19: =K55 -> 5574312680 | AC19: MCP-Shooter/Titik | AD19: 300000000 | AF19: 12 | AG19: Desember | AH19: 2019 | AM19: 0.55 | AQ19: 1 | AR19: TSEL | AS19: =IF(AS8>1,AS8/5,0) -> 0 | AT19: =IF(AS19>1,AS19,AT8/5) -> 0 | AU19: =IF(AT19>1,AT19,AU8/5) -> 0 | AV19: =IF(AU19>1,AU19,AV8/5) -> 0 | AW19: =IF(AV19>1,AV19,AW8/5) -> 0 | AX19: =IF(AW19>1,AW19,AX8/5) -> 0 | BA19: 12 | BB19: N/A | BC19: 270000 | BD19: 300000 | BE19: 150000 | BF19: 270000 | BK19: S
C20: No | D20: Operator | E20: =I10 -> 2019 | F20: =E20+1 -> 2020 | G20: =F20+1 -> 2021 | H20: =G20+1 -> 2022 | I20: =H20+1 -> 2023 | J20: =I20+1 -> 2024 | M20: Pembelian Aset Tetap | P20: : | Q20: =-K61-K63 -> -360000000 | AF20: 13 | AH20: 2020 | AM20: 0.6 | AQ20: 2 | AR20: ISAT | AS20: =IF(AS9>1,AS9/5,0) -> 0 | AT20: =IF(AS20>1,AS20,AT9/5) -> 0 | AU20: =IF(AT20>1,AT20,AU9/5) -> 0 | AV20: =IF(AU20>1,AU20,AV9/5) -> 0 | AW20: =IF(AV20>1,AV20,AW9/5) -> 0 | AX20: =IF(AW20>1,AW20,AX9/5) -> 0 | BA20: 13 | BB20: N/A | BC20: 270000 | BD20: 300000 | BE20: 150000 | BF20: 270000 | BK20: S
C21: 1 | D21: TSEL | M21: Biaya Sewa | P21: : | Q21: =-K58-K59-K60 -> -1225000000 | AF21: 14 | AH21: 2021 | AM21: 0.65 | AQ21: 3 | AR21: XL | AS21: =IF(AS10>1,AS10/5,0) -> 0 | AT21: =IF(AS21>1,AS21,AT10/5) -> 0 | AU21: =IF(AT21>1,AT21,AU10/5) -> 0 | AV21: =IF(AU21>1,AU21,AV10/5) -> 0 | AW21: =IF(AV21>1,AV21,AW10/5) -> 0 | AX21: =IF(AW21>1,AW21,AX10/5) -> 0 | BA21: 14 | BB21: N/A | BC21: 270000 | BD21: 300000 | BE21: 150000 | BF21: 270000 | BK21: S
C22: 2 | D22: ISAT | M22: Biaya Operasional | P22: : | Q22: =-K64-K65-K66 -> -6.1172415e+08 | AF22: 15 | AH22: 2022 | AM22: 0.7 | AQ22: 4 | AR22: HCPT | AS22: =IF(AS11>1,AS11/5,0) -> 0 | AT22: =IF(AS22>1,AS22,AT11/5) -> 0 | AU22: =IF(AT22>1,AT22,AU11/5) -> 0 | AV22: =IF(AU22>1,AU22,AV11/5) -> 0 | AW22: =IF(AV22>1,AV22,AW11/5) -> 0 | AX22: =IF(AW22>1,AW22,AX11/5) -> 0 | BA22: 15 | BB22: N/A | BC22: 270000 | BD22: 300000 | BE22: 150000 | BF22: 270000 | BK22: S
C23: 3 | D23: XL | M23: Pendapatan Bunga (Biaya Bunga) | P23: : | Q23: =K74 -> 1.8254238e+08 | AF23: 16 | AH23: 2023 | AM23: 0.75 | AQ23: 5 | AR23: FM | AS23: =IF(AS12>1,AS12/5,0) -> 0 | AT23: =IF(AS23>1,AS23,AT12/5) -> 0 | AU23: =IF(AT23>1,AT23,AU12/5) -> 0 | AV23: =IF(AU23>1,AU23,AV12/5) -> 0 | AW23: =IF(AV23>1,AV23,AW12/5) -> 0 | AX23: =IF(AW23>1,AW23,AX12/5) -> 0 | BA23: 16 | BB23: N/A | BC23: 270000 | BD23: 300000 | BE23: 150000 | BF23: 270000 | BK23: S
C24: 4 | D24: HCPT | N24: Arus Kas Bersih (dalam 6 tahun) | Q24: =SUM(Q19:Q23) -> 3.5601309e+09 | AF24: 17 | AH24: 2024 | AM24: 0.8 | AQ24: 6 | AR24: SMARTFREN | AS24: =IF(AS13>1,AS13/5,0) -> 0 | AT24: =IF(AS24>1,AS24,AT13/5) -> 0 | AU24: =IF(AT24>1,AT24,AU13/5) -> 0 | AV24: =IF(AU24>1,AU24,AV13/5) -> 0 | AW24: =IF(AV24>1,AV24,AW13/5) -> 0 | AX24: =IF(AW24>1,AW24,AX13/5) -> 0 | BA24: 17 | BB24: N/A | BC24: 270000 | BD24: 300000 | BE24: 150000 | BF24: 270000 | BK24: S
C25: 5 | D25: FM | AF25: 18 | AH25: 2025 | AM25: 0.85 | AQ25: 7 | AR25: AXIS | AS25: =IF(AS14>1,AS14/5,0) -> 0 | AT25: =IF(AS25>1,AS25,AT14/5) -> 0 | AU25: =IF(AT25>1,AT25,AU14/5) -> 0 | AV25: =IF(AU25>1,AU25,AV14/5) -> 0 | AW25: =IF(AV25>1,AV25,AW14/5) -> 0 | AX25: =IF(AW25>1,AW25,AX14/5) -> 0 | BA25: 18 | BB25: N/A | BC25: 270000 | BD25: 300000 | BE25: 150000 | BF25: 270000 | BK25: S
C26: 6 | D26: SMARTFREN | M26: NPV | P26: : | Q26: =NPV(E14,E75:J75) -> 2.1208345e+09 | AF26: 19 | AM26: 0.9 | AQ26: 8 | AR26: FLEXI | AS26: =IF(AS15>1,AS15/5,0) -> 0 | AT26: =IF(AS26>1,AS26,AT15/5) -> 0 | AU26: =IF(AT26>1,AT26,AU15/5) -> 0 | AV26: =IF(AU26>1,AU26,AV15/5) -> 0 | AW26: =IF(AV26>1,AV26,AW15/5) -> 0 | AX26: =IF(AW26>1,AW26,AX15/5) -> 0 | BA26: 19 | BB26: N/A | BC26: 270000 | BD26: 300000 | BE26: 150000 | BF26: 270000 | BK26: S
C27: 7 | D27: MTI | M27: IRR | P27: : | Q27: =N70 -> 0.57017789 | AF27: 20 | AM27: 0.95 | AQ27: 9 | AR27: ESIA | AS27: =IF(AS16>1,AS16/5,0) -> 0 | AT27: =IF(AS27>1,AS27,AT16/5) -> 0 | AU27: =IF(AT27>1,AT27,AU16/5) -> 0 | AV27: =IF(AU27>1,AU27,AV16/5) -> 0 | AW27: =IF(AV27>1,AV27,AW16/5) -> 0 | AX27: =IF(AW27>1,AW27,AX16/5) -> 0 | BA27: 20 | BB27: N/A | BC27: 270000 | BD27: 300000 | BE27: 150000 | BF27: 270000 | BK27: S
C28: 8 | D28: FLEXI | L28: =MATCH(TRUE,E76:J76,0) -> 3 | M28: Payback periode | P28: : | Q28: =(L28-1+OFFSET(E75,0,L28)/OFFSET(E69,0,L28))*12 -> 33.582794 | R28: Bulan | AF28: 21 | AM28: 1 | BA28: 21 | BB28: N/A | BC28: 270000 | BD28: 300000 | BE28: 150000 | BF28: 270000 | BK28: S
C29: 9 | D29: ESIA | AF29: 22 | BA29: 22 | BB29: N/A | BC29: 270000 | BD29: 300000 | BE29: 150000 | BF29: 270000 | BK29: S
AF30: 23 | BA30: 23 | BB30: N/A | BC30: 270000 | BD30: 300000 | BE30: 150000 | BF30: 270000 | BK30: S
B31: Operator Join | AF31: 24 | BA31: 24 | BB31: N/A | BC31: 270000 | BD31: 300000 | BE31: 150000 | BF31: 270000 | BK31: S
C32: No | D32: Operator | E32: =E20 -> 2019 | F32: =E32+1 -> 2020 | G32: =F32+1 -> 2021 | H32: =G32+1 -> 2022 | I32: =H32+1 -> 2023 | J32: =I32+1 -> 2024 | M32: Parameter Harga untuk OPEX | Q32: Parameter Harga untuk CAPEX | AF32: 25 | BA32: 25 | BB32: N/A | BC32: 270000 | BD32: 300000 | BE32: 150000 | BF32: 270000 | BK32: S
B33: =SUM(E33:J33) -> 1 | C33: 1 | D33: TSEL | E33: 1 | K33: =IF(B33>1,"Salah","Benar") -> Benar | M33: 1 | N33: Listrik | O33: Jumlah | Q33: No | R33: Keterangan | S33: =E20 -> 2019 | T33: Keterangan | AF33: 26 | BA33: 26 | BB33: N/A | BC33: 270000 | BD33: 300000 | BE33: 150000 | BF33: 270000 | BK33: S
B34: =SUM(E34:J34) -> 0 | C34: 2 | D34: ISAT | K34: =IF(B34>1,"Salah","Benar") -> Benar | N34: - TSEL | O34: =IF($Q$16<100,36000000,IF($Q$16>200,48000000,42000000)) -> 36000000 | P34: per Tahun | Q34: 1 | R34: SITAC | AF34: 27 | BA34: 27 | BB34: N/A | BC34: 270000 | BD34: 300000 | BE34: 150000 | BF34: 270000 | BK34: S
B35: =SUM(E35:J35) -> 1 | C35: 3 | D35: XL | G35: 1 | K35: =IF(B35>1,"Salah","Benar") -> Benar | N35: - ISAT | O35: =IF($Q$16<100,36000000,IF($Q$16>200,48000000,42000000)) -> 36000000 | P35: per Tahun | Q35: =J8&F8&F7 -> SApartementJabodetabek | R35: - Sewa Lahan | S35: 100000000 | T35: per tahun | AF35: 28 | BA35: 28 | BB35: N/A | BC35: 270000 | BD35: 300000 | BE35: 150000 | BF35: 270000 | BK35: S
B36: =SUM(E36:J36) -> 0 | C36: 4 | D36: HCPT | K36: =IF(B36>1,"Salah","Benar") -> Benar | N36: - XL | P36: per Tahun | R36: - Biaya Koordinasi | S36: 25000000 | T36: per bangunan | AF36: 29 | BA36: 29 | BB36: N/A | BC36: 270000 | BD36: 300000 | BE36: 150000 | BF36: 270000 | BK36: S
B37: =SUM(E37:J37) -> 0 | C37: 5 | D37: FM | K37: =IF(B37>1,"Salah","Benar") -> Benar | N37: - HCPT | P37: per Tahun | R37: - Biaya Agensi | T37: per bangunan | AF37: 30 | BA37: 30 | BB37: N/A | BC37: 270000 | BD37: 300000 | BE37: 150000 | BF37: 270000 | BK37: S
B38: =SUM(E38:J38) -> 0 | C38: 6 | D38: SMARTFREN | K38: =IF(B38>1,"Salah","Benar") -> Benar | N38: - FM | P38: per Tahun | AF38: 31 | BA38: 31 | BB38: N/A | BC38: 270000 | BD38: 300000 | BE38: 150000 | BF38: 270000 | BK38: S
B39: =SUM(E39:J39) -> 1 | C39: 7 | D39: MTI | E39: 1 | K39: =IF(B39>1,"Salah","Benar") -> Benar | N39: - SMARTFREN | P39: per Tahun | Q39: 2 | R39: ASSET (non Op) | BA39: 32 | BB39: N/A | BC39: 270000 | BD39: 300000 | BE39: 150000 | BF39: 270000 | BK39: S
B40: =SUM(E40:J40) -> 1 | C40: 8 | D40: MCP | E40: 1 | K40: =IF(B40>1,"Salah","Benar") -> Benar | N40: MTI | O40: =Assumption_Apt!R5 -> 2400000 | P40: per Tahun | R40: - DAS IBC | S40: =(Q16*6000000) -> 60000000 | T40: Sesuai BOQ | BA40: 33 | BB40: N/A | BC40: 270000 | BD40: 300000 | BE40: 150000 | BF40: 270000 | BK40: S
B41: =SUM(E41:J41) -> 0 | C41: 9 | D41: ESIA | K41: =IF(B41>1,"Salah","Benar") -> Benar | N41: - FLEXI | P41: per Tahun | R41: - GPON | S41: ='Gabungan_Calculation Sheet'!E50 -> 405450000 | BA41: 34 | BB41: N/A | BC41: 270000 | BD41: 300000 | BE41: 150000 | BF41: 270000 | BK41: S
N42: - ESIA | P42: per Tahun | R42: - MCP-Shooter | S42: =(Q18*AD19)+50000000+50000000 -> 700000000 | BA42: 35 | BB42: N/A | BC42: 270000 | BD42: 300000 | BE42: 150000 | BF42: 270000 | BK42: S
...

Sheet New IRR (5th) OK (B)
G1: IRR COMBINED SCHEME B
B2: INTERNAL RATE OF RETURN (IRR) | P2: No IRR :
B5: Nama Bangunan | E5: : | F5: ='New IRR (5th) OK (A)'!F5:M5 -> Grand Dhika City Jatiwarna Tower Emerald | N5: Jumlah Lantai :
B6: Alamat | E6: : | F6: ='New IRR (5th) OK (A)'!F6:O6 -> Jl. Raya Hankam No.1, Jatimelati | BB6: TSEL | BC6: ISAT | BD6: XL | BE6: HCPT | BF6: FM | BG6: SMARTFREN | BH6: AXIS | BI6: FLEXI | BJ6: ESIA
B7: Lokasi Bangunan | E7: : | F7: Jabodetabek | AC7: Lokasi Bangunan | AD7: Type Bangunan | AE7: Status | AF7: Tanggal | AG7: Bulan | AH7: Tahun | AI7: Status IRR | AJ7: Operator Join | AK7: Masa Sewa | AL7: persentase | AM7: persentase pembayran | AQ7: No | AR7: Operator | AS7: =I10 -> 2019 | AT7: =AS7+1 -> 2020 | AU7: =AT7+1 -> 2021 | AV7: =AU7+1 -> 2022 | AW7: =AV7+1 -> 2023 | AX7: =AW7+1 -> 2024
B8: Type Bangunan | E8: : | F8: Apartement | J8: =VLOOKUP(Q16,BA8:BK759,11,FALSE) -> S | K8: Masa Sewa : | M8: 5 | N8: Tahun | AC8: Jabodetabek | AD8: Mall | AE8: Bangunan Baru | AF8: 1 | AG8: Januari | AH8: 2008 | AI8: Baru | AQ8: 1 | AR8: TSEL | AS8: =E21*$Q$16*E33*60 -> 0 | AT8: =F21*$Q$16*F33*60 -> 0 | AU8: =G21*$Q$16*G33*60 -> 0 | AV8: =H21*$Q$16*H33*60 -> 0 | AW8: =I21*$Q$16*I33*60 -> 0 | AX8: =J21*$Q$16*J33*60 -> 0 | BA8: 1 | BB8: N/A | BC8: 270000 | BD8: 300000 | BE8: 150000 | BF8: 270000 | BK8: S
B9: Status | E9: : | F9: Bangunan Baru | AC9: Jawa Tengah | AD9: Superblok | AE9: Bangunan Lama | AF9: 2 | AG9: Februari | AH9: 2009 | AI9: Revisi I | AJ9: 1 | AK9: 1 | AL9: 0.05 | AM9: 0.05 | AQ9: 2 | AR9: ISAT | AS9: =E22*$Q$16*E34*60 -> 0 | AT9: =F22*$Q$16*F34*60 -> 0 | AU9: =G22*$Q$16*G34*60 -> 0 | AV9: =H22*$Q$16*H34*60 -> 0 | AW9: =I22*$Q$16*I34*60 -> 0 | AX9: =J22*$Q$16*J34*60 -> 0 | BA9: 2 | BB9: N/A | BC9: 270000 | BD9: 300000 | BE9: 150000 | BF9: 270000 | BK9: S
B10: Tanggal | E10: : | G10: Januari | I10: 2019 | AC10: Jawa Timur | AD10: Rumah Sakit | AF10: 3 | AG10: Maret | AH10: 2010 | AI10: Revisi II | AK10: 3 | AL10: 0.1 | AM10: 0.1 | AQ10: 3 | AR10: XL | AS10: =E23*$Q$16*E35*60 -> 0 | AT10: =F23*$Q$16*F35*60 -> 0 | AU10: =G23*$Q$16*G35*60 -> 0 | AV10: =H23*$Q$16*H35*60 -> 0 | AW10: =I23*$Q$16*I35*60 -> 0 | AX10: =J23*$Q$16*J35*60 -> 0 | BA10: 3 | BB10: N/A | BC10: 270000 | BD10: 300000 | BE10: 150000 | BF10: 270000 | BK10: S
B11: Status IRR | E11: : | F11: Baru | AC11: Jawa Barat | AD11: Rusunami | AF11: 4 | AG11: April | AH11: 2011 | AI11: Revisi III | AK11: 5 | AM11: 0.15 | AQ11: 4 | AR11: HCPT | AS11: =E24*$Q$16*E36*60 -> 0 | AT11: =F24*$Q$16*F36*60 -> 0 | AU11: =G24*$Q$16*G36*60 -> 0 | AV11: =H24*$Q$16*H36*60 -> 0 | AW11: =I24*$Q$16*I36*60 -> 0 | AX11: =J24*$Q$16*J36*60 -> 0 | BA11: 4 | BB11: N/A | BC11: 270000 | BD11: 300000 | BE11: 150000 | BF11: 270000 | BK11: S
L12: SUMMARY | AC12: Kalimantan | AD12: Office | AF12: 5 | AG12: Mei | AH12: 2012 | AK12: 10 | AM12: 0.2 | AQ12: 5 | AR12: FM | AS12: =E25*$Q$16*E37*60 -> 0 | AT12: =F25*$Q$16*F37*60 -> 0 | AU12: =G25*$Q$16*G37*60 -> 0 | AV12: =H25*$Q$16*H37*60 -> 0 | AW12: =I25*$Q$16*I37*60 -> 0 | AX12: =J25*$Q$16*J37*60 -> 0 | BA12: 5 | BB12: N/A | BC12: 270000 | BD12: 300000 | BE12: 150000 | BF12: 270000 | BK12: S
B13: Parameter umum | AC13: Sumatra | AD13: Universitas | AF13: 6 | AG13: Juni | AH13: 2013 | AM13: 0.25 | AQ13: 6 | AR13: SMARTFREN | AS13: =E26*$Q$16*E38*60 -> 0 | AT13: =F26*$Q$16*F38*60 -> 0 | AU13: =G26*$Q$16*G38*60 -> 0 | AV13: =H26*$Q$16*H38*60 -> 0 | AW13: =I26*$Q$16*I38*60 -> 0 | AX13: =J26*$Q$16*J38*60 -> 0 | BA13: 6 | BB13: N/A | BC13: 270000 | BD13: 300000 | BE13: 150000 | BF13: 270000 | BK13: S
B14: Tingkat bunga Deposito | D14: : | E14: 0.075 | F14: /tahun | AC14: Sulawesi | AD14: Hotel | AF14: 7 | AG14: Juli | AH14: 2014 | AM14: 0.3 | AQ14: 7 | AR14: AXIS | AS14: =E27*$Q$16*E39*60 -> 0 | AT14: =F27*$Q$16*F39*60 -> 0 | AU14: =G27*$Q$16*G39*60 -> 0 | AV14: =H27*$Q$16*H39*60 -> 0 | AW14: =I27*$Q$16*I39*60 -> 0 | AX14: =J27*$Q$16*J39*60 -> 0 | BA14: 7 | BB14: N/A | BC14: 270000 | BD14: 300000 | BE14: 150000 | BF14: 270000 | BK14: S
B15: Discount Rate | D15: : | E15: 0.15 | M15: Perkiraan Umum | AC15: Bali/Lombok | AD15: Traditional Market | AF15: 8 | AG15: Agustus | AH15: 2015 | AM15: 0.35 | AQ15: 8 | AR15: FLEXI | AS15: =E28*$Q$16*E40*60 -> 0 | AT15: =F28*$Q$16*F40*60 -> 0 | AU15: =G28*$Q$16*G40*60 -> 0 | AV15: =H28*$Q$16*H40*60 -> 0 | AW15: =I28*$Q$16*I40*60 -> 0 | AX15: =J28*$Q$16*J40*60 -> 0 | BA15: 8 | BB15: N/A | BC15: 270000 | BD15: 300000 | BE15: 150000 | BF15: 270000 | BK15: S
B16: Tingkat bunga Pinjaman | D16: : | E16: 0.125 | F16: /tahun | M16: Jumlah Antena | P16: : | Q16: 10 | R16: Antena | AC16: Ind Bg Tim | AD16: Apartement | AF16: 9 | AG16: September | AH16: 2016 | AM16: 0.4 | AQ16: 9 | AR16: ESIA | AS16: =E29*$Q$16*E41*60 -> 0 | AT16: =F29*$Q$16*F41*60 -> 0 | AU16: =G29*$Q$16*G41*60 -> 0 | AV16: =H29*$Q$16*H41*60 -> 0 | AW16: =I29*$Q$16*I41*60 -> 0 | AX16: =J29*$Q$16*J41*60 -> 0 | BA16: 9 | BB16: N/A | BC16: 270000 | BD16: 300000 | BE16: 150000 | BF16: 270000 | BK16: S
B17: Kurs | D17: : | E17: 15000 | F17: / USD 1 | H17: 0.5 | M17: Jumlah Combiner | P17: : | R17: Unit | AD17: Entertaint Area | AF17: 10 | AG17: Oktober | AH17: 2017 | AM17: 0.45 | BA17: 10 | BB17: N/A | BC17: 270000 | BD17: 300000 | BE17: 150000 | BF17: 270000 | BK17: S
M18: Jumlah Shooter | P18: : | Q18: 2 | R18: Pole | AF18: 11 | AG18: November | AH18: 2018 | AM18: 0.5 | AQ18: No | AR18: Operator | AS18: =AS7 -> 2019 | AT18: =AS18+1 -> 2020 | AU18: =AT18+1 -> 2021 | AV18: =AU18+1 -> 2022 | AW18: =AV18+1 -> 2023 | AX18: =AW18+1 -> 2024 | BA18: 11 | BB18: N/A | BC18: 270000 | BD18: 300000 | BE18: 150000 | BF18: 270000 | BK18: S
B19: Parameter Harga Jual/antena/bulan | M19: Pendapatan dari operator | P19: : | Q19: =K55 -> 6320315448 | AC19: MCP-Shooter/Titik | AD19: 300000000 | AF19: 12 | AG19: Desember | AH19: 2019 | AM19: 0.55 | AQ19: 1 | AR19: TSEL | AS19: =IF(AS8>1,AS8/5,0) -> 0 | AT19: =IF(AS19>1,AS19,AT8/5) -> 0 | AU19: =IF(AT19>1,AT19,AU8/5) -> 0 | AV19: =IF(AU19>1,AU19,AV8/5) -> 0 | AW19: =IF(AV19>1,AV19,AW8/5) -> 0 | AX19: =IF(AW19>1,AW19,AX8/5) -> 0 | BA19: 12 | BB19: N/A | BC19: 270000 | BD19: 300000 | BE19: 150000 | BF19: 270000 | BK19: S
C20: No | D20: Operator | E20: =I10 -> 2019 | F20: =E20+1 -> 2020 | G20: =F20+1 -> 2021 | H20: =G20+1 -> 2022 | I20: =H20+1 -> 2023 | J20: =I20+1 -> 2024 | M20: Pembelian Aset Tetap | P20: : | Q20: =-K61-K63 -> -360000000 | AF20: 13 | AH20: 2020 | AM20: 0.6 | AQ20: 2 | AR20: ISAT | AS20: =IF(AS9>1,AS9/5,0) -> 0 | AT20: =IF(AS20>1,AS20,AT9/5) -> 0 | AU20: =IF(AT20>1,AT20,AU9/5) -> 0 | AV20: =IF(AU20>1,AU20,AV9/5) -> 0 | AW20: =IF(AV20>1,AV20,AW9/5) -> 0 | AX20: =IF(AW20>1,AW20,AX9/5) -> 0 | BA20: 13 | BB20: N/A | BC20: 270000 | BD20: 300000 | BE20: 150000 | BF20: 270000 | BK20: S
C21: 1 | D21: TSEL | M21: Biaya Sewa | P21: : | Q21: =-K58-K59-K60 -> -1225000000 | AF21: 14 | AH21: 2021 | AM21: 0.65 | AQ21: 3 | AR21: XL | AS21: =IF(AS10>1,AS10/5,0) -> 0 | AT21: =IF(AS21>1,AS21,AT10/5) -> 0 | AU21: =IF(AT21>1,AT21,AU10/5) -> 0 | AV21: =IF(AU21>1,AU21,AV10/5) -> 0 | AW21: =IF(AV21>1,AV21,AW10/5) -> 0 | AX21: =IF(AW21>1,AW21,AX10/5) -> 0 | BA21: 14 | BB21: N/A | BC21: 270000 | BD21: 300000 | BE21: 150000 | BF21: 270000 | BK21: S
C22: 2 | D22: ISAT | M22: Biaya Operasional | P22: : | Q22: =-K64-K65-K66 -> -6.1172415e+08 | AF22: 15 | AH22: 2022 | AM22: 0.7 | AQ22: 4 | AR22: HCPT | AS22: =IF(AS11>1,AS11/5,0) -> 0 | AT22: =IF(AS22>1,AS22,AT11/5) -> 0 | AU22: =IF(AT22>1,AT22,AU11/5) -> 0 | AV22: =IF(AU22>1,AU22,AV11/5) -> 0 | AW22: =IF(AV22>1,AV22,AW11/5) -> 0 | AX22: =IF(AW22>1,AW22,AX11/5) -> 0 | BA22: 15 | BB22: N/A | BC22: 270000 | BD22: 300000 | BE22: 150000 | BF22: 270000 | BK22: S
C23: 3 | D23: XL | M23: Pendapatan Bunga (Biaya Bunga) | P23: : | Q23: =K74 -> 3.9490563e+08 | AF23: 16 | AH23: 2023 | AM23: 0.75 | AQ23: 5 | AR23: FM | AS23: =IF(AS12>1,AS12/5,0) -> 0 | AT23: =IF(AS23>1,AS23,AT12/5) -> 0 | AU23: =IF(AT23>1,AT23,AU12/5) -> 0 | AV23: =IF(AU23>1,AU23,AV12/5) -> 0 | AW23: =IF(AV23>1,AV23,AW12/5) -> 0 | AX23: =IF(AW23>1,AW23,AX12/5) -> 0 | BA23: 16 | BB23: N/A | BC23: 270000 | BD23: 300000 | BE23: 150000 | BF23: 270000 | BK23: S
C24: 4 | D24: HCPT | N24: Arus Kas Bersih (dalam 6 tahun) | Q24: =SUM(Q19:Q23) -> 4.5184969e+09 | AF24: 17 | AH24: 2024 | AM24: 0.8 | AQ24: 6 | AR24: SMARTFREN | AS24: =IF(AS13>1,AS13/5,0) -> 0 | AT24: =IF(AS24>1,AS24,AT13/5) -> 0 | AU24: =IF(AT24>1,AT24,AU13/5) -> 0 | AV24: =IF(AU24>1,AU24,AV13/5) -> 0 | AW24: =IF(AV24>1,AV24,AW13/5) -> 0 | AX24: =IF(AW24>1,AW24,AX13/5) -> 0 | BA24: 17 | BB24: N/A | BC24: 270000 | BD24: 300000 | BE24: 150000 | BF24: 270000 | BK24: S
C25: 5 | D25: FM | AF25: 18 | AH25: 2025 | AM25: 0.85 | AQ25: 7 | AR25: AXIS | AS25: =IF(AS14>1,AS14/5,0) -> 0 | AT25: =IF(AS25>1,AS25,AT14/5) -> 0 | AU25: =IF(AT25>1,AT25,AU14/5) -> 0 | AV25: =IF(AU25>1,AU25,AV14/5) -> 0 | AW25: =IF(AV25>1,AV25,AW14/5) -> 0 | AX25: =IF(AW25>1,AW25,AX14/5) -> 0 | BA25: 18 | BB25: N/A | BC25: 270000 | BD25: 300000 | BE25: 150000 | BF25: 270000 | BK25: S
