Workbook
Name jk: #REF!
Name jk: #REF!
Name years_contract: [1]Kerlink!$D$5

Sheet Summary
B1: NO | M1: Plaza Indonesia
C2: Product : | D2: IBS / Openet | J2: Tanggal P&L: | M2: 45811
C3: Status P&L | D3: Renewal
B5: Site Information | E5: Technical Information | J5: Financial Summary
B6: Site Name | D6: =M1 -> Plaza Indonesia | E6: IBC | K6: Capex /antenna | M6: 0
E7: Antena PKS BM | K7: Contract Period (thn) | M7: 3
B8: Address | D8: Jalan M.H. Thamrin No.28-30 | E8: Antena Asset | H8: 0 | K8: Interest rate /year | M8: =[2]IRR!F3 -> 0.1
B9: Area building | D9: Jakarta | E9: Jumlah Pole Makro | K9: Kurs 1USD | M9: 0
B10: Type of building | D10: Mall | E10: OPENET | K10: Total BV 28Feb 25 | M10: =SUM(IRR!G10:G11) -> 0
B11: Status | D11: renewal | E11: Cable FO (Core) | H11: 0 | K11: Total COGS Rent | M11: =IRR!K21 -> 7.6376163e+08
B12: Total floor | E12: Cable FO (meter) | H12: 0 | K12: Total COGS Other | M12: =SUM(IRR!K23:K25) -> 1.6707286e+08
B13: No of building tower | E13: Drop Wire (meter) | H13: 0 | K13: Total Revenue | M13: =IRR!K18 -> 1.9094041e+09
E14: OTHERS | K14: IRR | M14: =IRR!F40 -> Positip
K15: NPV | M15: =IRR!F41 -> 8.3597119e+08
K16: EBITDA margin | M16: =IRR!F42 -> 0.5125
K17: Payback (year) | M17: =IRR!F43 -> 0
B19: Target Achieved by Commercial: | L19: Prepared by
B20: Revenue | L20: Cosmas CW
D22: :
B26: Approved by

Sheet IRR
K1: PLAZA INDONESIA
B2: General
C3: Tax Rate | F3: 0.02
C4: Interest Rate | F4: 0.1
C5: SG&A | F5: 0.02 | G5: from Revenues
C6: BHPUSO | F6: 0 | G6: from Revenues
C7: Price Adjustment after 5 years | F7: 0.15
C8: Monthly Charge
G9: Y1
B10: Total CAPEX | G10: 0
G12: 2023 | H12: =G12+1 -> 2024 | I12: =H12+1 -> 2025 | J12: =I12+1 -> 2026
B13: IRR Calculation | G13: Year 1 | H13: Year 2 | I13: Year 3 | J13: Year 4 | K13: Total
B14: Months of Service | G14: 12
B17: Revenues Bali Tower - IBS (30% - 20%) | G17: =Revenue!U26 -> 4.7735102e+08 | H17: =G17 -> 4.7735102e+08 | I17: =H17 -> 4.7735102e+08 | J17: =H17 -> 4.7735102e+08 | K17: =SUM(G17:J17) -> 1.9094041e+09
B18: Total Revenues | G18: =SUM(G17:G17) -> 4.7735102e+08 | H18: =SUM(H17:H17) -> 4.7735102e+08 | I18: =SUM(I17:I17) -> 4.7735102e+08 | J18: =SUM(J17:J17) -> 4.7735102e+08 | K18: =SUM(G18:J18) -> 1.9094041e+09
B20: OPEX
C21: Share to BM | E21: 0.2 | F21: from revenues | G21: =Revenue!U9 -> 1.9094041e+08 | H21: =G21 -> 1.9094041e+08 | I21: =H21 -> 1.9094041e+08 | J21: =H21 -> 1.9094041e+08 | K21: =SUM(G21:J21) -> 7.6376163e+08
C22: Electricity | G22: 0 | K22: =SUM(G22:J22) -> 0
C23: Fixed operational cost | E23: 0.05 | F23: from revenues | G23: =G18*$E$23 -> 23867551 | H23: =H18*$E$23 -> 23867551 | I23: =I18*$E$23 -> 23867551 | J23: =J18*$E$23 -> 23867551 | K23: =SUM(G23:J23) -> 95470203
C24: BHP | E24: 0.0175 | F24: from revenues | G24: =G18*$E$24 -> 8353642.8 | H24: =H18*$E$24 -> 8353642.8 | I24: =I18*$E$24 -> 8353642.8 | J24: =J18*$E$24 -> 8353642.8 | K24: =SUM(G24:J24) -> 33414571
C25: SG&A | G25: =G18*$F$5 -> 9547020.3 | H25: =H18*$F$5 -> 9547020.3 | I25: =I18*$F$5 -> 9547020.3 | J25: =J18*$F$5 -> 9547020.3 | K25: =SUM(G25:J25) -> 38188081
B26: Total OPEX | G26: =SUM(G21:G25) -> 2.3270862e+08 | H26: =SUM(H21:H25) -> 2.3270862e+08 | I26: =SUM(I21:I25) -> 2.3270862e+08 | J26: =SUM(J21:J25) -> 2.3270862e+08 | K26: =SUM(K21:K25) -> 9.3083448e+08
B27: Total EBITDA | G27: =G18-G26 -> 2.446424e+08 | H27: =H18-H26 -> 2.446424e+08 | I27: =I18-I26 -> 2.446424e+08 | J27: =J18-J26 -> 2.446424e+08 | K27: =K18-K26 -> 9.7856958e+08
B28: Ebitda margin | G28: =G27/G18 -> 0.5125 | H28: =H27/H18 -> 0.5125 | I28: =I27/I18 -> 0.5125 | J28: =J27/J18 -> 0.5125 | K28: =K27/K18 -> 0.5125
B29: Depreciation Expense | G29: =G47 -> 0 | H29: =H47 -> 0 | I29: =I47 -> 0 | J29: =J47 -> 0 | K29: =SUM(G29:J29) -> 0
B30: Total EBIT | G30: =G27-G29 -> 2.446424e+08 | H30: =H27-H29 -> 2.446424e+08 | I30: =I27-I29 -> 2.446424e+08 | J30: =J27-J29 -> 2.446424e+08 | K30: =K27-K29 -> 9.7856958e+08
B31: Interest Expense | G31: =PARAMETER!F6 -> 0 | H31: =PARAMETER!G6 -> 0 | I31: =PARAMETER!H6 -> 0 | J31: =PARAMETER!H6 -> 0 | K31: =SUM(G31:G31) -> 0
B32: EBT | G32: =G30-G31 -> 2.446424e+08 | H32: =H30-H31 -> 2.446424e+08 | I32: =I30-I31 -> 2.446424e+08 | J32: =J30-J31 -> 2.446424e+08 | K32: =SUM(G32:J32) -> 9.7856958e+08
B33: Tax Expense | G33: =IF(G32<0,0,G32*$F$3) -> 4892847.9 | H33: =IF(H32<0,0,H32*$F$3) -> 4892847.9 | I33: =IF(I32<0,0,I32*$F$3) -> 4892847.9 | J33: =IF(J32<0,0,J32*$F$3) -> 4892847.9 | K33: =SUM(G33:J33) -> 19571392
B34: Net Income | G34: =G32-G33 -> 2.3974955e+08 | H34: =H32-H33 -> 2.3974955e+08 | I34: =I32-I33 -> 2.3974955e+08 | J34: =J32-J33 -> 2.3974955e+08 | K34: =K32-K33 -> 9.5899819e+08
B36: Capex | G36: =-G10+-G11 -> 0
B37: FCFF | F37: =F36 -> 0 | G37: =G36+G34+G29 -> 2.3974955e+08 | H37: =H36+H34+H29 -> 2.3974955e+08 | I37: =I36+I34+I29 -> 2.3974955e+08 | J37: =J36+J34+J29 -> 2.3974955e+08 | K37: =SUM(G37:J37) -> 9.5899819e+08
B38: Accumulated FCF | F38: =F37 -> 0 | G38: =F38+G37 -> 2.3974955e+08 | H38: =G38+H37 -> 4.794991e+08 | I38: =H38+I37 -> 7.1924864e+08 | J38: =H38+J37 -> 7.1924864e+08
B39: PBP | G39: =IF(AND(F38<0,G38>0),G44-(G38/G37),0) -> 0 | H39: =IF(AND(G38<0,H38>0),H44-(H38/H37),0) -> 0 | J39: =IF(AND(H38<0,J38>0),J44-(J38/J37),0) -> 0
B40: IRR | F40: Positip
B41: NPV | F41: =NPV(F4,H37:J37)+G37 -> 8.3597119e+08
B42: EBITDA margin | F42: =K28 -> 0.5125
B43: Payback | F43: =SUM(F39:G39) -> 0
G44: 1 | H44: 2 | I44: 3 | J44: 4
B45: Depreciation Calculation | E45: no of Year depreciated | G45: =G13 -> Year 1 | H45: Year2 | I45: Year3 | J45: Year4
...

Sheet PARAMETER
B1: 2021 | C1: 2022 | D1: 2023 | E1: 2024 | F1: 2025 | G1: 2026
B2: Year 1 | C2: Year 2 | D2: Year 3 | E2: Year 4 | F2: Year 5 | G2: Year 6 | H2: Year 7 | I2: Year 8 | J2: Year 9 | K2: Year 10
A3: loan | B3: 0 | C3: =$B$3-$B$5 -> 0 | D3: =$C$3-$B$5 -> 0 | E3: =$D$3-$B$5 -> 0 | F3: =$E$3-$B$5 -> 0 | G3: =$F$3-$B$5 -> 0 | H3: 0
A4: Period (thn) | B4: 5
A5: Installment/thn | B5: =$B$3/$B$4 -> 0
A6: Interest | B6: =(($B$3*IRR!$F$4)*6)/12 -> 0 | C6: =AVERAGE(B3:C3)*IRR!$F$4 -> 0 | D6: =AVERAGE(C3:D3)*IRR!$F$4 -> 0 | E6: =AVERAGE(D3:E3)*IRR!$F$4 -> 0 | F6: =AVERAGE(E3:F3)*IRR!$F$4 -> 0 | G6: =AVERAGE(F3:G3)*IRR!$F$4 -> 0 | H6: =AVERAGE(G3:H3)*IRR!$F$4 -> 0 | I6: =AVERAGE(H3:I3)*IRR!$F$4 -> 0 | J6: =AVERAGE(I3:J3)*IRR!$F$4 -> #DIV/0! | K6: =AVERAGE($J$3:$K$3)*[3]IRR!$G$4 -> #DIV/0!
F11: person | G11: trip | H11: kamar | I11: Days by Omni | J11: Biaya walktest inhouse/visit | K11: Biaya walktest inhouse/thn
E12: Diisikan | F12: 2 | G12: 1 | H12: 1 | I12: 186
B13: Transport | C13: Pesawat | D13: =C24 -> 3000000 | E13: person | F13: =F12 -> 2 | J13: =F13*D13 -> 6000000
C14: Bandara | D14: 600000 | E14: person | F14: =F12 -> 2 | I14: =IF($I$11<=120,2,IF($I$11>220,4,3)) -> 4 | J14: =D14*F14 -> 1200000
C15: Transport | D15: 200000 | E15: Trip | G15: =G12 -> 1 | J15: =G15*D15 -> 200000
B16: Hotel | C16: Hotel | D16: 450000 | E16: kamar | F16: =F12 -> 2 | H16: =H12 -> 1 | I16: =IF($I$11<=120,2,IF($I$11>220,4,3)) -> 4 | J16: =H16*D16*I16 -> 1800000
B17: Uang Saku | C17: Uang Saku | D17: 120000 | E17: person | F17: =F12 -> 2 | I17: =IF($I$11<=120,2,IF($I$11>220,4,3)) -> 4 | J17: =I17*D17*F17 -> 960000
J18: =SUM(J13:J17) -> 10160000 | K18: =J18*2 -> 20320000
B22: PM/Year/Site | C22: Pesawat | E22: Asumsi:
A23: Sulut | B23: 16800000 | C23: 4000000 | E23: Walktest 4x dalam setahun semua operator sekaligus
A24: Makasar | C24: 3000000 | E24: Walktest pertama oleh vendor | I24: 10000000
A25: Bali | B25: 15600000 | C25: 2500000 | E25: Walktest pertama oleh vendor | H25: Pekanbaru | I25: 12000000
A26: Jatim | B26: 15000000 | C26: 2000000 | E26: Walktest pertama oleh vendor | H26: Sumut | I26: 14000000
A27: Jateng | B27: 15000000 | C27: 1850000 | E27: Walktest pertama oleh vendor | H27: Sulsel | I27: 14000000
A28: Jabar | B28: 12000000 | C28: 1200000 | E28: Walktest pertama oleh vendor | H28: Sulut | I28: 17000000
A29: Kalimantan | B29: 16800000 | C29: 2000000 | E29: Walktest pertama oleh vendor | H29: Kalimantan | I29: 14000000
A30: Sumatera | B30: 15720000 | C30: 3500000
A31: Palembang | C31: 2800000
A32: Jabodetabek | B32: 0 | C32: 0 | D32: Inhouse
B34: CM /Year/Oprt
B35: 7000000
A37: LISTRIK
A38: Listrik/Oprt/year DAS+1Pole 3sektor
A39: 0-100 | B39: 36000000
A40: 101-200 | B40: 42000000
A41: 201- | B41: 48000000
A43: Listrik/Oprt/year DAS+2Pole 6sektor
A44: 0-200 | B44: 75000000
A45: 201- | B45: 95000000

Sheet Revenue
A1: Data Revenue Sharing
A2: Plaza Indonesia Realty
A4: REVENUE TO BM 20% FROM TOTAL REVENUE IBS-ISP
A5: Nama Site | B5: 2018 - 2019 | F5: 2020 | J5: 2021 | N5: 2022 | R5: 2023 | V5: Total
B6: Sep 18 - Mar 19 | C6: Apr - Jun | D6: Jul - Sep | E6: Okt - Des | F6: Jan - Mar | G6: Apr - Jun | H6: Jul - Sep | I6: Okt - Des | J6: Jan - Mar | K6: Apr - Jun | L6: Jul - Sep | M6: Okt - Des | N6: Jan - Mar | O6: Apr - Jun | P6: Jul - Sep | Q6: Okt - Des | R6: Jan - Mar | S6: Apr - Jun | T6: Jul - Sep | U6: Trend
A7: PI Office Tower | B7: 32498986 | C7: 39760645 | D7: 48441290 | E7: 45407581 | F7: 72612787 | G7: 68951344 | H7: 66005323 | I7: 76732473 | J7: 118860000 | K7: 132199130 | L7: 152594391 | M7: 159031026 | N7: 156380373 | O7: 146610169 | P7: 157257041 | Q7: 163954746 | R7: 164190151 | S7: 155712956 | T7: 134191894 | U7: =U16*20% -> 1.4812437e+08 | V7: =SUM(B7:U7) -> 2.2395167e+09
A8: PI Shopping Center | B8: 9746452 | C8: 1350000 | D8: 3232150 | E8: 5650333 | F8: 7375573 | G8: 7401667 | H8: 9594086 | I8: 11087957 | J8: 13911532 | K8: 14993548 | L8: 14914516 | M8: 15897473 | N8: 19051717 | O8: 21964839 | P8: 23896452 | Q8: 31376090 | R8: 31232753 | S8: 35903167 | T8: 39557361 | U8: =U17*20% -> 42816038 | V8: =SUM(B8:U8) -> 3.609537e+08
A9: Total | B9: =B7+B8 -> 42245438 | C9: =C7+C8 -> 41110645 | D9: =D7+D8 -> 51673440 | E9: =E7+E8 -> 51057914 | F9: =F7+F8 -> 79988360 | G9: =G7+G8 -> 76353011 | H9: =H7+H8 -> 75599409 | I9: =I7+I8 -> 87820430 | ... U9: =U7+U8 -> 1.9094041e+08 | V9: =SUM(B9:U9) -> 2.6004704e+09
A12: REVENUE TOTAL IBS-ISP (100% FROM TENANT)
A13: Nama Site | B13: 2018 - 2019 | F13: 2020 | J13: 2021 | N13: 2022 | R13: 2023 | V13: Total
B14: Sep 18 - Mar 19 | C14: Apr - Jun | D14: Jul - Sep | E14: Okt - Des | F14: Jan - Mar | G14: Apr - Jun | H14: Jul - Sep | I14: Okt - Des | J14: Jan - Mar | K14: Apr - Jun | L14: Jul - Sep | M14: Okt - Des | N14: Jan - Mar | O14: Apr - Jun | P14: Jul - Sep | Q14: Okt - Des | R14: Jan - Mar | S14: Apr - Jun | T14: Jul - Sep | U14: Trend
A15: Nomer | N15: 1 | O15: 2 | P15: 3 | Q15: 4 | R15: 5 | S15: 6 | T15: 7 | U15: 8
A16: PI Office Tower | B16: =100/20*B7 -> 162494930 | C16: =100/20*C7 -> 198803225 | D16: =100/20*D7 -> 242206450 | E16: =100/20*E7 -> 227037905 | F16: =100/20*F7 -> 363063935 | G16: =100/20*G7 -> 344756720 | H16: =100/20*H7 -> 330026615 | I16: =100/20*I7 -> 383662365 | ... T16: =100/20*T7 -> 670959470 | U16: {=TREND(N16:T16,N15:T15,U15,TRUE)} -> 7.4062184e+08 | V16: =SUM(B16:U16) -> 1.1197583e+10
A17: PI Shopping Center | B17: =100/20*B8 -> 48732260 | C17: =100/20*C8 -> 6750000 | D17: =100/20*D8 -> 16160750 | E17: =100/20*E8 -> 28251665 | F17: =100/20*F8 -> 36877865 | G17: =100/20*G8 -> 37008335 | H17: =100/20*H8 -> 47970430 | I17: =100/20*I8 -> 55439785 | ... T17: =100/20*T8 -> 197786805 | U17: {=TREND(N17:T17,N15:T15,U15,TRUE)} -> 2.1408019e+08 | V17: =SUM(B17:U17) -> 1.8047685e+09
A18: Total | B18: =B16+B17 -> 211227190 | C18: =C16+C17 -> 205553225 | D18: =D16+D17 -> 258367200 | E18: =E16+E17 -> 255289570 | F18: =F16+F17 -> 399941800 | G18: =G16+G17 -> 381765055 | H18: =H16+H17 -> 377997045 | I18: =I16+I17 -> 439102150 | ... U18: =U16+U17 -> 9.5470203e+08 | V18: =SUM(B18:U18) -> 1.3002352e+10
A21: REVENUE TOTAL IBS (50% FROM TENANT)
A22: Nama Site | B22: 2018 - 2019 | F22: 2020 | J22: 2021 | N22: 2022 | R22: 2023 | V22: Total
B23: Sep 18 - Mar 19 | C23: Apr - Jun | D23: Jul - Sep | E23: Okt - Des | F23: Jan - Mar | G23: Apr - Jun | H23: Jul - Sep | I23: Okt - Des | J23: Jan - Mar | K23: Apr - Jun | L23: Jul - Sep | M23: Okt - Des | N23: Jan - Mar | O23: Apr - Jun | P23: Jul - Sep | Q23: Okt - Des | R23: Jan - Mar | S23: Apr - Jun | T23: Jul - Sep | U23: Trend
A24: PI Office Tower | B24: =50%*B16 -> 81247465 | C24: =50%*C16 -> 99401612 | D24: =50%*D16 -> 121103225 | E24: =50%*E16 -> 1.1351895e+08 | F24: =50%*F16 -> 1.8153197e+08 | G24: =50%*G16 -> 172378360 | H24: =50%*H16 -> 1.6501331e+08 | I24: =50%*I16 -> 1.9183118e+08 | ... T24: =50%*T16 -> 335479735 | U24: =U16*50% -> 3.7031092e+08 | V24: =SUM(B24:U24) -> 5.5987917e+09
A25: PI Shopping Center | B25: =50%*B17 -> 24366130 | C25: =50%*C17 -> 3375000 | D25: =50%*D17 -> 8080375 | E25: =50%*E17 -> 14125832 | F25: =50%*F17 -> 18438932 | G25: =50%*G17 -> 18504168 | H25: =50%*H17 -> 23985215 | I25: =50%*I17 -> 27719892 | ... T25: =50%*T17 -> 98893402 | U25: =U17*50% -> 1.070401e+08 | V25: =SUM(B25:U25) -> 9.0238426e+08
A26: Total | B26: =B24+B25 -> 105613595 | C26: =C24+C25 -> 1.0277661e+08 | D26: =D24+D25 -> 129183600 | E26: =E24+E25 -> 127644785 | F26: =F24+F25 -> 199970900 | G26: =G24+G25 -> 1.9088253e+08 | H26: =H24+H25 -> 1.8899852e+08 | I26: =I24+I25 -> 219551075 | ... U26: =U24+U25 -> 4.7735102e+08 | V26: =SUM(B26:U26) -> 6.5011759e+09
A28: NET REVENUE | B28: =B26-B9 -> 63368157 | C28: =C26-C9 -> 61665968 | D28: =D26-D9 -> 77510160 | E28: =E26-E9 -> 76586871 | F28: =F26-F9 -> 119982540 | G28: =G26-G9 -> 1.1452952e+08 | H28: =H26-H9 -> 1.1339911e+08 | I28: =I26-I9 -> 131730645 | ... V28: =V26-V9 -> 3.9007056e+09
N29: =AVERAGE(N28:Q28) -> 2.7018429e+08 | R29: =AVERAGE(R28:T28) -> 280394141
B30: =B16-B24-B7 -> 48748479

Sheet SummaryBR
C1: SUMMARY REVIEW
A3: Nama Site | C3: : Plaza Indonesia
A4: Nama Pemilik | C4: :
A5: Alamat Pemilik | C5: : Jakarta
A6: Telp | C6: :
A8: No. | B8: Keterangan | C8: Existing | D8: Renewal
A10: 1 | B10: Scope Of Lease | C10: Opennet | D10: Opennet
A11: 2 | B11: Periode Sewa | C11: 7 November 2018 s/d 6 November 2023 (5 tahun) | D11: 7 November 2023 s/d 6 November 2026 (3 tahun)
A12: 3 | B12: Persentase Revshare IBS to BM | C12: 0.2 | D12: 0.2
A13: 4 | B13: Nama ISP Join | C13: Moratel dan Bali Fiber | D13: Moratel dan Bali Fiber
A14: 5 | B14: Periode ISP Join
A15: 6 | B15: Revenue ISP / tahun | C15: 280394141 | D15: 280394141
A16: 7 | B16: Jumlah Tenant ISP | C16: 412 | D16: 412
A17: 8 | B17: Persentase Revshare ISP | C17: IBS 40 % ISP 60 % | D17: IBS 40 % ISP 60 %
B18: OLT & ONT | C18: OLT dari BM | D18: 280
