Workbook
Name jk: #REF!
Name jk: #REF!
Name jk: #REF!
Name years_contract: [1]Kerlink!$D$5

Sheet Summary
C1: 0016/IRR/IBC/VII/2025 | N1: Hotel dan Mall Paragon Solo
C3: Product : | D3: IBS / DAS | J3: Tanggal P&L: | M3: =TODAY() -> 45853
C4: Status P&L | D4: Extension
B6: Site Information | E6: Technical Information | J6: Financial Summary
B7: Site Name | D7: =N1 -> Hotel dan Mall Paragon Solo | E7: IBC | K7: Capex /antenna | M7: =(917553642+689700000)/$H$9 -> 5235353.9
B8: Address | E8: Antena PKS BM | H8: 0 | K8: Contract Period (thn) | M8: 5
E9: Antena Asset | H9: 307 | K9: Interest rate /year | M9: =[2]IRR!F3 -> 0.1
B10: Area building | D10: Surakarta | E10: Jumlah Pole Makro | H10: 0 | K10: Kurs 1USD | M10: 0
B11: Type of building | D11: Mall | E11: OPENET | K11: Total Capex BV 30/09/26 | M11: =IRR!F8 -> 40722519
B12: Status | D12: Old and extension | E12: Cable FO (Core) | H12: 0 | K12: Total Opex | M12: =IRR!L25 -> 3.1428808e+09
B13: Total floor | D13: 4 | E13: Cable FO (meter) | H13: 0 | K13: Total Revenue | M13: =IRR!L18 -> 5909391000
B14: No of building tower | D14: 1 | E14: Drop Wire (meter) | H14: 0
E15: OTHERS | K15: IRR | M15: =IRR!F39 -> 0.31952043
K16: NPV | M16: =IRR!F40 -> 1.4295199e+09
K17: EBITDA margin | M17: =IRR!F41 -> 0.46815487
K18: Payback (year) | M18: =IRR!F42 -> 2.3312802
B20: Target Achieved by Commercial: | L20: Prepared by
B21: Revenue | D21: : | L21: Vito Indriano
D22: :
D23: :
B27: Approved by

Sheet IRR
B1: General | D1: 0016/IRR/IBC/VII/2025 | L1: HOTEL dan MALL SOLO PARAGON
C2: Tax Rate | F2: 0.02
C3: Interest Rate | F3: 0.1
C4: SG&A | F4: 0.05 | G4: from Revenues
C5: BHPUSO | F5: 0 | G5: from Revenues
C6: Price Adjustment after 5 years | F6: 0.15
F7: Y0 | G7: Y1 | H7: Y2 | I7: Y3 | J7: Y4 | K7: Y5
B8: Total CAPEX | E8: BV 30/09/26 | F8: 40722519 | G8: 0 | H8: 0 | I8: 0 | J8: 0 | K8: 0
F10: 2025 | G10: =F10+1 -> 2026 | H10: =G10+1 -> 2027 | I10: =H10+1 -> 2028 | J10: =I10+1 -> 2029 | K10: =J10+1 -> 2030
B11: IRR Calculation | F11: Year 0 | G11: Year 1 | H11: Year 2 | I11: Year 3 | J11: Year 4 | K11: Year 5 | L11: Total
B12: Months of Service | G12: 12 | H12: 12 | I12: 12 | J12: 12 | K12: 12
B14: Revenues
C15: TSEL | G15: 452143200 | H15: =G15 -> 452143200 | I15: =H15 -> 452143200 | J15: =I15 -> 452143200 | K15: =J15 -> 452143200 | L15: =SUM(F15:K15) -> 2260716000
C16: SF | G16: =125000*307*12 -> 460500000 | H16: =G16 -> 460500000 | I16: =H16*95% -> 437475000 | J16: =I16 -> 437475000 | K16: =J16 -> 437475000 | L16: =SUM(F16:K16) -> 2233425000
C17: IOH | G17: ='Summary Review'!F19 -> 283050000 | H17: =G17 -> 283050000 | I17: =H17 -> 283050000 | J17: =I17 -> 283050000 | K17: =J17 -> 283050000 | L17: =SUM(F17:K17) -> 1415250000
B18: Total Revenues (SF) | E18: 0 | G18: =SUM(G15:G17) -> 1195693200 | H18: =SUM(H15:H17) -> 1195693200 | I18: =SUM(I15:I17) -> 1172668200 | J18: =SUM(J15:J17) -> 1172668200 | K18: =SUM(K15:K17) -> 1172668200 | L18: =SUM(G18:K18) -> 5909391000
B20: OPEX
C21: Lease to BM | F21: ='Summary Review'!F14 -> 2300000000 | H21: 0 | I21: =H21 -> 0 | J21: =I21 -> 0 | K21: =J21 -> 0 | L21: =SUM(F21:K21) -> 2300000000 | M21: =L21/5 -> 460000000
C22: Electricity | G22: 96000000 | H22: =G22 -> 96000000 | I22: =H22 -> 96000000 | J22: =I22 -> 96000000 | K22: =J22 -> 96000000 | L22: =SUM(F22:K22) -> 480000000
C23: Maintenance | G23: =PARAMETER!K17+PARAMETER!B34*3 -> 51760000 | H23: =G23 -> 51760000 | I23: =H23 -> 51760000 | J23: =I23 -> 51760000 | K23: =J23 -> 51760000 | L23: =SUM(F23:K23) -> 258800000
C24: SG&A | G24: =20000000 -> 20000000 | H24: =G24*1.02 -> 20400000 | I24: =H24*1.02 -> 20808000 | J24: =I24*1.02 -> 21224160 | K24: =J24*1.02 -> 21648643 | L24: =SUM(F24:K24) -> 1.040808e+08
B25: Total OPEX | F25: =SUM(F21:F24) -> 2300000000 | G25: =SUM(G21:G24) -> 167760000 | H25: =SUM(H21:H24) -> 168160000 | I25: =SUM(I21:I24) -> 168568000 | J25: =SUM(J21:J24) -> 168984160 | K25: =SUM(K21:K24) -> 1.6940864e+08 | L25: =SUM(L21:L24) -> 3.1428808e+09
B26: Total EBITDA | F26: =F18-F25 -> -2300000000 | G26: =G18-G25 -> 1027933200 | H26: =H18-H25 -> 1027533200 | I26: =I18-I25 -> 1004100200 | J26: =J18-J25 -> 1003684040 | K26: =K18-K25 -> 1.0032596e+09 | L26: =L18-L25 -> 2.7665102e+09
B27: Ebitda margin | G27: 0 | H27: =H26/H18 -> 0.85936192 | I27: =I26/I18 -> 0.8562526 | J27: =J26/J18 -> 0.85589772 | K27: =K26/K18 -> 0.85553574 | L27: =L26/L18 -> 0.46815487
B28: Depreciation Expense | F28: 0 | G28: =G50 -> 8144503.8 | H28: =H50 -> 8144503.8 | I28: =I50 -> 8144503.8 | J28: =J50 -> 8144503.8 | K28: =K50 -> 8144503.8 | L28: =SUM(G28:K28) -> 40722519
B29: Total EBIT | G29: =G26-G28 -> 1.0197887e+09 | H29: =H26-H28 -> 1.0193887e+09 | I29: =I26-I28 -> 9.959557e+08 | J29: =J26-J28 -> 9.9553954e+08 | K29: =K26-K28 -> 995115053 | L29: =L26-L28 -> 2.7257877e+09
B30: Interest Expense | G30: 0 | H30: 0 | I30: 0 | J30: 0 | K30: 0 | L30: =SUM(G30:K30) -> 0
B31: EBT | G31: =G29-G30 -> 1.0197887e+09 | H31: =H29-H30 -> 1.0193887e+09 | I31: =I29-I30 -> 9.959557e+08 | J31: =J29-J30 -> 9.9553954e+08 | K31: =K29-K30 -> 995115053 | L31: =SUM(G31:K31) -> 5.0257877e+09
B32: Tax Expense | G32: =IF(G31<0,0,G31*$F$2) -> 20395774 | H32: =IF(H31<0,0,H31*$F$2) -> 20387774 | I32: =IF(I31<0,0,I31*$F$2) -> 19919114 | J32: =IF(J31<0,0,J31*$F$2) -> 19910791 | K32: =IF(K31<0,0,K31*$F$2) -> 19902301 | L32: =SUM(G32:K32) -> 1.0051575e+08
B33: Net Income | G33: =G31-G32 -> 9.9939292e+08 | H33: =H31-H32 -> 9.9900092e+08 | I33: =I31-I32 -> 9.7603658e+08 | J33: =J31-J32 -> 9.7562875e+08 | K33: =K31-K32 -> 9.7521275e+08 | L33: =L29-L32 -> 2.6252719e+09
B35: Capex | F35: =-F8+-F9 -> -40722519 | G35: =-G8+-G9 -> 0 | H35: =-H8+-H9 -> 0 | I35: =-I8+-I9 -> 0 | J35: =-J8+-J9 -> 0 | K35: =-K8+-K9 -> 0 | L35: =SUM(F35:K35) -> -40722519
B36: FCFF | F36: =F35-F21 -> -2340722519 | G36: =G35+G33+G28 -> 1.0075374e+09 | H36: =H35+H33+H28 -> 1.0071454e+09 | I36: =I35+I33+I28 -> 9.8418109e+08 | J36: =J35+J33+J28 -> 9.8377325e+08 | K36: =K35+K33+K28 -> 9.8335726e+08 | L36: =L35+L33+L28 -> 2.6252719e+09
B37: Accumulated FCF | F37: =F36 -> -2340722519 | G37: =F37+G36 -> -1.3331851e+09 | H37: =G37+H36 -> -3.2603967e+08 | I37: =H37+I36 -> 6.5814142e+08 | J37: =I37+J36 -> 1.6419147e+09 | K37: =J37+K36 -> 2.6252719e+09
B38: PBP | G38: =IF(AND(F37<0,G37>0),G43-(G37/G36),0) -> 0 | H38: =IF(AND(G37<0,H37>0),H43-(H37/H36),0) -> 0 | I38: =IF(AND(H37<0,I37>0),I43-(I37/I36),0) -> 2.3312802 | J38: =IF(AND(I37<0,J37>0),J43-(J37/J36),0) -> 0 | K38: =IF(AND(J37<0,K37>0),K43-(K37/K36),0) -> 0
B39: IRR | F39: =IRR(F36:K36) -> 0.31952043
B40: NPV | F40: =NPV(F3,G36:K36)+F36 -> 1.4295199e+09
B41: EBITDA margin | F41: =L27 -> 0.46815487
B42: Payback | F42: =SUM(F38:K38) -> 2.3312802
G43: 1 | H43: 2 | I43: 3 | J43: 4 | K43: 5
B44: Depreciation Calculation | E44: No of Year Depreciated | G44: =G11 -> Year 1 | H44: =H11 -> Year 2 | I44: =I11 -> Year 3 | J44: =J11 -> Year 4 | K44: =K11 -> Year 5
...

Sheet Book Value
B1: 2013 | C1: 2014 | D1: 2015 | E1: 2016 | F1: 2017 | G1: 2018 | H1: 2019 | I1: 2020 | J1: 2021 | K1: 2022
A2: DAS | B2: 15518031 | D2: 27467916 | G2: 29800000 | I2: 246699544
A3: BTS | D3: 54762140
A5: DAS | B5: =(B2/10)*(2023-B1) -> 15518031 | C5: =(C2/10)*(2023-C1) -> 0 | D5: =(D2/10)*(2023-D1) -> 21974333 | E5: =(E2/10)*(2023-E1) -> 0 | F5: =(F2/10)*(2023-F1) -> 0 | G5: =(G2/10)*(2023-G1) -> 14900000 | H5: =(H2/10)*(2023-H1) -> 0 | I5: =(I2/10)*(2023-I1) -> 74009863
A6: BTS | D6: =(D3/10)*(2023-D1) -> 43809712
A8: DAS | B8: =B2-B5 -> 0 | C8: =C2-C5 -> 0 | D8: =D2-D5 -> 5493583.2 | E8: =E2-E5 -> 0 | F8: =F2-F5 -> 0 | G8: =G2-G5 -> 14900000 | H8: =H2-H5 -> 0 | I8: =I2-I5 -> 1.7268968e+08
A9: BTS | B9: =B3-B6 -> 0 | C9: =C3-C6 -> 0 | D9: =D3-D6 -> 10952428 | E9: =E3-E6 -> 0 | F9: =F3-F6 -> 0 | G9: =G3-G6 -> 0 | H9: =H3-H6 -> 0 | I9: =I3-I6 -> 0

Sheet PARAMETER
B1: Year 1 | C1: Year 2 | D1: Year 3 | E1: Year 4 | F1: Year 5 | G1: Year 6 | H1: Year 7 | I1: Year 8 | J1: Year 9 | K1: Year 10
A2: loan | B2: =IRR!G8 -> 0 | C2: =$B$2-$B$4 -> 0 | D2: =$C$2-$B$4 -> 0 | E2: =$D$2-$B$4 -> 0 | F2: =$E$2-$B$4 -> 0 | G2: =$F$2-$B$4 -> 0 | H2: =$G$2-$B$4 -> 0 | I2: =$H$2-$B$4 -> 0 | J2: =$I$2-$B$4 -> 0 | K2: =$J$2-$B$4 -> 0
A3: Period (thn) | B3: 5
A4: Installment/thn | B4: =$B$2/$B$3 -> 0
A5: Interest | B5: =(($B$2*IRR!$F$3)*6)/12 -> 0 | C5: =AVERAGE(B2:C2)*IRR!$F$3 -> 0 | D5: =AVERAGE(C2:D2)*IRR!$F$3 -> 0 | E5: =AVERAGE(D2:E2)*IRR!$F$3 -> 0 | F5: =AVERAGE(E2:F2)*IRR!$F$3 -> 0 | G5: =AVERAGE(F2:G2)*IRR!$F$3 -> 0 | H5: =AVERAGE($G$2:$H$2)*[3]IRR!$G$4 -> 0 | I5: =AVERAGE($H$2:$I$2)*[3]IRR!$G$4 -> 0 | J5: =AVERAGE($I$2:$J$2)*[3]IRR!$G$4 -> 0 | K5: =AVERAGE($J$2:$K$2)*[3]IRR!$G$4 -> 0
F10: person | G10: trip | H10: kamar | I10: Days by Omni | J10: Biaya walktest inhouse/visit | K10: Biaya walktest inhouse/thn
E11: Diisikan | F11: 1 | G11: 1 | H11: 1 | I11: 307
B12: Transport | C12: Pesawat | D12: =C23 -> 3000000 | E12: person | F12: =F11 -> 1 | J12: =F12*D12 -> 3000000
C13: Bandara | D13: 600000 | E13: person | F13: =F11 -> 1 | I13: =IF($I$11<=120,2,IF($I$11>220,4,3)) -> 4 | J13: =D13*F13*I13 -> 2400000
C14: Transport | D14: 200000 | E14: Trip | G14: =G11 -> 1 | J14: =G14*D14 -> 200000
B15: Hotel | C15: Hotel | D15: 450000 | E15: kamar | F15: =F11 -> 1 | H15: =H11 -> 1 | I15: =IF($I$10<=120,2,IF($I$10>220,4,3)) -> 4 | J15: =H15*D15*I15 -> 1800000
B16: Uang Saku | C16: Uang Saku | D16: 120000 | E16: person | F16: =F11 -> 1 | I16: =IF($I$10<=120,2,IF($I$10>220,4,3)) -> 4 | J16: =I16*D16*F16 -> 480000
J17: =SUM(J12:J16) -> 7880000 | K17: =(J17*2)+B26 -> 30760000
B21: PM/Year/Site | C21: Pesawat | E21: Asumsi:
A22: Sulut | B22: 16800000 | C22: 4000000 | E22: Walktest 4x dalam setahun semua operator sekaligus
A23: Makasar | C23: 3000000 | E23: Walktest pertama oleh vendor | I23: 10000000
A24: Bali | B24: 15600000 | C24: 2500000 | E24: Walktest pertama oleh vendor | H24: Pekanbaru | I24: 12000000
A25: Jatim | B25: 15000000 | C25: 2000000 | E25: Walktest pertama oleh vendor | H25: Sumut | I25: 14000000
A26: Jateng | B26: 15000000 | C26: 1850000 | E26: Walktest pertama oleh vendor | H26: Sulsel | I26: 14000000
A27: Jabar | B27: 12000000 | C27: 1200000 | E27: Walktest pertama oleh vendor | H27: Sulut | I27: 17000000
A28: Kalimantan | B28: 16800000 | C28: 2000000 | E28: Walktest pertama oleh vendor | H28: Kalimantan | I28: 14000000
A29: Sumatera | B29: 15720000 | C29: 3500000
A30: Palembang | C30: 2800000
A31: Jabodetabek | B31: 0 | C31: 0 | D31: Inhouse
B33: CM /Year/Oprt
B34: 7000000
A36: LISTRIK
A37: Listrik/Oprt/year DAS+1Pole 3sektor
A38: 0-100 | B38: 36000000
A39: 101-200 | B39: 42000000
A40: 201- | B40: 48000000
A42: Listrik/Oprt/year DAS+2Pole 6sektor
A43: 0-200 | B43: 75000000
A44: 201- | B44: 95000000

Sheet Summary Review
D1: SUMMARY REVIEW
A3: Nama Site | D3: : Solo Paragon
A4: Nama Pemilik | D4: : PT. Sunindo Gapura Prima
A5: Alamat Pemilik | D5: : Jl. Yosodipuro no.33 Solo, Jawa Tengah
A6: Telp | D6: : (0271) 727306
A7: Obyek Sewa | D7: : 190 Omni + 6 Unit Pole Antenna + RBS 52,5 m²
A9: No. | B9: Keterangan | C9: Existing 1 | D9: Existing 2 | E9: Renewal
A11: 1 | B11: Scope Of Lease | C11: IBC | D11: IBC | E11: IBC
A12: 2 | B12: Obyek Sewa | C12: =D7 -> : 190 Omni + 6 Unit Pole Antenna + RBS 52,5 m² | D12: =D7 -> : 190 Omni + 6 Unit Pole Antenna + RBS 52,5 m² | E12: =D7 -> : 190 Omni + 6 Unit Pole Antenna + RBS 52,5 m²
A13: 3 | B13: Periode Sewa | C13: 18 Oktober 2016 s/d 17 Oktober 2021 (5 tahun) | D13: 18 Oktober 2021 s/d 17 Oktober 2026 (5 tahun) | E13: 18 Oktober 2026 s/d 17 Oktober 2031 (5 tahun)
A14: 4 | B14: Harga Sewa | C14: Rp.2.000.000.000/ 5 Tahun atau Rp.400.000.000/Tahun | D14: Rp.1.600.000.000/ 5 Tahun atau Rp.320.000.000/ Tahun | E14: Rp. 2.300.000.000/ 5 Tahun atau Rp. 460.000.000/ Tahun | F14: =2300000000 -> 2300000000
A15: 6 | B15: Operator Join | C15: Smartfren | D15: Smartfren | E15: Asumsi SF Rp. 285,000,000 | F15: 285000000
C16: HCPT (27 Jan 2018 s/d 26 Jan 2023) | D16: HCPT (27 Jan 2018 s/d 26 Jan 2023) | F16: =452143200 -> 452143200
D17: Indosat ( 05 Mar 17 - 04 Mar 22) | E17: IOH ( 05 Mar 22 - 04 Mar 27) Rp.283.050.000
C18: Tsel (11 Jun 15 s/d 10 Jun 20) | D18: Tsel (11 Jun 20 s/d 10 Jun 22) | E18: Tsel (11 Jun 2022 s/d 10 Jun 2027) Rp.452.143.200
C19: XL (21 feb 18 - 20 feb 23) | D19: XL (21 feb 23 - 20 feb 24) | E19: XL (21 feb 24 - 20 feb 25) Rp.318.674.916 (site keep) | F19: 283050000
E20: SF 18Okt25-17Okt27 Setelah itu renego XLSmart | F20: =125000*Summary!H9*12 -> 460500000
B22: Note :

Sheet Analisa
A2: SITE MALL dan HOTEL SOLO PARAGON
A3: Periode | B3: Start | C3: End
A4: Rev IOH | B4: 44625 | C4: 46450
A5: Rev. XL Smart | B5: 45948 | C5: 46677
A6: Rev Tsel | B6: 44723 | C6: 46548
A7: Sewa BM | B7: 46313 | C7: 11613
B9: Start | C9: End | D9: Days
A10: Worse >> Jika Sewa BM diperpanjang 5 tahun, masing2 Operator sesuai Periode Eksisting
A11: Rev IOH | B11: 46313 | C11: 46450 | D11: =C11-B11 -> 137 | E11: 283050000 | F11: =E11/365*D11 -> 1.0624068e+08
A12: Rev XL Smart | B12: 46313 | C12: 46677 | D12: =C12-B12 -> 364 | E12: 460500000 | F12: =E12/365*D12 -> 4.5923836e+08
A13: Rev Tsel | B13: 46313 | C13: 46548 | D13: =C13-B13 -> 235 | E13: 452143200 | F13: =E13/365*D13 -> 2.911059e+08
A14: Sewa BM | B14: 46313 | C14: 48138 | D14: =C14-B14 -> 1825 | E14: 460000000 | F14: =-E14/365*D14 -> -2300000000
A15: OM | B15: 46313 | C15: 48138 | D15: =C15-B15 -> 1825 | E15: 51760000 | F15: =-E15/365*D15 -> -258800000
A16: Listrik | B16: 46313 | C16: 48138 | D16: =C16-B16 -> 1825 | E16: 96000000 | F16: =-E16/365*D16 -> -4.8e+08
A17: Antisipasi Add Capex and Pole | E17: 100000000
A18: Profit | F18: =SUM(F11:F17) -> -2.1822151e+09
A20: Conservative>> Jika Sewa BM diperpanjang 5 tahun, Operator mengikuti tapi masing2 turun15%
A21: Rev IOH | B21: 46313 | C21: 46450 | D21: =C21-B21 -> 137 | E21: 283050000 | F21: =E21/365*D21 -> 1.0624068e+08
A22: Rev IOH | B22: 46451 | C22: 48138 | D22: =C22-B22 -> 1687 | E22: =E21*85% -> 240592500 | F22: =E22/365*D22 -> 1.1119988e+09
A23: Rev XL Smart | B23: 46313 | C23: 46677 | D23: =C23-B23 -> 364 | E23: 460500000 | F23: =E23/365*D23 -> 4.5923836e+08
A24: Rev XL Smart | B24: 46678 | C24: 48138 | D24: =C24-B24 -> 1460 | E24: =E23*85% -> 391425000 | F24: =E24/365*D24 -> 1565700000
A25: Rev Tsel | B25: 46313 | C25: 46548 | D25: =C25-B25 -> 235 | E25: 452143200 | F25: =E25/365*D25 -> 2.911059e+08
A26: Rev Tsel | B26: 46549 | C26: 48138 | D26: =C26-B26 -> 1589 | E26: =E25*85% -> 384321720 | F26: =E26/365*D26 -> 1.6731157e+09
A27: Sewa BM | B27: 46313 | C27: 48138 | D27: =C27-B27 -> 1825 | E27: 460000000 | F27: =-E27/365*D27 -> -2300000000
A28: OM | B28: 46313 | C28: 48138 | D28: =C28-B28 -> 1825 | E28: 51760000 | F28: =-E28/365*D28 -> -258800000
A29: Listrik | B29: 46313 | C29: 48138 | D29: =C29-B29 -> 1825 | E29: 96000000 | F29: =-E29/365*D29 -> -4.8e+08
A30: Antisipasi Add Capex and Pole | E30: 100000000
A31: Profit | F31: =SUM(F21:F30) -> 2.1685993e+09
H35: SITE PASAR BLAURAN
H36: Periode | I36: Start | J36: End
H37: Rev. H3I | I37: 44138 | J37: 44928
H38: Sewa BM | I38: 44378 | J38: 45838
H40: Sewa BM diperpanjang sampai akhir masa H3I, maka:
L41: SEBELUM Kenaikan | N41: BATAS MAHAL SEWA naik 20%
H42: Rev H3I | I42: 44378 | J42: =C4 -> 46450 | K42: =J42-I42 -> 2072 | L42: 148257000 | M42: =L42*#REF!/365 -> #REF! | N42: 148257000 | O42: =N42*K42/365 -> 8.4161234e+08
H43: Sewa BM | I43: 44378 | J43: =C4 -> 46450 | K43: =J43-I43 -> 2072 | L43: 58300000 | M43: =-L43*#REF!/365 -> #REF! | N43: =308000000/4 -> 77000000 | O43: =-N43*K43/365 -> -4.3710685e+08
H44: OM | I44: 44378 | J44: =C4 -> 46450 | K44: =J44-I44 -> 2072 | L44: 32880000 | M44: =-L44*#REF!/365 -> #REF! | N44: 32880000 | O44: =-N44*K44/365 -> -1.866503e+08
O45: =-N45 -> 0
L46: Profit | M46: =SUM(M42:M45) -> #REF! | O46: =SUM(O42:O45) -> 2.1785519e+08
L47: IRR 10thn | M47: 0.63 | O47: =#REF! -> #REF!
...
