Workbook
Name jk: #REF!
Name jk: #REF!
Name jk: #REF!
Name years_contract: [1]Kerlink!$D$5

Sheet Summary
C1: 0014/IRR/IBC/VII/2025 | M1: =IRR!Q2 -> PASAR KAPASAN
C2: Product : | D2: IBS / DAS | J2: Tanggal P&L: | M2: =TODAY() -> 45853
C3: Status P&L | D3: Perpanjangan
B5: Site Information | E5: Technical Information | J5: Financial Summary
B6: Site Name | D6: Pasar Kapasan | E6: IBC | K6: Capex DAS | M6: =664490508 -> 664490508
B7: Address | D7: Surabaya | E7: Antena PKS BM | H7: 0 | K7: Capex /antenna | M7: =M6/H8 -> 7302093.5
E8: Antena Asset | H8: 91 | K8: Contract Period (thn) | M8: 4
B9: Area building | D9: Surabaya | E9: Jumlah Pole Makro | H9: 0 | K9: Interest rate /year | M9: =[2]IRR!F3 -> 0.1
B10: Type of building | D10: Pasar | E10: OPENET | K10: Total Revenue | M10: =IRR!Q19 -> 2213616000
B11: Status | D11: Old Site | E11: Cable FO (Core) | H11: 0 | K11: Total Capex BV 30/06/25 | M11: =IRR!Q9+IRR!Q10 -> 0
B12: Total floor | E12: Cable FO (meter) | H12: 0 | K12: Total CoGS Rent | M12: =IRR!Q21 -> 1576575000
B13: No of building tower | D13: 1 | E13: Drop Wire (meter) | H13: 0 | K13: Total CoGS Others | M13: =IRR!Q22+IRR!Q23+IRR!Q24 -> 414752160
E15: OTHERS | K15: IRR | M15: =IRR!F39 -> 0.14113442
K16: NPV | M16: =IRR!F40 -> 49171178
K17: EBITDA margin | M17: =IRR!F41 -> 0.10041888
K18: Payback (year) | M18: =IRR!F42 -> 3.5357686
B20: Target Achieved by Commercial: | L20: Prepared by
L21: Vito Indriano
C22: SF Start 1Jul25 s 30Jun27 untuk @ 125.000/titik, tahun selanjutnya diasumsikan sama
C23: Telkomsel end 29Mar25 belum deal, asumsi harga masih sama seperti sebelumnya
B27: Approved by

Sheet IRR
C1: 0014/IRR/IBC/VII/2025
B2: General | Q2: PASAR KAPASAN
C3: Tax Rate | F3: 0.02
C4: Interest Rate | F4: 0.1
C5: SG&A | F5: 0.05 | G5: from Revenues
C6: BHPUSO | F6: 0 | G6: from Revenues
C7: Erosion | F7: 0.15
G8: Y1 | H8: Y2 | I8: Y3 | J8: Y4 | K8: Y5 | L8: Y6 | M8: Y7 | N8: Y8 | O8: Y9 | P8: Y10
B9: Total CAPEX BV | E9: BV 30/06/25 | F9: 91 | G9: 0 | I9: 0 | J9: 0 | Q9: =SUM(G9:P9) -> 0
E10: BTS | Q10: =SUM(G10:P10) -> 0
G12: 2025 | H12: 2026 | I12: 2027 | J12: 2028 | K12: 2029 | L12: =K12+1 -> 2030 | M12: =L12+1 -> 2031 | N12: =M12+1 -> 2032 | O12: =N12+1 -> 2033 | P12: =O12+1 -> 2034
B13: IRR Calculation | G13: Year 1 | H13: Year 2 | I13: Year 3 | J13: Year 4 | K13: Year 5 | L13: Year 6 | M13: Year 7 | N13: Year 8 | O13: Year 9 | P13: Year 10 | Q13: Total
B14: Months of Service | G14: 12 | H14: 12 | I14: 12 | J14: 12 | K14: 12 | L14: 12 | M14: 12 | N14: 12 | O14: 12 | P14: 12
B15: Revenues
C16: IOH | G16: ='Summary BR'!F16 -> 176904000 | H16: =G16 -> 176904000 | I16: =H16 -> 176904000 | J16: =I16 -> 176904000 | K16: 0 | Q16: =SUM(G16:P16) -> 707616000
C17: TSEL | G17: ='Summary BR'!F17 -> 240000000 | H17: =G17 -> 240000000 | I17: =H17 -> 240000000 | J17: =I17 -> 240000000 | K17: 0 | Q17: =SUM(G17:P17) -> 960000000
C18: XLSMART | G18: =F9*125000*12 -> 136500000 | H18: =G18 -> 136500000 | I18: =91*125000*12 -> 136500000 | J18: =I18 -> 136500000 | K18: 0 | Q18: =SUM(G18:P18) -> 546000000
B19: Total Revenues (SF) | G19: =SUM(G16:G18) -> 553404000 | H19: =SUM(H16:H18) -> 553404000 | I19: =SUM(I16:I18) -> 553404000 | J19: =SUM(J16:J18) -> 553404000 | K19: =SUM(K16:K18) -> 0 | L19: =SUM(L17:L18) -> 0 | M19: =SUM(M17:M18) -> 0 | N19: =SUM(N17:N18) -> 0 | O19: =SUM(O17:O18) -> 0 | P19: =SUM(P17:P18) -> 0 | Q19: =SUM(Q16:Q18) -> 2213616000
B20: OPEX
C21: Lease to BM | G21: ='Summary BR'!$I$14/2 -> 788287500 | H21: ='Summary BR'!$I$14/2 -> 788287500 | I21: 0 | J21: 0 | K21: 0 | Q21: =SUM(G21:P21) -> 1576575000
C22: Electricity | G22: =3000000*12 -> 36000000 | H22: =G22 -> 36000000 | I22: =H22 -> 36000000 | J22: =I22 -> 36000000 | K22: 0 | Q22: =SUM(G22:P22) -> 144000000
C23: Maintenance | G23: =(PARAMETER!$B$46*3)+PARAMETER!L29 -> 47080000 | H23: =G23 -> 47080000 | I23: =H23 -> 47080000 | J23: =I23 -> 47080000 | K23: 0 | Q23: =SUM(G23:P23) -> 188320000
C24: SG&A | G24: 20000000 | H24: =G24*1.02 -> 20400000 | I24: =H24*1.02 -> 20808000 | J24: =I24*1.02 -> 21224160 | K24: =K19*$F$5 -> 0 | Q24: =SUM(G24:P24) -> 82432160
B25: Total OPEX | G25: =SUM(G21:G24) -> 891367500 | H25: =SUM(H21:H24) -> 891767500 | I25: =SUM(I21:I24) -> 103888000 | J25: =SUM(J21:J24) -> 104304160 | K25: =SUM(K21:K24) -> 0 | L25: =SUM(L21:L24) -> 0 | M25: =SUM(M21:M24) -> 0 | N25: =SUM(N21:N24) -> 0 | ... Q25: =SUM(Q21:Q24) -> 1991327160
B26: Total EBITDA | G26: =G19-G25 -> -337963500 | H26: =H19-H25 -> -338363500 | I26: =I19-I25 -> 449516000 | J26: =J19-J25 -> 449099840 | K26: =K19-K25 -> 0 | L26: =L19-L25 -> 0 | M26: =M19-M25 -> 0 | N26: =N19-N25 -> 0 | ... Q26: =Q19-Q25 -> 222288840
B27: Ebitda margin | G27: 0 | H27: =H26/H19 -> -0.61142222 | I27: =I26/I19 -> 0.81227458 | J27: =J26/J19 -> 0.81152258 | K27: =K26/K19 -> #DIV/0! | L27: =L26/L19 -> #DIV/0! | M27: =M26/M19 -> #DIV/0! | N27: =N26/N19 -> #DIV/0! | O27: =O26/O19 -> #DIV/0! | ... Q27: =Q26/Q19 -> 0.10041888
B28: Depreciation Expense | G28: =G47 -> 0 | H28: =H47 -> 0 | I28: =I47 -> 0 | J28: =J47 -> 0 | K28: =K47 -> 0 | Q28: =SUM(G28:L28) -> 0
B29: Total EBIT | G29: =G26-G28 -> -337963500 | H29: =H26-H28 -> -338363500 | I29: =I26-I28 -> 449516000 | J29: =J26-J28 -> 449099840 | K29: =K26-K28 -> 0 | L29: =L26-L28 -> 0 | M29: =M26-M28 -> 0 | N29: =N26-N28 -> 0 | ... Q29: =Q26-Q28 -> 222288840
B30: Interest Expense | P30: =PARAMETER!K4 -> 0 | Q30: =SUM(G30:P30) -> 0
B31: EBT | G31: =G29-G30 -> -337963500 | H31: =H29-H30 -> -338363500 | I31: =I29-I30 -> 449516000 | J31: =J29-J30 -> 449099840 | K31: =K29-K30 -> 0 | L31: =L29-L30 -> 0 | M31: =M29-M30 -> 0 | N31: =N29-N30 -> 0 | ... P31: =P29-P30 -> 0 | Q31: =SUM(G31:P31) -> 222288840
B32: Tax Expense | G32: =IF(G31<0,0,G31*$F$3) -> 0 | H32: =IF(H31<0,0,H31*$F$3) -> 0 | I32: =IF(I31<0,0,I31*$F$3) -> 8990320 | J32: =IF(J31<0,0,J31*$F$3) -> 8981996.8 | K32: =IF(K31<0,0,K31*$F$3) -> 0 | L32: =IF(L31<0,0,L31*$F$3) -> 0 | M32: =IF(M31<0,0,M31*$F$3) -> 0 | N32: =IF(N31<0,0,N31*$F$3) -> 0 | ... P32: =IF(P31<0,0,P31*$F$3) -> 0 | Q32: =SUM(G32:P32) -> 17972317
B33: Net Income | G33: =G31-G32 -> -337963500 | H33: =H31-H32 -> -338363500 | I33: =I31-I32 -> 440525680 | J33: =J31-J32 -> 4.4011784e+08 | K33: =K31-K32 -> 0 | L33: =L31-L32 -> 0 | M33: =M31-M32 -> 0 | N33: =N31-N32 -> 0 | ... Q33: =Q31-Q32 -> 2.0431652e+08
B35: Capex | F35: =-G9+-G10 -> 0 | H35: =-H9+-H10 -> 0 | I35: =-I9+-I10 -> 0 | J35: =-K9+-K10 -> 0 | K35: =-L9+-L10 -> 0 | L35: =-R9+-R10 -> 0 | M35: =-S9+-S10 -> 0 | N35: =-T9+-T10 -> 0 | O35: =-U9+-U10 -> 0 | P35: =-V9+-V10 -> 0 | Q35: =SUM(F35:P35) -> 0
B36: FCFF | F36: =F35 -> 0 | G36: =G35+G33+G28 -> -337963500 | H36: =H35+H33+H28 -> -338363500 | I36: =I35+I33+I28 -> 440525680 | J36: =J35+J33+J28 -> 4.4011784e+08 | K36: =K35+K33+K28 -> 0 | L36: =L35+L33+L28 -> 0 | M36: =M35+M33+M28 -> 0 | N36: =N35+N33+N28 -> 0 | ... P36: =P35+P33+P28 -> 0 | Q36: =SUM(F36:P36) -> 2.0431652e+08
B37: Accumulated FCF | F37: =F36 -> 0 | G37: =F37+G36 -> -337963500 | H37: =G37+H36 -> -676327000 | I37: =H37+I36 -> -235801320 | J37: =I37+J36 -> 2.0431652e+08
B38: PBP | G38: =IF(AND(F37<0,G37>0),G43-(G37/G36),0) -> 0 | H38: =IF(AND(G37<0,H37>0),H43-(H37/H36),0) -> 0 | I38: =IF(AND(H37<0,I37>0),I43-(I37/I36),0) -> 0 | J38: =IF(AND(I37<0,J37>0),J43-(J37/J36),0) -> 3.5357686 | K38: =IF(AND(J37<0,K37>0),K43-(K37/K36),0) -> 0 | L38: =IF(AND(K37<0,L37>0),L43-(L37/L36),0) -> 0 | M38: =IF(AND(L37<0,M37>0),M43-(M37/M36),0) -> 0 | N38: =IF(AND(M37<0,N37>0),N43-(N37/N36),0) -> 0 | O38: =IF(AND(O37<0,P37>0),N43-(N37/N36),0) -> 0 | P38: =IF(AND(P37<0,Q37>0),O43-(O37/O36),0) -> 0
B39: IRR | F39: =IRR(G36:P36) -> 0.14113442
B40: NPV | F40: =NPV(F4,H36:J36)+G36 -> 49171178
B41: EBITDA margin | F41: =Q27 -> 0.10041888
B42: Payback | F42: =SUM(F38:P38) -> 3.5357686
...

Sheet IRR (Share Rev)
B1: General | D1: 0004/IRR/IBC/I/2024 | P1: Apt. Seasons City | Q1: WIKA TOWER OFFICE
C2: Tax Rate | F2: 0.02
C3: Interest Rate | F3: 0.1
C4: SG&A | F4: 0.05 | G4: from Revenues
C5: BHPUSO | F5: 0 | G5: from Revenues
C6: Erosion | F6: 0.15
C7: Share Rev (IBS 85% - BM 15%) | F7: 0.85
G8: Y1 | H8: Y2 | I8: Y3 | J8: Y4 | K8: Y5 | L8: Y6 | M8: Y7 | N8: Y8 | O8: Y9 | P8: Y10
B9: Total CAPEX | E9: BV 30Sep24 | G9: =#REF! -> #REF! | I9: 0 | J9: 0 | Q9: =SUM(G9:P9) -> #REF!
E10: BTS | Q10: =SUM(G10:P10) -> 0
G12: 2025 | H12: 2026 | I12: 2027 | J12: 2028 | K12: 2029 | L12: =K12+1 -> 2030 | M12: =L12+1 -> 2031 | N12: =M12+1 -> 2032 | O12: =N12+1 -> 2033 | P12: =O12+1 -> 2034
B13: IRR Calculation | G13: Year 1 | H13: Year 2 | I13: Year 3 | J13: Year 4 | K13: Year 5 | L13: Year 6 | M13: Year 7 | N13: Year 8 | O13: Year 9 | P13: Year 10 | Q13: Total
B14: Months of Service | G14: 12 | H14: 12 | I14: 12 | J14: 12 | K14: 12 | L14: 12 | M14: 12 | N14: 12 | O14: 12 | P14: 12
B15: Revenues
C16: TSEL | G16: =135000000*F7 -> 114750000 | H16: =G16 -> 114750000 | I16: =H16 -> 114750000 | J16: =I16 -> 114750000 | K16: =J16 -> 114750000 | Q16: =SUM(G16:P16) -> 573750000 | S16: =135000000*15% -> 20250000
C17: IOH | G17: =(18000000*12)*F7 -> 183600000 | H17: =G17 -> 183600000 | I17: =H17 -> 183600000 | J17: =I17 -> 183600000 | K17: =J17 -> 183600000 | Q17: =SUM(G17:P17) -> 918000000 | S17: =(180000000*12)*15% -> 324000000
B18: Total Revenues (SF) | G18: =SUM(G16:G17) -> 298350000 | H18: =SUM(H16:H17) -> 298350000 | I18: =SUM(I16:I17) -> 298350000 | J18: =SUM(J16:J17) -> 298350000 | K18: =SUM(K16:K17) -> 298350000 | L18: =SUM(L16:L17) -> 0 | M18: =SUM(M16:M17) -> 0 | N18: =SUM(N16:N17) -> 0 | ... Q18: =SUM(Q16:Q17) -> 1491750000
B19: OPEX
C20: Lease to BM | G20: 0 | H20: =G20 -> 0 | I20: =H20 -> 0 | J20: =I20 -> 0 | K20: =J20 -> 0 | Q20: =SUM(G20:P20) -> 0
C21: Electricity | G21: 0 | Q21: =SUM(G21:P21) -> 0
C22: Maintenance | G22: 7000000 | H22: 7000000 | I22: 7000000 | J22: 7000000 | K22: 7000000 | Q22: =SUM(G22:P22) -> 35000000
C23: SG&A | G23: =G18*$F$4 -> 14917500 | H23: =H18*$F$4 -> 14917500 | I23: =I18*$F$4 -> 14917500 | J23: =J18*$F$4 -> 14917500 | K23: =K18*$F$4 -> 14917500 | Q23: =SUM(G23:P23) -> 74587500
B24: Total OPEX | G24: =SUM(G20:G23) -> 21917500 | H24: =SUM(H20:H23) -> 21917500 | I24: =SUM(I20:I23) -> 21917500 | J24: =SUM(J20:J23) -> 21917500 | K24: =SUM(K20:K23) -> 21917500 | L24: =SUM(L20:L23) -> 0 | M24: =SUM(M20:M23) -> 0 | N24: =SUM(N20:N23) -> 0 | ... Q24: =SUM(Q20:Q23) -> 109587500
B25: Total EBITDA | G25: =G18-G24 -> 276432500 | H25: =H18-H24 -> 276432500 | I25: =I18-I24 -> 276432500 | J25: =J18-J24 -> 276432500 | K25: =K18-K24 -> 276432500 | L25: =L18-L24 -> 0 | M25: =M18-M24 -> 0 | N25: =N18-N24 -> 0 | ... Q25: =Q18-Q24 -> 1382162500
B26: Ebitda margin | G26: 0 | H26: =H25/H18 -> 0.92653762 | I26: =I25/I18 -> 0.92653762 | J26: =J25/J18 -> 0.92653762 | K26: =K25/K18 -> 0.92653762 | L26: =L25/L18 -> #DIV/0! | M26: =M25/M18 -> #DIV/0! | N26: =N25/N18 -> #DIV/0! | O26: =O25/O18 -> #DIV/0! | ... Q26: =Q25/Q18 -> 0.92653762
B27: Depreciation Expense | G27: =G46 -> #REF! | H27: =H46 -> #REF! | I27: =I46 -> #REF! | J27: =J46 -> #REF! | K27: =K46 -> #REF! | Q27: =SUM(G27:L27) -> #REF!
B28: Total EBIT | G28: =G25-G27 -> #REF! | H28: =H25-H27 -> #REF! | I28: =I25-I27 -> #REF! | J28: =J25-J27 -> #REF! | K28: =K25-K27 -> #REF! | L28: =L25-L27 -> 0 | M28: =M25-M27 -> 0 | N28: =N25-N27 -> 0 | ... Q28: =Q25-Q27 -> #REF!
B29: Interest Expense | P29: =PARAMETER!K4 -> 0 | Q29: =SUM(G29:P29) -> 0
B30: EBT | G30: =G28-G29 -> #REF! | H30: =H28-H29 -> #REF! | I30: =I28-I29 -> #REF! | J30: =J28-J29 -> #REF! | K30: =K28-K29 -> #REF! | L30: =L28-L29 -> 0 | M30: =M28-M29 -> 0 | N30: =N28-N29 -> 0 | ... P30: =P28-P29 -> 0 | Q30: =SUM(G30:P30) -> #REF!
B31: Tax Expense | G31: =IF(G30<0,0,G30*$F$2) -> #REF! | H31: =IF(H30<0,0,H30*$F$2) -> #REF! | I31: =IF(I30<0,0,I30*$F$2) -> #REF! | J31: =IF(J30<0,0,J30*$F$2) -> #REF! | K31: =IF(K30<0,0,K30*$F$2) -> #REF! | L31: =IF(L30<0,0,L30*$F$2) -> 0 | M31: =IF(M30<0,0,M30*$F$2) -> 0 | N31: =IF(N30<0,0,N30*$F$2) -> 0 | ... P31: =IF(P30<0,0,P30*$F$2) -> 0 | Q31: =SUM(G31:P31) -> #REF!
B32: Net Income | G32: =G30-G31 -> #REF! | H32: =H30-H31 -> #REF! | I32: =I30-I31 -> #REF! | J32: =J30-J31 -> #REF! | K32: =K30-K31 -> #REF! | L32: =L30-L31 -> 0 | M32: =M30-M31 -> 0 | N32: =N30-N31 -> 0 | ... Q32: =Q30-Q31 -> #REF!
B34: Capex | F34: =-G9+-G10 -> #REF! | H34: =-H9+-H10 -> 0 | I34: =-I9+-I10 -> 0 | J34: =-K9+-K10 -> 0 | K34: =-L9+-L10 -> 0 | L34: =-R9+-R10 -> 0 | M34: =-S9+-S10 -> 0 | N34: =-T9+-T10 -> 0 | O34: =-U9+-U10 -> 0 | P34: =-V9+-V10 -> 0 | Q34: =SUM(F34:P34) -> #REF!
B35: FCFF | F35: =F34 -> #REF! | G35: =G34+G32+G27 -> #REF! | H35: =H34+H32+H27 -> #REF! | I35: =I34+I32+I27 -> #REF! | J35: =J34+J32+J27 -> #REF! | K35: =K34+K32+K27 -> #REF! | L35: =L34+L32+L27 -> 0 | M35: =M34+M32+M27 -> 0 | N35: =N34+N32+N27 -> 0 | ... P35: =P34+P32+P27 -> 0 | Q35: =SUM(F35:P35) -> #REF!
B36: Accumulated FCF | F36: =F35 -> #REF! | G36: =F36+G35 -> #REF! | H36: =G36+H35 -> #REF! | I36: =H36+I35 -> #REF! | J36: =I36+J35 -> #REF! | K36: =J36+K35 -> #REF!
B37: PBP | G37: =IF(AND(F36<0,G36>0),G42-(G36/G35),0) -> #REF! | H37: =IF(AND(G36<0,H36>0),H42-(H36/H35),0) -> #REF! | I37: =IF(AND(H36<0,I36>0),I42-(I36/I35),0) -> #REF! | J37: =IF(AND(I36<0,J36>0),J42-(J36/J35),0) -> #REF! | K37: =IF(AND(J36<0,K36>0),K42-(K36/K35),0) -> #REF! | L37: =IF(AND(K36<0,L36>0),L42-(L36/L35),0) -> #REF! | M37: =IF(AND(L36<0,M36>0),M42-(M36/M35),0) -> 0 | N37: =IF(AND(M36<0,N36>0),N42-(N36/N35),0) -> 0 | O37: =IF(AND(O36<0,P36>0),N42-(N36/N35),0) -> 0 | P37: =IF(AND(P36<0,Q36>0),O42-(O36/O35),0) -> 0
B38: IRR | F38: =IRR(F35:P35) -> #VALUE!
B39: NPV | F39: =NPV(F3,G35:H35)+F35 -> #REF!
B40: EBITDA margin | F40: =Q26 -> 0.92653762
B41: Payback | F41: =SUM(F37:P37) -> #REF!
G42: 1 | H42: =G42+1 -> 2 | I42: =H42+1 -> 3 | J42: =I42+1 -> 4 | K42: =J42+1 -> 5 | L42: =K42+1 -> 6 | M42: =L42+1 -> 7 | N42: =M42+1 -> 8 | O42: =N42+1 -> 9 | P42: =O42+1 -> 10
...

Sheet PARAMETER
B1: 5 | C1: 2026 | D1: =C1+1 -> 2027 | E1: =D1+1 -> 2028 | F1: =E1+1 -> 2029 | G1: =F1+1 -> 2030 | H1: =G1+1 -> 2031 | I1: =H1+1 -> 2032 | J1: =I1+1 -> 2033 | K1: =J1+1 -> 2034 | ... M1: =L1+1 -> 2036
A2: 2026 | B2: loan | C2: 1.7266708e+09 | D2: =C2-C3 -> 1.3813366e+09 | E2: =D2-C3 -> 1.0360025e+09 | F2: =E2-C3 -> 6.9066832e+08 | G2: =F2-C3 -> 3.4533416e+08 | H2: =G2-C3 -> 0 | I2: =H2-$E$3 -> 0 | J2: =I2-$E$3 -> 0 | N2: 2013 | O2: 1.7266708e+09
B3: Installment/thn | C3: =C2/B1 -> 3.4533416e+08 | N3: 2014 | O3: 422342499
B4: Interest | C4: =(($C$2*IRR!$F$4)*6)/12 -> 86333541 | D4: =AVERAGE(C2:D2)*IRR!$F$4 -> 1.5540037e+08 | E4: =AVERAGE(D2:E2)*IRR!$F$4 -> 1.2086696e+08 | F4: =AVERAGE(E2:F2)*IRR!$F$4 -> 86333541 | G4: =AVERAGE(F2:G2)*IRR!$F$4 -> 51800124 | H4: =AVERAGE(G2:H2)*IRR!$F$4 -> 17266708 | I4: =AVERAGE($H$2:$I$2)*[3]IRR!$G$4 -> 0 | J4: =AVERAGE($I$2:$J$2)*[3]IRR!$G$4 -> 0 | N4: 2016 | O4: 10773000
A5: 2014 | B5: loan | D5: 422342499 | E5: =D5-D6 -> 3.37874e+08 | F5: =E5-D6 -> 2.534055e+08 | G5: =F5-D6 -> 1.68937e+08 | H5: =G5-D6 -> 84468500 | I5: =H5-D6 -> 0 | N5: 2017 | O5: 102210600
B6: Installment/thn | D6: =D5/B1 -> 84468500
B7: Interest | D7: =((D5*IRR!$F$4)*6)/12 -> 21117125 | E7: =AVERAGE(D5:E5)*IRR!$F$4 -> 38010825 | F7: =AVERAGE(E5:F5)*IRR!$F$4 -> 29563975 | G7: =AVERAGE(F5:G5)*IRR!$F$4 -> 21117125 | H7: =AVERAGE(G5:H5)*IRR!$F$4 -> 12670275 | I7: =AVERAGE(H5:I5)*IRR!$F$4 -> 4223425
A8: 2016 | B8: loan | F8: 10773000 | G8: =F8-F9 -> 8618400 | H8: =G8-F9 -> 6463800 | I8: =H8-F9 -> 4309200 | J8: =I8-F9 -> 2154600 | K8: =J8-F9 -> 0
B9: Installment/thn | F9: =F8/B1 -> 2154600
B10: Interest | F10: =((F8*IRR!$F$4)*6)/12 -> 538650 | G10: =AVERAGE(F8:G8)*IRR!$F$4 -> 969570 | H10: =AVERAGE(G8:H8)*IRR!$F$4 -> 754110 | I10: =AVERAGE(H8:I8)*IRR!$F$4 -> 538650 | J10: =AVERAGE(I8:J8)*IRR!$F$4 -> 323190 | K10: =AVERAGE(J8:K8)*IRR!$F$4 -> 107730
A11: 2017 | B11: loan | G11: 102210600 | H11: =G11-G12 -> 81768480 | I11: =H11-G12 -> 61326360 | J11: =I11-G12 -> 40884240 | K11: =J11-G12 -> 20442120 | L11: =K11-G12 -> 0
B12: Installment/thn | G12: =G11/B1 -> 20442120
B13: Interest | G13: =((G11*IRR!$F$4)*6)/12 -> 5110530 | H13: =AVERAGE(G11:H11)*IRR!$F$4 -> 9198954 | I13: =AVERAGE(H11:I11)*IRR!$F$4 -> 7154742 | J13: =AVERAGE(I11:J11)*IRR!$F$4 -> 5110530 | K13: =AVERAGE(J11:K11)*IRR!$F$4 -> 3066318 | L13: =AVERAGE(K11:L11)*IRR!$F$4 -> 1022106
C15: =C4+C7+C10+C13 -> 86333541 | D15: =D4+D7+D10+D13 -> 1.765175e+08 | E15: =E4+E7+E10+E13 -> 1.5887778e+08 | F15: =F4+F7+F10+F13 -> 1.1643617e+08 | G15: =G4+G7+G10+G13 -> 78997349 | H15: =H4+H7+H10+H13 -> 39890047 | I15: =I4+I7+I10+I13 -> 11916817 | J15: =J4+J7+J10+J13 -> 5433720 | ... M15: =M4+M7+M10+M13 -> 0
A18: SG&A | B18: 50000000 | C18: =B18+C19 -> 51000000 | D18: =C18+D20 -> 52020000 | E18: =D18+E20 -> 53060400 | F18: =E18+F20 -> 54121608 | G18: =F18+G20 -> 55204040 | H18: =G18+H20 -> 56308121 | I18: =H18+I20 -> 57434283 | J18: =I18+J20 -> 58582969 | K18: =J18+K20 -> 59754628
A19: 0.02 | C19: =C20 -> 1000000 | D19: =C19+D20 -> 2020000 | E19: =D19+E20 -> 3060400 | F19: =E19+F20 -> 4121608 | G19: =F19+G20 -> 5204040.2 | H19: =G19+H20 -> 6308121 | I19: =H19+I20 -> 7434283.4 | J19: =I19+J20 -> 8582969.1 | K19: =J19+K20 -> 9754628.4
C20: =B18*$A$19 -> 1000000 | D20: =C18*$A$19 -> 1020000 | E20: =D18*$A$19 -> 1040400 | F20: =E18*$A$19 -> 1061208 | G20: =F18*$A$19 -> 1082432.2 | H20: =G18*$A$19 -> 1104080.8 | I20: =H18*$A$19 -> 1126162.4 | J20: =I18*$A$19 -> 1148685.7 | K20: =J18*$A$19 -> 1171659.4
F22: person | G22: trip | H22: kamar | I22: Days by Omni | J22: Biaya walktest inhouse/visit | K22: Biaya walktest inhouse/thn
E23: Diisikan | F23: 1 | G23: 1 | H23: 1 | I23: 91
B24: Transport | C24: Pesawat | D24: =C35 -> 3000000 | E24: person | F24: =F23 -> 1 | J24: =F24*D24 -> 3000000
C25: Bandara | D25: 600000 | E25: person | F25: =F23 -> 1 | I25: =IF($I$23<=120,2,IF($I$22>220,4,3)) -> 2 | J25: =D25*F25*I25 -> 1200000
C26: Transport | D26: 200000 | E26: Trip | G26: =G23 -> 1 | J26: =G26*D26 -> 200000
B27: Hotel | C27: Hotel | D27: 450000 | E27: kamar | F27: =F23 -> 1 | H27: =H23 -> 1 | I27: =IF($I$23<=120,2,IF($I$23>220,4,3)) -> 2 | J27: =H27*D27*I27 -> 900000
B28: Uang Saku | C28: Uang Saku | D28: 120000 | E28: person | F28: =F23 -> 1 | I28: =IF($I$23<=120,2,IF($I$23>220,4,3)) -> 2 | J28: =I28*D28*F28 -> 240000
J29: =SUM(J24:J28) -> 5540000 | K29: =J29*2 -> 11080000 | L29: =K29+B37 -> 26080000
K30: =B41 -> 15720000
K31: =K29+K30 -> 26800000
B33: PM/Year/Site | C33: Pesawat | E33: Asumsi:
A34: Sulut | B34: 16800000 | C34: 4000000 | E34: Walktest 4x dalam setahun semua operator sekaligus
A35: Makasar | C35: 3000000 | E35: Walktest pertama oleh vendor | I35: 10000000
A36: Bali | B36: 15600000 | C36: 2500000 | E36: Walktest pertama oleh vendor | H36: Pekanbaru | I36: 12000000
A37: Jatim | B37: 15000000 | C37: 2000000 | E37: Walktest pertama oleh vendor | H37: Sumut | I37: 14000000
A38: Jateng | B38: 15000000 | C38: 1850000 | E38: Walktest pertama oleh vendor | H38: Sulsel | I38: 14000000
A39: Jabar | B39: 12000000 | C39: 1200000 | E39: Walktest pertama oleh vendor | H39: Sulut | I39: 17000000
A40: Kalimantan | B40: 16800000 | C40: 2000000 | E40: Walktest pertama oleh vendor | H40: Kalimantan | I40: 14000000
A41: Sumatera | B41: 15720000 | C41: 3500000
A42: Palembang | C42: 2800000
A43: Jabodetabek | B43: 0 | C43: 0 | D43: Inhouse
B45: CM /Year/Oprt
B46: 7000000
...

Sheet Summary BR
C1: SUMMARY REVIEW
A3: Nama Site | C3: : Pasar Kapasan
A4: Nama Pemilik | C4: : PD. Pasar Surya
A5: Alamat Pemilik | C5: : Manyar Kertoarjo - Surabaya 60285
A6: Telp | C6: : (031) 5947331
A7: Obyek Sewa | C7: : 140 Omni + 6 Unit Pole Antenna + RBS 45 m²
A9: No. | B9: Keterangan | C9: Existing | D9: Renewal
A11: 1 | B11: Scope Of Lease | C11: IBC | D11: IBC
A12: 2 | B12: Obyek Sewa | C12: =C7 -> : 140 Omni + 6 Unit Pole Antenna + RBS 45 m² | D12: =C7 -> : 140 Omni + 6 Unit Pole Antenna + RBS 45 m²
A13: 3 | B13: Periode Sewa | C13: 01 Juli 2021 s/d 30 Juni 2025 (4 tahun) | D13: 01 Juli 2025 s/d 30 Juni 2029 (4 tahun) | I13: Increase 5%
A14: 4 | B14: Harga Sewa | C14: Rp.1.501.500.000/ 4 Tahun atau Rp.375.375.000/ Tahun | D14: Rp.1.576.575.000/ 4 Tahun atau Rp.394.143.750/ Tahun | F14: 1651650000 | G14: =F14/4 -> 412912500 | H14: =1501500000 -> 1501500000 | I14: =H14*105% -> 1576575000
A15: 6 | B15: Operator Join | C15: Smartfren | D15: Smartfren | F15: 136500000 | I15: =I14/4 -> 394143750
C16: HCPT/IOH (20 Okt2020 s/d 21Okt 2025) Rev. Rp. 176.904.000 | D16: HCPT/IOH (20 Okt2020 s/d 21Okt 2025) Rev. Rp. 176.904.000 | F16: 176904000 | G16: Turun 5% di 2025 | I16: =(I14-H14)/H14 -> 0.05 | J16: 159000000
C17: Tsel (29 Mar 2020 s/d 28 Mar 2025) Rev. 240.000.000 | D17: Tsel (29 Mar 25 s/d 28 Mar 30) Rp 240.000.000/tahun (estimasi -5%) | F17: 240000000
C18: XL (18 Nov 21 - 17 Nov 26) Rev Rp. 196,560.000 | D18: XL (18 Nov 21 - 17 Nov 26) Rev Rp. 196.560.000/tahun (91 Omni) | F18: 196560000
A19: 7 | B19: Kenaikan Harga | C19: Harga sewa naik 5%
B21: Note :

Sheet Analisa
A2: SITE PASAR KAPASAN
A3: Periode | B3: Start | C3: End
A4: Rev. IOH | B4: 45950 | C4: 47777
A5: Rev. Tsel | B5: 45745 | C5: 47570
A6: Rev. XL | B6: 44518 | C6: 46343
A7: Sewa BM | B7: 45839 | C7: 47299
B9: Start | C9: End | D9: Days
A10: Worse>> Jika Sewa BM diperpanjang 4thn, masing2 operator sesusai periode existing, maka:
A11: Rev. IOH | B11: 45950 | C11: 47299 | D11: =C11-B11 -> 1349 | E11: 176904000 | F11: =E11/365*D11 -> 6.538178e+08
A12: Rev. Tsel | B12: 45839 | C12: 47299 | D12: =C12-B12 -> 1460 | E12: 240000000 | F12: =E12/365*D12 -> 960000000
A13: Rev. XLSmart | B13: 45839 | C13: 46343 | D13: =C13-B13 -> 504 | E13: 136500000 | F13: =E13/365*D13 -> 1.8848219e+08
A14: Sewa BM | B14: 45839 | C14: 47299 | D14: =C14-B14 -> 1460 | E14: 394143750 | F14: =-E14/365*D14 -> -1.576575e+09
A15: Listrik | B15: 45839 | C15: 47299 | D15: =C15-B15 -> 1460 | E15: 36000000 | F15: =-E15/365*D15 -> -144000000
A16: OM | B16: 45839 | C16: 47299 | D16: =C16-B16 -> 1460 | E16: 47080000 | F16: =-E16/365*D16 -> -188320000
A17: Antisipasi Add Capex and Pole | E17: 100000000
A18: Profit | F18: =SUM(F11:F17) -> -1.0659501e+08
A20: Conservative >> Jika Sewa BM diperpanjang 4 tahun dan masing Operator mengikuti, Tsel turun 5%
A21: Rev. IOH | B21: 45950 | C21: 47299 | D21: =C21-B21 -> 1349 | E21: 176904000 | F21: =E21/365*D21 -> 6.538178e+08
A22: Rev. Tsel | B22: 45839 | C22: 47299 | D22: =C22-B22 -> 1460 | E22: =240000000*95% -> 228000000 | F22: =E22/365*D22 -> 912000000
A23: Rev. XLSmart | B23: 45839 | C23: 47299 | D23: =C23-B23 -> 1460 | E23: 136500000 | F23: =E23/365*D23 -> 546000000
A24: Sewa BM | B24: 45839 | C24: 47299 | D24: =C24-B24 -> 1460 | E24: 394143750 | F24: =-E24/365*D24 -> -1.576575e+09
A25: Listrik | B25: 45839 | C25: 47299 | D25: =C25-B25 -> 1460 | E25: 36000000 | F25: =-E25/365*D25 -> -144000000
A26: OM | B26: 45839 | C26: 47299 | D26: =C26-B26 -> 1460 | E26: 47080000 | F26: =-E26/365*D26 -> -188320000
A27: Antisipasi Add Capex and Pole | E27: 100000000
A28: Profit | F28: =SUM(F21:F27) -> 2.029228e+08
H31: SITE PASAR KAPASAN
H32: Periode | I32: Start | J32: End
H33: Rev. H3I | I33: 44124 | J33: 45220 | K33: Belum pasti Extend, jadi pakai dasar Tsel
H34: Rev. Tsel | I34: 43919 | J34: 45744
H35: Rev. XL | I35: 44518 | J35: 46343
H36: Sewa BM | I36: 44378 | J36: 45838
H38: Sewa BM diperpanjang sampai akhir masa Tsel dan H3I,XL mengikuti nya, maka:
L39: SEBELUM Kenaikan | N39: BATAS MAHAL SEWA naik 30%
H40: Rev H3I | I40: 44378 | J40: 45220 | K40: =J40-I40 -> 842 | L40: 157248000 | M40: =L40*K40/365 -> 3.6274744e+08 | N40: 157248000 | O40: =N40*K40/365 -> 3.6274744e+08
H41: Rev. Tsel | I41: 44378 | J41: 45744 | K41: =J41-I41 -> 1366 | L41: 240000000 | M41: =L41*K41/365 -> 8.9819178e+08 | N41: 240000000 | O41: =N41*K41/365 -> 8.9819178e+08
H42: Rev. XL | I42: 44378 | J42: =J36 -> 45838 | K42: =J42-I42 -> 1460 | L42: 190000000 | M42: =L42*K42/365 -> 760000000 | N42: 190000000 | O42: =N42*K42/365 -> 760000000
H43: Sewa BM | I43: 44378 | J43: =J36 -> 45838 | K43: =J43-I43 -> 1460 | L43: 287500000 | M43: =-L43*K43/365 -> -1150000000 | N43: =1501500000/4 -> 375375000 | O43: =-N43*K43/365 -> -1501500000
H44: OM | I44: 44378 | J44: 45220 | K44: =J44-I44 -> 842 | L44: 57760000 | M44: =-L44*K44/365 -> -1.3324362e+08 | N44: 57760000 | O44: =-N44*K44/365 -> -1.3324362e+08
H45: OM | I45: 45221 | J45: 45838 | K45: =J45-I45 -> 617 | L45: 50760000 | M45: =-L45*K45/365 -> -85805260 | N45: 50760000 | O45: =-N45*K45/365 -> -85805260
H46: Antisipasi Add Capex and Pole | L46: 100000000 | M46: =-L46 -> -100000000 | N46: 100000000 | O46: =-N46 -> -100000000
...
