Workbook
Name jk: #REF!
Name years_contract: [1]Kerlink!$D$5

Sheet Summary
B1: NO | C1: 0001/IRR/Open/VI/2025 | M1: APARTEMEN ELPIS
C2: Product : | D2: Openet | J2: Tanggal P&L: | M2: 45820
C3: Status P&L | D3: New Building
B5: Site Information | E5: Technical Information | J5: Financial Summary
B6: Site Name | D6: Aptement Elpis | E6: IBC | K6: Capex Vertikal | M6: ='IRR (2)'!F12 -> 274400000
E7: Antena PKS BM | K7: Capex Horisontal/tarikan | M7: 261500
B8: Address | E8: Antena Asset | H8: 0 | K8: Contract Period (thn) | M8: 5
B9: Area building | D9: Jakarta Pusat | E9: Jumlah Pole Makro | K9: Interest rate /year | M9: 0.1
B10: Type of building | D10: Apartement | E10: OPENET | K10: Total Capex 50% reach (4thn) | M10: ='IRR (2)'!G12+'IRR (2)'!G13+'IRR (2)'!H13+'IRR (2)'!I13+'IRR (2)'!J13+'IRR (2)'!K13 -> 376777250
B11: Status | D11: renewal | E11: Cable FO (Core) | H11: 0 | K11: Total COGS Rent | M11: ='IRR (2)'!L24 -> 404009960
B12: Total floor | E12: Cable FO (meter) | H12: 0 | K12: Total COGS ONT Mora | M12: ='IRR (2)'!L25 -> 274050000
K13: Total COGS Other | M13: ='IRR (2)'!L26+'IRR (2)'!L27+'IRR (2)'!L28 -> 2.2999099e+08
B14: No of building tower | E14: Drop Wire (meter) | H14: 0 | K14: Total Revenue | M14: ='IRR (2)'!L21 -> 1770049800
E15: OTHERS | K15: IRR | M15: ='IRR (2)'!F43 -> 0.19682208
F16: Unit Apt | H16: 870 | K16: NPV | M16: ='IRR (2)'!F45 -> 1.3625978e+08
F17: Okupansi | H17: 0.65 | K17: EBITDA margin | M17: ='IRR (2)'!F46 -> 0.4869913
K18: Payback (year) | M18: ='IRR (2)'!F47 -> 3.8648793
B20: Target Achieved by Commercial: | L20: Prepared by
B21: Revenue | L21: Vito
C22: Asumsi ISP Moratel; OLT dari Mora , ONT dari IBS
D23: :
B27: Approved by

Sheet IRR
L1: =Summary!M1 -> APARTEMEN ELPIS
B2: General
C3: Tax Rate | F3: 0.02
C4: Interest Rate | F4: 0.1
C5: SG&A | F5: 0.02 | G5: from Revenues
C6: BHPUSO | F6: 0 | G6: from Revenues
C7: Price Adjustment after 5 years | F7: 0.15
C8: Monthly Charge | F8: ='Apt Elpis '!C16 -> 267000 | G8: Refer to Mora Price
C9: Unit | F9: 870
C10: Occupancy Rate | F10: 0.65
G11: Y1
B12: Total CAPEX Vertikal | F12: 264400000 | G12: =F12 -> 264400000
B13: Total CAPEX Horisontal/unit | F13: 261500 | G13: =$F$13*G$16*$F$9 -> 34125750 | H13: =$F$13*H$16*$F$9 -> 34125750 | I13: =$F$13*I$16*$F$9 -> 34125750 | J13: =$F$13*J$16*$F$9 -> 11375250 | K13: =$F$13*K$16*$F$9 -> 0
G15: 2025 | H15: =G15+1 -> 2026 | I15: =H15+1 -> 2027 | J15: =I15+1 -> 2028 | K15: =J15+1 -> 2029
B16: IRR Calculation | E16: Target Penetrasi | G16: 0.15 | H16: 0.15 | I16: 0.15 | J16: 0.05 | K16: 0 | L16: Total | O16: Cash flow | P16: amount | Q16: Desc
B17: Months of Service | G17: 12 | H17: 12 | I17: 12 | J17: 12 | K17: 12 | O17: Capex | P17: =G12 -> 264400000 | Q17: Jasa + ONT
O18: Opex | P18: =G24 -> 91812200 | Q18: 60% Rev share to ITC
P19: =G28 -> 20000000 | Q19: SG&A
B20: Revenues IBS - ISP (50%-50%) | E20: 0.5 | F20: from revenues | G20: =$F$8*G$17*$F$9*G$16*$E$20 -> 209061000 | H20: =($F$8*H$17*$F$9*H$16*$E$20)+G20 -> 418122000 | I20: =($F$8*I$17*$F$9*I$16*$E$20)+H20 -> 627183000 | J20: =($F$8*J$17*$F$9*J$16*$E$20)+I20 -> 696870000 | K20: =($F$8*K$17*$F$9*K$16*$E$20)+J20 -> 696870000 | L20: =SUM(G20:K20) -> 2648106000 | O20: Revenue | P20: =G20 -> 209061000 | Q20: Average price of subs
B21: Total Revenues | G21: =SUM(G20:G20) -> 209061000 | H21: =SUM(H20:H20) -> 418122000 | I21: =SUM(I20:I20) -> 627183000 | J21: =SUM(J20:J20) -> 696870000 | K21: =SUM(K20:K20) -> 696870000 | L21: =SUM(G21:K21) -> 2648106000
O22: IRR | Q22: =F43 -> 0.65014867
B23: OPEX | O23: NPV | Q23: =F45 -> 8.1148318e+08
C24: Share to BM | E24: 0.2 | F24: from revenues | G24: =G21*20%+50000000 -> 91812200 | H24: =H21*20% -> 83624400 | I24: =I21*20% -> 125436600 | J24: =J21*20% -> 139374000 | K24: =K21*20% -> 139374000 | L24: =SUM(G24:K24) -> 579621200 | O24: EBITDA margin | Q24: =F46 -> 0.67188588
C25: Electricity | G25: 0 | L25: =SUM(G25:K25) -> 0 | O25: Payback | Q25: =F47 -> 2.0560273
C26: Fixed operational cost | E26: 0.05 | F26: from revenues | G26: =G21*$E$26 -> 10453050 | H26: =H21*$E$26 -> 20906100 | I26: =I21*$E$26 -> 31359150 | J26: =J21*$E$26 -> 34843500 | K26: =K21*$E$26 -> 34843500 | L26: =SUM(G26:K26) -> 132405300
C27: BHP | E27: 0.0175 | F27: from revenues | G27: =G21*$E$27 -> 3658567.5 | H27: =H21*$E$27 -> 7317135 | I27: =I21*$E$27 -> 10975703 | J27: =J21*$E$27 -> 12195225 | K27: =K21*$E$27 -> 12195225 | L27: =SUM(G27:K27) -> 46341855
C28: SG&A | G28: 20000000 | H28: =G28*105% -> 21000000 | I28: =H28*105% -> 22050000 | J28: =I28*105% -> 23152500 | K28: =J28*105% -> 24310125 | L28: =SUM(G28:K28) -> 110512625
B29: Total OPEX | G29: =SUM(G24:G28) -> 1.2592382e+08 | H29: =SUM(H24:H28) -> 132847635 | I29: =SUM(I24:I28) -> 1.8982145e+08 | J29: =SUM(J24:J28) -> 209565225 | K29: =SUM(K24:K28) -> 210722850 | L29: =SUM(L24:L28) -> 868880980
B30: Total EBITDA | G30: =G21-G29 -> 83137182 | H30: =H21-H29 -> 285274365 | I30: =I21-I29 -> 4.3736155e+08 | J30: =J21-J29 -> 487304775 | K30: =K21-K29 -> 486147150 | L30: =L21-L29 -> 1779225020
B31: Ebitda margin | G31: =G30/G21 -> 0.3976695 | H31: =H30/H21 -> 0.68227542 | I31: =I30/I21 -> 0.6973428 | J31: =J30/J21 -> 0.69927644 | K31: =K30/K21 -> 0.69761527 | L31: =L30/L21 -> 0.67188588
B32: Depreciation Expense | G32: =G55 -> 59705150 | H32: =H55 -> 68236588 | I32: =I55 -> 79611838 | J32: =J55 -> 85299462 | K32: =K55 -> 85299462 | L32: =SUM(G32:K32) -> 378152500
B33: Total EBIT | G33: =G30-G32 -> 23432032 | H33: =H30-H32 -> 2.1703778e+08 | I33: =I30-I32 -> 357749710 | J33: =J30-J32 -> 4.0200531e+08 | K33: =K30-K32 -> 4.0084769e+08 | L33: =L30-L32 -> 1401072520
B34: Interest Expense | G34: =PARAMETER!B6 -> 18838862 | H34: =PARAMETER!C6 -> 33909952 | I34: =PARAMETER!D6 -> 26374408 | J34: =PARAMETER!E6 -> 18838862 | K34: =PARAMETER!F6 -> 11303318 | L34: =SUM(G34:K34) -> 1.092654e+08
B35: EBT | G35: =G33-G34 -> 4593170 | H35: =H33-H34 -> 183127825 | I35: =I33-I34 -> 3.313753e+08 | J35: =J33-J34 -> 383166450 | K35: =K33-K34 -> 389544370 | L35: =SUM(G35:K35) -> 1.2918071e+09
B36: Tax Expense | G36: =IF(G35<0,0,G35*$F$3) -> 91863.4 | H36: =IF(H35<0,0,H35*$F$3) -> 3662556.5 | I36: =IF(I35<0,0,I35*$F$3) -> 6627506 | J36: =IF(J35<0,0,J35*$F$3) -> 7663329 | K36: =IF(K35<0,0,K35*$F$3) -> 7790887.4 | L36: =SUM(G36:K36) -> 25836142
B37: Net Income | G37: =G35-G36 -> 4501306.6 | H37: =H35-H36 -> 1.7946527e+08 | I37: =I35-I36 -> 3.247478e+08 | J37: =J35-J36 -> 375503121 | K37: =K35-K36 -> 3.8175348e+08 | L37: =L35-L36 -> 1.265971e+09
B39: Capex | F39: =-G13+-G12 -> -298525750 | H39: =-H13 -> -34125750 | I39: =-I13 -> -34125750 | J39: =-J13 -> -11375250 | K39: =-K13 -> 0
B40: FCFF | F40: =F39 -> -298525750 | G40: =G39+G37+G32 -> 64206457 | H40: =H39+H37+H32 -> 213576106 | I40: =I39+I37+I32 -> 3.7023388e+08 | J40: =J39+J37+J32 -> 4.4942733e+08 | K40: =K39+K37+K32 -> 4.6705295e+08 | L40: =SUM(F40:K40) -> 1.265971e+09
B41: Accumulated FCF | F41: =F40 -> -298525750 | G41: =F41+G40 -> -2.3431929e+08 | H41: =G41+H40 -> -20743187 | I41: =H41+I40 -> 3.494907e+08 | J41: =I41+J40 -> 7.9891803e+08 | K41: =J41+K40 -> 1.265971e+09
B42: PBP | G42: =IF(AND(F41<0,G41>0),G48-(G41/G40),0) -> 0 | H42: =IF(AND(G41<0,H41>0),H48-(H41/H40),0) -> 0 | I42: =IF(AND(H41<0,I41>0),I48-(I41/I40),0) -> 2.0560273 | J42: =IF(AND(I41<0,J41>0),J48-(J41/J40),0) -> 0 | K42: =IF(AND(J41<0,K41>0),K48-(K41/K40),0) -> 0
...

Sheet Rev
A1: No | B1: Nama Bulan | C1: Amount
B4: 2022 | C4: 252368000
B5: 2023 | C5: 315944000 | D5: =(C5-C4)/C4 -> 0.25191783
A6: 1 | B6: 45292 | C6: 24922000
A7: 2 | B7: 45323 | C7: 19586000
A8: 3 | B8: 45352 | C8: 20630000
A9: 4 | B9: 45383 | C9: 31266000
A10: 5 | B10: 45413 | C10: 22510000
A11: 6 | B11: 45444 | C11: 25104000
A12: 7 | B12: 45474 | C12: 27488000
A13: TOTAL

Sheet IRR (2)
B1: No | C1: 0001/IRR/Open/VI/2025 | L1: =Summary!M1 -> APARTEMEN ELPIS
B2: General
C3: Tax Rate | F3: 0.02
C4: Interest Rate | F4: 0.1
C5: SG&A | F5: 0.02 | G5: from Revenues
C6: BHPUSO | F6: 0 | G6: from Revenues
C7: Price Adjustment after 5 years | F7: 0.15
C8: Monthly Charge | F8: ='Apt Elpis '!C16 -> 267000 | G8: Refer to Mora Price
C9: Unit Apt | F9: 870
C10: Occupancy Rate | F10: 0.5
G11: Y1
B12: Total CAPEX Vertikal | F12: =264400000+10000000 -> 274400000 | G12: =F12 -> 274400000
B13: Total CAPEX Horisontal/unit | F13: 261500 | G13: =$F$13*G$16*$F$9 -> 15925350 | H13: =$F$13*H$16*$F$9 -> 18200400 | I13: =$F$13*I$16*$F$9 -> 22750500 | J13: =$F$13*J$16*$F$9 -> 22750500 | K13: =$F$13*K$16*$F$9 -> 22750500
G15: 2025 | H15: =G15+1 -> 2026 | I15: =H15+1 -> 2027 | J15: =I15+1 -> 2028 | K15: =J15+1 -> 2029
B16: IRR Calculation | E16: Target Penetrasi | G16: 0.07 | H16: 0.08 | I16: 0.1 | J16: 0.1 | K16: 0.1 | L16: Total | O16: Cash flow | P16: amount | Q16: Desc
B17: Months of Service | G17: 12 | H17: 12 | I17: 12 | J17: 12 | K17: 12 | O17: Capex | P17: =G12 -> 274400000 | Q17: Jasa + ONT
O18: Opex | P18: =G24 -> 69512360 | Q18: 60% Rev share to ITC
P19: =G28 -> 20000000 | Q19: SG&A
B20: Revenues IBS - ISP (50%-50%) | E20: 0.5 | F20: from revenues | G20: =$F$8*G$17*$F$9*G$16*$E$20 -> 97561800 | H20: =($F$8*H$17*$F$9*H$16*$E$20)+G20 -> 209061000 | I20: =($F$8*I$17*$F$9*I$16*$E$20)+H20 -> 348435000 | J20: =($F$8*J$17*$F$9*J$16*$E$20)+I20 -> 487809000 | K20: =($F$8*K$17*$F$9*K$16*$E$20)+J20 -> 627183000 | L20: =SUM(G20:K20) -> 1770049800 | O20: Revenue | P20: =G20 -> 97561800 | Q20: Average price of subs
B21: Total Revenues | G21: =SUM(G20:G20) -> 97561800 | H21: =SUM(H20:H20) -> 209061000 | I21: =SUM(I20:I20) -> 348435000 | J21: =SUM(J20:J20) -> 487809000 | K21: =SUM(K20:K20) -> 627183000 | L21: =SUM(G21:K21) -> 1770049800
O22: IRR | Q22: =F43 -> 0.19682208
B23: OPEX | O23: NPV | Q23: =F45 -> 1.3625978e+08
C24: Share to BM | E24: 0.2 | F24: from revenues | G24: =G21*20%+50000000 -> 69512360 | H24: =H21*20% -> 41812200 | I24: =I21*20% -> 69687000 | J24: =J21*20% -> 97561800 | K24: =K21*20% -> 125436600 | L24: =SUM(G24:K24) -> 404009960 | O24: EBITDA margin | Q24: =F46 -> 0.4869913
C25: ONT Mora/ unit | E25: 700000 | G25: =$E$25*G16*$F$9 -> 42630000 | H25: =$E$25*H16*$F$9 -> 48720000 | I25: =$E$25*I16*$F$9 -> 60900000 | J25: =$E$25*J16*$F$9 -> 60900000 | K25: =$E$25*K16*$F$9 -> 60900000 | L25: =SUM(G25:K25) -> 274050000 | O25: Payback | Q25: =F47 -> 3.8648793
C26: Fixed operational cost | E26: 0.05 | F26: from revenues | G26: =G21*$E$26 -> 4878090 | H26: =H21*$E$26 -> 10453050 | I26: =I21*$E$26 -> 17421750 | J26: =J21*$E$26 -> 24390450 | K26: =K21*$E$26 -> 31359150 | L26: =SUM(G26:K26) -> 88502490
C27: BHP | E27: 0.0175 | F27: from revenues | G27: =G21*$E$27 -> 1707331.5 | H27: =H21*$E$27 -> 3658567.5 | I27: =I21*$E$27 -> 6097612.5 | J27: =J21*$E$27 -> 8536657.5 | K27: =K21*$E$27 -> 10975703 | L27: =SUM(G27:K27) -> 30975872
C28: SG&A | G28: 20000000 | H28: =G28*105% -> 21000000 | I28: =H28*105% -> 22050000 | J28: =I28*105% -> 23152500 | K28: =J28*105% -> 24310125 | L28: =SUM(G28:K28) -> 110512625
B29: Total OPEX | G29: =SUM(G24:G28) -> 1.3872778e+08 | H29: =SUM(H24:H28) -> 1.2564382e+08 | I29: =SUM(I24:I28) -> 1.7615636e+08 | J29: =SUM(J24:J28) -> 2.1454141e+08 | K29: =SUM(K24:K28) -> 2.5298158e+08 | L29: =SUM(L24:L28) -> 9.0805095e+08
B30: Total EBITDA | G30: =G21-G29 -> -41165981 | H30: =H21-H29 -> 83417182 | I30: =I21-I29 -> 1.7227864e+08 | J30: =J21-J29 -> 2.7326759e+08 | K30: =K21-K29 -> 3.7420142e+08 | L30: =L21-L29 -> 8.6199885e+08
B31: Ebitda margin | G31: =G30/G21 -> -0.42194774 | H31: =H30/H21 -> 0.39900882 | I31: =I30/I21 -> 0.49443551 | J31: =J30/J21 -> 0.56019383 | K31: =K30/K21 -> 0.59663834 | L31: =L30/L21 -> 0.4869913
B32: Depreciation Expense | G32: =G55 -> 58065070 | H32: =H55 -> 62615170 | I32: =I55 -> 70198670 | J32: =J55 -> 81573920 | K32: =K55 -> 104324420 | L32: =SUM(G32:K32) -> 376777250
B33: Total EBIT | G33: =G30-G32 -> -99231051 | H33: =H30-H32 -> 20802012 | I33: =I30-I32 -> 1.0207997e+08 | J33: =J30-J32 -> 1.9169367e+08 | K33: =K30-K32 -> 2.69877e+08 | L33: =L30-L32 -> 4.852216e+08
B34: Interest Expense | G34: =PARAMETER!B6 -> 18838862 | H34: =PARAMETER!C6 -> 33909952 | I34: =PARAMETER!D6 -> 26374408 | J34: =PARAMETER!E6 -> 18838862 | K34: =PARAMETER!F6 -> 11303318 | L34: =SUM(G34:K34) -> 1.092654e+08
B35: EBT | G35: =G33-G34 -> -1.1806991e+08 | H35: =H33-H34 -> -13107940 | I35: =I33-I34 -> 75705560 | J35: =J33-J34 -> 172854810 | K35: =K33-K34 -> 258573685 | L35: =SUM(G35:K35) -> 375956201
B36: Tax Expense | G36: =IF(G35<0,0,G35*$F$3) -> 0 | H36: =IF(H35<0,0,H35*$F$3) -> 0 | I36: =IF(I35<0,0,I35*$F$3) -> 1514111.2 | J36: =IF(J35<0,0,J35*$F$3) -> 3457096.2 | K36: =IF(K35<0,0,K35*$F$3) -> 5171473.7 | L36: =SUM(G36:K36) -> 10142681
B37: Net Income | G37: =G35-G36 -> -1.1806991e+08 | H37: =H35-H36 -> -13107940 | I37: =I35-I36 -> 74191449 | J37: =J35-J36 -> 1.6939771e+08 | K37: =K35-K36 -> 2.5340221e+08 | L37: =L35-L36 -> 3.6581352e+08
B39: Capex | F39: =-G13+-G12 -> -290325350 | H39: =-H13 -> -18200400 | I39: =-I13 -> -22750500 | J39: =-J13 -> -22750500 | K39: =-K13 -> -22750500
B40: FCFF | F40: =F39 -> -290325350 | G40: =G39+G37+G32 -> -60004844 | H40: =H39+H37+H32 -> 31306830 | I40: =I39+I37+I32 -> 1.2163962e+08 | J40: =J39+J37+J32 -> 2.2822113e+08 | K40: =K39+K37+K32 -> 3.3497613e+08 | L40: =SUM(F40:K40) -> 3.6581352e+08
B41: Accumulated FCF | F41: =F40 -> -290325350 | G41: =F41+G40 -> -350330194 | H41: =G41+H40 -> -319023364 | I41: =H41+I40 -> -1.9738375e+08 | J41: =I41+J40 -> 30837389 | K41: =J41+K40 -> 3.6581352e+08
B42: PBP | G42: =IF(AND(F41<0,G41>0),G48-(G41/G40),0) -> 0 | H42: =IF(AND(G41<0,H41>0),H48-(H41/H40),0) -> 0 | I42: =IF(AND(H41<0,I41>0),I48-(I41/I40),0) -> 0 | J42: =IF(AND(I41<0,J41>0),J48-(J41/J40),0) -> 3.8648793 | K42: =IF(AND(J41<0,K41>0),K48-(K41/K40),0) -> 0
...

Sheet PARAMETER
B1: 2021 | C1: 2022 | D1: 2023 | E1: 2024 | F1: 2025 | G1: 2026
B2: Year 1 | C2: Year 2 | D2: Year 3 | E2: Year 4 | F2: Year 5 | G2: Year 6 | H2: Year 7 | I2: Year 8 | J2: Year 9 | K2: Year 10
A3: loan | B3: ='IRR (2)'!G12+'IRR (2)'!G13+'IRR (2)'!H13+'IRR (2)'!I13+'IRR (2)'!J13+'IRR (2)'!K13 -> 376777250 | C3: =$B$3-$B$5 -> 301421800 | D3: =$C$3-$B$5 -> 226066350 | E3: =$D$3-$B$5 -> 150710900 | F3: =$E$3-$B$5 -> 75355450 | G3: =$F$3-$B$5 -> 0 | H3: 0
A4: Period (thn) | B4: 5
A5: Installment/thn | B5: =$B$3/$B$4 -> 75355450
A6: Interest | B6: =(($B$3*'IRR (2)'!F4)*6)/12 -> 18838862 | C6: =AVERAGE(B3:C3)*IRR!$F$4 -> 33909952 | D6: =AVERAGE(C3:D3)*IRR!$F$4 -> 26374408 | E6: =AVERAGE(D3:E3)*IRR!$F$4 -> 18838862 | F6: =AVERAGE(E3:F3)*IRR!$F$4 -> 11303318 | G6: =AVERAGE(F3:G3)*IRR!$F$4 -> 3767772.5 | H6: =AVERAGE(G3:H3)*IRR!$F$4 -> 0 | I6: =AVERAGE(H3:I3)*IRR!$F$4 -> 0
B8: =B6 -> 18838862 | C8: =C6 -> 33909952 | D8: =D6 -> 26374408 | E8: =E6 -> 18838862 | F8: =F6 -> 11303318 | G8: =G6 -> 3767772.5 | H8: =H6 -> 0 | I8: =I6 -> 0 | ... P8: =P6 -> 0
F11: person | G11: trip | H11: kamar | I11: Days by Omni | J11: Biaya walktest inhouse/visit | K11: Biaya walktest inhouse/thn
E12: Diisikan | F12: 2 | G12: 1 | H12: 1 | I12: 186
B13: Transport | C13: Pesawat | D13: =C24 -> 3000000 | E13: person | F13: =F12 -> 2 | J13: =F13*D13 -> 6000000
C14: Bandara | D14: 600000 | E14: person | F14: =F12 -> 2 | I14: =IF($I$11<=120,2,IF($I$11>220,4,3)) -> 4 | J14: =D14*F14 -> 1200000
C15: Transport | D15: 200000 | E15: Trip | G15: =G12 -> 1 | J15: =G15*D15 -> 200000
B16: Hotel | C16: Hotel | D16: 450000 | E16: kamar | F16: =F12 -> 2 | H16: =H12 -> 1 | I16: =IF($I$11<=120,2,IF($I$11>220,4,3)) -> 4 | J16: =H16*D16*I16 -> 1800000
B17: Uang Saku | C17: Uang Saku | D17: 120000 | E17: person | F17: =F12 -> 2 | I17: =IF($I$11<=120,2,IF($I$11>220,4,3)) -> 4 | J17: =I17*D17*F17 -> 960000
J18: =SUM(J13:J17) -> 10160000 | K18: =J18*2 -> 20320000
B22: PM/Year/Site | C22: Pesawat | E22: Asumsi:
A23: Sulut | B23: 16800000 | C23: 4000000 | E23: Walktest 4x dalam setahun semua operator sekaligus
A24: Makasar | C24: 3000000 | E24: Walktest pertama oleh vendor | I24: 10000000
A25: Bali | B25: 15600000 | C25: 2500000 | E25: Walktest pertama oleh vendor | H25: Pekanbaru | I25: 12000000
A26: Jatim | B26: 15000000 | C26: 2000000 | E26: Walktest pertama oleh vendor | H26: Sumut | I26: 14000000
A27: Jateng | B27: 15000000 | C27: 1850000 | E27: Walktest pertama oleh vendor | H27: Sulsel | I27: 14000000
A28: Jabar | B28: 12000000 | C28: 1200000 | E28: Walktest pertama oleh vendor | H28: Sulut | I28: 17000000
A29: Kalimantan | B29: 16800000 | C29: 2000000 | E29: Walktest pertama oleh vendor | H29: Kalimantan | I29: 14000000
A30: Sumatera | B30: 15720000 | C30: 3500000
A31: Palembang | C31: 2800000
A32: Jabodetabek | B32: 0 | C32: 0 | D32: Inhouse
B34: CM /Year/Oprt
B35: 7000000
A37: LISTRIK
A38: Listrik/Oprt/year DAS+1Pole 3sektor
A39: 0-100 | B39: 36000000
A40: 101-200 | B40: 42000000
A41: 201- | B41: 48000000
A43: Listrik/Oprt/year DAS+2Pole 6sektor
A44: 0-200 | B44: 75000000
A45: 201- | B45: 95000000

Sheet Apt Elpis 
A2: SUMMARY REVIEW
A4: Nama Site | C4: : Apartement Elpis Kemayoran
A5: Nama Pemilik | C5: :
A6: Alamat Pemilik | C6: : Jl. Gunung Sahari Dalam XI No.23 Jakata Pusat
A7: Telp
A9: No. | B9: Keterangan | C9: New Site
A11: 1 | B11: Scope Of Lease | C11: Openet
A12: 2 | B12: Obyek | C12: Apartemen, MMR
A13: 3 | B13: Cost Infrastruktur Openet (Full 100%) | C13: 854744000
A14: 4 | B14: Occupancy | C14: 0.5
A15: 5 | B15: Exsisitng Mnc play (15 Mbps) | C15: 349000
A16: 6 | B16: Add Mora (50 Mbps) | C16: 267000
A17: 7 | B17: ISP Share | C17: 0.5
A18: 8 | B18: Initial charge Tahun pertama | C18: 50000000
A19: 9 | B19: Masa Sewa 5 Tahun | C19: Mei 2025 - Juni 2030
A20: 10 | B20: Unit | C20: 870
A21: 11 | B21: Tenant | C21: 872
