Workbook
Name jk: #REF!
Name jk: #REF!
Name jk: #REF!
Name years_contract: [1]Kerlink!$D$5

Sheet Summary
B2: No. | C2: 0022/IRR/IBC/VIII/2025 | N2: SWISSBELL AIRPORT BANDARA
C3: Product : | D3: IBS / DAS | J3: Tanggal P&L: | M3: 45880
C4: Status P&L | D4: Perpanjangan
B6: Site Information | E6: Technical Information | J6: Financial Summary
B7: Site Name | D7: Swissbell Airport Bandara | E7: IBC | K7: Capex DAS | M7: 3.997856e+08
B8: Address | D8: Jakarta | E8: Antena PKS BM | K8: Capex /antenna | M8: =M7/H9 -> 5192020.8
E9: Antena Asset | H9: 77 | K9: Contract Period (thn) | M9: 5
B10: Area building | E10: Jumlah Pole Makro | H10: 0 | K10: Interest rate /year | M10: =[2]IRR!F3 -> 0.1
B11: Type of building | D11: Hotel | E11: OPENET | K11: Total Revenue | M11: =IRR!Q18 -> 1635400000
B12: Status | D12: Renewal | E12: Cable FO (Core) | H12: 0 | K12: Total Capex BV | M12: 0
B13: Total floor | D13: 4 | E13: Cable FO (meter) | H13: 0 | K13: Total Opex Sewa | M13: =IRR!Q21 -> 500000000
B14: No of building tower | D14: 1 | E14: Drop Wire (meter) | H14: 0 | K14: Total Opex Other | M14: =IRR!Q22+IRR!Q23+IRR!Q24 -> 4.4041624e+08
B15: Sitac Tahun
E16: OTHERS | K16: IRR | M16: =IRR!F39 -> 0.80536061
K17: NPV | M17: =IRR!F40 -> 4.8121649e+08
K18: EBITDA margin | M18: =IRR!F41 -> 0.42496255
K19: Payback (year) | M19: =IRR!F42 -> 2.1002625
B21: Target Achieved by Commercial: | L21: Prepared by
B22: Revenue | D22: : | L22: Vito
D23: :
D24: :
B28: Approved by

Sheet IRR
B1: No, | C1: =Summary!C2 -> 0022/IRR/IBC/VIII/2025 | Q1: HOTEL SWISSBELL AIRPORT/BANDARA
B2: General | H2: Operator join | I2: Rev.Change
C3: Tax Rate | E3: 0.02 | H3: 2023 Tsel
C4: Interest Rate | E4: 0.1 | H4: 2021 IOH
C5: SG&A | E5: 0.05 | F5: from Revenues | H5: 2020 XL | I5: -
C6: BHPUSO | E6: 0 | F6: from Revenues | H6: 2019 SF | I6: -
G8: Y1 | H8: Y2 | I8: Y3 | J8: Y4 | K8: Y5 | L8: Y6 | M8: Y7 | N8: Y8 | O8: Y9 | P8: Y10
B9: Total CAPEX | E9: DAS BVSep252025 | G9: 0 | H9: 0 | I9: 0 | J9: 0
E10: 0
G11: 2026 | H11: =G11+1 -> 2027 | I11: =H11+1 -> 2028 | J11: =I11+1 -> 2029 | K11: =J11+1 -> 2030 | L11: =K11+1 -> 2031 | M11: =L11+1 -> 2032 | N11: =M11+1 -> 2033 | O11: =N11+1 -> 2034 | P11: =O11+1 -> 2035
B12: IRR Calculation | F12: Year 0 | G12: Year 1 | H12: Year 2 | I12: Year 3 | J12: Year 4 | K12: Year 5 | L12: Year 6 | M12: Year 7 | N12: Year 8 | O12: Year 9 | P12: Year 10 | Q12: Total
B13: Months of Service | G13: 12 | H13: 12 | I13: 12 | J13: 12 | K13: 12
B15: Revenues
C16: TSEL | G16: 157080000 | H16: =G16 -> 157080000 | I16: =H16 -> 157080000 | J16: =I16 -> 157080000 | K16: =J16 -> 157080000 | Q16: =SUM(G16:K16) -> 785400000
C17: IOH | G17: 170000000 | H17: =G17 -> 170000000 | I17: =H17 -> 170000000 | J17: =I17 -> 170000000 | K17: =J17 -> 170000000 | Q17: =SUM(G17:K17) -> 850000000
B18: Total Revenues (SF) | G18: =SUM(G16:G17) -> 327080000 | H18: =SUM(H16:H17) -> 327080000 | I18: =SUM(I16:I17) -> 327080000 | J18: =SUM(J16:J17) -> 327080000 | K18: =SUM(K16:K17) -> 327080000 | L18: =SUM(L16:L17) -> 0 | M18: =SUM(M16:M17) -> 0 | N18: =SUM(N16:N17) -> 0 | ... P18: =SUM(P16:P17) -> 0 | Q18: =SUM(G18:K18) -> 1635400000
B20: OPEX
C21: Lease to BM | G21: 500000000 | Q21: =SUM(G21:K21) -> 500000000
C22: Electricity | G22: 72000000 | H22: =G22 -> 72000000 | I22: =H22 -> 72000000 | J22: =I22 -> 72000000 | K22: =J22 -> 72000000 | Q22: =SUM(G22:K22) -> 360000000
C23: Maintenance | G23: 14000000 | H23: =G23 -> 14000000 | I23: =H23 -> 14000000 | J23: =I23 -> 14000000 | K23: =J23 -> 14000000 | Q23: =SUM(G23:K23) -> 70000000
C24: SG&A | G24: 10000000 | H24: =-G24*(1+2%) -> -10200000 | I24: =-H24*(1+2%) -> 10404000 | J24: =-I24*(1+2%) -> -10612080 | K24: =-J24*(1+2%) -> 10824322 | L24: =L18*$E$5 -> 0 | M24: =M18*$E$5 -> 0 | N24: =N18*$E$5 -> 0 | O24: =O18*$E$5 -> 0 | P24: =P18*$E$5 -> 0 | Q24: =SUM(G24:K24) -> 10416242
B25: Total OPEX | G25: =SUM(G21:G24) -> 596000000 | H25: =SUM(H21:H24) -> 75800000 | I25: =SUM(I21:I24) -> 96404000 | J25: =SUM(J21:J24) -> 75387920 | K25: =SUM(K21:K24) -> 96824322 | L25: =SUM(L21:L24) -> 0 | M25: =SUM(M21:M24) -> 0 | N25: =SUM(N21:N24) -> 0 | ... Q25: =SUM(Q21:Q24) -> 9.4041624e+08
B26: Total EBITDA | G26: =G18-G25 -> -268920000 | H26: =H18-H25 -> 251280000 | I26: =I18-I25 -> 230676000 | J26: =J18-J25 -> 251692080 | K26: =K18-K25 -> 2.3025568e+08 | L26: =L18-L25 -> 0 | M26: =M18-M25 -> 0 | N26: =N18-N25 -> 0 | ... Q26: =Q18-Q25 -> 6.9498376e+08
B27: Ebitda margin | G27: 0 | H27: =H26/H18 -> 0.76825242 | I27: =I26/I18 -> 0.70525865 | J27: =J26/J18 -> 0.76951229 | K27: =K26/K18 -> 0.70397358 | L27: =L26/L18 -> #DIV/0! | M27: =M26/M18 -> #DIV/0! | N27: =N26/N18 -> #DIV/0! | O27: =O26/O18 -> #DIV/0! | ... Q27: =Q26/Q18 -> 0.42496255
B28: Depreciation Expense | G28: =G50 -> 0 | H28: =H50 -> 0 | I28: =I50 -> 0 | J28: =J50 -> 0 | K28: =K50 -> 0 | L28: =L50 -> 0 | M28: =M50 -> 0 | N28: =N50 -> 0 | ... P28: =P50 -> 0 | Q28: =SUM(G28:K28) -> 0
B29: Total EBIT | G29: =G26-G28 -> -268920000 | H29: =H26-H28 -> 251280000 | I29: =I26-I28 -> 230676000 | J29: =J26-J28 -> 251692080 | K29: =K26-K28 -> 2.3025568e+08 | L29: =L26-L28 -> 0 | M29: =M26-M28 -> 0 | N29: =N26-N28 -> 0 | ... Q29: =Q26-Q28 -> 6.9498376e+08
B30: Interest Expense | Q30: =SUM(G30:K30) -> 0
B31: EBT | G31: =G29-G30 -> -268920000 | H31: =H29-H30 -> 251280000 | I31: =I29-I30 -> 230676000 | J31: =J29-J30 -> 251692080 | K31: =K29-K30 -> 2.3025568e+08 | Q31: =SUM(G31:K31) -> 6.9498376e+08
B32: Tax Expense | G32: =IF(G31<0,0,G31*$E$3) -> 0 | H32: =IF(H31<0,0,H31*$E$3) -> 5025600 | I32: =IF(I31<0,0,I31*$E$3) -> 4613520 | J32: =IF(J31<0,0,J31*$E$3) -> 5033841.6 | K32: =IF(K31<0,0,K31*$E$3) -> 4605113.6 | Q32: =SUM(G32:K32) -> 19278075
B33: Net Income | G33: =G31-G32 -> -268920000 | H33: =H31-H32 -> 246254400 | I33: =I31-I32 -> 226062480 | J33: =J31-J32 -> 2.4665824e+08 | K33: =K31-K32 -> 2.2565056e+08 | L33: =L31-L32 -> 0 | M33: =M31-M32 -> 0 | N33: =N31-N32 -> 0 | ... P33: =P31-P32 -> 0 | Q33: =Q29-Q32 -> 6.7570568e+08
B35: Capex | F35: =-G9+-G10 -> 0 | G35: =-H9+-H10 -> 0 | H35: =-I9+-I10 -> 0 | I35: =-J9+-J10 -> 0 | J35: =-K9+-K10 -> 0 | K35: =-Q9+-Q10 -> 0 | L35: =-R9+-R10 -> 0 | M35: =-S9+-S10 -> 0 | N35: =-T9+-T10 -> 0 | O35: =-U9+-U10 -> 0 | P35: =-V9+-V10 -> 0
B36: FCFF | F36: =F35 -> 0 | G36: =G35+G33+G28 -> -268920000 | H36: =H35+H33+H28 -> 246254400 | I36: =I35+I33+I28 -> 226062480 | J36: =J35+J33+J28 -> 2.4665824e+08 | K36: =K35+K33+K28 -> 2.2565056e+08 | L36: =L35+L33+L28 -> 0 | M36: =M35+M33+M28 -> 0 | N36: =N35+N33+N28 -> 0 | ... P36: =P35+P33+P28 -> 0 | Q36: =SUM(F36:K36) -> 6.7570568e+08
B37: Accumulated FCF | F37: =F36 -> 0 | G37: =F37+G36 -> -268920000 | H37: =G37+H36 -> -22665600 | I37: =H37+I36 -> 203396880 | J37: =I37+J36 -> 4.5005512e+08 | K37: =J37+K36 -> 6.7570568e+08
B38: PBP | G38: =IF(AND(F37<0,G37>0),G43-(G37/G36),0) -> 0 | H38: =IF(AND(G37<0,H37>0),H43-(H37/H36),0) -> 0 | I38: =IF(AND(H37<0,I37>0),I43-(I37/I36),0) -> 2.1002625 | J38: =IF(AND(I37<0,J37>0),J43-(J37/J36),0) -> 0 | K38: =IF(AND(J37<0,K37>0),K43-(K37/K36),0) -> 0
B39: IRR | F39: =IRR(G36:P36) -> 0.80536061
B40: NPV | F40: =NPV(E4,H36:K36)+G36 -> 4.8121649e+08
B41: EBITDA margin | F41: =Q27 -> 0.42496255
B42: Payback | F42: =SUM(F38:K38) -> 2.1002625
G43: 1 | H43: 2 | I43: 3 | J43: 4 | K43: 5
B44: Depreciation Calculation | E44: no of Year depreciated | G44: =G12 -> Year 1 | H44: =H12 -> Year 2 | I44: =I12 -> Year 3 | J44: =J12 -> Year 4 | K44: =K12 -> Year 5
...

Sheet SummaryBR
C1: SUMMARY REVIEW
A3: Nama Site | C3: : Hotel Swissbell Bandara-Airport
A4: Nama Pemilik | C4: : PT.Innovindo Sukses Abadi
A5: Alamat Pemilik | C5: Jl. Pluit Utara Raya no17 -19
A6: Telp | C6: 02129440888
A7: Obyek Sewa | C7: 77 Omni
A9: No. | B9: Keterangan | C9: Existing | D9: Renewal
A11: 1. | B11: Scope Of Lease | C11: IBC | D11: IBC
A12: 2. | B12: Obyek Sewa | C12: 77 Omni | D12: 77 Omni
A13: 3. | B13: Periode Sewa | C13: 3Sep20 sd 2Sep25 | D13: 3 September 2025 s/d 2Sep2030
A14: 4 | B14: Harga Sewa | C14: 450.000.000/5thn | D14: 500.000.000/5thn
C15: 90.000.000/th | D15: 100.000.000/th
A16: 5 | B16: Operator Join | C16: Telkomsel 12Sep22 sd 11Sep27 | D16: Telkomsel 12Sep22 sd 11Sep27
D17: IOH (Sep25- Sep30)
A18: 6. | B18: Kenaikan/ Penurunan Harga | C18: Kenaikan 11,11%
